{"text_format":"1","workbook":"xlsx","n_sheets":5,"sheets":["Информация о пользователе","AD","Service","Save","Город"],"not_rendered":{"charts":0,"images":0,"macros":1,"external_links":0,"defined_names":0,"comments":0,"pivot_tables":0},"unopened":[],"bounds":{"document_bytes":16777216,"sheet_cells":100000,"rows_first":2000,"rows_last":500,"rows_between":2000,"halvings":0,"cell_chars":16384,"cell_head_chars":4096},"cells_cut":0,"cells_raw":0,"read":"whole","date_system":"1900"}

{"sheet":"Информация о пользователе","index":0,"n_rows":2,"n_cols":7,"rows_kept":2,"cut":false,"hidden":false,"merged":[[0,2,0,6],[0,0,0,1]]}
["*Обязательные поля формы",null,"**Пароль не должен иметь совпадения с логином и фамилией. Логин и пароль не обязательны для заполнения. Пароль должен быть не менее 8 символов. В пароле должны присутствовать не менее 1 заглавной буквы и 1 цифры."]
["Фамилия*","Имя*","Отчество*","Почта(если есть)","Город*","Логин","Пароль**"]

{"sheet":"AD","index":1,"n_rows":1000,"n_cols":7,"rows_kept":1000,"cut":false,"hidden":true,"merged":[]}
["lastname","firstname","Displayname","mail","city","Login","Password"]
[{"$f":"TRIM(IF('Информация о пользователе'!A3=\"\",\"Пусто\",'Информация о пользователе'!A3))","v":"Пусто"},{"$f":"TRIM(IF('Информация о пользователе'!B3=\"\",\" \",'Информация о пользователе'!B3&\" \"&'Информация о пользователе'!C3))","v":""},{"$f":"TRIM(IF(AD!A2=\"\",\"\",AD!B2&\" \"&A2))","v":"Пусто"},{"$f":"TRIM(IF('Информация о пользователе'!D3=\"\",F2&\"@edu54.ru\",'Информация о пользователе'!D3))","v":"pusto@edu54.ru"},{"$f":"TRIM(IF('Информация о пользователе'!E3=\"\",\"\",'Информация о пользователе'!E3))","v":""},{"$f":"IF('Информация о пользователе'!F3=\"\",TRIM(Translit.Translit(A2)&TRIM(LEFT(Translit.Translit(Service!E1),1))&TRIM(LEFT(Translit.Translit(Service!F1),1))),TRIM('Информация о пользователе'!F3))","v":"pusto"},{"$f":"IF('Информация о пользователе'!G3=\"\",TRIM(LEFT(Translit.Translit(Service!E1),2))&INDEX(Service!H1:H19,RANDBETWEEN(1,19),1)&RANDBETWEEN(1,9)&IF(Service!F1=\"\",TRIM(LEFT(Translit.Translit(Service!E1),3))&INDEX(Service!A1:A26,RANDBETWEEN(1,26),1),TRIM(LEFT(Translit.Translit(Service!F1),2))&INDEX(Service!H1:H19,RANDBETWEEN(1,19),1)&INDEX(Service!A1:A26,RANDBETWEEN(1,26),1)),'Информация о пользователе'!G3)","v":{"$error":"#NAME?"}}]
[{"$f":"TRIM(IF('Информация о пользователе'!A4=\"\",\"Пусто\",'Информация о пользователе'!A4))","v":"Пусто"},{"$f":"TRIM(IF('Информация о пользователе'!B4=\"\",\" \",'Информация о пользователе'!B4&\" \"&'Информация о пользователе'!C4))","v":""},{"$f":"TRIM(IF(AD!A3=\"\",\"\",AD!B3&\" \"&A3))","v":"Пусто"},{"$f":"TRIM(IF('Информация о пользователе'!D4=\"\",F3&\"@edu54.ru\",'Информация о пользователе'!D4))","v":"pusto@edu54.ru"},{"$f":"TRIM(IF('Информация о пользователе'!E4=\"\",\"\",'Информация о пользователе'!E4))","v":""},{"$f":"IF('Информация о пользователе'!F4=\"\",TRIM(Translit.Translit(A3)&TRIM(LEFT(Translit.Translit(Service!E2),1))&TRIM(LEFT(Translit.Translit(Service!F2),1))),TRIM('Информация о пользователе'!F4))","v":"pusto"},{"$f":"IF('Информация о пользователе'!G4=\"\",TRIM(LEFT(Translit.Translit(Service!E2),2))&INDEX(Service!H2:H20,RANDBETWEEN(1,19),1)&RANDBETWEEN(1,9)&IF(Service!F2=\"\",TRIM(LEFT(Translit.Translit(Service!E2),3))&INDEX(Service!A2:A27,RANDBETWEEN(1,26),1),TRIM(LEFT(Translit.Translit(Service!F2),2))&INDEX(Service!H2:H20,RANDBETWEEN(1,19),1)&INDEX(Service!A2:A27,RANDBETWEEN(1,26),1)),'Информация о пользователе'!G4)","v":{"$error":"#NAME?"}}]
[{"$f":"TRIM(IF('Информация о пользователе'!A5=\"\",\"Пусто\",'Информация о пользователе'!A5))","v":"Пусто"},{"$f":"TRIM(IF('Информация о пользователе'!B5=\"\",\" \",'Информация о пользователе'!B5&\" \"&'Информация о пользователе'!C5))","v":""},{"$f":"TRIM(IF(AD!A4=\"\",\"\",AD!B4&\" \"&A4))","v":"Пусто"},{"$f":"TRIM(IF('Информация о пользователе'!D5=\"\",F4&\"@edu54.ru\",'Информация о пользователе'!D5))","v":"pusto@edu54.ru"},{"$f":"TRIM(IF('Информация о пользователе'!E5=\"\",\"\",'Информация о пользователе'!E5))","v":""},{"$f":"IF('Информация о пользователе'!F5=\"\",TRIM(Translit.Translit(A4)&TRIM(LEFT(Translit.Translit(Service!E3),1))&TRIM(LEFT(Translit.Translit(Service!F3),1))),TRIM('Информация о пользователе'!F5))","v":"pusto"},{"$f":"IF('Информация о пользователе'!G5=\"\",TRIM(LEFT(Translit.Translit(Service!E3),2))&INDEX(Service!H3:H21,RANDBETWEEN(1,19),1)&RANDBETWEEN(1,9)&IF(Service!F3=\"\",TRIM(LEFT(Translit.Translit(Service!E3),3))&INDEX(Service!A3:A28,RANDBETWEEN(1,26),1),TRIM(LEFT(Translit.Translit(Service!F3),2))&INDEX(Service!H3:H21,RANDBETWEEN(1,19),1)&INDEX(Service!A3:A28,RANDBETWEEN(1,26),1)),'Информация о пользователе'!G5)","v":{"$error":"#NAME?"}}]
[{"$f":"TRIM(IF('Информация о пользователе'!A6=\"\",\"Пусто\",'Информация о пользователе'!A6))","v":"Пусто"},{"$f":"TRIM(IF('Информация о пользователе'!B6=\"\",\" \",'Информация о пользователе'!B6&\" \"&'Информация о пользователе'!C6))","v":""},{"$f":"TRIM(IF(AD!A5=\"\",\"\",AD!B5&\" \"&A5))","v":"Пусто"},{"$f":"TRIM(IF('Информация о пользователе'!D6=\"\",F5&\"@edu54.ru\",'Информация о пользователе'!D6))","v":"pusto@edu54.ru"},{"$f":"TRIM(IF('Информация о пользователе'!E6=\"\",\"\",'Информация о пользователе'!E6))","v":""},{"$f":"IF('Информация о пользователе'!F6=\"\",TRIM(Translit.Translit(A5)&TRIM(LEFT(Translit.Translit(Service!E4),1))&TRIM(LEFT(Translit.Translit(Service!F4),1))),TRIM('Информация о пользователе'!F6))","v":"pusto"},{"$f":"IF('Информация о пользователе'!G6=\"\",TRIM(LEFT(Translit.Translit(Service!E4),2))&INDEX(Service!H4:H22,RANDBETWEEN(1,19),1)&RANDBETWEEN(1,9)&IF(Service!F4=\"\",TRIM(LEFT(Translit.Translit(Service!E4),3))&INDEX(Service!A4:A29,RANDBETWEEN(1,26),1),TRIM(LEFT(Translit.Translit(Service!F4),2))&INDEX(Service!H4:H22,RANDBETWEEN(1,19),1)&INDEX(Service!A4:A29,RANDBETWEEN(1,26),1)),'Информация о пользователе'!G6)","v":{"$error":"#NAME?"}}]
[{"$f":"TRIM(IF('Информация о пользователе'!A7=\"\",\"Пусто\",'Информация о пользователе'!A7))","v":"Пусто"},{"$f":"TRIM(IF('Информация о пользователе'!B7=\"\",\" \",'Информация о пользователе'!B7&\" \"&'Информация о пользователе'!C7))","v":""},{"$f":"TRIM(IF(AD!A6=\"\",\"\",AD!B6&\" \"&A6))","v":"Пусто"},{"$f":"TRIM(IF('Информация о пользователе'!D7=\"\",F6&\"@edu54.ru\",'Информация о пользователе'!D7))","v":"pusto@edu54.ru"},{"$f":"TRIM(IF('Информация о пользователе'!E7=\"\",\"\",'Информация о пользователе'!E7))","v":""},{"$f":"IF('Информация о пользователе'!F7=\"\",TRIM(Translit.Translit(A6)&TRIM(LEFT(Translit.Translit(Service!E5),1))&TRIM(LEFT(Translit.Translit(Service!F5),1))),TRIM('Информация о пользователе'!F7))","v":"pusto"},{"$f":"IF('Информация о пользователе'!G7=\"\",TRIM(LEFT(Translit.Translit(Service!E5),2))&INDEX(Service!H5:H23,RANDBETWEEN(1,19),1)&RANDBETWEEN(1,9)&IF(Service!F5=\"\",TRIM(LEFT(Translit.Translit(Service!E5),3))&INDEX(Service!A5:A30,RANDBETWEEN(1,26),1),TRIM(LEFT(Translit.Translit(Service!F5),2))&INDEX(Service!H5:H23,RANDBETWEEN(1,19),1)&INDEX(Service!A5:A30,RANDBETWEEN(1,26),1)),'Информация о пользователе'!G7)","v":{"$error":"#NAME?"}}]
[{"$f":"TRIM(IF('Информация о пользователе'!A8=\"\",\"Пусто\",'Информация о пользователе'!A8))","v":"Пусто"},{"$f":"TRIM(IF('Информация о пользователе'!B8=\"\",\" \",'Информация о пользователе'!B8&\" \"&'Информация о пользователе'!C8))","v":""},{"$f":"TRIM(IF(AD!A7=\"\",\"\",AD!B7&\" \"&A7))","v":"Пусто"},{"$f":"TRIM(IF('Информация о пользователе'!D8=\"\",F7&\"@edu54.ru\",'Информация о пользователе'!D8))","v":"pusto@edu54.ru"},{"$f":"TRIM(IF('Информация о пользователе'!E8=\"\",\"\",'Информация о пользователе'!E8))","v":""},{"$f":"IF('Информация о пользователе'!F8=\"\",TRIM(Translit.Translit(A7)&TRIM(LEFT(Translit.Translit(Service!E6),1))&TRIM(LEFT(Translit.Translit(Service!F6),1))),TRIM('Информация о пользователе'!F8))","v":"pusto"},{"$f":"IF('Информация о пользователе'!G8=\"\",TRIM(LEFT(Translit.Translit(Service!E6),2))&INDEX(Service!H6:H24,RANDBETWEEN(1,19),1)&RANDBETWEEN(1,9)&IF(Service!F6=\"\",TRIM(LEFT(Translit.Translit(Service!E6),3))&INDEX(Service!A6:A31,RANDBETWEEN(1,26),1),TRIM(LEFT(Translit.Translit(Service!F6),2))&INDEX(Service!H6:H24,RANDBETWEEN(1,19),1)&INDEX(Service!A6:A31,RANDBETWEEN(1,26),1)),'Информация о пользователе'!G8)","v":{"$error":"#NAME?"}}]
[{"$f":"TRIM(IF('Информация о пользователе'!A9=\"\",\"Пусто\",'Информация о пользователе'!A9))","v":"Пусто"},{"$f":"TRIM(IF('Информация о пользователе'!B9=\"\",\" \",'Информация о пользователе'!B9&\" \"&'Информация о пользователе'!C9))","v":""},{"$f":"TRIM(IF(AD!A8=\"\",\"\",AD!B8&\" \"&A8))","v":"Пусто"},{"$f":"TRIM(IF('Информация о пользователе'!D9=\"\",F8&\"@edu54.ru\",'Информация о пользователе'!D9))","v":"pusto@edu54.ru"},{"$f":"TRIM(IF('Информация о пользователе'!E9=\"\",\"\",'Информация о пользователе'!E9))","v":""},{"$f":"IF('Информация о пользователе'!F9=\"\",TRIM(Translit.Translit(A8)&TRIM(LEFT(Translit.Translit(Service!E7),1))&TRIM(LEFT(Translit.Translit(Service!F7),1))),TRIM('Информация о пользователе'!F9))","v":"pusto"},{"$f":"IF('Информация о пользователе'!G9=\"\",TRIM(LEFT(Translit.Translit(Service!E7),2))&INDEX(Service!H7:H25,RANDBETWEEN(1,19),1)&RANDBETWEEN(1,9)&IF(Service!F7=\"\",TRIM(LEFT(Translit.Translit(Service!E7),3))&INDEX(Service!A7:A32,RANDBETWEEN(1,26),1),TRIM(LEFT(Translit.Translit(Service!F7),2))&INDEX(Service!H7:H25,RANDBETWEEN(1,19),1)&INDEX(Service!A7:A32,RANDBETWEEN(1,26),1)),'Информация о пользователе'!G9)","v":{"$error":"#NAME?"}}]
[{"$f":"TRIM(IF('Информация о пользователе'!A10=\"\",\"Пусто\",'Информация о пользователе'!A10))","v":"Пусто"},{"$f":"TRIM(IF('Информация о пользователе'!B10=\"\",\" \",'Информация о пользователе'!B10&\" \"&'Информация о пользователе'!C10))","v":""},{"$f":"TRIM(IF(AD!A9=\"\",\"\",AD!B9&\" \"&A9))","v":"Пусто"},{"$f":"TRIM(IF('Информация о пользователе'!D10=\"\",F9&\"@edu54.ru\",'Информация о пользователе'!D10))","v":"pusto@edu54.ru"},{"$f":"TRIM(IF('Информация о пользователе'!E10=\"\",\"\",'Информация о пользователе'!E10))","v":""},{"$f":"IF('Информация о пользователе'!F10=\"\",TRIM(Translit.Translit(A9)&TRIM(LEFT(Translit.Translit(Service!E8),1))&TRIM(LEFT(Translit.Translit(Service!F8),1))),TRIM('Информация о пользователе'!F10))","v":"pusto"},{"$f":"IF('Информация о пользователе'!G10=\"\",TRIM(LEFT(Translit.Translit(Service!E8),2))&INDEX(Service!H8:H26,RANDBETWEEN(1,19),1)&RANDBETWEEN(1,9)&IF(Service!F8=\"\",TRIM(LEFT(Translit.Translit(Service!E8),3))&INDEX(Service!A8:A33,RANDBETWEEN(1,26),1),TRIM(LEFT(Translit.Translit(Service!F8),2))&INDEX(Service!H8:H26,RANDBETWEEN(1,19),1)&INDEX(Service!A8:A33,RANDBETWEEN(1,26),1)),'Информация о пользователе'!G10)","v":{"$error":"#NAME?"}}]
[{"$f":"TRIM(IF('Информация о пользователе'!A11=\"\",\"Пусто\",'Информация о пользователе'!A11))","v":"Пусто"},{"$f":"TRIM(IF('Информация о пользователе'!B11=\"\",\" \",'Информация о пользователе'!B11&\" \"&'Информация о пользователе'!C11))","v":""},{"$f":"TRIM(IF(AD!A10=\"\",\"\",AD!B10&\" \"&A10))","v":"Пусто"},{"$f":"TRIM(IF('Информация о пользователе'!D11=\"\",F10&\"@edu54.ru\",'Информация о пользователе'!D11))","v":"pusto@edu54.ru"},{"$f":"TRIM(IF('Информация о пользователе'!E11=\"\",\"\",'Информация о пользователе'!E11))","v":""},{"$f":"IF('Информация о пользователе'!F11=\"\",TRIM(Translit.Translit(A10)&TRIM(LEFT(Translit.Translit(Service!E9),1))&TRIM(LEFT(Translit.Translit(Service!F9),1))),TRIM('Информация о пользователе'!F11))","v":"pusto"},{"$f":"IF('Информация о пользователе'!G11=\"\",TRIM(LEFT(Translit.Translit(Service!E9),2))&INDEX(Service!H9:H27,RANDBETWEEN(1,19),1)&RANDBETWEEN(1,9)&IF(Service!F9=\"\",TRIM(LEFT(Translit.Translit(Service!E9),3))&INDEX(Service!A9:A34,RANDBETWEEN(1,26),1),TRIM(LEFT(Translit.Translit(Service!F9),2))&INDEX(Service!H9:H27,RANDBETWEEN(1,19),1)&INDEX(Service!A9:A34,RANDBETWEEN(1,26),1)),'Информация о пользователе'!G11)","v":{"$error":"#NAME?"}}]
[{"$f":"TRIM(IF('Информация о пользователе'!A12=\"\",\"Пусто\",'Информация о пользователе'!A12))","v":"Пусто"},{"$f":"TRIM(IF('Информация о пользователе'!B12=\"\",\" \",'Информация о пользователе'!B12&\" \"&'Информация о пользователе'!C12))","v":""},{"$f":"TRIM(IF(AD!A11=\"\",\"\",AD!B11&\" \"&A11))","v":"Пусто"},{"$f":"TRIM(IF('Информация о пользователе'!D12=\"\",F11&\"@edu54.ru\",'Информация о пользователе'!D12))","v":"pusto@edu54.ru"},{"$f":"TRIM(IF('Информация о пользователе'!E12=\"\",\"\",'Информация о пользователе'!E12))","v":""},{"$f":"IF('Информация о пользователе'!F12=\"\",TRIM(Translit.Translit(A11)&TRIM(LEFT(Translit.Translit(Service!E10),1))&TRIM(LEFT(Translit.Translit(Service!F10),1))),TRIM('Информация о пользователе'!F12))","v":"pusto"},{"$f":"IF('Информация о пользователе'!G12=\"\",TRIM(LEFT(Translit.Translit(Service!E10),2))&INDEX(Service!H10:H28,RANDBETWEEN(1,19),1)&RANDBETWEEN(1,9)&IF(Service!F10=\"\",TRIM(LEFT(Translit.Translit(Service!E10),3))&INDEX(Service!A10:A35,RANDBETWEEN(1,26),1),TRIM(LEFT(Translit.Translit(Service!F10),2))&INDEX(Service!H10:H28,RANDBETWEEN(1,19),1)&INDEX(Service!A10:A35,RANDBETWEEN(1,26),1)),'Информация о пользователе'!G12)","v":{"$error":"#NAME?"}}]
[{"$f":"TRIM(IF('Информация о пользователе'!A13=\"\",\"Пусто\",'Информация о пользователе'!A13))","v":"Пусто"},{"$f":"TRIM(IF('Информация о пользователе'!B13=\"\",\" \",'Информация о пользователе'!B13&\" \"&'Информация о пользователе'!C13))","v":""},{"$f":"TRIM(IF(AD!A12=\"\",\"\",AD!B12&\" \"&A12))","v":"Пусто"},{"$f":"TRIM(IF('Информация о пользователе'!D13=\"\",F12&\"@edu54.ru\",'Информация о пользователе'!D13))","v":"pusto@edu54.ru"},{"$f":"TRIM(IF('Информация о пользователе'!E13=\"\",\"\",'Информация о пользователе'!E13))","v":""},{"$f":"IF('Информация о пользователе'!F13=\"\",TRIM(Translit.Translit(A12)&TRIM(LEFT(Translit.Translit(Service!E11),1))&TRIM(LEFT(Translit.Translit(Service!F11),1))),TRIM('Информация о пользователе'!F13))","v":"pusto"},{"$f":"IF('Информация о пользователе'!G13=\"\",TRIM(LEFT(Translit.Translit(Service!E11),2))&INDEX(Service!H11:H29,RANDBETWEEN(1,19),1)&RANDBETWEEN(1,9)&IF(Service!F11=\"\",TRIM(LEFT(Translit.Translit(Service!E11),3))&INDEX(Service!A11:A36,RANDBETWEEN(1,26),1),TRIM(LEFT(Translit.Translit(Service!F11),2))&INDEX(Service!H11:H29,RANDBETWEEN(1,19),1)&INDEX(Service!A11:A36,RANDBETWEEN(1,26),1)),'Информация о пользователе'!G13)","v":{"$error":"#NAME?"}}]
[{"$f":"TRIM(IF('Информация о пользователе'!A14=\"\",\"Пусто\",'Информация о пользователе'!A14))","v":"Пусто"},{"$f":"TRIM(IF('Информация о пользователе'!B14=\"\",\" \",'Информация о пользователе'!B14&\" \"&'Информация о пользователе'!C14))","v":""},{"$f":"TRIM(IF(AD!A13=\"\",\"\",AD!B13&\" \"&A13))","v":"Пусто"},{"$f":"TRIM(IF('Информация о пользователе'!D14=\"\",F13&\"@edu54.ru\",'Информация о пользователе'!D14))","v":"pusto@edu54.ru"},{"$f":"TRIM(IF('Информация о пользователе'!E14=\"\",\"\",'Информация о пользователе'!E14))","v":""},{"$f":"IF('Информация о пользователе'!F14=\"\",TRIM(Translit.Translit(A13)&TRIM(LEFT(Translit.Translit(Service!E12),1))&TRIM(LEFT(Translit.Translit(Service!F12),1))),TRIM('Информация о пользователе'!F14))","v":"pusto"},{"$f":"IF('Информация о пользователе'!G14=\"\",TRIM(LEFT(Translit.Translit(Service!E12),2))&INDEX(Service!H12:H30,RANDBETWEEN(1,19),1)&RANDBETWEEN(1,9)&IF(Service!F12=\"\",TRIM(LEFT(Translit.Translit(Service!E12),3))&INDEX(Service!A12:A37,RANDBETWEEN(1,26),1),TRIM(LEFT(Translit.Translit(Service!F12),2))&INDEX(Service!H12:H30,RANDBETWEEN(1,19),1)&INDEX(Service!A12:A37,RANDBETWEEN(1,26),1)),'Информация о пользователе'!G14)","v":{"$error":"#NAME?"}}]
[{"$f":"TRIM(IF('Информация о пользователе'!A15=\"\",\"Пусто\",'Информация о пользователе'!A15))","v":"Пусто"},{"$f":"TRIM(IF('Информация о пользователе'!B15=\"\",\" \",'Информация о пользователе'!B15&\" \"&'Информация о пользователе'!C15))","v":""},{"$f":"TRIM(IF(AD!A14=\"\",\"\",AD!B14&\" \"&A14))","v":"Пусто"},{"$f":"TRIM(IF('Информация о пользователе'!D15=\"\",F14&\"@edu54.ru\",'Информация о пользователе'!D15))","v":"pusto@edu54.ru"},{"$f":"TRIM(IF('Информация о пользователе'!E15=\"\",\"\",'Информация о пользователе'!E15))","v":""},{"$f":"IF('Информация о пользователе'!F15=\"\",TRIM(Translit.Translit(A14)&TRIM(LEFT(Translit.Translit(Service!E13),1))&TRIM(LEFT(Translit.Translit(Service!F13),1))),TRIM('Информация о пользователе'!F15))","v":"pusto"},{"$f":"IF('Информация о пользователе'!G15=\"\",TRIM(LEFT(Translit.Translit(Service!E13),2))&INDEX(Service!H13:H31,RANDBETWEEN(1,19),1)&RANDBETWEEN(1,9)&IF(Service!F13=\"\",TRIM(LEFT(Translit.Translit(Service!E13),3))&INDEX(Service!A13:A38,RANDBETWEEN(1,26),1),TRIM(LEFT(Translit.Translit(Service!F13),2))&INDEX(Service!H13:H31,RANDBETWEEN(1,19),1)&INDEX(Service!A13:A38,RANDBETWEEN(1,26),1)),'Информация о пользователе'!G15)","v":{"$error":"#NAME?"}}]
[{"$f":"TRIM(IF('Информация о пользователе'!A16=\"\",\"Пусто\",'Информация о пользователе'!A16))","v":"Пусто"},{"$f":"TRIM(IF('Информация о пользователе'!B16=\"\",\" \",'Информация о пользователе'!B16&\" \"&'Информация о пользователе'!C16))","v":""},{"$f":"TRIM(IF(AD!A15=\"\",\"\",AD!B15&\" \"&A15))","v":"Пусто"},{"$f":"TRIM(IF('Информация о пользователе'!D16=\"\",F15&\"@edu54.ru\",'Информация о пользователе'!D16))","v":"pusto@edu54.ru"},{"$f":"TRIM(IF('Информация о пользователе'!E16=\"\",\"\",'Информация о пользователе'!E16))","v":""},{"$f":"IF('Информация о пользователе'!F16=\"\",TRIM(Translit.Translit(A15)&TRIM(LEFT(Translit.Translit(Service!E14),1))&TRIM(LEFT(Translit.Translit(Service!F14),1))),TRIM('Информация о пользователе'!F16))","v":"pusto"},{"$f":"IF('Информация о пользователе'!G16=\"\",TRIM(LEFT(Translit.Translit(Service!E14),2))&INDEX(Service!H14:H32,RANDBETWEEN(1,19),1)&RANDBETWEEN(1,9)&IF(Service!F14=\"\",TRIM(LEFT(Translit.Translit(Service!E14),3))&INDEX(Service!A14:A39,RANDBETWEEN(1,26),1),TRIM(LEFT(Translit.Translit(Service!F14),2))&INDEX(Service!H14:H32,RANDBETWEEN(1,19),1)&INDEX(Service!A14:A39,RANDBETWEEN(1,26),1)),'Информация о пользователе'!G16)","v":{"$error":"#NAME?"}}]
[{"$f":"TRIM(IF('Информация о пользователе'!A17=\"\",\"Пусто\",'Информация о пользователе'!A17))","v":"Пусто"},{"$f":"TRIM(IF('Информация о пользователе'!B17=\"\",\" \",'Информация о пользователе'!B17&\" \"&'Информация о пользователе'!C17))","v":""},{"$f":"TRIM(IF(AD!A16=\"\",\"\",AD!B16&\" \"&A16))","v":"Пусто"},{"$f":"TRIM(IF('Информация о пользователе'!D17=\"\",F16&\"@edu54.ru\",'Информация о пользователе'!D17))","v":"pusto@edu54.ru"},{"$f":"TRIM(IF('Информация о пользователе'!E17=\"\",\"\",'Информация о пользователе'!E17))","v":""},{"$f":"IF('Информация о пользователе'!F17=\"\",TRIM(Translit.Translit(A16)&TRIM(LEFT(Translit.Translit(Service!E15),1))&TRIM(LEFT(Translit.Translit(Service!F15),1))),TRIM('Информация о пользователе'!F17))","v":"pusto"},{"$f":"IF('Информация о пользователе'!G17=\"\",TRIM(LEFT(Translit.Translit(Service!E15),2))&INDEX(Service!H15:H33,RANDBETWEEN(1,19),1)&RANDBETWEEN(1,9)&IF(Service!F15=\"\",TRIM(LEFT(Translit.Translit(Service!E15),3))&INDEX(Service!A15:A40,RANDBETWEEN(1,26),1),TRIM(LEFT(Translit.Translit(Service!F15),2))&INDEX(Service!H15:H33,RANDBETWEEN(1,19),1)&INDEX(Service!A15:A40,RANDBETWEEN(1,26),1)),'Информация о пользователе'!G17)","v":{"$error":"#NAME?"}}]
[{"$f":"TRIM(IF('Информация о пользователе'!A18=\"\",\"Пусто\",'Информация о пользователе'!A18))","v":"Пусто"},{"$f":"TRIM(IF('Информация о пользователе'!B18=\"\",\" \",'Информация о пользователе'!B18&\" \"&'Информация о пользователе'!C18))","v":""},{"$f":"TRIM(IF(AD!A17=\"\",\"\",AD!B17&\" \"&A17))","v":"Пусто"},{"$f":"TRIM(IF('Информация о пользователе'!D18=\"\",F17&\"@edu54.ru\",'Информация о пользователе'!D18))","v":"pusto@edu54.ru"},{"$f":"TRIM(IF('Информация о пользователе'!E18=\"\",\"\",'Информация о пользователе'!E18))","v":""},{"$f":"IF('Информация о пользователе'!F18=\"\",TRIM(Translit.Translit(A17)&TRIM(LEFT(Translit.Translit(Service!E16),1))&TRIM(LEFT(Translit.Translit(Service!F16),1))),TRIM('Информация о пользователе'!F18))","v":"pusto"},{"$f":"IF('Информация о пользователе'!G18=\"\",TRIM(LEFT(Translit.Translit(Service!E16),2))&INDEX(Service!H16:H34,RANDBETWEEN(1,19),1)&RANDBETWEEN(1,9)&IF(Service!F16=\"\",TRIM(LEFT(Translit.Translit(Service!E16),3))&INDEX(Service!A16:A41,RANDBETWEEN(1,26),1),TRIM(LEFT(Translit.Translit(Service!F16),2))&INDEX(Service!H16:H34,RANDBETWEEN(1,19),1)&INDEX(Service!A16:A41,RANDBETWEEN(1,26),1)),'Информация о пользователе'!G18)","v":{"$error":"#NAME?"}}]
[{"$f":"TRIM(IF('Информация о пользователе'!A19=\"\",\"Пусто\",'Информация о пользователе'!A19))","v":"Пусто"},{"$f":"TRIM(IF('Информация о пользователе'!B19=\"\",\" \",'Информация о пользователе'!B19&\" \"&'Информация о пользователе'!C19))","v":""},{"$f":"TRIM(IF(AD!A18=\"\",\"\",AD!B18&\" \"&A18))","v":"Пусто"},{"$f":"TRIM(IF('Информация о пользователе'!D19=\"\",F18&\"@edu54.ru\",'Информация о пользователе'!D19))","v":"pusto@edu54.ru"},{"$f":"TRIM(IF('Информация о пользователе'!E19=\"\",\"\",'Информация о пользователе'!E19))","v":""},{"$f":"IF('Информация о пользователе'!F19=\"\",TRIM(Translit.Translit(A18)&TRIM(LEFT(Translit.Translit(Service!E17),1))&TRIM(LEFT(Translit.Translit(Service!F17),1))),TRIM('Информация о пользователе'!F19))","v":"pusto"},{"$f":"IF('Информация о пользователе'!G19=\"\",TRIM(LEFT(Translit.Translit(Service!E17),2))&INDEX(Service!H17:H35,RANDBETWEEN(1,19),1)&RANDBETWEEN(1,9)&IF(Service!F17=\"\",TRIM(LEFT(Translit.Translit(Service!E17),3))&INDEX(Service!A17:A42,RANDBETWEEN(1,26),1),TRIM(LEFT(Translit.Translit(Service!F17),2))&INDEX(Service!H17:H35,RANDBETWEEN(1,19),1)&INDEX(Service!A17:A42,RANDBETWEEN(1,26),1)),'Информация о пользователе'!G19)","v":{"$error":"#NAME?"}}]
[{"$f":"TRIM(IF('Информация о пользователе'!A20=\"\",\"Пусто\",'Информация о пользователе'!A20))","v":"Пусто"},{"$f":"TRIM(IF('Информация о пользователе'!B20=\"\",\" \",'Информация о пользователе'!B20&\" \"&'Информация о пользователе'!C20))","v":""},{"$f":"TRIM(IF(AD!A19=\"\",\"\",AD!B19&\" \"&A19))","v":"Пусто"},{"$f":"TRIM(IF('Информация о пользователе'!D20=\"\",F19&\"@edu54.ru\",'Информация о пользователе'!D20))","v":"pusto@edu54.ru"},{"$f":"TRIM(IF('Информация о пользователе'!E20=\"\",\"\",'Информация о пользователе'!E20))","v":""},{"$f":"IF('Информация о пользователе'!F20=\"\",TRIM(Translit.Translit(A19)&TRIM(LEFT(Translit.Translit(Service!E18),1))&TRIM(LEFT(Translit.Translit(Service!F18),1))),TRIM('Информация о пользователе'!F20))","v":"pusto"},{"$f":"IF('Информация о пользователе'!G20=\"\",TRIM(LEFT(Translit.Translit(Service!E18),2))&INDEX(Service!H18:H36,RANDBETWEEN(1,19),1)&RANDBETWEEN(1,9)&IF(Service!F18=\"\",TRIM(LEFT(Translit.Translit(Service!E18),3))&INDEX(Service!A18:A43,RANDBETWEEN(1,26),1),TRIM(LEFT(Translit.Translit(Service!F18),2))&INDEX(Service!H18:H36,RANDBETWEEN(1,19),1)&INDEX(Service!A18:A43,RANDBETWEEN(1,26),1)),'Информация о пользователе'!G20)","v":{"$error":"#NAME?"}}]
[{"$f":"TRIM(IF('Информация о пользователе'!A21=\"\",\"Пусто\",'Информация о пользователе'!A21))","v":"Пусто"},{"$f":"TRIM(IF('Информация о пользователе'!B21=\"\",\" \",'Информация о пользователе'!B21&\" \"&'Информация о пользователе'!C21))","v":""},{"$f":"TRIM(IF(AD!A20=\"\",\"\",AD!B20&\" \"&A20))","v":"Пусто"},{"$f":"TRIM(IF('Информация о пользователе'!D21=\"\",F20&\"@edu54.ru\",'Информация о пользователе'!D21))","v":"pusto@edu54.ru"},{"$f":"TRIM(IF('Информация о пользователе'!E21=\"\",\"\",'Информация о пользователе'!E21))","v":""},{"$f":"IF('Информация о пользователе'!F21=\"\",TRIM(Translit.Translit(A20)&TRIM(LEFT(Translit.Translit(Service!E19),1))&TRIM(LEFT(Translit.Translit(Service!F19),1))),TRIM('Информация о пользователе'!F21))","v":"pusto"},{"$f":"IF('Информация о пользователе'!G21=\"\",TRIM(LEFT(Translit.Translit(Service!E19),2))&INDEX(Service!H19:H37,RANDBETWEEN(1,19),1)&RANDBETWEEN(1,9)&IF(Service!F19=\"\",TRIM(LEFT(Translit.Translit(Service!E19),3))&INDEX(Service!A19:A44,RANDBETWEEN(1,26),1),TRIM(LEFT(Translit.Translit(Service!F19),2))&INDEX(Service!H19:H37,RANDBETWEEN(1,19),1)&INDEX(Service!A19:A44,RANDBETWEEN(1,26),1)),'Информация о пользователе'!G21)","v":{"$error":"#NAME?"}}]
[{"$f":"TRIM(IF('Информация о пользователе'!A22=\"\",\"Пусто\",'Информация о пользователе'!A22))","v":"Пусто"},{"$f":"TRIM(IF('Информация о пользователе'!B22=\"\",\" \",'Информация о пользователе'!B22&\" \"&'Информация о пользователе'!C22))","v":""},{"$f":"TRIM(IF(AD!A21=\"\",\"\",AD!B21&\" \"&A21))","v":"Пусто"},{"$f":"TRIM(IF('Информация о пользователе'!D22=\"\",F21&\"@edu54.ru\",'Информация о пользователе'!D22))","v":"pusto@edu54.ru"},{"$f":"TRIM(IF('Информация о пользователе'!E22=\"\",\"\",'Информация о пользователе'!E22))","v":""},{"$f":"IF('Информация о пользователе'!F22=\"\",TRIM(Translit.Translit(A21)&TRIM(LEFT(Translit.Translit(Service!E20),1))&TRIM(LEFT(Translit.Translit(Service!F20),1))),TRIM('Информация о пользователе'!F22))","v":"pusto"},{"$f":"IF('Информация о пользователе'!G22=\"\",TRIM(LEFT(Translit.Translit(Service!E20),2))&INDEX(Service!H20:H38,RANDBETWEEN(1,19),1)&RANDBETWEEN(1,9)&IF(Service!F20=\"\",TRIM(LEFT(Translit.Translit(Service!E20),3))&INDEX(Service!A20:A45,RANDBETWEEN(1,26),1),TRIM(LEFT(Translit.Translit(Service!F20),2))&INDEX(Service!H20:H38,RANDBETWEEN(1,19),1)&INDEX(Service!A20:A45,RANDBETWEEN(1,26),1)),'Информация о пользователе'!G22)","v":{"$error":"#NAME?"}}]
[{"$f":"TRIM(IF('Информация о пользователе'!A23=\"\",\"Пусто\",'Информация о пользователе'!A23))","v":"Пусто"},{"$f":"TRIM(IF('Информация о пользователе'!B23=\"\",\" \",'Информация о пользователе'!B23&\" \"&'Информация о пользователе'!C23))","v":""},{"$f":"TRIM(IF(AD!A22=\"\",\"\",AD!B22&\" \"&A22))","v":"Пусто"},{"$f":"TRIM(IF('Информация о пользователе'!D23=\"\",F22&\"@edu54.ru\",'Информация о пользователе'!D23))","v":"pusto@edu54.ru"},{"$f":"TRIM(IF('Информация о пользователе'!E23=\"\",\"\",'Информация о пользователе'!E23))","v":""},{"$f":"IF('Информация о пользователе'!F23=\"\",TRIM(Translit.Translit(A22)&TRIM(LEFT(Translit.Translit(Service!E21),1))&TRIM(LEFT(Translit.Translit(Service!F21),1))),TRIM('Информация о пользователе'!F23))","v":"pusto"},{"$f":"IF('Информация о пользователе'!G23=\"\",TRIM(LEFT(Translit.Translit(Service!E21),2))&INDEX(Service!H21:H39,RANDBETWEEN(1,19),1)&RANDBETWEEN(1,9)&IF(Service!F21=\"\",TRIM(LEFT(Translit.Translit(Service!E21),3))&INDEX(Service!A21:A46,RANDBETWEEN(1,26),1),TRIM(LEFT(Translit.Translit(Service!F21),2))&INDEX(Service!H21:H39,RANDBETWEEN(1,19),1)&INDEX(Service!A21:A46,RANDBETWEEN(1,26),1)),'Информация о пользователе'!G23)","v":{"$error":"#NAME?"}}]
[{"$f":"TRIM(IF('Информация о пользователе'!A24=\"\",\"Пусто\",'Информация о пользователе'!A24))","v":"Пусто"},{"$f":"TRIM(IF('Информация о пользователе'!B24=\"\",\" \",'Информация о пользователе'!B24&\" \"&'Информация о пользователе'!C24))","v":""},{"$f":"TRIM(IF(AD!A23=\"\",\"\",AD!B23&\" \"&A23))","v":"Пусто"},{"$f":"TRIM(IF('Информация о пользователе'!D24=\"\",F23&\"@edu54.ru\",'Информация о пользователе'!D24))","v":"pusto@edu54.ru"},{"$f":"TRIM(IF('Информация о пользователе'!E24=\"\",\"\",'Информация о пользователе'!E24))","v":""},{"$f":"IF('Информация о пользователе'!F24=\"\",TRIM(Translit.Translit(A23)&TRIM(LEFT(Translit.Translit(Service!E22),1))&TRIM(LEFT(Translit.Translit(Service!F22),1))),TRIM('Информация о пользователе'!F24))","v":"pusto"},{"$f":"IF('Информация о пользователе'!G24=\"\",TRIM(LEFT(Translit.Translit(Service!E22),2))&INDEX(Service!H22:H40,RANDBETWEEN(1,19),1)&RANDBETWEEN(1,9)&IF(Service!F22=\"\",TRIM(LEFT(Translit.Translit(Service!E22),3))&INDEX(Service!A22:A47,RANDBETWEEN(1,26),1),TRIM(LEFT(Translit.Translit(Service!F22),2))&INDEX(Service!H22:H40,RANDBETWEEN(1,19),1)&INDEX(Service!A22:A47,RANDBETWEEN(1,26),1)),'Информация о пользователе'!G24)","v":{"$error":"#NAME?"}}]
[{"$f":"TRIM(IF('Информация о пользователе'!A25=\"\",\"Пусто\",'Информация о пользователе'!A25))","v":"Пусто"},{"$f":"TRIM(IF('Информация о пользователе'!B25=\"\",\" \",'Информация о пользователе'!B25&\" \"&'Информация о пользователе'!C25))","v":""},{"$f":"TRIM(IF(AD!A24=\"\",\"\",AD!B24&\" \"&A24))","v":"Пусто"},{"$f":"TRIM(IF('Информация о пользователе'!D25=\"\",F24&\"@edu54.ru\",'Информация о пользователе'!D25))","v":"pusto@edu54.ru"},{"$f":"TRIM(IF('Информация о пользователе'!E25=\"\",\"\",'Информация о пользователе'!E25))","v":""},{"$f":"IF('Информация о пользователе'!F25=\"\",TRIM(Translit.Translit(A24)&TRIM(LEFT(Translit.Translit(Service!E23),1))&TRIM(LEFT(Translit.Translit(Service!F23),1))),TRIM('Информация о пользователе'!F25))","v":"pusto"},{"$f":"IF('Информация о пользователе'!G25=\"\",TRIM(LEFT(Translit.Translit(Service!E23),2))&INDEX(Service!H23:H41,RANDBETWEEN(1,19),1)&RANDBETWEEN(1,9)&IF(Service!F23=\"\",TRIM(LEFT(Translit.Translit(Service!E23),3))&INDEX(Service!A23:A48,RANDBETWEEN(1,26),1),TRIM(LEFT(Translit.Translit(Service!F23),2))&INDEX(Service!H23:H41,RANDBETWEEN(1,19),1)&INDEX(Service!A23:A48,RANDBETWEEN(1,26),1)),'Информация о пользователе'!G25)","v":{"$error":"#NAME?"}}]
[{"$f":"TRIM(IF('Информация о пользователе'!A26=\"\",\"Пусто\",'Информация о пользователе'!A26))","v":"Пусто"},{"$f":"TRIM(IF('Информация о пользователе'!B26=\"\",\" \",'Информация о пользователе'!B26&\" \"&'Информация о пользователе'!C26))","v":""},{"$f":"TRIM(IF(AD!A25=\"\",\"\",AD!B25&\" \"&A25))","v":"Пусто"},{"$f":"TRIM(IF('Информация о пользователе'!D26=\"\",F25&\"@edu54.ru\",'Информация о пользователе'!D26))","v":"pusto@edu54.ru"},{"$f":"TRIM(IF('Информация о пользователе'!E26=\"\",\"\",'Информация о пользователе'!E26))","v":""},{"$f":"IF('Информация о пользователе'!F26=\"\",TRIM(Translit.Translit(A25)&TRIM(LEFT(Translit.Translit(Service!E24),1))&TRIM(LEFT(Translit.Translit(Service!F24),1))),TRIM('Информация о пользователе'!F26))","v":"pusto"},{"$f":"IF('Информация о пользователе'!G26=\"\",TRIM(LEFT(Translit.Translit(Service!E24),2))&INDEX(Service!H24:H42,RANDBETWEEN(1,19),1)&RANDBETWEEN(1,9)&IF(Service!F24=\"\",TRIM(LEFT(Translit.Translit(Service!E24),3))&INDEX(Service!A24:A49,RANDBETWEEN(1,26),1),TRIM(LEFT(Translit.Translit(Service!F24),2))&INDEX(Service!H24:H42,RANDBETWEEN(1,19),1)&INDEX(Service!A24:A49,RANDBETWEEN(1,26),1)),'Информация о пользователе'!G26)","v":{"$error":"#NAME?"}}]
[{"$f":"TRIM(IF('Информация о пользователе'!A27=\"\",\"Пусто\",'Информация о пользователе'!A27))","v":"Пусто"},{"$f":"TRIM(IF('Информация о пользователе'!B27=\"\",\" \",'Информация о пользователе'!B27&\" \"&'Информация о пользователе'!C27))","v":""},{"$f":"TRIM(IF(AD!A26=\"\",\"\",AD!B26&\" \"&A26))","v":"Пусто"},{"$f":"TRIM(IF('Информация о пользователе'!D27=\"\",F26&\"@edu54.ru\",'Информация о пользователе'!D27))","v":"pusto@edu54.ru"},{"$f":"TRIM(IF('Информация о пользователе'!E27=\"\",\"\",'Информация о пользователе'!E27))","v":""},{"$f":"IF('Информация о пользователе'!F27=\"\",TRIM(Translit.Translit(A26)&TRIM(LEFT(Translit.Translit(Service!E25),1))&TRIM(LEFT(Translit.Translit(Service!F25),1))),TRIM('Информация о пользователе'!F27))","v":"pusto"},{"$f":"IF('Информация о пользователе'!G27=\"\",TRIM(LEFT(Translit.Translit(Service!E25),2))&INDEX(Service!H25:H43,RANDBETWEEN(1,19),1)&RANDBETWEEN(1,9)&IF(Service!F25=\"\",TRIM(LEFT(Translit.Translit(Service!E25),3))&INDEX(Service!A25:A50,RANDBETWEEN(1,26),1),TRIM(LEFT(Translit.Translit(Service!F25),2))&INDEX(Service!H25:H43,RANDBETWEEN(1,19),1)&INDEX(Service!A25:A50,RANDBETWEEN(1,26),1)),'Информация о пользователе'!G27)","v":{"$error":"#NAME?"}}]
[{"$f":"TRIM(IF('Информация о пользователе'!A28=\"\",\"Пусто\",'Информация о пользователе'!A28))","v":"Пусто"},{"$f":"TRIM(IF('Информация о пользователе'!B28=\"\",\" \",'Информация о пользователе'!B28&\" \"&'Информация о пользователе'!C28))","v":""},{"$f":"TRIM(IF(AD!A27=\"\",\"\",AD!B27&\" \"&A27))","v":"Пусто"},{"$f":"TRIM(IF('Информация о пользователе'!D28=\"\",F27&\"@edu54.ru\",'Информация о пользователе'!D28))","v":"pusto@edu54.ru"},{"$f":"TRIM(IF('Информация о пользователе'!E28=\"\",\"\",'Информация о пользователе'!E28))","v":""},{"$f":"IF('Информация о пользователе'!F28=\"\",TRIM(Translit.Translit(A27)&TRIM(LEFT(Translit.Translit(Service!E26),1))&TRIM(LEFT(Translit.Translit(Service!F26),1))),TRIM('Информация о пользователе'!F28))","v":"pusto"},{"$f":"IF('Информация о пользователе'!G28=\"\",TRIM(LEFT(Translit.Translit(Service!E26),2))&INDEX(Service!H26:H44,RANDBETWEEN(1,19),1)&RANDBETWEEN(1,9)&IF(Service!F26=\"\",TRIM(LEFT(Translit.Translit(Service!E26),3))&INDEX(Service!A26:A51,RANDBETWEEN(1,26),1),TRIM(LEFT(Translit.Translit(Service!F26),2))&INDEX(Service!H26:H44,RANDBETWEEN(1,19),1)&INDEX(Service!A26:A51,RANDBETWEEN(1,26),1)),'Информация о пользователе'!G28)","v":{"$error":"#NAME?"}}]
[{"$f":"TRIM(IF('Информация о пользователе'!A29=\"\",\"Пусто\",'Информация о пользователе'!A29))","v":"Пусто"},{"$f":"TRIM(IF('Информация о пользователе'!B29=\"\",\" \",'Информация о пользователе'!B29&\" \"&'Информация о пользователе'!C29))","v":""},{"$f":"TRIM(IF(AD!A28=\"\",\"\",AD!B28&\" \"&A28))","v":"Пусто"},{"$f":"TRIM(IF('Информация о пользователе'!D29=\"\",F28&\"@edu54.ru\",'Информация о пользователе'!D29))","v":"pusto@edu54.ru"},{"$f":"TRIM(IF('Информация о пользователе'!E29=\"\",\"\",'Информация о пользователе'!E29))","v":""},{"$f":"IF('Информация о пользователе'!F29=\"\",TRIM(Translit.Translit(A28)&TRIM(LEFT(Translit.Translit(Service!E27),1))&TRIM(LEFT(Translit.Translit(Service!F27),1))),TRIM('Информация о пользователе'!F29))","v":"pusto"},{"$f":"IF('Информация о пользователе'!G29=\"\",TRIM(LEFT(Translit.Translit(Service!E27),2))&INDEX(Service!H27:H45,RANDBETWEEN(1,19),1)&RANDBETWEEN(1,9)&IF(Service!F27=\"\",TRIM(LEFT(Translit.Translit(Service!E27),3))&INDEX(Service!A27:A52,RANDBETWEEN(1,26),1),TRIM(LEFT(Translit.Translit(Service!F27),2))&INDEX(Service!H27:H45,RANDBETWEEN(1,19),1)&INDEX(Service!A27:A52,RANDBETWEEN(1,26),1)),'Информация о пользователе'!G29)","v":{"$error":"#NAME?"}}]
[{"$f":"TRIM(IF('Информация о пользователе'!A30=\"\",\"Пусто\",'Информация о пользователе'!A30))","v":"Пусто"},{"$f":"TRIM(IF('Информация о пользователе'!B30=\"\",\" \",'Информация о пользователе'!B30&\" \"&'Информация о пользователе'!C30))","v":""},{"$f":"TRIM(IF(AD!A29=\"\",\"\",AD!B29&\" \"&A29))","v":"Пусто"},{"$f":"TRIM(IF('Информация о пользователе'!D30=\"\",F29&\"@edu54.ru\",'Информация о пользователе'!D30))","v":"pusto@edu54.ru"},{"$f":"TRIM(IF('Информация о пользователе'!E30=\"\",\"\",'Информация о пользователе'!E30))","v":""},{"$f":"IF('Информация о пользователе'!F30=\"\",TRIM(Translit.Translit(A29)&TRIM(LEFT(Translit.Translit(Service!E28),1))&TRIM(LEFT(Translit.Translit(Service!F28),1))),TRIM('Информация о пользователе'!F30))","v":"pusto"},{"$f":"IF('Информация о пользователе'!G30=\"\",TRIM(LEFT(Translit.Translit(Service!E28),2))&INDEX(Service!H28:H46,RANDBETWEEN(1,19),1)&RANDBETWEEN(1,9)&IF(Service!F28=\"\",TRIM(LEFT(Translit.Translit(Service!E28),3))&INDEX(Service!A28:A53,RANDBETWEEN(1,26),1),TRIM(LEFT(Translit.Translit(Service!F28),2))&INDEX(Service!H28:H46,RANDBETWEEN(1,19),1)&INDEX(Service!A28:A53,RANDBETWEEN(1,26),1)),'Информация о пользователе'!G30)","v":{"$error":"#NAME?"}}]
[{"$f":"TRIM(IF('Информация о пользователе'!A31=\"\",\"Пусто\",'Информация о пользователе'!A31))","v":"Пусто"},{"$f":"TRIM(IF('Информация о пользователе'!B31=\"\",\" \",'Информация о пользователе'!B31&\" \"&'Информация о пользователе'!C31))","v":""},{"$f":"TRIM(IF(AD!A30=\"\",\"\",AD!B30&\" \"&A30))","v":"Пусто"},{"$f":"TRIM(IF('Информация о пользователе'!D31=\"\",F30&\"@edu54.ru\",'Информация о пользователе'!D31))","v":"pusto@edu54.ru"},{"$f":"TRIM(IF('Информация о пользователе'!E31=\"\",\"\",'Информация о пользователе'!E31))","v":""},{"$f":"IF('Информация о пользователе'!F31=\"\",TRIM(Translit.Translit(A30)&TRIM(LEFT(Translit.Translit(Service!E29),1))&TRIM(LEFT(Translit.Translit(Service!F29),1))),TRIM('Информация о пользователе'!F31))","v":"pusto"},{"$f":"IF('Информация о пользователе'!G31=\"\",TRIM(LEFT(Translit.Translit(Service!E29),2))&INDEX(Service!H29:H47,RANDBETWEEN(1,19),1)&RANDBETWEEN(1,9)&IF(Service!F29=\"\",TRIM(LEFT(Translit.Translit(Service!E29),3))&INDEX(Service!A29:A54,RANDBETWEEN(1,26),1),TRIM(LEFT(Translit.Translit(Service!F29),2))&INDEX(Service!H29:H47,RANDBETWEEN(1,19),1)&INDEX(Service!A29:A54,RANDBETWEEN(1,26),1)),'Информация о пользователе'!G31)","v":{"$error":"#NAME?"}}]
[{"$f":"TRIM(IF('Информация о пользователе'!A32=\"\",\"Пусто\",'Информация о пользователе'!A32))","v":"Пусто"},{"$f":"TRIM(IF('Информация о пользователе'!B32=\"\",\" \",'Информация о пользователе'!B32&\" \"&'Информация о пользователе'!C32))","v":""},{"$f":"TRIM(IF(AD!A31=\"\",\"\",AD!B31&\" \"&A31))","v":"Пусто"},{"$f":"TRIM(IF('Информация о пользователе'!D32=\"\",F31&\"@edu54.ru\",'Информация о пользователе'!D32))","v":"pusto@edu54.ru"},{"$f":"TRIM(IF('Информация о пользователе'!E32=\"\",\"\",'Информация о пользователе'!E32))","v":""},{"$f":"IF('Информация о пользователе'!F32=\"\",TRIM(Translit.Translit(A31)&TRIM(LEFT(Translit.Translit(Service!E30),1))&TRIM(LEFT(Translit.Translit(Service!F30),1))),TRIM('Информация о пользователе'!F32))","v":"pusto"},{"$f":"IF('Информация о пользователе'!G32=\"\",TRIM(LEFT(Translit.Translit(Service!E30),2))&INDEX(Service!H30:H48,RANDBETWEEN(1,19),1)&RANDBETWEEN(1,9)&IF(Service!F30=\"\",TRIM(LEFT(Translit.Translit(Service!E30),3))&INDEX(Service!A30:A55,RANDBETWEEN(1,26),1),TRIM(LEFT(Translit.Translit(Service!F30),2))&INDEX(Service!H30:H48,RANDBETWEEN(1,19),1)&INDEX(Service!A30:A55,RANDBETWEEN(1,26),1)),'Информация о пользователе'!G32)","v":{"$error":"#NAME?"}}]
[{"$f":"TRIM(IF('Информация о пользователе'!A33=\"\",\"Пусто\",'Информация о пользователе'!A33))","v":"Пусто"},{"$f":"TRIM(IF('Информация о пользователе'!B33=\"\",\" \",'Информация о пользователе'!B33&\" \"&'Информация о пользователе'!C33))","v":""},{"$f":"TRIM(IF(AD!A32=\"\",\"\",AD!B32&\" \"&A32))","v":"Пусто"},{"$f":"TRIM(IF('Информация о пользователе'!D33=\"\",F32&\"@edu54.ru\",'Информация о пользователе'!D33))","v":"pusto@edu54.ru"},{"$f":"TRIM(IF('Информация о пользователе'!E33=\"\",\"\",'Информация о пользователе'!E33))","v":""},{"$f":"IF('Информация о пользователе'!F33=\"\",TRIM(Translit.Translit(A32)&TRIM(LEFT(Translit.Translit(Service!E31),1))&TRIM(LEFT(Translit.Translit(Service!F31),1))),TRIM('Информация о пользователе'!F33))","v":"pusto"},{"$f":"IF('Информация о пользователе'!G33=\"\",TRIM(LEFT(Translit.Translit(Service!E31),2))&INDEX(Service!H31:H49,RANDBETWEEN(1,19),1)&RANDBETWEEN(1,9)&IF(Service!F31=\"\",TRIM(LEFT(Translit.Translit(Service!E31),3))&INDEX(Service!A31:A56,RANDBETWEEN(1,26),1),TRIM(LEFT(Translit.Translit(Service!F31),2))&INDEX(Service!H31:H49,RANDBETWEEN(1,19),1)&INDEX(Service!A31:A56,RANDBETWEEN(1,26),1)),'Информация о пользователе'!G33)","v":{"$error":"#NAME?"}}]
[{"$f":"TRIM(IF('Информация о пользователе'!A34=\"\",\"Пусто\",'Информация о пользователе'!A34))","v":"Пусто"},{"$f":"TRIM(IF('Информация о пользователе'!B34=\"\",\" \",'Информация о пользователе'!B34&\" \"&'Информация о пользователе'!C34))","v":""},{"$f":"TRIM(IF(AD!A33=\"\",\"\",AD!B33&\" \"&A33))","v":"Пусто"},{"$f":"TRIM(IF('Информация о пользователе'!D34=\"\",F33&\"@edu54.ru\",'Информация о пользователе'!D34))","v":"pusto@edu54.ru"},{"$f":"TRIM(IF('Информация о пользователе'!E34=\"\",\"\",'Информация о пользователе'!E34))","v":""},{"$f":"IF('Информация о пользователе'!F34=\"\",TRIM(Translit.Translit(A33)&TRIM(LEFT(Translit.Translit(Service!E32),1))&TRIM(LEFT(Translit.Translit(Service!F32),1))),TRIM('Информация о пользователе'!F34))","v":"pusto"},{"$f":"IF('Информация о пользователе'!G34=\"\",TRIM(LEFT(Translit.Translit(Service!E32),2))&INDEX(Service!H32:H50,RANDBETWEEN(1,19),1)&RANDBETWEEN(1,9)&IF(Service!F32=\"\",TRIM(LEFT(Translit.Translit(Service!E32),3))&INDEX(Service!A32:A57,RANDBETWEEN(1,26),1),TRIM(LEFT(Translit.Translit(Service!F32),2))&INDEX(Service!H32:H50,RANDBETWEEN(1,19),1)&INDEX(Service!A32:A57,RANDBETWEEN(1,26),1)),'Информация о пользователе'!G34)","v":{"$error":"#NAME?"}}]
[{"$f":"TRIM(IF('Информация о пользователе'!A35=\"\",\"Пусто\",'Информация о пользователе'!A35))","v":"Пусто"},{"$f":"TRIM(IF('Информация о пользователе'!B35=\"\",\" \",'Информация о пользователе'!B35&\" \"&'Информация о пользователе'!C35))","v":""},{"$f":"TRIM(IF(AD!A34=\"\",\"\",AD!B34&\" \"&A34))","v":"Пусто"},{"$f":"TRIM(IF('Информация о пользователе'!D35=\"\",F34&\"@edu54.ru\",'Информация о пользователе'!D35))","v":"pusto@edu54.ru"},{"$f":"TRIM(IF('Информация о пользователе'!E35=\"\",\"\",'Информация о пользователе'!E35))","v":""},{"$f":"IF('Информация о пользователе'!F35=\"\",TRIM(Translit.Translit(A34)&TRIM(LEFT(Translit.Translit(Service!E33),1))&TRIM(LEFT(Translit.Translit(Service!F33),1))),TRIM('Информация о пользователе'!F35))","v":"pusto"},{"$f":"IF('Информация о пользователе'!G35=\"\",TRIM(LEFT(Translit.Translit(Service!E33),2))&INDEX(Service!H33:H51,RANDBETWEEN(1,19),1)&RANDBETWEEN(1,9)&IF(Service!F33=\"\",TRIM(LEFT(Translit.Translit(Service!E33),3))&INDEX(Service!A33:A58,RANDBETWEEN(1,26),1),TRIM(LEFT(Translit.Translit(Service!F33),2))&INDEX(Service!H33:H51,RANDBETWEEN(1,19),1)&INDEX(Service!A33:A58,RANDBETWEEN(1,26),1)),'Информация о пользователе'!G35)","v":{"$error":"#NAME?"}}]
[{"$f":"TRIM(IF('Информация о пользователе'!A36=\"\",\"Пусто\",'Информация о пользователе'!A36))","v":"Пусто"},{"$f":"TRIM(IF('Информация о пользователе'!B36=\"\",\" \",'Информация о пользователе'!B36&\" \"&'Информация о пользователе'!C36))","v":""},{"$f":"TRIM(IF(AD!A35=\"\",\"\",AD!B35&\" \"&A35))","v":"Пусто"},{"$f":"TRIM(IF('Информация о пользователе'!D36=\"\",F35&\"@edu54.ru\",'Информация о пользователе'!D36))","v":"pusto@edu54.ru"},{"$f":"TRIM(IF('Информация о пользователе'!E36=\"\",\"\",'Информация о пользователе'!E36))","v":""},{"$f":"IF('Информация о пользователе'!F36=\"\",TRIM(Translit.Translit(A35)&TRIM(LEFT(Translit.Translit(Service!E34),1))&TRIM(LEFT(Translit.Translit(Service!F34),1))),TRIM('Информация о пользователе'!F36))","v":"pusto"},{"$f":"IF('Информация о пользователе'!G36=\"\",TRIM(LEFT(Translit.Translit(Service!E34),2))&INDEX(Service!H34:H52,RANDBETWEEN(1,19),1)&RANDBETWEEN(1,9)&IF(Service!F34=\"\",TRIM(LEFT(Translit.Translit(Service!E34),3))&INDEX(Service!A34:A59,RANDBETWEEN(1,26),1),TRIM(LEFT(Translit.Translit(Service!F34),2))&INDEX(Service!H34:H52,RANDBETWEEN(1,19),1)&INDEX(Service!A34:A59,RANDBETWEEN(1,26),1)),'Информация о пользователе'!G36)","v":{"$error":"#NAME?"}}]
[{"$f":"TRIM(IF('Информация о пользователе'!A37=\"\",\"Пусто\",'Информация о пользователе'!A37))","v":"Пусто"},{"$f":"TRIM(IF('Информация о пользователе'!B37=\"\",\" \",'Информация о пользователе'!B37&\" \"&'Информация о пользователе'!C37))","v":""},{"$f":"TRIM(IF(AD!A36=\"\",\"\",AD!B36&\" \"&A36))","v":"Пусто"},{"$f":"TRIM(IF('Информация о пользователе'!D37=\"\",F36&\"@edu54.ru\",'Информация о пользователе'!D37))","v":"pusto@edu54.ru"},{"$f":"TRIM(IF('Информация о пользователе'!E37=\"\",\"\",'Информация о пользователе'!E37))","v":""},{"$f":"IF('Информация о пользователе'!F37=\"\",TRIM(Translit.Translit(A36)&TRIM(LEFT(Translit.Translit(Service!E35),1))&TRIM(LEFT(Translit.Translit(Service!F35),1))),TRIM('Информация о пользователе'!F37))","v":"pusto"},{"$f":"IF('Информация о пользователе'!G37=\"\",TRIM(LEFT(Translit.Translit(Service!E35),2))&INDEX(Service!H35:H53,RANDBETWEEN(1,19),1)&RANDBETWEEN(1,9)&IF(Service!F35=\"\",TRIM(LEFT(Translit.Translit(Service!E35),3))&INDEX(Service!A35:A60,RANDBETWEEN(1,26),1),TRIM(LEFT(Translit.Translit(Service!F35),2))&INDEX(Service!H35:H53,RANDBETWEEN(1,19),1)&INDEX(Service!A35:A60,RANDBETWEEN(1,26),1)),'Информация о пользователе'!G37)","v":{"$error":"#NAME?"}}]
[{"$f":"TRIM(IF('Информация о пользователе'!A38=\"\",\"Пусто\",'Информация о пользователе'!A38))","v":"Пусто"},{"$f":"TRIM(IF('Информация о пользователе'!B38=\"\",\" \",'Информация о пользователе'!B38&\" \"&'Информация о пользователе'!C38))","v":""},{"$f":"TRIM(IF(AD!A37=\"\",\"\",AD!B37&\" \"&A37))","v":"Пусто"},{"$f":"TRIM(IF('Информация о пользователе'!D38=\"\",F37&\"@edu54.ru\",'Информация о пользователе'!D38))","v":"pusto@edu54.ru"},{"$f":"TRIM(IF('Информация о пользователе'!E38=\"\",\"\",'Информация о пользователе'!E38))","v":""},{"$f":"IF('Информация о пользователе'!F38=\"\",TRIM(Translit.Translit(A37)&TRIM(LEFT(Translit.Translit(Service!E36),1))&TRIM(LEFT(Translit.Translit(Service!F36),1))),TRIM('Информация о пользователе'!F38))","v":"pusto"},{"$f":"IF('Информация о пользователе'!G38=\"\",TRIM(LEFT(Translit.Translit(Service!E36),2))&INDEX(Service!H36:H54,RANDBETWEEN(1,19),1)&RANDBETWEEN(1,9)&IF(Service!F36=\"\",TRIM(LEFT(Translit.Translit(Service!E36),3))&INDEX(Service!A36:A61,RANDBETWEEN(1,26),1),TRIM(LEFT(Translit.Translit(Service!F36),2))&INDEX(Service!H36:H54,RANDBETWEEN(1,19),1)&INDEX(Service!A36:A61,RANDBETWEEN(1,26),1)),'Информация о пользователе'!G38)","v":{"$error":"#NAME?"}}]
[{"$f":"TRIM(IF('Информация о пользователе'!A39=\"\",\"Пусто\",'Информация о пользователе'!A39))","v":"Пусто"},{"$f":"TRIM(IF('Информация о пользователе'!B39=\"\",\" \",'Информация о пользователе'!B39&\" \"&'Информация о пользователе'!C39))","v":""},{"$f":"TRIM(IF(AD!A38=\"\",\"\",AD!B38&\" \"&A38))","v":"Пусто"},{"$f":"TRIM(IF('Информация о пользователе'!D39=\"\",F38&\"@edu54.ru\",'Информация о пользователе'!D39))","v":"pusto@edu54.ru"},{"$f":"TRIM(IF('Информация о пользователе'!E39=\"\",\"\",'Информация о пользователе'!E39))","v":""},{"$f":"IF('Информация о пользователе'!F39=\"\",TRIM(Translit.Translit(A38)&TRIM(LEFT(Translit.Translit(Service!E37),1))&TRIM(LEFT(Translit.Translit(Service!F37),1))),TRIM('Информация о пользователе'!F39))","v":"pusto"},{"$f":"IF('Информация о пользователе'!G39=\"\",TRIM(LEFT(Translit.Translit(Service!E37),2))&INDEX(Service!H37:H55,RANDBETWEEN(1,19),1)&RANDBETWEEN(1,9)&IF(Service!F37=\"\",TRIM(LEFT(Translit.Translit(Service!E37),3))&INDEX(Service!A37:A62,RANDBETWEEN(1,26),1),TRIM(LEFT(Translit.Translit(Service!F37),2))&INDEX(Service!H37:H55,RANDBETWEEN(1,19),1)&INDEX(Service!A37:A62,RANDBETWEEN(1,26),1)),'Информация о пользователе'!G39)","v":{"$error":"#NAME?"}}]
[{"$f":"TRIM(IF('Информация о пользователе'!A40=\"\",\"Пусто\",'Информация о пользователе'!A40))","v":"Пусто"},{"$f":"TRIM(IF('Информация о пользователе'!B40=\"\",\" \",'Информация о пользователе'!B40&\" \"&'Информация о пользователе'!C40))","v":""},{"$f":"TRIM(IF(AD!A39=\"\",\"\",AD!B39&\" \"&A39))","v":"Пусто"},{"$f":"TRIM(IF('Информация о пользователе'!D40=\"\",F39&\"@edu54.ru\",'Информация о пользователе'!D40))","v":"pusto@edu54.ru"},{"$f":"TRIM(IF('Информация о пользователе'!E40=\"\",\"\",'Информация о пользователе'!E40))","v":""},{"$f":"IF('Информация о пользователе'!F40=\"\",TRIM(Translit.Translit(A39)&TRIM(LEFT(Translit.Translit(Service!E38),1))&TRIM(LEFT(Translit.Translit(Service!F38),1))),TRIM('Информация о пользователе'!F40))","v":"pusto"},{"$f":"IF('Информация о пользователе'!G40=\"\",TRIM(LEFT(Translit.Translit(Service!E38),2))&INDEX(Service!H38:H56,RANDBETWEEN(1,19),1)&RANDBETWEEN(1,9)&IF(Service!F38=\"\",TRIM(LEFT(Translit.Translit(Service!E38),3))&INDEX(Service!A38:A63,RANDBETWEEN(1,26),1),TRIM(LEFT(Translit.Translit(Service!F38),2))&INDEX(Service!H38:H56,RANDBETWEEN(1,19),1)&INDEX(Service!A38:A63,RANDBETWEEN(1,26),1)),'Информация о пользователе'!G40)","v":{"$error":"#NAME?"}}]
[{"$f":"TRIM(IF('Информация о пользователе'!A41=\"\",\"Пусто\",'Информация о пользователе'!A41))","v":"Пусто"},{"$f":"TRIM(IF('Информация о пользователе'!B41=\"\",\" \",'Информация о пользователе'!B41&\" \"&'Информация о пользователе'!C41))","v":""},{"$f":"TRIM(IF(AD!A40=\"\",\"\",AD!B40&\" \"&A40))","v":"Пусто"},{"$f":"TRIM(IF('Информация о пользователе'!D41=\"\",F40&\"@edu54.ru\",'Информация о пользователе'!D41))","v":"pusto@edu54.ru"},{"$f":"TRIM(IF('Информация о пользователе'!E41=\"\",\"\",'Информация о пользователе'!E41))","v":""},{"$f":"IF('Информация о пользователе'!F41=\"\",TRIM(Translit.Translit(A40)&TRIM(LEFT(Translit.Translit(Service!E39),1))&TRIM(LEFT(Translit.Translit(Service!F39),1))),TRIM('Информация о пользователе'!F41))","v":"pusto"},{"$f":"IF('Информация о пользователе'!G41=\"\",TRIM(LEFT(Translit.Translit(Service!E39),2))&INDEX(Service!H39:H57,RANDBETWEEN(1,19),1)&RANDBETWEEN(1,9)&IF(Service!F39=\"\",TRIM(LEFT(Translit.Translit(Service!E39),3))&INDEX(Service!A39:A64,RANDBETWEEN(1,26),1),TRIM(LEFT(Translit.Translit(Service!F39),2))&INDEX(Service!H39:H57,RANDBETWEEN(1,19),1)&INDEX(Service!A39:A64,RANDBETWEEN(1,26),1)),'Информация о пользователе'!G41)","v":{"$error":"#NAME?"}}]
[{"$f":"TRIM(IF('Информация о пользователе'!A42=\"\",\"Пусто\",'Информация о пользователе'!A42))","v":"Пусто"},{"$f":"TRIM(IF('Информация о пользователе'!B42=\"\",\" \",'Информация о пользователе'!B42&\" \"&'Информация о пользователе'!C42))","v":""},{"$f":"TRIM(IF(AD!A41=\"\",\"\",AD!B41&\" \"&A41))","v":"Пусто"},{"$f":"TRIM(IF('Информация о пользователе'!D42=\"\",F41&\"@edu54.ru\",'Информация о пользователе'!D42))","v":"pusto@edu54.ru"},{"$f":"TRIM(IF('Информация о пользователе'!E42=\"\",\"\",'Информация о пользователе'!E42))","v":""},{"$f":"IF('Информация о пользователе'!F42=\"\",TRIM(Translit.Translit(A41)&TRIM(LEFT(Translit.Translit(Service!E40),1))&TRIM(LEFT(Translit.Translit(Service!F40),1))),TRIM('Информация о пользователе'!F42))","v":"pusto"},{"$f":"IF('Информация о пользователе'!G42=\"\",TRIM(LEFT(Translit.Translit(Service!E40),2))&INDEX(Service!H40:H58,RANDBETWEEN(1,19),1)&RANDBETWEEN(1,9)&IF(Service!F40=\"\",TRIM(LEFT(Translit.Translit(Service!E40),3))&INDEX(Service!A40:A65,RANDBETWEEN(1,26),1),TRIM(LEFT(Translit.Translit(Service!F40),2))&INDEX(Service!H40:H58,RANDBETWEEN(1,19),1)&INDEX(Service!A40:A65,RANDBETWEEN(1,26),1)),'Информация о пользователе'!G42)","v":{"$error":"#NAME?"}}]
[{"$f":"TRIM(IF('Информация о пользователе'!A43=\"\",\"Пусто\",'Информация о пользователе'!A43))","v":"Пусто"},{"$f":"TRIM(IF('Информация о пользователе'!B43=\"\",\" \",'Информация о пользователе'!B43&\" \"&'Информация о пользователе'!C43))","v":""},{"$f":"TRIM(IF(AD!A42=\"\",\"\",AD!B42&\" \"&A42))","v":"Пусто"},{"$f":"TRIM(IF('Информация о пользователе'!D43=\"\",F42&\"@edu54.ru\",'Информация о пользователе'!D43))","v":"pusto@edu54.ru"},{"$f":"TRIM(IF('Информация о пользователе'!E43=\"\",\"\",'Информация о пользователе'!E43))","v":""},{"$f":"IF('Информация о пользователе'!F43=\"\",TRIM(Translit.Translit(A42)&TRIM(LEFT(Translit.Translit(Service!E41),1))&TRIM(LEFT(Translit.Translit(Service!F41),1))),TRIM('Информация о пользователе'!F43))","v":"pusto"},{"$f":"IF('Информация о пользователе'!G43=\"\",TRIM(LEFT(Translit.Translit(Service!E41),2))&INDEX(Service!H41:H59,RANDBETWEEN(1,19),1)&RANDBETWEEN(1,9)&IF(Service!F41=\"\",TRIM(LEFT(Translit.Translit(Service!E41),3))&INDEX(Service!A41:A66,RANDBETWEEN(1,26),1),TRIM(LEFT(Translit.Translit(Service!F41),2))&INDEX(Service!H41:H59,RANDBETWEEN(1,19),1)&INDEX(Service!A41:A66,RANDBETWEEN(1,26),1)),'Информация о пользователе'!G43)","v":{"$error":"#NAME?"}}]
[{"$f":"TRIM(IF('Информация о пользователе'!A44=\"\",\"Пусто\",'Информация о пользователе'!A44))","v":"Пусто"},{"$f":"TRIM(IF('Информация о пользователе'!B44=\"\",\" \",'Информация о пользователе'!B44&\" \"&'Информация о пользователе'!C44))","v":""},{"$f":"TRIM(IF(AD!A43=\"\",\"\",AD!B43&\" \"&A43))","v":"Пусто"},{"$f":"TRIM(IF('Информация о пользователе'!D44=\"\",F43&\"@edu54.ru\",'Информация о пользователе'!D44))","v":"pusto@edu54.ru"},{"$f":"TRIM(IF('Информация о пользователе'!E44=\"\",\"\",'Информация о пользователе'!E44))","v":""},{"$f":"IF('Информация о пользователе'!F44=\"\",TRIM(Translit.Translit(A43)&TRIM(LEFT(Translit.Translit(Service!E42),1))&TRIM(LEFT(Translit.Translit(Service!F42),1))),TRIM('Информация о пользователе'!F44))","v":"pusto"},{"$f":"IF('Информация о пользователе'!G44=\"\",TRIM(LEFT(Translit.Translit(Service!E42),2))&INDEX(Service!H42:H60,RANDBETWEEN(1,19),1)&RANDBETWEEN(1,9)&IF(Service!F42=\"\",TRIM(LEFT(Translit.Translit(Service!E42),3))&INDEX(Service!A42:A67,RANDBETWEEN(1,26),1),TRIM(LEFT(Translit.Translit(Service!F42),2))&INDEX(Service!H42:H60,RANDBETWEEN(1,19),1)&INDEX(Service!A42:A67,RANDBETWEEN(1,26),1)),'Информация о пользователе'!G44)","v":{"$error":"#NAME?"}}]
[{"$f":"TRIM(IF('Информация о пользователе'!A45=\"\",\"Пусто\",'Информация о пользователе'!A45))","v":"Пусто"},{"$f":"TRIM(IF('Информация о пользователе'!B45=\"\",\" \",'Информация о пользователе'!B45&\" \"&'Информация о пользователе'!C45))","v":""},{"$f":"TRIM(IF(AD!A44=\"\",\"\",AD!B44&\" \"&A44))","v":"Пусто"},{"$f":"TRIM(IF('Информация о пользователе'!D45=\"\",F44&\"@edu54.ru\",'Информация о пользователе'!D45))","v":"pusto@edu54.ru"},{"$f":"TRIM(IF('Информация о пользователе'!E45=\"\",\"\",'Информация о пользователе'!E45))","v":""},{"$f":"IF('Информация о пользователе'!F45=\"\",TRIM(Translit.Translit(A44)&TRIM(LEFT(Translit.Translit(Service!E43),1))&TRIM(LEFT(Translit.Translit(Service!F43),1))),TRIM('Информация о пользователе'!F45))","v":"pusto"},{"$f":"IF('Информация о пользователе'!G45=\"\",TRIM(LEFT(Translit.Translit(Service!E43),2))&INDEX(Service!H43:H61,RANDBETWEEN(1,19),1)&RANDBETWEEN(1,9)&IF(Service!F43=\"\",TRIM(LEFT(Translit.Translit(Service!E43),3))&INDEX(Service!A43:A68,RANDBETWEEN(1,26),1),TRIM(LEFT(Translit.Translit(Service!F43),2))&INDEX(Service!H43:H61,RANDBETWEEN(1,19),1)&INDEX(Service!A43:A68,RANDBETWEEN(1,26),1)),'Информация о пользователе'!G45)","v":{"$error":"#NAME?"}}]
[{"$f":"TRIM(IF('Информация о пользователе'!A46=\"\",\"Пусто\",'Информация о пользователе'!A46))","v":"Пусто"},{"$f":"TRIM(IF('Информация о пользователе'!B46=\"\",\" \",'Информация о пользователе'!B46&\" \"&'Информация о пользователе'!C46))","v":""},{"$f":"TRIM(IF(AD!A45=\"\",\"\",AD!B45&\" \"&A45))","v":"Пусто"},{"$f":"TRIM(IF('Информация о пользователе'!D46=\"\",F45&\"@edu54.ru\",'Информация о пользователе'!D46))","v":"pusto@edu54.ru"},{"$f":"TRIM(IF('Информация о пользователе'!E46=\"\",\"\",'Информация о пользователе'!E46))","v":""},{"$f":"IF('Информация о пользователе'!F46=\"\",TRIM(Translit.Translit(A45)&TRIM(LEFT(Translit.Translit(Service!E44),1))&TRIM(LEFT(Translit.Translit(Service!F44),1))),TRIM('Информация о пользователе'!F46))","v":"pusto"},{"$f":"IF('Информация о пользователе'!G46=\"\",TRIM(LEFT(Translit.Translit(Service!E44),2))&INDEX(Service!H44:H62,RANDBETWEEN(1,19),1)&RANDBETWEEN(1,9)&IF(Service!F44=\"\",TRIM(LEFT(Translit.Translit(Service!E44),3))&INDEX(Service!A44:A69,RANDBETWEEN(1,26),1),TRIM(LEFT(Translit.Translit(Service!F44),2))&INDEX(Service!H44:H62,RANDBETWEEN(1,19),1)&INDEX(Service!A44:A69,RANDBETWEEN(1,26),1)),'Информация о пользователе'!G46)","v":{"$error":"#NAME?"}}]
[{"$f":"TRIM(IF('Информация о пользователе'!A47=\"\",\"Пусто\",'Информация о пользователе'!A47))","v":"Пусто"},{"$f":"TRIM(IF('Информация о пользователе'!B47=\"\",\" \",'Информация о пользователе'!B47&\" \"&'Информация о пользователе'!C47))","v":""},{"$f":"TRIM(IF(AD!A46=\"\",\"\",AD!B46&\" \"&A46))","v":"Пусто"},{"$f":"TRIM(IF('Информация о пользователе'!D47=\"\",F46&\"@edu54.ru\",'Информация о пользователе'!D47))","v":"pusto@edu54.ru"},{"$f":"TRIM(IF('Информация о пользователе'!E47=\"\",\"\",'Информация о пользователе'!E47))","v":""},{"$f":"IF('Информация о пользователе'!F47=\"\",TRIM(Translit.Translit(A46)&TRIM(LEFT(Translit.Translit(Service!E45),1))&TRIM(LEFT(Translit.Translit(Service!F45),1))),TRIM('Информация о пользователе'!F47))","v":"pusto"},{"$f":"IF('Информация о пользователе'!G47=\"\",TRIM(LEFT(Translit.Translit(Service!E45),2))&INDEX(Service!H45:H63,RANDBETWEEN(1,19),1)&RANDBETWEEN(1,9)&IF(Service!F45=\"\",TRIM(LEFT(Translit.Translit(Service!E45),3))&INDEX(Service!A45:A70,RANDBETWEEN(1,26),1),TRIM(LEFT(Translit.Translit(Service!F45),2))&INDEX(Service!H45:H63,RANDBETWEEN(1,19),1)&INDEX(Service!A45:A70,RANDBETWEEN(1,26),1)),'Информация о пользователе'!G47)","v":{"$error":"#NAME?"}}]
[{"$f":"TRIM(IF('Информация о пользователе'!A48=\"\",\"Пусто\",'Информация о пользователе'!A48))","v":"Пусто"},{"$f":"TRIM(IF('Информация о пользователе'!B48=\"\",\" \",'Информация о пользователе'!B48&\" \"&'Информация о пользователе'!C48))","v":""},{"$f":"TRIM(IF(AD!A47=\"\",\"\",AD!B47&\" \"&A47))","v":"Пусто"},{"$f":"TRIM(IF('Информация о пользователе'!D48=\"\",F47&\"@edu54.ru\",'Информация о пользователе'!D48))","v":"pusto@edu54.ru"},{"$f":"TRIM(IF('Информация о пользователе'!E48=\"\",\"\",'Информация о пользователе'!E48))","v":""},{"$f":"IF('Информация о пользователе'!F48=\"\",TRIM(Translit.Translit(A47)&TRIM(LEFT(Translit.Translit(Service!E46),1))&TRIM(LEFT(Translit.Translit(Service!F46),1))),TRIM('Информация о пользователе'!F48))","v":"pusto"},{"$f":"IF('Информация о пользователе'!G48=\"\",TRIM(LEFT(Translit.Translit(Service!E46),2))&INDEX(Service!H46:H64,RANDBETWEEN(1,19),1)&RANDBETWEEN(1,9)&IF(Service!F46=\"\",TRIM(LEFT(Translit.Translit(Service!E46),3))&INDEX(Service!A46:A71,RANDBETWEEN(1,26),1),TRIM(LEFT(Translit.Translit(Service!F46),2))&INDEX(Service!H46:H64,RANDBETWEEN(1,19),1)&INDEX(Service!A46:A71,RANDBETWEEN(1,26),1)),'Информация о пользователе'!G48)","v":{"$error":"#NAME?"}}]
[{"$f":"TRIM(IF('Информация о пользователе'!A49=\"\",\"Пусто\",'Информация о пользователе'!A49))","v":"Пусто"},{"$f":"TRIM(IF('Информация о пользователе'!B49=\"\",\" \",'Информация о пользователе'!B49&\" \"&'Информация о пользователе'!C49))","v":""},{"$f":"TRIM(IF(AD!A48=\"\",\"\",AD!B48&\" \"&A48))","v":"Пусто"},{"$f":"TRIM(IF('Информация о пользователе'!D49=\"\",F48&\"@edu54.ru\",'Информация о пользователе'!D49))","v":"pusto@edu54.ru"},{"$f":"TRIM(IF('Информация о пользователе'!E49=\"\",\"\",'Информация о пользователе'!E49))","v":""},{"$f":"IF('Информация о пользователе'!F49=\"\",TRIM(Translit.Translit(A48)&TRIM(LEFT(Translit.Translit(Service!E47),1))&TRIM(LEFT(Translit.Translit(Service!F47),1))),TRIM('Информация о пользователе'!F49))","v":"pusto"},{"$f":"IF('Информация о пользователе'!G49=\"\",TRIM(LEFT(Translit.Translit(Service!E47),2))&INDEX(Service!H47:H65,RANDBETWEEN(1,19),1)&RANDBETWEEN(1,9)&IF(Service!F47=\"\",TRIM(LEFT(Translit.Translit(Service!E47),3))&INDEX(Service!A47:A72,RANDBETWEEN(1,26),1),TRIM(LEFT(Translit.Translit(Service!F47),2))&INDEX(Service!H47:H65,RANDBETWEEN(1,19),1)&INDEX(Service!A47:A72,RANDBETWEEN(1,26),1)),'Информация о пользователе'!G49)","v":{"$error":"#NAME?"}}]
[{"$f":"TRIM(IF('Информация о пользователе'!A50=\"\",\"Пусто\",'Информация о пользователе'!A50))","v":"Пусто"},{"$f":"TRIM(IF('Информация о пользователе'!B50=\"\",\" \",'Информация о пользователе'!B50&\" \"&'Информация о пользователе'!C50))","v":""},{"$f":"TRIM(IF(AD!A49=\"\",\"\",AD!B49&\" \"&A49))","v":"Пусто"},{"$f":"TRIM(IF('Информация о пользователе'!D50=\"\",F49&\"@edu54.ru\",'Информация о пользователе'!D50))","v":"pusto@edu54.ru"},{"$f":"TRIM(IF('Информация о пользователе'!E50=\"\",\"\",'Информация о пользователе'!E50))","v":""},{"$f":"IF('Информация о пользователе'!F50=\"\",TRIM(Translit.Translit(A49)&TRIM(LEFT(Translit.Translit(Service!E48),1))&TRIM(LEFT(Translit.Translit(Service!F48),1))),TRIM('Информация о пользователе'!F50))","v":"pusto"},{"$f":"IF('Информация о пользователе'!G50=\"\",TRIM(LEFT(Translit.Translit(Service!E48),2))&INDEX(Service!H48:H66,RANDBETWEEN(1,19),1)&RANDBETWEEN(1,9)&IF(Service!F48=\"\",TRIM(LEFT(Translit.Translit(Service!E48),3))&INDEX(Service!A48:A73,RANDBETWEEN(1,26),1),TRIM(LEFT(Translit.Translit(Service!F48),2))&INDEX(Service!H48:H66,RANDBETWEEN(1,19),1)&INDEX(Service!A48:A73,RANDBETWEEN(1,26),1)),'Информация о пользователе'!G50)","v":{"$error":"#NAME?"}}]
[{"$f":"TRIM(IF('Информация о пользователе'!A51=\"\",\"Пусто\",'Информация о пользователе'!A51))","v":"Пусто"},{"$f":"TRIM(IF('Информация о пользователе'!B51=\"\",\" \",'Информация о пользователе'!B51&\" \"&'Информация о пользователе'!C51))","v":""},{"$f":"TRIM(IF(AD!A50=\"\",\"\",AD!B50&\" \"&A50))","v":"Пусто"},{"$f":"TRIM(IF('Информация о пользователе'!D51=\"\",F50&\"@edu54.ru\",'Информация о пользователе'!D51))","v":"pusto@edu54.ru"},{"$f":"TRIM(IF('Информация о пользователе'!E51=\"\",\"\",'Информация о пользователе'!E51))","v":""},{"$f":"IF('Информация о пользователе'!F51=\"\",TRIM(Translit.Translit(A50)&TRIM(LEFT(Translit.Translit(Service!E49),1))&TRIM(LEFT(Translit.Translit(Service!F49),1))),TRIM('Информация о пользователе'!F51))","v":"pusto"},{"$f":"IF('Информация о пользователе'!G51=\"\",TRIM(LEFT(Translit.Translit(Service!E49),2))&INDEX(Service!H49:H67,RANDBETWEEN(1,19),1)&RANDBETWEEN(1,9)&IF(Service!F49=\"\",TRIM(LEFT(Translit.Translit(Service!E49),3))&INDEX(Service!A49:A74,RANDBETWEEN(1,26),1),TRIM(LEFT(Translit.Translit(Service!F49),2))&INDEX(Service!H49:H67,RANDBETWEEN(1,19),1)&INDEX(Service!A49:A74,RANDBETWEEN(1,26),1)),'Информация о пользователе'!G51)","v":{"$error":"#NAME?"}}]
[{"$f":"TRIM(IF('Информация о пользователе'!A52=\"\",\"Пусто\",'Информация о пользователе'!A52))","v":"Пусто"},{"$f":"TRIM(IF('Информация о пользователе'!B52=\"\",\" \",'Информация о пользователе'!B52&\" \"&'Информация о пользователе'!C52))","v":""},{"$f":"TRIM(IF(AD!A51=\"\",\"\",AD!B51&\" \"&A51))","v":"Пусто"},{"$f":"TRIM(IF('Информация о пользователе'!D52=\"\",F51&\"@edu54.ru\",'Информация о пользователе'!D52))","v":"pusto@edu54.ru"},{"$f":"TRIM(IF('Информация о пользователе'!E52=\"\",\"\",'Информация о пользователе'!E52))","v":""},{"$f":"IF('Информация о пользователе'!F52=\"\",TRIM(Translit.Translit(A51)&TRIM(LEFT(Translit.Translit(Service!E50),1))&TRIM(LEFT(Translit.Translit(Service!F50),1))),TRIM('Информация о пользователе'!F52))","v":"pusto"},{"$f":"IF('Информация о пользователе'!G52=\"\",TRIM(LEFT(Translit.Translit(Service!E50),2))&INDEX(Service!H50:H68,RANDBETWEEN(1,19),1)&RANDBETWEEN(1,9)&IF(Service!F50=\"\",TRIM(LEFT(Translit.Translit(Service!E50),3))&INDEX(Service!A50:A75,RANDBETWEEN(1,26),1),TRIM(LEFT(Translit.Translit(Service!F50),2))&INDEX(Service!H50:H68,RANDBETWEEN(1,19),1)&INDEX(Service!A50:A75,RANDBETWEEN(1,26),1)),'Информация о пользователе'!G52)","v":{"$error":"#NAME?"}}]
[{"$f":"TRIM(IF('Информация о пользователе'!A53=\"\",\"Пусто\",'Информация о пользователе'!A53))","v":"Пусто"},{"$f":"TRIM(IF('Информация о пользователе'!B53=\"\",\" \",'Информация о пользователе'!B53&\" \"&'Информация о пользователе'!C53))","v":""},{"$f":"TRIM(IF(AD!A52=\"\",\"\",AD!B52&\" \"&A52))","v":"Пусто"},{"$f":"TRIM(IF('Информация о пользователе'!D53=\"\",F52&\"@edu54.ru\",'Информация о пользователе'!D53))","v":"pusto@edu54.ru"},{"$f":"TRIM(IF('Информация о пользователе'!E53=\"\",\"\",'Информация о пользователе'!E53))","v":""},{"$f":"IF('Информация о пользователе'!F53=\"\",TRIM(Translit.Translit(A52)&TRIM(LEFT(Translit.Translit(Service!E51),1))&TRIM(LEFT(Translit.Translit(Service!F51),1))),TRIM('Информация о пользователе'!F53))","v":"pusto"},{"$f":"IF('Информация о пользователе'!G53=\"\",TRIM(LEFT(Translit.Translit(Service!E51),2))&INDEX(Service!H51:H69,RANDBETWEEN(1,19),1)&RANDBETWEEN(1,9)&IF(Service!F51=\"\",TRIM(LEFT(Translit.Translit(Service!E51),3))&INDEX(Service!A51:A76,RANDBETWEEN(1,26),1),TRIM(LEFT(Translit.Translit(Service!F51),2))&INDEX(Service!H51:H69,RANDBETWEEN(1,19),1)&INDEX(Service!A51:A76,RANDBETWEEN(1,26),1)),'Информация о пользователе'!G53)","v":{"$error":"#NAME?"}}]
[{"$f":"TRIM(IF('Информация о пользователе'!A54=\"\",\"Пусто\",'Информация о пользователе'!A54))","v":"Пусто"},{"$f":"TRIM(IF('Информация о пользователе'!B54=\"\",\" \",'Информация о пользователе'!B54&\" \"&'Информация о пользователе'!C54))","v":""},{"$f":"TRIM(IF(AD!A53=\"\",\"\",AD!B53&\" \"&A53))","v":"Пусто"},{"$f":"TRIM(IF('Информация о пользователе'!D54=\"\",F53&\"@edu54.ru\",'Информация о пользователе'!D54))","v":"pusto@edu54.ru"},{"$f":"TRIM(IF('Информация о пользователе'!E54=\"\",\"\",'Информация о пользователе'!E54))","v":""},{"$f":"IF('Информация о пользователе'!F54=\"\",TRIM(Translit.Translit(A53)&TRIM(LEFT(Translit.Translit(Service!E52),1))&TRIM(LEFT(Translit.Translit(Service!F52),1))),TRIM('Информация о пользователе'!F54))","v":"pusto"},{"$f":"IF('Информация о пользователе'!G54=\"\",TRIM(LEFT(Translit.Translit(Service!E52),2))&INDEX(Service!H52:H70,RANDBETWEEN(1,19),1)&RANDBETWEEN(1,9)&IF(Service!F52=\"\",TRIM(LEFT(Translit.Translit(Service!E52),3))&INDEX(Service!A52:A77,RANDBETWEEN(1,26),1),TRIM(LEFT(Translit.Translit(Service!F52),2))&INDEX(Service!H52:H70,RANDBETWEEN(1,19),1)&INDEX(Service!A52:A77,RANDBETWEEN(1,26),1)),'Информация о пользователе'!G54)","v":{"$error":"#NAME?"}}]
[{"$f":"TRIM(IF('Информация о пользователе'!A55=\"\",\"Пусто\",'Информация о пользователе'!A55))","v":"Пусто"},{"$f":"TRIM(IF('Информация о пользователе'!B55=\"\",\" \",'Информация о пользователе'!B55&\" \"&'Информация о пользователе'!C55))","v":""},{"$f":"TRIM(IF(AD!A54=\"\",\"\",AD!B54&\" \"&A54))","v":"Пусто"},{"$f":"TRIM(IF('Информация о пользователе'!D55=\"\",F54&\"@edu54.ru\",'Информация о пользователе'!D55))","v":"pusto@edu54.ru"},{"$f":"TRIM(IF('Информация о пользователе'!E55=\"\",\"\",'Информация о пользователе'!E55))","v":""},{"$f":"IF('Информация о пользователе'!F55=\"\",TRIM(Translit.Translit(A54)&TRIM(LEFT(Translit.Translit(Service!E53),1))&TRIM(LEFT(Translit.Translit(Service!F53),1))),TRIM('Информация о пользователе'!F55))","v":"pusto"},{"$f":"IF('Информация о пользователе'!G55=\"\",TRIM(LEFT(Translit.Translit(Service!E53),2))&INDEX(Service!H53:H71,RANDBETWEEN(1,19),1)&RANDBETWEEN(1,9)&IF(Service!F53=\"\",TRIM(LEFT(Translit.Translit(Service!E53),3))&INDEX(Service!A53:A78,RANDBETWEEN(1,26),1),TRIM(LEFT(Translit.Translit(Service!F53),2))&INDEX(Service!H53:H71,RANDBETWEEN(1,19),1)&INDEX(Service!A53:A78,RANDBETWEEN(1,26),1)),'Информация о пользователе'!G55)","v":{"$error":"#NAME?"}}]
[{"$f":"TRIM(IF('Информация о пользователе'!A56=\"\",\"Пусто\",'Информация о пользователе'!A56))","v":"Пусто"},{"$f":"TRIM(IF('Информация о пользователе'!B56=\"\",\" \",'Информация о пользователе'!B56&\" \"&'Информация о пользователе'!C56))","v":""},{"$f":"TRIM(IF(AD!A55=\"\",\"\",AD!B55&\" \"&A55))","v":"Пусто"},{"$f":"TRIM(IF('Информация о пользователе'!D56=\"\",F55&\"@edu54.ru\",'Информация о пользователе'!D56))","v":"pusto@edu54.ru"},{"$f":"TRIM(IF('Информация о пользователе'!E56=\"\",\"\",'Информация о пользователе'!E56))","v":""},{"$f":"IF('Информация о пользователе'!F56=\"\",TRIM(Translit.Translit(A55)&TRIM(LEFT(Translit.Translit(Service!E54),1))&TRIM(LEFT(Translit.Translit(Service!F54),1))),TRIM('Информация о пользователе'!F56))","v":"pusto"},{"$f":"IF('Информация о пользователе'!G56=\"\",TRIM(LEFT(Translit.Translit(Service!E54),2))&INDEX(Service!H54:H72,RANDBETWEEN(1,19),1)&RANDBETWEEN(1,9)&IF(Service!F54=\"\",TRIM(LEFT(Translit.Translit(Service!E54),3))&INDEX(Service!A54:A79,RANDBETWEEN(1,26),1),TRIM(LEFT(Translit.Translit(Service!F54),2))&INDEX(Service!H54:H72,RANDBETWEEN(1,19),1)&INDEX(Service!A54:A79,RANDBETWEEN(1,26),1)),'Информация о пользователе'!G56)","v":{"$error":"#NAME?"}}]
[{"$f":"TRIM(IF('Информация о пользователе'!A57=\"\",\"Пусто\",'Информация о пользователе'!A57))","v":"Пусто"},{"$f":"TRIM(IF('Информация о пользователе'!B57=\"\",\" \",'Информация о пользователе'!B57&\" \"&'Информация о пользователе'!C57))","v":""},{"$f":"TRIM(IF(AD!A56=\"\",\"\",AD!B56&\" \"&A56))","v":"Пусто"},{"$f":"TRIM(IF('Информация о пользователе'!D57=\"\",F56&\"@edu54.ru\",'Информация о пользователе'!D57))","v":"pusto@edu54.ru"},{"$f":"TRIM(IF('Информация о пользователе'!E57=\"\",\"\",'Информация о пользователе'!E57))","v":""},{"$f":"IF('Информация о пользователе'!F57=\"\",TRIM(Translit.Translit(A56)&TRIM(LEFT(Translit.Translit(Service!E55),1))&TRIM(LEFT(Translit.Translit(Service!F55),1))),TRIM('Информация о пользователе'!F57))","v":"pusto"},{"$f":"IF('Информация о пользователе'!G57=\"\",TRIM(LEFT(Translit.Translit(Service!E55),2))&INDEX(Service!H55:H73,RANDBETWEEN(1,19),1)&RANDBETWEEN(1,9)&IF(Service!F55=\"\",TRIM(LEFT(Translit.Translit(Service!E55),3))&INDEX(Service!A55:A80,RANDBETWEEN(1,26),1),TRIM(LEFT(Translit.Translit(Service!F55),2))&INDEX(Service!H55:H73,RANDBETWEEN(1,19),1)&INDEX(Service!A55:A80,RANDBETWEEN(1,26),1)),'Информация о пользователе'!G57)","v":{"$error":"#NAME?"}}]
[{"$f":"TRIM(IF('Информация о пользователе'!A58=\"\",\"Пусто\",'Информация о пользователе'!A58))","v":"Пусто"},{"$f":"TRIM(IF('Информация о пользователе'!B58=\"\",\" \",'Информация о пользователе'!B58&\" \"&'Информация о пользователе'!C58))","v":""},{"$f":"TRIM(IF(AD!A57=\"\",\"\",AD!B57&\" \"&A57))","v":"Пусто"},{"$f":"TRIM(IF('Информация о пользователе'!D58=\"\",F57&\"@edu54.ru\",'Информация о пользователе'!D58))","v":"pusto@edu54.ru"},{"$f":"TRIM(IF('Информация о пользователе'!E58=\"\",\"\",'Информация о пользователе'!E58))","v":""},{"$f":"IF('Информация о пользователе'!F58=\"\",TRIM(Translit.Translit(A57)&TRIM(LEFT(Translit.Translit(Service!E56),1))&TRIM(LEFT(Translit.Translit(Service!F56),1))),TRIM('Информация о пользователе'!F58))","v":"pusto"},{"$f":"IF('Информация о пользователе'!G58=\"\",TRIM(LEFT(Translit.Translit(Service!E56),2))&INDEX(Service!H56:H74,RANDBETWEEN(1,19),1)&RANDBETWEEN(1,9)&IF(Service!F56=\"\",TRIM(LEFT(Translit.Translit(Service!E56),3))&INDEX(Service!A56:A81,RANDBETWEEN(1,26),1),TRIM(LEFT(Translit.Translit(Service!F56),2))&INDEX(Service!H56:H74,RANDBETWEEN(1,19),1)&INDEX(Service!A56:A81,RANDBETWEEN(1,26),1)),'Информация о пользователе'!G58)","v":{"$error":"#NAME?"}}]
[{"$f":"TRIM(IF('Информация о пользователе'!A59=\"\",\"Пусто\",'Информация о пользователе'!A59))","v":"Пусто"},{"$f":"TRIM(IF('Информация о пользователе'!B59=\"\",\" \",'Информация о пользователе'!B59&\" \"&'Информация о пользователе'!C59))","v":""},{"$f":"TRIM(IF(AD!A58=\"\",\"\",AD!B58&\" \"&A58))","v":"Пусто"},{"$f":"TRIM(IF('Информация о пользователе'!D59=\"\",F58&\"@edu54.ru\",'Информация о пользователе'!D59))","v":"pusto@edu54.ru"},{"$f":"TRIM(IF('Информация о пользователе'!E59=\"\",\"\",'Информация о пользователе'!E59))","v":""},{"$f":"IF('Информация о пользователе'!F59=\"\",TRIM(Translit.Translit(A58)&TRIM(LEFT(Translit.Translit(Service!E57),1))&TRIM(LEFT(Translit.Translit(Service!F57),1))),TRIM('Информация о пользователе'!F59))","v":"pusto"},{"$f":"IF('Информация о пользователе'!G59=\"\",TRIM(LEFT(Translit.Translit(Service!E57),2))&INDEX(Service!H57:H75,RANDBETWEEN(1,19),1)&RANDBETWEEN(1,9)&IF(Service!F57=\"\",TRIM(LEFT(Translit.Translit(Service!E57),3))&INDEX(Service!A57:A82,RANDBETWEEN(1,26),1),TRIM(LEFT(Translit.Translit(Service!F57),2))&INDEX(Service!H57:H75,RANDBETWEEN(1,19),1)&INDEX(Service!A57:A82,RANDBETWEEN(1,26),1)),'Информация о пользователе'!G59)","v":{"$error":"#NAME?"}}]
[{"$f":"TRIM(IF('Информация о пользователе'!A60=\"\",\"Пусто\",'Информация о пользователе'!A60))","v":"Пусто"},{"$f":"TRIM(IF('Информация о пользователе'!B60=\"\",\" \",'Информация о пользователе'!B60&\" \"&'Информация о пользователе'!C60))","v":""},{"$f":"TRIM(IF(AD!A59=\"\",\"\",AD!B59&\" \"&A59))","v":"Пусто"},{"$f":"TRIM(IF('Информация о пользователе'!D60=\"\",F59&\"@edu54.ru\",'Информация о пользователе'!D60))","v":"pusto@edu54.ru"},{"$f":"TRIM(IF('Информация о пользователе'!E60=\"\",\"\",'Информация о пользователе'!E60))","v":""},{"$f":"IF('Информация о пользователе'!F60=\"\",TRIM(Translit.Translit(A59)&TRIM(LEFT(Translit.Translit(Service!E58),1))&TRIM(LEFT(Translit.Translit(Service!F58),1))),TRIM('Информация о пользователе'!F60))","v":"pusto"},{"$f":"IF('Информация о пользователе'!G60=\"\",TRIM(LEFT(Translit.Translit(Service!E58),2))&INDEX(Service!H58:H76,RANDBETWEEN(1,19),1)&RANDBETWEEN(1,9)&IF(Service!F58=\"\",TRIM(LEFT(Translit.Translit(Service!E58),3))&INDEX(Service!A58:A83,RANDBETWEEN(1,26),1),TRIM(LEFT(Translit.Translit(Service!F58),2))&INDEX(Service!H58:H76,RANDBETWEEN(1,19),1)&INDEX(Service!A58:A83,RANDBETWEEN(1,26),1)),'Информация о пользователе'!G60)","v":{"$error":"#NAME?"}}]
[{"$f":"TRIM(IF('Информация о пользователе'!A61=\"\",\"Пусто\",'Информация о пользователе'!A61))","v":"Пусто"},{"$f":"TRIM(IF('Информация о пользователе'!B61=\"\",\" \",'Информация о пользователе'!B61&\" \"&'Информация о пользователе'!C61))","v":""},{"$f":"TRIM(IF(AD!A60=\"\",\"\",AD!B60&\" \"&A60))","v":"Пусто"},{"$f":"TRIM(IF('Информация о пользователе'!D61=\"\",F60&\"@edu54.ru\",'Информация о пользователе'!D61))","v":"pusto@edu54.ru"},{"$f":"TRIM(IF('Информация о пользователе'!E61=\"\",\"\",'Информация о пользователе'!E61))","v":""},{"$f":"IF('Информация о пользователе'!F61=\"\",TRIM(Translit.Translit(A60)&TRIM(LEFT(Translit.Translit(Service!E59),1))&TRIM(LEFT(Translit.Translit(Service!F59),1))),TRIM('Информация о пользователе'!F61))","v":"pusto"},{"$f":"IF('Информация о пользователе'!G61=\"\",TRIM(LEFT(Translit.Translit(Service!E59),2))&INDEX(Service!H59:H77,RANDBETWEEN(1,19),1)&RANDBETWEEN(1,9)&IF(Service!F59=\"\",TRIM(LEFT(Translit.Translit(Service!E59),3))&INDEX(Service!A59:A84,RANDBETWEEN(1,26),1),TRIM(LEFT(Translit.Translit(Service!F59),2))&INDEX(Service!H59:H77,RANDBETWEEN(1,19),1)&INDEX(Service!A59:A84,RANDBETWEEN(1,26),1)),'Информация о пользователе'!G61)","v":{"$error":"#NAME?"}}]
[{"$f":"TRIM(IF('Информация о пользователе'!A62=\"\",\"Пусто\",'Информация о пользователе'!A62))","v":"Пусто"},{"$f":"TRIM(IF('Информация о пользователе'!B62=\"\",\" \",'Информация о пользователе'!B62&\" \"&'Информация о пользователе'!C62))","v":""},{"$f":"TRIM(IF(AD!A61=\"\",\"\",AD!B61&\" \"&A61))","v":"Пусто"},{"$f":"TRIM(IF('Информация о пользователе'!D62=\"\",F61&\"@edu54.ru\",'Информация о пользователе'!D62))","v":"pusto@edu54.ru"},{"$f":"TRIM(IF('Информация о пользователе'!E62=\"\",\"\",'Информация о пользователе'!E62))","v":""},{"$f":"IF('Информация о пользователе'!F62=\"\",TRIM(Translit.Translit(A61)&TRIM(LEFT(Translit.Translit(Service!E60),1))&TRIM(LEFT(Translit.Translit(Service!F60),1))),TRIM('Информация о пользователе'!F62))","v":"pusto"},{"$f":"IF('Информация о пользователе'!G62=\"\",TRIM(LEFT(Translit.Translit(Service!E60),2))&INDEX(Service!H60:H78,RANDBETWEEN(1,19),1)&RANDBETWEEN(1,9)&IF(Service!F60=\"\",TRIM(LEFT(Translit.Translit(Service!E60),3))&INDEX(Service!A60:A85,RANDBETWEEN(1,26),1),TRIM(LEFT(Translit.Translit(Service!F60),2))&INDEX(Service!H60:H78,RANDBETWEEN(1,19),1)&INDEX(Service!A60:A85,RANDBETWEEN(1,26),1)),'Информация о пользователе'!G62)","v":{"$error":"#NAME?"}}]
[{"$f":"TRIM(IF('Информация о пользователе'!A63=\"\",\"Пусто\",'Информация о пользователе'!A63))","v":"Пусто"},{"$f":"TRIM(IF('Информация о пользователе'!B63=\"\",\" \",'Информация о пользователе'!B63&\" \"&'Информация о пользователе'!C63))","v":""},{"$f":"TRIM(IF(AD!A62=\"\",\"\",AD!B62&\" \"&A62))","v":"Пусто"},{"$f":"TRIM(IF('Информация о пользователе'!D63=\"\",F62&\"@edu54.ru\",'Информация о пользователе'!D63))","v":"pusto@edu54.ru"},{"$f":"TRIM(IF('Информация о пользователе'!E63=\"\",\"\",'Информация о пользователе'!E63))","v":""},{"$f":"IF('Информация о пользователе'!F63=\"\",TRIM(Translit.Translit(A62)&TRIM(LEFT(Translit.Translit(Service!E61),1))&TRIM(LEFT(Translit.Translit(Service!F61),1))),TRIM('Информация о пользователе'!F63))","v":"pusto"},{"$f":"IF('Информация о пользователе'!G63=\"\",TRIM(LEFT(Translit.Translit(Service!E61),2))&INDEX(Service!H61:H79,RANDBETWEEN(1,19),1)&RANDBETWEEN(1,9)&IF(Service!F61=\"\",TRIM(LEFT(Translit.Translit(Service!E61),3))&INDEX(Service!A61:A86,RANDBETWEEN(1,26),1),TRIM(LEFT(Translit.Translit(Service!F61),2))&INDEX(Service!H61:H79,RANDBETWEEN(1,19),1)&INDEX(Service!A61:A86,RANDBETWEEN(1,26),1)),'Информация о пользователе'!G63)","v":{"$error":"#NAME?"}}]
[{"$f":"TRIM(IF('Информация о пользователе'!A64=\"\",\"Пусто\",'Информация о пользователе'!A64))","v":"Пусто"},{"$f":"TRIM(IF('Информация о пользователе'!B64=\"\",\" \",'Информация о пользователе'!B64&\" \"&'Информация о пользователе'!C64))","v":""},{"$f":"TRIM(IF(AD!A63=\"\",\"\",AD!B63&\" \"&A63))","v":"Пусто"},{"$f":"TRIM(IF('Информация о пользователе'!D64=\"\",F63&\"@edu54.ru\",'Информация о пользователе'!D64))","v":"pusto@edu54.ru"},{"$f":"TRIM(IF('Информация о пользователе'!E64=\"\",\"\",'Информация о пользователе'!E64))","v":""},{"$f":"IF('Информация о пользователе'!F64=\"\",TRIM(Translit.Translit(A63)&TRIM(LEFT(Translit.Translit(Service!E62),1))&TRIM(LEFT(Translit.Translit(Service!F62),1))),TRIM('Информация о пользователе'!F64))","v":"pusto"},{"$f":"IF('Информация о пользователе'!G64=\"\",TRIM(LEFT(Translit.Translit(Service!E62),2))&INDEX(Service!H62:H80,RANDBETWEEN(1,19),1)&RANDBETWEEN(1,9)&IF(Service!F62=\"\",TRIM(LEFT(Translit.Translit(Service!E62),3))&INDEX(Service!A62:A87,RANDBETWEEN(1,26),1),TRIM(LEFT(Translit.Translit(Service!F62),2))&INDEX(Service!H62:H80,RANDBETWEEN(1,19),1)&INDEX(Service!A62:A87,RANDBETWEEN(1,26),1)),'Информация о пользователе'!G64)","v":{"$error":"#NAME?"}}]
[{"$f":"TRIM(IF('Информация о пользователе'!A65=\"\",\"Пусто\",'Информация о пользователе'!A65))","v":"Пусто"},{"$f":"TRIM(IF('Информация о пользователе'!B65=\"\",\" \",'Информация о пользователе'!B65&\" \"&'Информация о пользователе'!C65))","v":""},{"$f":"TRIM(IF(AD!A64=\"\",\"\",AD!B64&\" \"&A64))","v":"Пусто"},{"$f":"TRIM(IF('Информация о пользователе'!D65=\"\",F64&\"@edu54.ru\",'Информация о пользователе'!D65))","v":"pusto@edu54.ru"},{"$f":"TRIM(IF('Информация о пользователе'!E65=\"\",\"\",'Информация о пользователе'!E65))","v":""},{"$f":"IF('Информация о пользователе'!F65=\"\",TRIM(Translit.Translit(A64)&TRIM(LEFT(Translit.Translit(Service!E63),1))&TRIM(LEFT(Translit.Translit(Service!F63),1))),TRIM('Информация о пользователе'!F65))","v":"pusto"},{"$f":"IF('Информация о пользователе'!G65=\"\",TRIM(LEFT(Translit.Translit(Service!E63),2))&INDEX(Service!H63:H81,RANDBETWEEN(1,19),1)&RANDBETWEEN(1,9)&IF(Service!F63=\"\",TRIM(LEFT(Translit.Translit(Service!E63),3))&INDEX(Service!A63:A88,RANDBETWEEN(1,26),1),TRIM(LEFT(Translit.Translit(Service!F63),2))&INDEX(Service!H63:H81,RANDBETWEEN(1,19),1)&INDEX(Service!A63:A88,RANDBETWEEN(1,26),1)),'Информация о пользователе'!G65)","v":{"$error":"#NAME?"}}]
[{"$f":"TRIM(IF('Информация о пользователе'!A66=\"\",\"Пусто\",'Информация о пользователе'!A66))","v":"Пусто"},{"$f":"TRIM(IF('Информация о пользователе'!B66=\"\",\" \",'Информация о пользователе'!B66&\" \"&'Информация о пользователе'!C66))","v":""},{"$f":"TRIM(IF(AD!A65=\"\",\"\",AD!B65&\" \"&A65))","v":"Пусто"},{"$f":"TRIM(IF('Информация о пользователе'!D66=\"\",F65&\"@edu54.ru\",'Информация о пользователе'!D66))","v":"pusto@edu54.ru"},{"$f":"TRIM(IF('Информация о пользователе'!E66=\"\",\"\",'Информация о пользователе'!E66))","v":""},{"$f":"IF('Информация о пользователе'!F66=\"\",TRIM(Translit.Translit(A65)&TRIM(LEFT(Translit.Translit(Service!E64),1))&TRIM(LEFT(Translit.Translit(Service!F64),1))),TRIM('Информация о пользователе'!F66))","v":"pusto"},{"$f":"IF('Информация о пользователе'!G66=\"\",TRIM(LEFT(Translit.Translit(Service!E64),2))&INDEX(Service!H64:H82,RANDBETWEEN(1,19),1)&RANDBETWEEN(1,9)&IF(Service!F64=\"\",TRIM(LEFT(Translit.Translit(Service!E64),3))&INDEX(Service!A64:A89,RANDBETWEEN(1,26),1),TRIM(LEFT(Translit.Translit(Service!F64),2))&INDEX(Service!H64:H82,RANDBETWEEN(1,19),1)&INDEX(Service!A64:A89,RANDBETWEEN(1,26),1)),'Информация о пользователе'!G66)","v":{"$error":"#NAME?"}}]
[{"$f":"TRIM(IF('Информация о пользователе'!A67=\"\",\"Пусто\",'Информация о пользователе'!A67))","v":"Пусто"},{"$f":"TRIM(IF('Информация о пользователе'!B67=\"\",\" \",'Информация о пользователе'!B67&\" \"&'Информация о пользователе'!C67))","v":""},{"$f":"TRIM(IF(AD!A66=\"\",\"\",AD!B66&\" \"&A66))","v":"Пусто"},{"$f":"TRIM(IF('Информация о пользователе'!D67=\"\",F66&\"@edu54.ru\",'Информация о пользователе'!D67))","v":"pusto@edu54.ru"},{"$f":"TRIM(IF('Информация о пользователе'!E67=\"\",\"\",'Информация о пользователе'!E67))","v":""},{"$f":"IF('Информация о пользователе'!F67=\"\",TRIM(Translit.Translit(A66)&TRIM(LEFT(Translit.Translit(Service!E65),1))&TRIM(LEFT(Translit.Translit(Service!F65),1))),TRIM('Информация о пользователе'!F67))","v":"pusto"},{"$f":"IF('Информация о пользователе'!G67=\"\",TRIM(LEFT(Translit.Translit(Service!E65),2))&INDEX(Service!H65:H83,RANDBETWEEN(1,19),1)&RANDBETWEEN(1,9)&IF(Service!F65=\"\",TRIM(LEFT(Translit.Translit(Service!E65),3))&INDEX(Service!A65:A90,RANDBETWEEN(1,26),1),TRIM(LEFT(Translit.Translit(Service!F65),2))&INDEX(Service!H65:H83,RANDBETWEEN(1,19),1)&INDEX(Service!A65:A90,RANDBETWEEN(1,26),1)),'Информация о пользователе'!G67)","v":{"$error":"#NAME?"}}]
[{"$f":"TRIM(IF('Информация о пользователе'!A68=\"\",\"Пусто\",'Информация о пользователе'!A68))","v":"Пусто"},{"$f":"TRIM(IF('Информация о пользователе'!B68=\"\",\" \",'Информация о пользователе'!B68&\" \"&'Информация о пользователе'!C68))","v":""},{"$f":"TRIM(IF(AD!A67=\"\",\"\",AD!B67&\" \"&A67))","v":"Пусто"},{"$f":"TRIM(IF('Информация о пользователе'!D68=\"\",F67&\"@edu54.ru\",'Информация о пользователе'!D68))","v":"pusto@edu54.ru"},{"$f":"TRIM(IF('Информация о пользователе'!E68=\"\",\"\",'Информация о пользователе'!E68))","v":""},{"$f":"IF('Информация о пользователе'!F68=\"\",TRIM(Translit.Translit(A67)&TRIM(LEFT(Translit.Translit(Service!E66),1))&TRIM(LEFT(Translit.Translit(Service!F66),1))),TRIM('Информация о пользователе'!F68))","v":"pusto"},{"$f":"IF('Информация о пользователе'!G68=\"\",TRIM(LEFT(Translit.Translit(Service!E66),2))&INDEX(Service!H66:H84,RANDBETWEEN(1,19),1)&RANDBETWEEN(1,9)&IF(Service!F66=\"\",TRIM(LEFT(Translit.Translit(Service!E66),3))&INDEX(Service!A66:A91,RANDBETWEEN(1,26),1),TRIM(LEFT(Translit.Translit(Service!F66),2))&INDEX(Service!H66:H84,RANDBETWEEN(1,19),1)&INDEX(Service!A66:A91,RANDBETWEEN(1,26),1)),'Информация о пользователе'!G68)","v":{"$error":"#NAME?"}}]
[{"$f":"TRIM(IF('Информация о пользователе'!A69=\"\",\"Пусто\",'Информация о пользователе'!A69))","v":"Пусто"},{"$f":"TRIM(IF('Информация о пользователе'!B69=\"\",\" \",'Информация о пользователе'!B69&\" \"&'Информация о пользователе'!C69))","v":""},{"$f":"TRIM(IF(AD!A68=\"\",\"\",AD!B68&\" \"&A68))","v":"Пусто"},{"$f":"TRIM(IF('Информация о пользователе'!D69=\"\",F68&\"@edu54.ru\",'Информация о пользователе'!D69))","v":"pusto@edu54.ru"},{"$f":"TRIM(IF('Информация о пользователе'!E69=\"\",\"\",'Информация о пользователе'!E69))","v":""},{"$f":"IF('Информация о пользователе'!F69=\"\",TRIM(Translit.Translit(A68)&TRIM(LEFT(Translit.Translit(Service!E67),1))&TRIM(LEFT(Translit.Translit(Service!F67),1))),TRIM('Информация о пользователе'!F69))","v":"pusto"},{"$f":"IF('Информация о пользователе'!G69=\"\",TRIM(LEFT(Translit.Translit(Service!E67),2))&INDEX(Service!H67:H85,RANDBETWEEN(1,19),1)&RANDBETWEEN(1,9)&IF(Service!F67=\"\",TRIM(LEFT(Translit.Translit(Service!E67),3))&INDEX(Service!A67:A92,RANDBETWEEN(1,26),1),TRIM(LEFT(Translit.Translit(Service!F67),2))&INDEX(Service!H67:H85,RANDBETWEEN(1,19),1)&INDEX(Service!A67:A92,RANDBETWEEN(1,26),1)),'Информация о пользователе'!G69)","v":{"$error":"#NAME?"}}]
[{"$f":"TRIM(IF('Информация о пользователе'!A70=\"\",\"Пусто\",'Информация о пользователе'!A70))","v":"Пусто"},{"$f":"TRIM(IF('Информация о пользователе'!B70=\"\",\" \",'Информация о пользователе'!B70&\" \"&'Информация о пользователе'!C70))","v":""},{"$f":"TRIM(IF(AD!A69=\"\",\"\",AD!B69&\" \"&A69))","v":"Пусто"},{"$f":"TRIM(IF('Информация о пользователе'!D70=\"\",F69&\"@edu54.ru\",'Информация о пользователе'!D70))","v":"pusto@edu54.ru"},{"$f":"TRIM(IF('Информация о пользователе'!E70=\"\",\"\",'Информация о пользователе'!E70))","v":""},{"$f":"IF('Информация о пользователе'!F70=\"\",TRIM(Translit.Translit(A69)&TRIM(LEFT(Translit.Translit(Service!E68),1))&TRIM(LEFT(Translit.Translit(Service!F68),1))),TRIM('Информация о пользователе'!F70))","v":"pusto"},{"$f":"IF('Информация о пользователе'!G70=\"\",TRIM(LEFT(Translit.Translit(Service!E68),2))&INDEX(Service!H68:H86,RANDBETWEEN(1,19),1)&RANDBETWEEN(1,9)&IF(Service!F68=\"\",TRIM(LEFT(Translit.Translit(Service!E68),3))&INDEX(Service!A68:A93,RANDBETWEEN(1,26),1),TRIM(LEFT(Translit.Translit(Service!F68),2))&INDEX(Service!H68:H86,RANDBETWEEN(1,19),1)&INDEX(Service!A68:A93,RANDBETWEEN(1,26),1)),'Информация о пользователе'!G70)","v":{"$error":"#NAME?"}}]
[{"$f":"TRIM(IF('Информация о пользователе'!A71=\"\",\"Пусто\",'Информация о пользователе'!A71))","v":"Пусто"},{"$f":"TRIM(IF('Информация о пользователе'!B71=\"\",\" \",'Информация о пользователе'!B71&\" \"&'Информация о пользователе'!C71))","v":""},{"$f":"TRIM(IF(AD!A70=\"\",\"\",AD!B70&\" \"&A70))","v":"Пусто"},{"$f":"TRIM(IF('Информация о пользователе'!D71=\"\",F70&\"@edu54.ru\",'Информация о пользователе'!D71))","v":"pusto@edu54.ru"},{"$f":"TRIM(IF('Информация о пользователе'!E71=\"\",\"\",'Информация о пользователе'!E71))","v":""},{"$f":"IF('Информация о пользователе'!F71=\"\",TRIM(Translit.Translit(A70)&TRIM(LEFT(Translit.Translit(Service!E69),1))&TRIM(LEFT(Translit.Translit(Service!F69),1))),TRIM('Информация о пользователе'!F71))","v":"pusto"},{"$f":"IF('Информация о пользователе'!G71=\"\",TRIM(LEFT(Translit.Translit(Service!E69),2))&INDEX(Service!H69:H87,RANDBETWEEN(1,19),1)&RANDBETWEEN(1,9)&IF(Service!F69=\"\",TRIM(LEFT(Translit.Translit(Service!E69),3))&INDEX(Service!A69:A94,RANDBETWEEN(1,26),1),TRIM(LEFT(Translit.Translit(Service!F69),2))&INDEX(Service!H69:H87,RANDBETWEEN(1,19),1)&INDEX(Service!A69:A94,RANDBETWEEN(1,26),1)),'Информация о пользователе'!G71)","v":{"$error":"#NAME?"}}]
[{"$f":"TRIM(IF('Информация о пользователе'!A72=\"\",\"Пусто\",'Информация о пользователе'!A72))","v":"Пусто"},{"$f":"TRIM(IF('Информация о пользователе'!B72=\"\",\" \",'Информация о пользователе'!B72&\" \"&'Информация о пользователе'!C72))","v":""},{"$f":"TRIM(IF(AD!A71=\"\",\"\",AD!B71&\" \"&A71))","v":"Пусто"},{"$f":"TRIM(IF('Информация о пользователе'!D72=\"\",F71&\"@edu54.ru\",'Информация о пользователе'!D72))","v":"pusto@edu54.ru"},{"$f":"TRIM(IF('Информация о пользователе'!E72=\"\",\"\",'Информация о пользователе'!E72))","v":""},{"$f":"IF('Информация о пользователе'!F72=\"\",TRIM(Translit.Translit(A71)&TRIM(LEFT(Translit.Translit(Service!E70),1))&TRIM(LEFT(Translit.Translit(Service!F70),1))),TRIM('Информация о пользователе'!F72))","v":"pusto"},{"$f":"IF('Информация о пользователе'!G72=\"\",TRIM(LEFT(Translit.Translit(Service!E70),2))&INDEX(Service!H70:H88,RANDBETWEEN(1,19),1)&RANDBETWEEN(1,9)&IF(Service!F70=\"\",TRIM(LEFT(Translit.Translit(Service!E70),3))&INDEX(Service!A70:A95,RANDBETWEEN(1,26),1),TRIM(LEFT(Translit.Translit(Service!F70),2))&INDEX(Service!H70:H88,RANDBETWEEN(1,19),1)&INDEX(Service!A70:A95,RANDBETWEEN(1,26),1)),'Информация о пользователе'!G72)","v":{"$error":"#NAME?"}}]
[{"$f":"TRIM(IF('Информация о пользователе'!A73=\"\",\"Пусто\",'Информация о пользователе'!A73))","v":"Пусто"},{"$f":"TRIM(IF('Информация о пользователе'!B73=\"\",\" \",'Информация о пользователе'!B73&\" \"&'Информация о пользователе'!C73))","v":""},{"$f":"TRIM(IF(AD!A72=\"\",\"\",AD!B72&\" \"&A72))","v":"Пусто"},{"$f":"TRIM(IF('Информация о пользователе'!D73=\"\",F72&\"@edu54.ru\",'Информация о пользователе'!D73))","v":"pusto@edu54.ru"},{"$f":"TRIM(IF('Информация о пользователе'!E73=\"\",\"\",'Информация о пользователе'!E73))","v":""},{"$f":"IF('Информация о пользователе'!F73=\"\",TRIM(Translit.Translit(A72)&TRIM(LEFT(Translit.Translit(Service!E71),1))&TRIM(LEFT(Translit.Translit(Service!F71),1))),TRIM('Информация о пользователе'!F73))","v":"pusto"},{"$f":"IF('Информация о пользователе'!G73=\"\",TRIM(LEFT(Translit.Translit(Service!E71),2))&INDEX(Service!H71:H89,RANDBETWEEN(1,19),1)&RANDBETWEEN(1,9)&IF(Service!F71=\"\",TRIM(LEFT(Translit.Translit(Service!E71),3))&INDEX(Service!A71:A96,RANDBETWEEN(1,26),1),TRIM(LEFT(Translit.Translit(Service!F71),2))&INDEX(Service!H71:H89,RANDBETWEEN(1,19),1)&INDEX(Service!A71:A96,RANDBETWEEN(1,26),1)),'Информация о пользователе'!G73)","v":{"$error":"#NAME?"}}]
[{"$f":"TRIM(IF('Информация о пользователе'!A74=\"\",\"Пусто\",'Информация о пользователе'!A74))","v":"Пусто"},{"$f":"TRIM(IF('Информация о пользователе'!B74=\"\",\" \",'Информация о пользователе'!B74&\" \"&'Информация о пользователе'!C74))","v":""},{"$f":"TRIM(IF(AD!A73=\"\",\"\",AD!B73&\" \"&A73))","v":"Пусто"},{"$f":"TRIM(IF('Информация о пользователе'!D74=\"\",F73&\"@edu54.ru\",'Информация о пользователе'!D74))","v":"pusto@edu54.ru"},{"$f":"TRIM(IF('Информация о пользователе'!E74=\"\",\"\",'Информация о пользователе'!E74))","v":""},{"$f":"IF('Информация о пользователе'!F74=\"\",TRIM(Translit.Translit(A73)&TRIM(LEFT(Translit.Translit(Service!E72),1))&TRIM(LEFT(Translit.Translit(Service!F72),1))),TRIM('Информация о пользователе'!F74))","v":"pusto"},{"$f":"IF('Информация о пользователе'!G74=\"\",TRIM(LEFT(Translit.Translit(Service!E72),2))&INDEX(Service!H72:H90,RANDBETWEEN(1,19),1)&RANDBETWEEN(1,9)&IF(Service!F72=\"\",TRIM(LEFT(Translit.Translit(Service!E72),3))&INDEX(Service!A72:A97,RANDBETWEEN(1,26),1),TRIM(LEFT(Translit.Translit(Service!F72),2))&INDEX(Service!H72:H90,RANDBETWEEN(1,19),1)&INDEX(Service!A72:A97,RANDBETWEEN(1,26),1)),'Информация о пользователе'!G74)","v":{"$error":"#NAME?"}}]
[{"$f":"TRIM(IF('Информация о пользователе'!A75=\"\",\"Пусто\",'Информация о пользователе'!A75))","v":"Пусто"},{"$f":"TRIM(IF('Информация о пользователе'!B75=\"\",\" \",'Информация о пользователе'!B75&\" \"&'Информация о пользователе'!C75))","v":""},{"$f":"TRIM(IF(AD!A74=\"\",\"\",AD!B74&\" \"&A74))","v":"Пусто"},{"$f":"TRIM(IF('Информация о пользователе'!D75=\"\",F74&\"@edu54.ru\",'Информация о пользователе'!D75))","v":"pusto@edu54.ru"},{"$f":"TRIM(IF('Информация о пользователе'!E75=\"\",\"\",'Информация о пользователе'!E75))","v":""},{"$f":"IF('Информация о пользователе'!F75=\"\",TRIM(Translit.Translit(A74)&TRIM(LEFT(Translit.Translit(Service!E73),1))&TRIM(LEFT(Translit.Translit(Service!F73),1))),TRIM('Информация о пользователе'!F75))","v":"pusto"},{"$f":"IF('Информация о пользователе'!G75=\"\",TRIM(LEFT(Translit.Translit(Service!E73),2))&INDEX(Service!H73:H91,RANDBETWEEN(1,19),1)&RANDBETWEEN(1,9)&IF(Service!F73=\"\",TRIM(LEFT(Translit.Translit(Service!E73),3))&INDEX(Service!A73:A98,RANDBETWEEN(1,26),1),TRIM(LEFT(Translit.Translit(Service!F73),2))&INDEX(Service!H73:H91,RANDBETWEEN(1,19),1)&INDEX(Service!A73:A98,RANDBETWEEN(1,26),1)),'Информация о пользователе'!G75)","v":{"$error":"#NAME?"}}]
[{"$f":"TRIM(IF('Информация о пользователе'!A76=\"\",\"Пусто\",'Информация о пользователе'!A76))","v":"Пусто"},{"$f":"TRIM(IF('Информация о пользователе'!B76=\"\",\" \",'Информация о пользователе'!B76&\" \"&'Информация о пользователе'!C76))","v":""},{"$f":"TRIM(IF(AD!A75=\"\",\"\",AD!B75&\" \"&A75))","v":"Пусто"},{"$f":"TRIM(IF('Информация о пользователе'!D76=\"\",F75&\"@edu54.ru\",'Информация о пользователе'!D76))","v":"pusto@edu54.ru"},{"$f":"TRIM(IF('Информация о пользователе'!E76=\"\",\"\",'Информация о пользователе'!E76))","v":""},{"$f":"IF('Информация о пользователе'!F76=\"\",TRIM(Translit.Translit(A75)&TRIM(LEFT(Translit.Translit(Service!E74),1))&TRIM(LEFT(Translit.Translit(Service!F74),1))),TRIM('Информация о пользователе'!F76))","v":"pusto"},{"$f":"IF('Информация о пользователе'!G76=\"\",TRIM(LEFT(Translit.Translit(Service!E74),2))&INDEX(Service!H74:H92,RANDBETWEEN(1,19),1)&RANDBETWEEN(1,9)&IF(Service!F74=\"\",TRIM(LEFT(Translit.Translit(Service!E74),3))&INDEX(Service!A74:A99,RANDBETWEEN(1,26),1),TRIM(LEFT(Translit.Translit(Service!F74),2))&INDEX(Service!H74:H92,RANDBETWEEN(1,19),1)&INDEX(Service!A74:A99,RANDBETWEEN(1,26),1)),'Информация о пользователе'!G76)","v":{"$error":"#NAME?"}}]
[{"$f":"TRIM(IF('Информация о пользователе'!A77=\"\",\"Пусто\",'Информация о пользователе'!A77))","v":"Пусто"},{"$f":"TRIM(IF('Информация о пользователе'!B77=\"\",\" \",'Информация о пользователе'!B77&\" \"&'Информация о пользователе'!C77))","v":""},{"$f":"TRIM(IF(AD!A76=\"\",\"\",AD!B76&\" \"&A76))","v":"Пусто"},{"$f":"TRIM(IF('Информация о пользователе'!D77=\"\",F76&\"@edu54.ru\",'Информация о пользователе'!D77))","v":"pusto@edu54.ru"},{"$f":"TRIM(IF('Информация о пользователе'!E77=\"\",\"\",'Информация о пользователе'!E77))","v":""},{"$f":"IF('Информация о пользователе'!F77=\"\",TRIM(Translit.Translit(A76)&TRIM(LEFT(Translit.Translit(Service!E75),1))&TRIM(LEFT(Translit.Translit(Service!F75),1))),TRIM('Информация о пользователе'!F77))","v":"pusto"},{"$f":"IF('Информация о пользователе'!G77=\"\",TRIM(LEFT(Translit.Translit(Service!E75),2))&INDEX(Service!H75:H93,RANDBETWEEN(1,19),1)&RANDBETWEEN(1,9)&IF(Service!F75=\"\",TRIM(LEFT(Translit.Translit(Service!E75),3))&INDEX(Service!A75:A100,RANDBETWEEN(1,26),1),TRIM(LEFT(Translit.Translit(Service!F75),2))&INDEX(Service!H75:H93,RANDBETWEEN(1,19),1)&INDEX(Service!A75:A100,RANDBETWEEN(1,26),1)),'Информация о пользователе'!G77)","v":{"$error":"#NAME?"}}]
[{"$f":"TRIM(IF('Информация о пользователе'!A78=\"\",\"Пусто\",'Информация о пользователе'!A78))","v":"Пусто"},{"$f":"TRIM(IF('Информация о пользователе'!B78=\"\",\" \",'Информация о пользователе'!B78&\" \"&'Информация о пользователе'!C78))","v":""},{"$f":"TRIM(IF(AD!A77=\"\",\"\",AD!B77&\" \"&A77))","v":"Пусто"},{"$f":"TRIM(IF('Информация о пользователе'!D78=\"\",F77&\"@edu54.ru\",'Информация о пользователе'!D78))","v":"pusto@edu54.ru"},{"$f":"TRIM(IF('Информация о пользователе'!E78=\"\",\"\",'Информация о пользователе'!E78))","v":""},{"$f":"IF('Информация о пользователе'!F78=\"\",TRIM(Translit.Translit(A77)&TRIM(LEFT(Translit.Translit(Service!E76),1))&TRIM(LEFT(Translit.Translit(Service!F76),1))),TRIM('Информация о пользователе'!F78))","v":"pusto"},{"$f":"IF('Информация о пользователе'!G78=\"\",TRIM(LEFT(Translit.Translit(Service!E76),2))&INDEX(Service!H76:H94,RANDBETWEEN(1,19),1)&RANDBETWEEN(1,9)&IF(Service!F76=\"\",TRIM(LEFT(Translit.Translit(Service!E76),3))&INDEX(Service!A76:A101,RANDBETWEEN(1,26),1),TRIM(LEFT(Translit.Translit(Service!F76),2))&INDEX(Service!H76:H94,RANDBETWEEN(1,19),1)&INDEX(Service!A76:A101,RANDBETWEEN(1,26),1)),'Информация о пользователе'!G78)","v":{"$error":"#NAME?"}}]
[{"$f":"TRIM(IF('Информация о пользователе'!A79=\"\",\"Пусто\",'Информация о пользователе'!A79))","v":"Пусто"},{"$f":"TRIM(IF('Информация о пользователе'!B79=\"\",\" \",'Информация о пользователе'!B79&\" \"&'Информация о пользователе'!C79))","v":""},{"$f":"TRIM(IF(AD!A78=\"\",\"\",AD!B78&\" \"&A78))","v":"Пусто"},{"$f":"TRIM(IF('Информация о пользователе'!D79=\"\",F78&\"@edu54.ru\",'Информация о пользователе'!D79))","v":"pusto@edu54.ru"},{"$f":"TRIM(IF('Информация о пользователе'!E79=\"\",\"\",'Информация о пользователе'!E79))","v":""},{"$f":"IF('Информация о пользователе'!F79=\"\",TRIM(Translit.Translit(A78)&TRIM(LEFT(Translit.Translit(Service!E77),1))&TRIM(LEFT(Translit.Translit(Service!F77),1))),TRIM('Информация о пользователе'!F79))","v":"pusto"},{"$f":"IF('Информация о пользователе'!G79=\"\",TRIM(LEFT(Translit.Translit(Service!E77),2))&INDEX(Service!H77:H95,RANDBETWEEN(1,19),1)&RANDBETWEEN(1,9)&IF(Service!F77=\"\",TRIM(LEFT(Translit.Translit(Service!E77),3))&INDEX(Service!A77:A102,RANDBETWEEN(1,26),1),TRIM(LEFT(Translit.Translit(Service!F77),2))&INDEX(Service!H77:H95,RANDBETWEEN(1,19),1)&INDEX(Service!A77:A102,RANDBETWEEN(1,26),1)),'Информация о пользователе'!G79)","v":{"$error":"#NAME?"}}]
[{"$f":"TRIM(IF('Информация о пользователе'!A80=\"\",\"Пусто\",'Информация о пользователе'!A80))","v":"Пусто"},{"$f":"TRIM(IF('Информация о пользователе'!B80=\"\",\" \",'Информация о пользователе'!B80&\" \"&'Информация о пользователе'!C80))","v":""},{"$f":"TRIM(IF(AD!A79=\"\",\"\",AD!B79&\" \"&A79))","v":"Пусто"},{"$f":"TRIM(IF('Информация о пользователе'!D80=\"\",F79&\"@edu54.ru\",'Информация о пользователе'!D80))","v":"pusto@edu54.ru"},{"$f":"TRIM(IF('Информация о пользователе'!E80=\"\",\"\",'Информация о пользователе'!E80))","v":""},{"$f":"IF('Информация о пользователе'!F80=\"\",TRIM(Translit.Translit(A79)&TRIM(LEFT(Translit.Translit(Service!E78),1))&TRIM(LEFT(Translit.Translit(Service!F78),1))),TRIM('Информация о пользователе'!F80))","v":"pusto"},{"$f":"IF('Информация о пользователе'!G80=\"\",TRIM(LEFT(Translit.Translit(Service!E78),2))&INDEX(Service!H78:H96,RANDBETWEEN(1,19),1)&RANDBETWEEN(1,9)&IF(Service!F78=\"\",TRIM(LEFT(Translit.Translit(Service!E78),3))&INDEX(Service!A78:A103,RANDBETWEEN(1,26),1),TRIM(LEFT(Translit.Translit(Service!F78),2))&INDEX(Service!H78:H96,RANDBETWEEN(1,19),1)&INDEX(Service!A78:A103,RANDBETWEEN(1,26),1)),'Информация о пользователе'!G80)","v":{"$error":"#NAME?"}}]
[{"$f":"TRIM(IF('Информация о пользователе'!A81=\"\",\"Пусто\",'Информация о пользователе'!A81))","v":"Пусто"},{"$f":"TRIM(IF('Информация о пользователе'!B81=\"\",\" \",'Информация о пользователе'!B81&\" \"&'Информация о пользователе'!C81))","v":""},{"$f":"TRIM(IF(AD!A80=\"\",\"\",AD!B80&\" \"&A80))","v":"Пусто"},{"$f":"TRIM(IF('Информация о пользователе'!D81=\"\",F80&\"@edu54.ru\",'Информация о пользователе'!D81))","v":"pusto@edu54.ru"},{"$f":"TRIM(IF('Информация о пользователе'!E81=\"\",\"\",'Информация о пользователе'!E81))","v":""},{"$f":"IF('Информация о пользователе'!F81=\"\",TRIM(Translit.Translit(A80)&TRIM(LEFT(Translit.Translit(Service!E79),1))&TRIM(LEFT(Translit.Translit(Service!F79),1))),TRIM('Информация о пользователе'!F81))","v":"pusto"},{"$f":"IF('Информация о пользователе'!G81=\"\",TRIM(LEFT(Translit.Translit(Service!E79),2))&INDEX(Service!H79:H97,RANDBETWEEN(1,19),1)&RANDBETWEEN(1,9)&IF(Service!F79=\"\",TRIM(LEFT(Translit.Translit(Service!E79),3))&INDEX(Service!A79:A104,RANDBETWEEN(1,26),1),TRIM(LEFT(Translit.Translit(Service!F79),2))&INDEX(Service!H79:H97,RANDBETWEEN(1,19),1)&INDEX(Service!A79:A104,RANDBETWEEN(1,26),1)),'Информация о пользователе'!G81)","v":{"$error":"#NAME?"}}]
[{"$f":"TRIM(IF('Информация о пользователе'!A82=\"\",\"Пусто\",'Информация о пользователе'!A82))","v":"Пусто"},{"$f":"TRIM(IF('Информация о пользователе'!B82=\"\",\" \",'Информация о пользователе'!B82&\" \"&'Информация о пользователе'!C82))","v":""},{"$f":"TRIM(IF(AD!A81=\"\",\"\",AD!B81&\" \"&A81))","v":"Пусто"},{"$f":"TRIM(IF('Информация о пользователе'!D82=\"\",F81&\"@edu54.ru\",'Информация о пользователе'!D82))","v":"pusto@edu54.ru"},{"$f":"TRIM(IF('Информация о пользователе'!E82=\"\",\"\",'Информация о пользователе'!E82))","v":""},{"$f":"IF('Информация о пользователе'!F82=\"\",TRIM(Translit.Translit(A81)&TRIM(LEFT(Translit.Translit(Service!E80),1))&TRIM(LEFT(Translit.Translit(Service!F80),1))),TRIM('Информация о пользователе'!F82))","v":"pusto"},{"$f":"IF('Информация о пользователе'!G82=\"\",TRIM(LEFT(Translit.Translit(Service!E80),2))&INDEX(Service!H80:H98,RANDBETWEEN(1,19),1)&RANDBETWEEN(1,9)&IF(Service!F80=\"\",TRIM(LEFT(Translit.Translit(Service!E80),3))&INDEX(Service!A80:A105,RANDBETWEEN(1,26),1),TRIM(LEFT(Translit.Translit(Service!F80),2))&INDEX(Service!H80:H98,RANDBETWEEN(1,19),1)&INDEX(Service!A80:A105,RANDBETWEEN(1,26),1)),'Информация о пользователе'!G82)","v":{"$error":"#NAME?"}}]
[{"$f":"TRIM(IF('Информация о пользователе'!A83=\"\",\"Пусто\",'Информация о пользователе'!A83))","v":"Пусто"},{"$f":"TRIM(IF('Информация о пользователе'!B83=\"\",\" \",'Информация о пользователе'!B83&\" \"&'Информация о пользователе'!C83))","v":""},{"$f":"TRIM(IF(AD!A82=\"\",\"\",AD!B82&\" \"&A82))","v":"Пусто"},{"$f":"TRIM(IF('Информация о пользователе'!D83=\"\",F82&\"@edu54.ru\",'Информация о пользователе'!D83))","v":"pusto@edu54.ru"},{"$f":"TRIM(IF('Информация о пользователе'!E83=\"\",\"\",'Информация о пользователе'!E83))","v":""},{"$f":"IF('Информация о пользователе'!F83=\"\",TRIM(Translit.Translit(A82)&TRIM(LEFT(Translit.Translit(Service!E81),1))&TRIM(LEFT(Translit.Translit(Service!F81),1))),TRIM('Информация о пользователе'!F83))","v":"pusto"},{"$f":"IF('Информация о пользователе'!G83=\"\",TRIM(LEFT(Translit.Translit(Service!E81),2))&INDEX(Service!H81:H99,RANDBETWEEN(1,19),1)&RANDBETWEEN(1,9)&IF(Service!F81=\"\",TRIM(LEFT(Translit.Translit(Service!E81),3))&INDEX(Service!A81:A106,RANDBETWEEN(1,26),1),TRIM(LEFT(Translit.Translit(Service!F81),2))&INDEX(Service!H81:H99,RANDBETWEEN(1,19),1)&INDEX(Service!A81:A106,RANDBETWEEN(1,26),1)),'Информация о пользователе'!G83)","v":{"$error":"#NAME?"}}]
[{"$f":"TRIM(IF('Информация о пользователе'!A84=\"\",\"Пусто\",'Информация о пользователе'!A84))","v":"Пусто"},{"$f":"TRIM(IF('Информация о пользователе'!B84=\"\",\" \",'Информация о пользователе'!B84&\" \"&'Информация о пользователе'!C84))","v":""},{"$f":"TRIM(IF(AD!A83=\"\",\"\",AD!B83&\" \"&A83))","v":"Пусто"},{"$f":"TRIM(IF('Информация о пользователе'!D84=\"\",F83&\"@edu54.ru\",'Информация о пользователе'!D84))","v":"pusto@edu54.ru"},{"$f":"TRIM(IF('Информация о пользователе'!E84=\"\",\"\",'Информация о пользователе'!E84))","v":""},{"$f":"IF('Информация о пользователе'!F84=\"\",TRIM(Translit.Translit(A83)&TRIM(LEFT(Translit.Translit(Service!E82),1))&TRIM(LEFT(Translit.Translit(Service!F82),1))),TRIM('Информация о пользователе'!F84))","v":"pusto"},{"$f":"IF('Информация о пользователе'!G84=\"\",TRIM(LEFT(Translit.Translit(Service!E82),2))&INDEX(Service!H82:H100,RANDBETWEEN(1,19),1)&RANDBETWEEN(1,9)&IF(Service!F82=\"\",TRIM(LEFT(Translit.Translit(Service!E82),3))&INDEX(Service!A82:A107,RANDBETWEEN(1,26),1),TRIM(LEFT(Translit.Translit(Service!F82),2))&INDEX(Service!H82:H100,RANDBETWEEN(1,19),1)&INDEX(Service!A82:A107,RANDBETWEEN(1,26),1)),'Информация о пользователе'!G84)","v":{"$error":"#NAME?"}}]
[{"$f":"TRIM(IF('Информация о пользователе'!A85=\"\",\"Пусто\",'Информация о пользователе'!A85))","v":"Пусто"},{"$f":"TRIM(IF('Информация о пользователе'!B85=\"\",\" \",'Информация о пользователе'!B85&\" \"&'Информация о пользователе'!C85))","v":""},{"$f":"TRIM(IF(AD!A84=\"\",\"\",AD!B84&\" \"&A84))","v":"Пусто"},{"$f":"TRIM(IF('Информация о пользователе'!D85=\"\",F84&\"@edu54.ru\",'Информация о пользователе'!D85))","v":"pusto@edu54.ru"},{"$f":"TRIM(IF('Информация о пользователе'!E85=\"\",\"\",'Информация о пользователе'!E85))","v":""},{"$f":"IF('Информация о пользователе'!F85=\"\",TRIM(Translit.Translit(A84)&TRIM(LEFT(Translit.Translit(Service!E83),1))&TRIM(LEFT(Translit.Translit(Service!F83),1))),TRIM('Информация о пользователе'!F85))","v":"pusto"},{"$f":"IF('Информация о пользователе'!G85=\"\",TRIM(LEFT(Translit.Translit(Service!E83),2))&INDEX(Service!H83:H101,RANDBETWEEN(1,19),1)&RANDBETWEEN(1,9)&IF(Service!F83=\"\",TRIM(LEFT(Translit.Translit(Service!E83),3))&INDEX(Service!A83:A108,RANDBETWEEN(1,26),1),TRIM(LEFT(Translit.Translit(Service!F83),2))&INDEX(Service!H83:H101,RANDBETWEEN(1,19),1)&INDEX(Service!A83:A108,RANDBETWEEN(1,26),1)),'Информация о пользователе'!G85)","v":{"$error":"#NAME?"}}]
[{"$f":"TRIM(IF('Информация о пользователе'!A86=\"\",\"Пусто\",'Информация о пользователе'!A86))","v":"Пусто"},{"$f":"TRIM(IF('Информация о пользователе'!B86=\"\",\" \",'Информация о пользователе'!B86&\" \"&'Информация о пользователе'!C86))","v":""},{"$f":"TRIM(IF(AD!A85=\"\",\"\",AD!B85&\" \"&A85))","v":"Пусто"},{"$f":"TRIM(IF('Информация о пользователе'!D86=\"\",F85&\"@edu54.ru\",'Информация о пользователе'!D86))","v":"pusto@edu54.ru"},{"$f":"TRIM(IF('Информация о пользователе'!E86=\"\",\"\",'Информация о пользователе'!E86))","v":""},{"$f":"IF('Информация о пользователе'!F86=\"\",TRIM(Translit.Translit(A85)&TRIM(LEFT(Translit.Translit(Service!E84),1))&TRIM(LEFT(Translit.Translit(Service!F84),1))),TRIM('Информация о пользователе'!F86))","v":"pusto"},{"$f":"IF('Информация о пользователе'!G86=\"\",TRIM(LEFT(Translit.Translit(Service!E84),2))&INDEX(Service!H84:H102,RANDBETWEEN(1,19),1)&RANDBETWEEN(1,9)&IF(Service!F84=\"\",TRIM(LEFT(Translit.Translit(Service!E84),3))&INDEX(Service!A84:A109,RANDBETWEEN(1,26),1),TRIM(LEFT(Translit.Translit(Service!F84),2))&INDEX(Service!H84:H102,RANDBETWEEN(1,19),1)&INDEX(Service!A84:A109,RANDBETWEEN(1,26),1)),'Информация о пользователе'!G86)","v":{"$error":"#NAME?"}}]
[{"$f":"TRIM(IF('Информация о пользователе'!A87=\"\",\"Пусто\",'Информация о пользователе'!A87))","v":"Пусто"},{"$f":"TRIM(IF('Информация о пользователе'!B87=\"\",\" \",'Информация о пользователе'!B87&\" \"&'Информация о пользователе'!C87))","v":""},{"$f":"TRIM(IF(AD!A86=\"\",\"\",AD!B86&\" \"&A86))","v":"Пусто"},{"$f":"TRIM(IF('Информация о пользователе'!D87=\"\",F86&\"@edu54.ru\",'Информация о пользователе'!D87))","v":"pusto@edu54.ru"},{"$f":"TRIM(IF('Информация о пользователе'!E87=\"\",\"\",'Информация о пользователе'!E87))","v":""},{"$f":"IF('Информация о пользователе'!F87=\"\",TRIM(Translit.Translit(A86)&TRIM(LEFT(Translit.Translit(Service!E85),1))&TRIM(LEFT(Translit.Translit(Service!F85),1))),TRIM('Информация о пользователе'!F87))","v":"pusto"},{"$f":"IF('Информация о пользователе'!G87=\"\",TRIM(LEFT(Translit.Translit(Service!E85),2))&INDEX(Service!H85:H103,RANDBETWEEN(1,19),1)&RANDBETWEEN(1,9)&IF(Service!F85=\"\",TRIM(LEFT(Translit.Translit(Service!E85),3))&INDEX(Service!A85:A110,RANDBETWEEN(1,26),1),TRIM(LEFT(Translit.Translit(Service!F85),2))&INDEX(Service!H85:H103,RANDBETWEEN(1,19),1)&INDEX(Service!A85:A110,RANDBETWEEN(1,26),1)),'Информация о пользователе'!G87)","v":{"$error":"#NAME?"}}]
[{"$f":"TRIM(IF('Информация о пользователе'!A88=\"\",\"Пусто\",'Информация о пользователе'!A88))","v":"Пусто"},{"$f":"TRIM(IF('Информация о пользователе'!B88=\"\",\" \",'Информация о пользователе'!B88&\" \"&'Информация о пользователе'!C88))","v":""},{"$f":"TRIM(IF(AD!A87=\"\",\"\",AD!B87&\" \"&A87))","v":"Пусто"},{"$f":"TRIM(IF('Информация о пользователе'!D88=\"\",F87&\"@edu54.ru\",'Информация о пользователе'!D88))","v":"pusto@edu54.ru"},{"$f":"TRIM(IF('Информация о пользователе'!E88=\"\",\"\",'Информация о пользователе'!E88))","v":""},{"$f":"IF('Информация о пользователе'!F88=\"\",TRIM(Translit.Translit(A87)&TRIM(LEFT(Translit.Translit(Service!E86),1))&TRIM(LEFT(Translit.Translit(Service!F86),1))),TRIM('Информация о пользователе'!F88))","v":"pusto"},{"$f":"IF('Информация о пользователе'!G88=\"\",TRIM(LEFT(Translit.Translit(Service!E86),2))&INDEX(Service!H86:H104,RANDBETWEEN(1,19),1)&RANDBETWEEN(1,9)&IF(Service!F86=\"\",TRIM(LEFT(Translit.Translit(Service!E86),3))&INDEX(Service!A86:A111,RANDBETWEEN(1,26),1),TRIM(LEFT(Translit.Translit(Service!F86),2))&INDEX(Service!H86:H104,RANDBETWEEN(1,19),1)&INDEX(Service!A86:A111,RANDBETWEEN(1,26),1)),'Информация о пользователе'!G88)","v":{"$error":"#NAME?"}}]
[{"$f":"TRIM(IF('Информация о пользователе'!A89=\"\",\"Пусто\",'Информация о пользователе'!A89))","v":"Пусто"},{"$f":"TRIM(IF('Информация о пользователе'!B89=\"\",\" \",'Информация о пользователе'!B89&\" \"&'Информация о пользователе'!C89))","v":""},{"$f":"TRIM(IF(AD!A88=\"\",\"\",AD!B88&\" \"&A88))","v":"Пусто"},{"$f":"TRIM(IF('Информация о пользователе'!D89=\"\",F88&\"@edu54.ru\",'Информация о пользователе'!D89))","v":"pusto@edu54.ru"},{"$f":"TRIM(IF('Информация о пользователе'!E89=\"\",\"\",'Информация о пользователе'!E89))","v":""},{"$f":"IF('Информация о пользователе'!F89=\"\",TRIM(Translit.Translit(A88)&TRIM(LEFT(Translit.Translit(Service!E87),1))&TRIM(LEFT(Translit.Translit(Service!F87),1))),TRIM('Информация о пользователе'!F89))","v":"pusto"},{"$f":"IF('Информация о пользователе'!G89=\"\",TRIM(LEFT(Translit.Translit(Service!E87),2))&INDEX(Service!H87:H105,RANDBETWEEN(1,19),1)&RANDBETWEEN(1,9)&IF(Service!F87=\"\",TRIM(LEFT(Translit.Translit(Service!E87),3))&INDEX(Service!A87:A112,RANDBETWEEN(1,26),1),TRIM(LEFT(Translit.Translit(Service!F87),2))&INDEX(Service!H87:H105,RANDBETWEEN(1,19),1)&INDEX(Service!A87:A112,RANDBETWEEN(1,26),1)),'Информация о пользователе'!G89)","v":{"$error":"#NAME?"}}]
[{"$f":"TRIM(IF('Информация о пользователе'!A90=\"\",\"Пусто\",'Информация о пользователе'!A90))","v":"Пусто"},{"$f":"TRIM(IF('Информация о пользователе'!B90=\"\",\" \",'Информация о пользователе'!B90&\" \"&'Информация о пользователе'!C90))","v":""},{"$f":"TRIM(IF(AD!A89=\"\",\"\",AD!B89&\" \"&A89))","v":"Пусто"},{"$f":"TRIM(IF('Информация о пользователе'!D90=\"\",F89&\"@edu54.ru\",'Информация о пользователе'!D90))","v":"pusto@edu54.ru"},{"$f":"TRIM(IF('Информация о пользователе'!E90=\"\",\"\",'Информация о пользователе'!E90))","v":""},{"$f":"IF('Информация о пользователе'!F90=\"\",TRIM(Translit.Translit(A89)&TRIM(LEFT(Translit.Translit(Service!E88),1))&TRIM(LEFT(Translit.Translit(Service!F88),1))),TRIM('Информация о пользователе'!F90))","v":"pusto"},{"$f":"IF('Информация о пользователе'!G90=\"\",TRIM(LEFT(Translit.Translit(Service!E88),2))&INDEX(Service!H88:H106,RANDBETWEEN(1,19),1)&RANDBETWEEN(1,9)&IF(Service!F88=\"\",TRIM(LEFT(Translit.Translit(Service!E88),3))&INDEX(Service!A88:A113,RANDBETWEEN(1,26),1),TRIM(LEFT(Translit.Translit(Service!F88),2))&INDEX(Service!H88:H106,RANDBETWEEN(1,19),1)&INDEX(Service!A88:A113,RANDBETWEEN(1,26),1)),'Информация о пользователе'!G90)","v":{"$error":"#NAME?"}}]
[{"$f":"TRIM(IF('Информация о пользователе'!A91=\"\",\"Пусто\",'Информация о пользователе'!A91))","v":"Пусто"},{"$f":"TRIM(IF('Информация о пользователе'!B91=\"\",\" \",'Информация о пользователе'!B91&\" \"&'Информация о пользователе'!C91))","v":""},{"$f":"TRIM(IF(AD!A90=\"\",\"\",AD!B90&\" \"&A90))","v":"Пусто"},{"$f":"TRIM(IF('Информация о пользователе'!D91=\"\",F90&\"@edu54.ru\",'Информация о пользователе'!D91))","v":"pusto@edu54.ru"},{"$f":"TRIM(IF('Информация о пользователе'!E91=\"\",\"\",'Информация о пользователе'!E91))","v":""},{"$f":"IF('Информация о пользователе'!F91=\"\",TRIM(Translit.Translit(A90)&TRIM(LEFT(Translit.Translit(Service!E89),1))&TRIM(LEFT(Translit.Translit(Service!F89),1))),TRIM('Информация о пользователе'!F91))","v":"pusto"},{"$f":"IF('Информация о пользователе'!G91=\"\",TRIM(LEFT(Translit.Translit(Service!E89),2))&INDEX(Service!H89:H107,RANDBETWEEN(1,19),1)&RANDBETWEEN(1,9)&IF(Service!F89=\"\",TRIM(LEFT(Translit.Translit(Service!E89),3))&INDEX(Service!A89:A114,RANDBETWEEN(1,26),1),TRIM(LEFT(Translit.Translit(Service!F89),2))&INDEX(Service!H89:H107,RANDBETWEEN(1,19),1)&INDEX(Service!A89:A114,RANDBETWEEN(1,26),1)),'Информация о пользователе'!G91)","v":{"$error":"#NAME?"}}]
[{"$f":"TRIM(IF('Информация о пользователе'!A92=\"\",\"Пусто\",'Информация о пользователе'!A92))","v":"Пусто"},{"$f":"TRIM(IF('Информация о пользователе'!B92=\"\",\" \",'Информация о пользователе'!B92&\" \"&'Информация о пользователе'!C92))","v":""},{"$f":"TRIM(IF(AD!A91=\"\",\"\",AD!B91&\" \"&A91))","v":"Пусто"},{"$f":"TRIM(IF('Информация о пользователе'!D92=\"\",F91&\"@edu54.ru\",'Информация о пользователе'!D92))","v":"pusto@edu54.ru"},{"$f":"TRIM(IF('Информация о пользователе'!E92=\"\",\"\",'Информация о пользователе'!E92))","v":""},{"$f":"IF('Информация о пользователе'!F92=\"\",TRIM(Translit.Translit(A91)&TRIM(LEFT(Translit.Translit(Service!E90),1))&TRIM(LEFT(Translit.Translit(Service!F90),1))),TRIM('Информация о пользователе'!F92))","v":"pusto"},{"$f":"IF('Информация о пользователе'!G92=\"\",TRIM(LEFT(Translit.Translit(Service!E90),2))&INDEX(Service!H90:H108,RANDBETWEEN(1,19),1)&RANDBETWEEN(1,9)&IF(Service!F90=\"\",TRIM(LEFT(Translit.Translit(Service!E90),3))&INDEX(Service!A90:A115,RANDBETWEEN(1,26),1),TRIM(LEFT(Translit.Translit(Service!F90),2))&INDEX(Service!H90:H108,RANDBETWEEN(1,19),1)&INDEX(Service!A90:A115,RANDBETWEEN(1,26),1)),'Информация о пользователе'!G92)","v":{"$error":"#NAME?"}}]
[{"$f":"TRIM(IF('Информация о пользователе'!A93=\"\",\"Пусто\",'Информация о пользователе'!A93))","v":"Пусто"},{"$f":"TRIM(IF('Информация о пользователе'!B93=\"\",\" \",'Информация о пользователе'!B93&\" \"&'Информация о пользователе'!C93))","v":""},{"$f":"TRIM(IF(AD!A92=\"\",\"\",AD!B92&\" \"&A92))","v":"Пусто"},{"$f":"TRIM(IF('Информация о пользователе'!D93=\"\",F92&\"@edu54.ru\",'Информация о пользователе'!D93))","v":"pusto@edu54.ru"},{"$f":"TRIM(IF('Информация о пользователе'!E93=\"\",\"\",'Информация о пользователе'!E93))","v":""},{"$f":"IF('Информация о пользователе'!F93=\"\",TRIM(Translit.Translit(A92)&TRIM(LEFT(Translit.Translit(Service!E91),1))&TRIM(LEFT(Translit.Translit(Service!F91),1))),TRIM('Информация о пользователе'!F93))","v":"pusto"},{"$f":"IF('Информация о пользователе'!G93=\"\",TRIM(LEFT(Translit.Translit(Service!E91),2))&INDEX(Service!H91:H109,RANDBETWEEN(1,19),1)&RANDBETWEEN(1,9)&IF(Service!F91=\"\",TRIM(LEFT(Translit.Translit(Service!E91),3))&INDEX(Service!A91:A116,RANDBETWEEN(1,26),1),TRIM(LEFT(Translit.Translit(Service!F91),2))&INDEX(Service!H91:H109,RANDBETWEEN(1,19),1)&INDEX(Service!A91:A116,RANDBETWEEN(1,26),1)),'Информация о пользователе'!G93)","v":{"$error":"#NAME?"}}]
[{"$f":"TRIM(IF('Информация о пользователе'!A94=\"\",\"Пусто\",'Информация о пользователе'!A94))","v":"Пусто"},{"$f":"TRIM(IF('Информация о пользователе'!B94=\"\",\" \",'Информация о пользователе'!B94&\" \"&'Информация о пользователе'!C94))","v":""},{"$f":"TRIM(IF(AD!A93=\"\",\"\",AD!B93&\" \"&A93))","v":"Пусто"},{"$f":"TRIM(IF('Информация о пользователе'!D94=\"\",F93&\"@edu54.ru\",'Информация о пользователе'!D94))","v":"pusto@edu54.ru"},{"$f":"TRIM(IF('Информация о пользователе'!E94=\"\",\"\",'Информация о пользователе'!E94))","v":""},{"$f":"IF('Информация о пользователе'!F94=\"\",TRIM(Translit.Translit(A93)&TRIM(LEFT(Translit.Translit(Service!E92),1))&TRIM(LEFT(Translit.Translit(Service!F92),1))),TRIM('Информация о пользователе'!F94))","v":"pusto"},{"$f":"IF('Информация о пользователе'!G94=\"\",TRIM(LEFT(Translit.Translit(Service!E92),2))&INDEX(Service!H92:H110,RANDBETWEEN(1,19),1)&RANDBETWEEN(1,9)&IF(Service!F92=\"\",TRIM(LEFT(Translit.Translit(Service!E92),3))&INDEX(Service!A92:A117,RANDBETWEEN(1,26),1),TRIM(LEFT(Translit.Translit(Service!F92),2))&INDEX(Service!H92:H110,RANDBETWEEN(1,19),1)&INDEX(Service!A92:A117,RANDBETWEEN(1,26),1)),'Информация о пользователе'!G94)","v":{"$error":"#NAME?"}}]
[{"$f":"TRIM(IF('Информация о пользователе'!A95=\"\",\"Пусто\",'Информация о пользователе'!A95))","v":"Пусто"},{"$f":"TRIM(IF('Информация о пользователе'!B95=\"\",\" \",'Информация о пользователе'!B95&\" \"&'Информация о пользователе'!C95))","v":""},{"$f":"TRIM(IF(AD!A94=\"\",\"\",AD!B94&\" \"&A94))","v":"Пусто"},{"$f":"TRIM(IF('Информация о пользователе'!D95=\"\",F94&\"@edu54.ru\",'Информация о пользователе'!D95))","v":"pusto@edu54.ru"},{"$f":"TRIM(IF('Информация о пользователе'!E95=\"\",\"\",'Информация о пользователе'!E95))","v":""},{"$f":"IF('Информация о пользователе'!F95=\"\",TRIM(Translit.Translit(A94)&TRIM(LEFT(Translit.Translit(Service!E93),1))&TRIM(LEFT(Translit.Translit(Service!F93),1))),TRIM('Информация о пользователе'!F95))","v":"pusto"},{"$f":"IF('Информация о пользователе'!G95=\"\",TRIM(LEFT(Translit.Translit(Service!E93),2))&INDEX(Service!H93:H111,RANDBETWEEN(1,19),1)&RANDBETWEEN(1,9)&IF(Service!F93=\"\",TRIM(LEFT(Translit.Translit(Service!E93),3))&INDEX(Service!A93:A118,RANDBETWEEN(1,26),1),TRIM(LEFT(Translit.Translit(Service!F93),2))&INDEX(Service!H93:H111,RANDBETWEEN(1,19),1)&INDEX(Service!A93:A118,RANDBETWEEN(1,26),1)),'Информация о пользователе'!G95)","v":{"$error":"#NAME?"}}]
[{"$f":"TRIM(IF('Информация о пользователе'!A96=\"\",\"Пусто\",'Информация о пользователе'!A96))","v":"Пусто"},{"$f":"TRIM(IF('Информация о пользователе'!B96=\"\",\" \",'Информация о пользователе'!B96&\" \"&'Информация о пользователе'!C96))","v":""},{"$f":"TRIM(IF(AD!A95=\"\",\"\",AD!B95&\" \"&A95))","v":"Пусто"},{"$f":"TRIM(IF('Информация о пользователе'!D96=\"\",F95&\"@edu54.ru\",'Информация о пользователе'!D96))","v":"pusto@edu54.ru"},{"$f":"TRIM(IF('Информация о пользователе'!E96=\"\",\"\",'Информация о пользователе'!E96))","v":""},{"$f":"IF('Информация о пользователе'!F96=\"\",TRIM(Translit.Translit(A95)&TRIM(LEFT(Translit.Translit(Service!E94),1))&TRIM(LEFT(Translit.Translit(Service!F94),1))),TRIM('Информация о пользователе'!F96))","v":"pusto"},{"$f":"IF('Информация о пользователе'!G96=\"\",TRIM(LEFT(Translit.Translit(Service!E94),2))&INDEX(Service!H94:H112,RANDBETWEEN(1,19),1)&RANDBETWEEN(1,9)&IF(Service!F94=\"\",TRIM(LEFT(Translit.Translit(Service!E94),3))&INDEX(Service!A94:A119,RANDBETWEEN(1,26),1),TRIM(LEFT(Translit.Translit(Service!F94),2))&INDEX(Service!H94:H112,RANDBETWEEN(1,19),1)&INDEX(Service!A94:A119,RANDBETWEEN(1,26),1)),'Информация о пользователе'!G96)","v":{"$error":"#NAME?"}}]
[{"$f":"TRIM(IF('Информация о пользователе'!A97=\"\",\"Пусто\",'Информация о пользователе'!A97))","v":"Пусто"},{"$f":"TRIM(IF('Информация о пользователе'!B97=\"\",\" \",'Информация о пользователе'!B97&\" \"&'Информация о пользователе'!C97))","v":""},{"$f":"TRIM(IF(AD!A96=\"\",\"\",AD!B96&\" \"&A96))","v":"Пусто"},{"$f":"TRIM(IF('Информация о пользователе'!D97=\"\",F96&\"@edu54.ru\",'Информация о пользователе'!D97))","v":"pusto@edu54.ru"},{"$f":"TRIM(IF('Информация о пользователе'!E97=\"\",\"\",'Информация о пользователе'!E97))","v":""},{"$f":"IF('Информация о пользователе'!F97=\"\",TRIM(Translit.Translit(A96)&TRIM(LEFT(Translit.Translit(Service!E95),1))&TRIM(LEFT(Translit.Translit(Service!F95),1))),TRIM('Информация о пользователе'!F97))","v":"pusto"},{"$f":"IF('Информация о пользователе'!G97=\"\",TRIM(LEFT(Translit.Translit(Service!E95),2))&INDEX(Service!H95:H113,RANDBETWEEN(1,19),1)&RANDBETWEEN(1,9)&IF(Service!F95=\"\",TRIM(LEFT(Translit.Translit(Service!E95),3))&INDEX(Service!A95:A120,RANDBETWEEN(1,26),1),TRIM(LEFT(Translit.Translit(Service!F95),2))&INDEX(Service!H95:H113,RANDBETWEEN(1,19),1)&INDEX(Service!A95:A120,RANDBETWEEN(1,26),1)),'Информация о пользователе'!G97)","v":{"$error":"#NAME?"}}]
[{"$f":"TRIM(IF('Информация о пользователе'!A98=\"\",\"Пусто\",'Информация о пользователе'!A98))","v":"Пусто"},{"$f":"TRIM(IF('Информация о пользователе'!B98=\"\",\" \",'Информация о пользователе'!B98&\" \"&'Информация о пользователе'!C98))","v":""},{"$f":"TRIM(IF(AD!A97=\"\",\"\",AD!B97&\" \"&A97))","v":"Пусто"},{"$f":"TRIM(IF('Информация о пользователе'!D98=\"\",F97&\"@edu54.ru\",'Информация о пользователе'!D98))","v":"pusto@edu54.ru"},{"$f":"TRIM(IF('Информация о пользователе'!E98=\"\",\"\",'Информация о пользователе'!E98))","v":""},{"$f":"IF('Информация о пользователе'!F98=\"\",TRIM(Translit.Translit(A97)&TRIM(LEFT(Translit.Translit(Service!E96),1))&TRIM(LEFT(Translit.Translit(Service!F96),1))),TRIM('Информация о пользователе'!F98))","v":"pusto"},{"$f":"IF('Информация о пользователе'!G98=\"\",TRIM(LEFT(Translit.Translit(Service!E96),2))&INDEX(Service!H96:H114,RANDBETWEEN(1,19),1)&RANDBETWEEN(1,9)&IF(Service!F96=\"\",TRIM(LEFT(Translit.Translit(Service!E96),3))&INDEX(Service!A96:A121,RANDBETWEEN(1,26),1),TRIM(LEFT(Translit.Translit(Service!F96),2))&INDEX(Service!H96:H114,RANDBETWEEN(1,19),1)&INDEX(Service!A96:A121,RANDBETWEEN(1,26),1)),'Информация о пользователе'!G98)","v":{"$error":"#NAME?"}}]
[{"$f":"TRIM(IF('Информация о пользователе'!A99=\"\",\"Пусто\",'Информация о пользователе'!A99))","v":"Пусто"},{"$f":"TRIM(IF('Информация о пользователе'!B99=\"\",\" \",'Информация о пользователе'!B99&\" \"&'Информация о пользователе'!C99))","v":""},{"$f":"TRIM(IF(AD!A98=\"\",\"\",AD!B98&\" \"&A98))","v":"Пусто"},{"$f":"TRIM(IF('Информация о пользователе'!D99=\"\",F98&\"@edu54.ru\",'Информация о пользователе'!D99))","v":"pusto@edu54.ru"},{"$f":"TRIM(IF('Информация о пользователе'!E99=\"\",\"\",'Информация о пользователе'!E99))","v":""},{"$f":"IF('Информация о пользователе'!F99=\"\",TRIM(Translit.Translit(A98)&TRIM(LEFT(Translit.Translit(Service!E97),1))&TRIM(LEFT(Translit.Translit(Service!F97),1))),TRIM('Информация о пользователе'!F99))","v":"pusto"},{"$f":"IF('Информация о пользователе'!G99=\"\",TRIM(LEFT(Translit.Translit(Service!E97),2))&INDEX(Service!H97:H115,RANDBETWEEN(1,19),1)&RANDBETWEEN(1,9)&IF(Service!F97=\"\",TRIM(LEFT(Translit.Translit(Service!E97),3))&INDEX(Service!A97:A122,RANDBETWEEN(1,26),1),TRIM(LEFT(Translit.Translit(Service!F97),2))&INDEX(Service!H97:H115,RANDBETWEEN(1,19),1)&INDEX(Service!A97:A122,RANDBETWEEN(1,26),1)),'Информация о пользователе'!G99)","v":{"$error":"#NAME?"}}]
[{"$f":"TRIM(IF('Информация о пользователе'!A100=\"\",\"Пусто\",'Информация о пользователе'!A100))","v":"Пусто"},{"$f":"TRIM(IF('Информация о пользователе'!B100=\"\",\" \",'Информация о пользователе'!B100&\" \"&'Информация о пользователе'!C100))","v":""},{"$f":"TRIM(IF(AD!A99=\"\",\"\",AD!B99&\" \"&A99))","v":"Пусто"},{"$f":"TRIM(IF('Информация о пользователе'!D100=\"\",F99&\"@edu54.ru\",'Информация о пользователе'!D100))","v":"pusto@edu54.ru"},{"$f":"TRIM(IF('Информация о пользователе'!E100=\"\",\"\",'Информация о пользователе'!E100))","v":""},{"$f":"IF('Информация о пользователе'!F100=\"\",TRIM(Translit.Translit(A99)&TRIM(LEFT(Translit.Translit(Service!E98),1))&TRIM(LEFT(Translit.Translit(Service!F98),1))),TRIM('Информация о пользователе'!F100))","v":"pusto"},{"$f":"IF('Информация о пользователе'!G100=\"\",TRIM(LEFT(Translit.Translit(Service!E98),2))&INDEX(Service!H98:H116,RANDBETWEEN(1,19),1)&RANDBETWEEN(1,9)&IF(Service!F98=\"\",TRIM(LEFT(Translit.Translit(Service!E98),3))&INDEX(Service!A98:A123,RANDBETWEEN(1,26),1),TRIM(LEFT(Translit.Translit(Service!F98),2))&INDEX(Service!H98:H116,RANDBETWEEN(1,19),1)&INDEX(Service!A98:A123,RANDBETWEEN(1,26),1)),'Информация о пользователе'!G100)","v":{"$error":"#NAME?"}}]
[{"$f":"TRIM(IF('Информация о пользователе'!A101=\"\",\"Пусто\",'Информация о пользователе'!A101))","v":"Пусто"},{"$f":"TRIM(IF('Информация о пользователе'!B101=\"\",\" \",'Информация о пользователе'!B101&\" \"&'Информация о пользователе'!C101))","v":""},{"$f":"TRIM(IF(AD!A100=\"\",\"\",AD!B100&\" \"&A100))","v":"Пусто"},{"$f":"TRIM(IF('Информация о пользователе'!D101=\"\",F100&\"@edu54.ru\",'Информация о пользователе'!D101))","v":"pusto@edu54.ru"},{"$f":"TRIM(IF('Информация о пользователе'!E101=\"\",\"\",'Информация о пользователе'!E101))","v":""},{"$f":"IF('Информация о пользователе'!F101=\"\",TRIM(Translit.Translit(A100)&TRIM(LEFT(Translit.Translit(Service!E99),1))&TRIM(LEFT(Translit.Translit(Service!F99),1))),TRIM('Информация о пользователе'!F101))","v":"pusto"},{"$f":"IF('Информация о пользователе'!G101=\"\",TRIM(LEFT(Translit.Translit(Service!E99),2))&INDEX(Service!H99:H117,RANDBETWEEN(1,19),1)&RANDBETWEEN(1,9)&IF(Service!F99=\"\",TRIM(LEFT(Translit.Translit(Service!E99),3))&INDEX(Service!A99:A124,RANDBETWEEN(1,26),1),TRIM(LEFT(Translit.Translit(Service!F99),2))&INDEX(Service!H99:H117,RANDBETWEEN(1,19),1)&INDEX(Service!A99:A124,RANDBETWEEN(1,26),1)),'Информация о пользователе'!G101)","v":{"$error":"#NAME?"}}]
[{"$f":"TRIM(IF('Информация о пользователе'!A102=\"\",\"Пусто\",'Информация о пользователе'!A102))","v":"Пусто"},{"$f":"TRIM(IF('Информация о пользователе'!B102=\"\",\" \",'Информация о пользователе'!B102&\" \"&'Информация о пользователе'!C102))","v":""},{"$f":"TRIM(IF(AD!A101=\"\",\"\",AD!B101&\" \"&A101))","v":"Пусто"},{"$f":"TRIM(IF('Информация о пользователе'!D102=\"\",F101&\"@edu54.ru\",'Информация о пользователе'!D102))","v":"pusto@edu54.ru"},{"$f":"TRIM(IF('Информация о пользователе'!E102=\"\",\"\",'Информация о пользователе'!E102))","v":""},{"$f":"IF('Информация о пользователе'!F102=\"\",TRIM(Translit.Translit(A101)&TRIM(LEFT(Translit.Translit(Service!E100),1))&TRIM(LEFT(Translit.Translit(Service!F100),1))),TRIM('Информация о пользователе'!F102))","v":"pusto"},{"$f":"IF('Информация о пользователе'!G102=\"\",TRIM(LEFT(Translit.Translit(Service!E100),2))&INDEX(Service!H100:H118,RANDBETWEEN(1,19),1)&RANDBETWEEN(1,9)&IF(Service!F100=\"\",TRIM(LEFT(Translit.Translit(Service!E100),3))&INDEX(Service!A100:A125,RANDBETWEEN(1,26),1),TRIM(LEFT(Translit.Translit(Service!F100),2))&INDEX(Service!H100:H118,RANDBETWEEN(1,19),1)&INDEX(Service!A100:A125,RANDBETWEEN(1,26),1)),'Информация о пользователе'!G102)","v":{"$error":"#NAME?"}}]
[{"$f":"TRIM(IF('Информация о пользователе'!A103=\"\",\"Пусто\",'Информация о пользователе'!A103))","v":"Пусто"},{"$f":"TRIM(IF('Информация о пользователе'!B103=\"\",\" \",'Информация о пользователе'!B103&\" \"&'Информация о пользователе'!C103))","v":""},{"$f":"TRIM(IF(AD!A102=\"\",\"\",AD!B102&\" \"&A102))","v":"Пусто"},{"$f":"TRIM(IF('Информация о пользователе'!D103=\"\",F102&\"@edu54.ru\",'Информация о пользователе'!D103))","v":"pusto@edu54.ru"},{"$f":"TRIM(IF('Информация о пользователе'!E103=\"\",\"\",'Информация о пользователе'!E103))","v":""},{"$f":"IF('Информация о пользователе'!F103=\"\",TRIM(Translit.Translit(A102)&TRIM(LEFT(Translit.Translit(Service!E101),1))&TRIM(LEFT(Translit.Translit(Service!F101),1))),TRIM('Информация о пользователе'!F103))","v":"pusto"},{"$f":"IF('Информация о пользователе'!G103=\"\",TRIM(LEFT(Translit.Translit(Service!E101),2))&INDEX(Service!H101:H119,RANDBETWEEN(1,19),1)&RANDBETWEEN(1,9)&IF(Service!F101=\"\",TRIM(LEFT(Translit.Translit(Service!E101),3))&INDEX(Service!A101:A126,RANDBETWEEN(1,26),1),TRIM(LEFT(Translit.Translit(Service!F101),2))&INDEX(Service!H101:H119,RANDBETWEEN(1,19),1)&INDEX(Service!A101:A126,RANDBETWEEN(1,26),1)),'Информация о пользователе'!G103)","v":{"$error":"#NAME?"}}]
[{"$f":"TRIM(IF('Информация о пользователе'!A104=\"\",\"Пусто\",'Информация о пользователе'!A104))","v":"Пусто"},{"$f":"TRIM(IF('Информация о пользователе'!B104=\"\",\" \",'Информация о пользователе'!B104&\" \"&'Информация о пользователе'!C104))","v":""},{"$f":"TRIM(IF(AD!A103=\"\",\"\",AD!B103&\" \"&A103))","v":"Пусто"},{"$f":"TRIM(IF('Информация о пользователе'!D104=\"\",F103&\"@edu54.ru\",'Информация о пользователе'!D104))","v":"pusto@edu54.ru"},{"$f":"TRIM(IF('Информация о пользователе'!E104=\"\",\"\",'Информация о пользователе'!E104))","v":""},{"$f":"IF('Информация о пользователе'!F104=\"\",TRIM(Translit.Translit(A103)&TRIM(LEFT(Translit.Translit(Service!E102),1))&TRIM(LEFT(Translit.Translit(Service!F102),1))),TRIM('Информация о пользователе'!F104))","v":"pusto"},{"$f":"IF('Информация о пользователе'!G104=\"\",TRIM(LEFT(Translit.Translit(Service!E102),2))&INDEX(Service!H102:H120,RANDBETWEEN(1,19),1)&RANDBETWEEN(1,9)&IF(Service!F102=\"\",TRIM(LEFT(Translit.Translit(Service!E102),3))&INDEX(Service!A102:A127,RANDBETWEEN(1,26),1),TRIM(LEFT(Translit.Translit(Service!F102),2))&INDEX(Service!H102:H120,RANDBETWEEN(1,19),1)&INDEX(Service!A102:A127,RANDBETWEEN(1,26),1)),'Информация о пользователе'!G104)","v":{"$error":"#NAME?"}}]
[{"$f":"TRIM(IF('Информация о пользователе'!A105=\"\",\"Пусто\",'Информация о пользователе'!A105))","v":"Пусто"},{"$f":"TRIM(IF('Информация о пользователе'!B105=\"\",\" \",'Информация о пользователе'!B105&\" \"&'Информация о пользователе'!C105))","v":""},{"$f":"TRIM(IF(AD!A104=\"\",\"\",AD!B104&\" \"&A104))","v":"Пусто"},{"$f":"TRIM(IF('Информация о пользователе'!D105=\"\",F104&\"@edu54.ru\",'Информация о пользователе'!D105))","v":"pusto@edu54.ru"},{"$f":"TRIM(IF('Информация о пользователе'!E105=\"\",\"\",'Информация о пользователе'!E105))","v":""},{"$f":"IF('Информация о пользователе'!F105=\"\",TRIM(Translit.Translit(A104)&TRIM(LEFT(Translit.Translit(Service!E103),1))&TRIM(LEFT(Translit.Translit(Service!F103),1))),TRIM('Информация о пользователе'!F105))","v":"pusto"},{"$f":"IF('Информация о пользователе'!G105=\"\",TRIM(LEFT(Translit.Translit(Service!E103),2))&INDEX(Service!H103:H121,RANDBETWEEN(1,19),1)&RANDBETWEEN(1,9)&IF(Service!F103=\"\",TRIM(LEFT(Translit.Translit(Service!E103),3))&INDEX(Service!A103:A128,RANDBETWEEN(1,26),1),TRIM(LEFT(Translit.Translit(Service!F103),2))&INDEX(Service!H103:H121,RANDBETWEEN(1,19),1)&INDEX(Service!A103:A128,RANDBETWEEN(1,26),1)),'Информация о пользователе'!G105)","v":{"$error":"#NAME?"}}]
[{"$f":"TRIM(IF('Информация о пользователе'!A106=\"\",\"Пусто\",'Информация о пользователе'!A106))","v":"Пусто"},{"$f":"TRIM(IF('Информация о пользователе'!B106=\"\",\" \",'Информация о пользователе'!B106&\" \"&'Информация о пользователе'!C106))","v":""},{"$f":"TRIM(IF(AD!A105=\"\",\"\",AD!B105&\" \"&A105))","v":"Пусто"},{"$f":"TRIM(IF('Информация о пользователе'!D106=\"\",F105&\"@edu54.ru\",'Информация о пользователе'!D106))","v":"pusto@edu54.ru"},{"$f":"TRIM(IF('Информация о пользователе'!E106=\"\",\"\",'Информация о пользователе'!E106))","v":""},{"$f":"IF('Информация о пользователе'!F106=\"\",TRIM(Translit.Translit(A105)&TRIM(LEFT(Translit.Translit(Service!E104),1))&TRIM(LEFT(Translit.Translit(Service!F104),1))),TRIM('Информация о пользователе'!F106))","v":"pusto"},{"$f":"IF('Информация о пользователе'!G106=\"\",TRIM(LEFT(Translit.Translit(Service!E104),2))&INDEX(Service!H104:H122,RANDBETWEEN(1,19),1)&RANDBETWEEN(1,9)&IF(Service!F104=\"\",TRIM(LEFT(Translit.Translit(Service!E104),3))&INDEX(Service!A104:A129,RANDBETWEEN(1,26),1),TRIM(LEFT(Translit.Translit(Service!F104),2))&INDEX(Service!H104:H122,RANDBETWEEN(1,19),1)&INDEX(Service!A104:A129,RANDBETWEEN(1,26),1)),'Информация о пользователе'!G106)","v":{"$error":"#NAME?"}}]
[{"$f":"TRIM(IF('Информация о пользователе'!A107=\"\",\"Пусто\",'Информация о пользователе'!A107))","v":"Пусто"},{"$f":"TRIM(IF('Информация о пользователе'!B107=\"\",\" \",'Информация о пользователе'!B107&\" \"&'Информация о пользователе'!C107))","v":""},{"$f":"TRIM(IF(AD!A106=\"\",\"\",AD!B106&\" \"&A106))","v":"Пусто"},{"$f":"TRIM(IF('Информация о пользователе'!D107=\"\",F106&\"@edu54.ru\",'Информация о пользователе'!D107))","v":"pusto@edu54.ru"},{"$f":"TRIM(IF('Информация о пользователе'!E107=\"\",\"\",'Информация о пользователе'!E107))","v":""},{"$f":"IF('Информация о пользователе'!F107=\"\",TRIM(Translit.Translit(A106)&TRIM(LEFT(Translit.Translit(Service!E105),1))&TRIM(LEFT(Translit.Translit(Service!F105),1))),TRIM('Информация о пользователе'!F107))","v":"pusto"},{"$f":"IF('Информация о пользователе'!G107=\"\",TRIM(LEFT(Translit.Translit(Service!E105),2))&INDEX(Service!H105:H123,RANDBETWEEN(1,19),1)&RANDBETWEEN(1,9)&IF(Service!F105=\"\",TRIM(LEFT(Translit.Translit(Service!E105),3))&INDEX(Service!A105:A130,RANDBETWEEN(1,26),1),TRIM(LEFT(Translit.Translit(Service!F105),2))&INDEX(Service!H105:H123,RANDBETWEEN(1,19),1)&INDEX(Service!A105:A130,RANDBETWEEN(1,26),1)),'Информация о пользователе'!G107)","v":{"$error":"#NAME?"}}]
[{"$f":"TRIM(IF('Информация о пользователе'!A108=\"\",\"Пусто\",'Информация о пользователе'!A108))","v":"Пусто"},{"$f":"TRIM(IF('Информация о пользователе'!B108=\"\",\" \",'Информация о пользователе'!B108&\" \"&'Информация о пользователе'!C108))","v":""},{"$f":"TRIM(IF(AD!A107=\"\",\"\",AD!B107&\" \"&A107))","v":"Пусто"},{"$f":"TRIM(IF('Информация о пользователе'!D108=\"\",F107&\"@edu54.ru\",'Информация о пользователе'!D108))","v":"pusto@edu54.ru"},{"$f":"TRIM(IF('Информация о пользователе'!E108=\"\",\"\",'Информация о пользователе'!E108))","v":""},{"$f":"IF('Информация о пользователе'!F108=\"\",TRIM(Translit.Translit(A107)&TRIM(LEFT(Translit.Translit(Service!E106),1))&TRIM(LEFT(Translit.Translit(Service!F106),1))),TRIM('Информация о пользователе'!F108))","v":"pusto"},{"$f":"IF('Информация о пользователе'!G108=\"\",TRIM(LEFT(Translit.Translit(Service!E106),2))&INDEX(Service!H106:H124,RANDBETWEEN(1,19),1)&RANDBETWEEN(1,9)&IF(Service!F106=\"\",TRIM(LEFT(Translit.Translit(Service!E106),3))&INDEX(Service!A106:A131,RANDBETWEEN(1,26),1),TRIM(LEFT(Translit.Translit(Service!F106),2))&INDEX(Service!H106:H124,RANDBETWEEN(1,19),1)&INDEX(Service!A106:A131,RANDBETWEEN(1,26),1)),'Информация о пользователе'!G108)","v":{"$error":"#NAME?"}}]
[{"$f":"TRIM(IF('Информация о пользователе'!A109=\"\",\"Пусто\",'Информация о пользователе'!A109))","v":"Пусто"},{"$f":"TRIM(IF('Информация о пользователе'!B109=\"\",\" \",'Информация о пользователе'!B109&\" \"&'Информация о пользователе'!C109))","v":""},{"$f":"TRIM(IF(AD!A108=\"\",\"\",AD!B108&\" \"&A108))","v":"Пусто"},{"$f":"TRIM(IF('Информация о пользователе'!D109=\"\",F108&\"@edu54.ru\",'Информация о пользователе'!D109))","v":"pusto@edu54.ru"},{"$f":"TRIM(IF('Информация о пользователе'!E109=\"\",\"\",'Информация о пользователе'!E109))","v":""},{"$f":"IF('Информация о пользователе'!F109=\"\",TRIM(Translit.Translit(A108)&TRIM(LEFT(Translit.Translit(Service!E107),1))&TRIM(LEFT(Translit.Translit(Service!F107),1))),TRIM('Информация о пользователе'!F109))","v":"pusto"},{"$f":"IF('Информация о пользователе'!G109=\"\",TRIM(LEFT(Translit.Translit(Service!E107),2))&INDEX(Service!H107:H125,RANDBETWEEN(1,19),1)&RANDBETWEEN(1,9)&IF(Service!F107=\"\",TRIM(LEFT(Translit.Translit(Service!E107),3))&INDEX(Service!A107:A132,RANDBETWEEN(1,26),1),TRIM(LEFT(Translit.Translit(Service!F107),2))&INDEX(Service!H107:H125,RANDBETWEEN(1,19),1)&INDEX(Service!A107:A132,RANDBETWEEN(1,26),1)),'Информация о пользователе'!G109)","v":{"$error":"#NAME?"}}]
[{"$f":"TRIM(IF('Информация о пользователе'!A110=\"\",\"Пусто\",'Информация о пользователе'!A110))","v":"Пусто"},{"$f":"TRIM(IF('Информация о пользователе'!B110=\"\",\" \",'Информация о пользователе'!B110&\" \"&'Информация о пользователе'!C110))","v":""},{"$f":"TRIM(IF(AD!A109=\"\",\"\",AD!B109&\" \"&A109))","v":"Пусто"},{"$f":"TRIM(IF('Информация о пользователе'!D110=\"\",F109&\"@edu54.ru\",'Информация о пользователе'!D110))","v":"pusto@edu54.ru"},{"$f":"TRIM(IF('Информация о пользователе'!E110=\"\",\"\",'Информация о пользователе'!E110))","v":""},{"$f":"IF('Информация о пользователе'!F110=\"\",TRIM(Translit.Translit(A109)&TRIM(LEFT(Translit.Translit(Service!E108),1))&TRIM(LEFT(Translit.Translit(Service!F108),1))),TRIM('Информация о пользователе'!F110))","v":"pusto"},{"$f":"IF('Информация о пользователе'!G110=\"\",TRIM(LEFT(Translit.Translit(Service!E108),2))&INDEX(Service!H108:H126,RANDBETWEEN(1,19),1)&RANDBETWEEN(1,9)&IF(Service!F108=\"\",TRIM(LEFT(Translit.Translit(Service!E108),3))&INDEX(Service!A108:A133,RANDBETWEEN(1,26),1),TRIM(LEFT(Translit.Translit(Service!F108),2))&INDEX(Service!H108:H126,RANDBETWEEN(1,19),1)&INDEX(Service!A108:A133,RANDBETWEEN(1,26),1)),'Информация о пользователе'!G110)","v":{"$error":"#NAME?"}}]
[{"$f":"TRIM(IF('Информация о пользователе'!A111=\"\",\"Пусто\",'Информация о пользователе'!A111))","v":"Пусто"},{"$f":"TRIM(IF('Информация о пользователе'!B111=\"\",\" \",'Информация о пользователе'!B111&\" \"&'Информация о пользователе'!C111))","v":""},{"$f":"TRIM(IF(AD!A110=\"\",\"\",AD!B110&\" \"&A110))","v":"Пусто"},{"$f":"TRIM(IF('Информация о пользователе'!D111=\"\",F110&\"@edu54.ru\",'Информация о пользователе'!D111))","v":"pusto@edu54.ru"},{"$f":"TRIM(IF('Информация о пользователе'!E111=\"\",\"\",'Информация о пользователе'!E111))","v":""},{"$f":"IF('Информация о пользователе'!F111=\"\",TRIM(Translit.Translit(A110)&TRIM(LEFT(Translit.Translit(Service!E109),1))&TRIM(LEFT(Translit.Translit(Service!F109),1))),TRIM('Информация о пользователе'!F111))","v":"pusto"},{"$f":"IF('Информация о пользователе'!G111=\"\",TRIM(LEFT(Translit.Translit(Service!E109),2))&INDEX(Service!H109:H127,RANDBETWEEN(1,19),1)&RANDBETWEEN(1,9)&IF(Service!F109=\"\",TRIM(LEFT(Translit.Translit(Service!E109),3))&INDEX(Service!A109:A134,RANDBETWEEN(1,26),1),TRIM(LEFT(Translit.Translit(Service!F109),2))&INDEX(Service!H109:H127,RANDBETWEEN(1,19),1)&INDEX(Service!A109:A134,RANDBETWEEN(1,26),1)),'Информация о пользователе'!G111)","v":{"$error":"#NAME?"}}]
[{"$f":"TRIM(IF('Информация о пользователе'!A112=\"\",\"Пусто\",'Информация о пользователе'!A112))","v":"Пусто"},{"$f":"TRIM(IF('Информация о пользователе'!B112=\"\",\" \",'Информация о пользователе'!B112&\" \"&'Информация о пользователе'!C112))","v":""},{"$f":"TRIM(IF(AD!A111=\"\",\"\",AD!B111&\" \"&A111))","v":"Пусто"},{"$f":"TRIM(IF('Информация о пользователе'!D112=\"\",F111&\"@edu54.ru\",'Информация о пользователе'!D112))","v":"pusto@edu54.ru"},{"$f":"TRIM(IF('Информация о пользователе'!E112=\"\",\"\",'Информация о пользователе'!E112))","v":""},{"$f":"IF('Информация о пользователе'!F112=\"\",TRIM(Translit.Translit(A111)&TRIM(LEFT(Translit.Translit(Service!E110),1))&TRIM(LEFT(Translit.Translit(Service!F110),1))),TRIM('Информация о пользователе'!F112))","v":"pusto"},{"$f":"IF('Информация о пользователе'!G112=\"\",TRIM(LEFT(Translit.Translit(Service!E110),2))&INDEX(Service!H110:H128,RANDBETWEEN(1,19),1)&RANDBETWEEN(1,9)&IF(Service!F110=\"\",TRIM(LEFT(Translit.Translit(Service!E110),3))&INDEX(Service!A110:A135,RANDBETWEEN(1,26),1),TRIM(LEFT(Translit.Translit(Service!F110),2))&INDEX(Service!H110:H128,RANDBETWEEN(1,19),1)&INDEX(Service!A110:A135,RANDBETWEEN(1,26),1)),'Информация о пользователе'!G112)","v":{"$error":"#NAME?"}}]
[{"$f":"TRIM(IF('Информация о пользователе'!A113=\"\",\"Пусто\",'Информация о пользователе'!A113))","v":"Пусто"},{"$f":"TRIM(IF('Информация о пользователе'!B113=\"\",\" \",'Информация о пользователе'!B113&\" \"&'Информация о пользователе'!C113))","v":""},{"$f":"TRIM(IF(AD!A112=\"\",\"\",AD!B112&\" \"&A112))","v":"Пусто"},{"$f":"TRIM(IF('Информация о пользователе'!D113=\"\",F112&\"@edu54.ru\",'Информация о пользователе'!D113))","v":"pusto@edu54.ru"},{"$f":"TRIM(IF('Информация о пользователе'!E113=\"\",\"\",'Информация о пользователе'!E113))","v":""},{"$f":"IF('Информация о пользователе'!F113=\"\",TRIM(Translit.Translit(A112)&TRIM(LEFT(Translit.Translit(Service!E111),1))&TRIM(LEFT(Translit.Translit(Service!F111),1))),TRIM('Информация о пользователе'!F113))","v":"pusto"},{"$f":"IF('Информация о пользователе'!G113=\"\",TRIM(LEFT(Translit.Translit(Service!E111),2))&INDEX(Service!H111:H129,RANDBETWEEN(1,19),1)&RANDBETWEEN(1,9)&IF(Service!F111=\"\",TRIM(LEFT(Translit.Translit(Service!E111),3))&INDEX(Service!A111:A136,RANDBETWEEN(1,26),1),TRIM(LEFT(Translit.Translit(Service!F111),2))&INDEX(Service!H111:H129,RANDBETWEEN(1,19),1)&INDEX(Service!A111:A136,RANDBETWEEN(1,26),1)),'Информация о пользователе'!G113)","v":{"$error":"#NAME?"}}]
[{"$f":"TRIM(IF('Информация о пользователе'!A114=\"\",\"Пусто\",'Информация о пользователе'!A114))","v":"Пусто"},{"$f":"TRIM(IF('Информация о пользователе'!B114=\"\",\" \",'Информация о пользователе'!B114&\" \"&'Информация о пользователе'!C114))","v":""},{"$f":"TRIM(IF(AD!A113=\"\",\"\",AD!B113&\" \"&A113))","v":"Пусто"},{"$f":"TRIM(IF('Информация о пользователе'!D114=\"\",F113&\"@edu54.ru\",'Информация о пользователе'!D114))","v":"pusto@edu54.ru"},{"$f":"TRIM(IF('Информация о пользователе'!E114=\"\",\"\",'Информация о пользователе'!E114))","v":""},{"$f":"IF('Информация о пользователе'!F114=\"\",TRIM(Translit.Translit(A113)&TRIM(LEFT(Translit.Translit(Service!E112),1))&TRIM(LEFT(Translit.Translit(Service!F112),1))),TRIM('Информация о пользователе'!F114))","v":"pusto"},{"$f":"IF('Информация о пользователе'!G114=\"\",TRIM(LEFT(Translit.Translit(Service!E112),2))&INDEX(Service!H112:H130,RANDBETWEEN(1,19),1)&RANDBETWEEN(1,9)&IF(Service!F112=\"\",TRIM(LEFT(Translit.Translit(Service!E112),3))&INDEX(Service!A112:A137,RANDBETWEEN(1,26),1),TRIM(LEFT(Translit.Translit(Service!F112),2))&INDEX(Service!H112:H130,RANDBETWEEN(1,19),1)&INDEX(Service!A112:A137,RANDBETWEEN(1,26),1)),'Информация о пользователе'!G114)","v":{"$error":"#NAME?"}}]
[{"$f":"TRIM(IF('Информация о пользователе'!A115=\"\",\"Пусто\",'Информация о пользователе'!A115))","v":"Пусто"},{"$f":"TRIM(IF('Информация о пользователе'!B115=\"\",\" \",'Информация о пользователе'!B115&\" \"&'Информация о пользователе'!C115))","v":""},{"$f":"TRIM(IF(AD!A114=\"\",\"\",AD!B114&\" \"&A114))","v":"Пусто"},{"$f":"TRIM(IF('Информация о пользователе'!D115=\"\",F114&\"@edu54.ru\",'Информация о пользователе'!D115))","v":"pusto@edu54.ru"},{"$f":"TRIM(IF('Информация о пользователе'!E115=\"\",\"\",'Информация о пользователе'!E115))","v":""},{"$f":"IF('Информация о пользователе'!F115=\"\",TRIM(Translit.Translit(A114)&TRIM(LEFT(Translit.Translit(Service!E113),1))&TRIM(LEFT(Translit.Translit(Service!F113),1))),TRIM('Информация о пользователе'!F115))","v":"pusto"},{"$f":"IF('Информация о пользователе'!G115=\"\",TRIM(LEFT(Translit.Translit(Service!E113),2))&INDEX(Service!H113:H131,RANDBETWEEN(1,19),1)&RANDBETWEEN(1,9)&IF(Service!F113=\"\",TRIM(LEFT(Translit.Translit(Service!E113),3))&INDEX(Service!A113:A138,RANDBETWEEN(1,26),1),TRIM(LEFT(Translit.Translit(Service!F113),2))&INDEX(Service!H113:H131,RANDBETWEEN(1,19),1)&INDEX(Service!A113:A138,RANDBETWEEN(1,26),1)),'Информация о пользователе'!G115)","v":{"$error":"#NAME?"}}]
[{"$f":"TRIM(IF('Информация о пользователе'!A116=\"\",\"Пусто\",'Информация о пользователе'!A116))","v":"Пусто"},{"$f":"TRIM(IF('Информация о пользователе'!B116=\"\",\" \",'Информация о пользователе'!B116&\" \"&'Информация о пользователе'!C116))","v":""},{"$f":"TRIM(IF(AD!A115=\"\",\"\",AD!B115&\" \"&A115))","v":"Пусто"},{"$f":"TRIM(IF('Информация о пользователе'!D116=\"\",F115&\"@edu54.ru\",'Информация о пользователе'!D116))","v":"pusto@edu54.ru"},{"$f":"TRIM(IF('Информация о пользователе'!E116=\"\",\"\",'Информация о пользователе'!E116))","v":""},{"$f":"IF('Информация о пользователе'!F116=\"\",TRIM(Translit.Translit(A115)&TRIM(LEFT(Translit.Translit(Service!E114),1))&TRIM(LEFT(Translit.Translit(Service!F114),1))),TRIM('Информация о пользователе'!F116))","v":"pusto"},{"$f":"IF('Информация о пользователе'!G116=\"\",TRIM(LEFT(Translit.Translit(Service!E114),2))&INDEX(Service!H114:H132,RANDBETWEEN(1,19),1)&RANDBETWEEN(1,9)&IF(Service!F114=\"\",TRIM(LEFT(Translit.Translit(Service!E114),3))&INDEX(Service!A114:A139,RANDBETWEEN(1,26),1),TRIM(LEFT(Translit.Translit(Service!F114),2))&INDEX(Service!H114:H132,RANDBETWEEN(1,19),1)&INDEX(Service!A114:A139,RANDBETWEEN(1,26),1)),'Информация о пользователе'!G116)","v":{"$error":"#NAME?"}}]
[{"$f":"TRIM(IF('Информация о пользователе'!A117=\"\",\"Пусто\",'Информация о пользователе'!A117))","v":"Пусто"},{"$f":"TRIM(IF('Информация о пользователе'!B117=\"\",\" \",'Информация о пользователе'!B117&\" \"&'Информация о пользователе'!C117))","v":""},{"$f":"TRIM(IF(AD!A116=\"\",\"\",AD!B116&\" \"&A116))","v":"Пусто"},{"$f":"TRIM(IF('Информация о пользователе'!D117=\"\",F116&\"@edu54.ru\",'Информация о пользователе'!D117))","v":"pusto@edu54.ru"},{"$f":"TRIM(IF('Информация о пользователе'!E117=\"\",\"\",'Информация о пользователе'!E117))","v":""},{"$f":"IF('Информация о пользователе'!F117=\"\",TRIM(Translit.Translit(A116)&TRIM(LEFT(Translit.Translit(Service!E115),1))&TRIM(LEFT(Translit.Translit(Service!F115),1))),TRIM('Информация о пользователе'!F117))","v":"pusto"},{"$f":"IF('Информация о пользователе'!G117=\"\",TRIM(LEFT(Translit.Translit(Service!E115),2))&INDEX(Service!H115:H133,RANDBETWEEN(1,19),1)&RANDBETWEEN(1,9)&IF(Service!F115=\"\",TRIM(LEFT(Translit.Translit(Service!E115),3))&INDEX(Service!A115:A140,RANDBETWEEN(1,26),1),TRIM(LEFT(Translit.Translit(Service!F115),2))&INDEX(Service!H115:H133,RANDBETWEEN(1,19),1)&INDEX(Service!A115:A140,RANDBETWEEN(1,26),1)),'Информация о пользователе'!G117)","v":{"$error":"#NAME?"}}]
[{"$f":"TRIM(IF('Информация о пользователе'!A118=\"\",\"Пусто\",'Информация о пользователе'!A118))","v":"Пусто"},{"$f":"TRIM(IF('Информация о пользователе'!B118=\"\",\" \",'Информация о пользователе'!B118&\" \"&'Информация о пользователе'!C118))","v":""},{"$f":"TRIM(IF(AD!A117=\"\",\"\",AD!B117&\" \"&A117))","v":"Пусто"},{"$f":"TRIM(IF('Информация о пользователе'!D118=\"\",F117&\"@edu54.ru\",'Информация о пользователе'!D118))","v":"pusto@edu54.ru"},{"$f":"TRIM(IF('Информация о пользователе'!E118=\"\",\"\",'Информация о пользователе'!E118))","v":""},{"$f":"IF('Информация о пользователе'!F118=\"\",TRIM(Translit.Translit(A117)&TRIM(LEFT(Translit.Translit(Service!E116),1))&TRIM(LEFT(Translit.Translit(Service!F116),1))),TRIM('Информация о пользователе'!F118))","v":"pusto"},{"$f":"IF('Информация о пользователе'!G118=\"\",TRIM(LEFT(Translit.Translit(Service!E116),2))&INDEX(Service!H116:H134,RANDBETWEEN(1,19),1)&RANDBETWEEN(1,9)&IF(Service!F116=\"\",TRIM(LEFT(Translit.Translit(Service!E116),3))&INDEX(Service!A116:A141,RANDBETWEEN(1,26),1),TRIM(LEFT(Translit.Translit(Service!F116),2))&INDEX(Service!H116:H134,RANDBETWEEN(1,19),1)&INDEX(Service!A116:A141,RANDBETWEEN(1,26),1)),'Информация о пользователе'!G118)","v":{"$error":"#NAME?"}}]
[{"$f":"TRIM(IF('Информация о пользователе'!A119=\"\",\"Пусто\",'Информация о пользователе'!A119))","v":"Пусто"},{"$f":"TRIM(IF('Информация о пользователе'!B119=\"\",\" \",'Информация о пользователе'!B119&\" \"&'Информация о пользователе'!C119))","v":""},{"$f":"TRIM(IF(AD!A118=\"\",\"\",AD!B118&\" \"&A118))","v":"Пусто"},{"$f":"TRIM(IF('Информация о пользователе'!D119=\"\",F118&\"@edu54.ru\",'Информация о пользователе'!D119))","v":"pusto@edu54.ru"},{"$f":"TRIM(IF('Информация о пользователе'!E119=\"\",\"\",'Информация о пользователе'!E119))","v":""},{"$f":"IF('Информация о пользователе'!F119=\"\",TRIM(Translit.Translit(A118)&TRIM(LEFT(Translit.Translit(Service!E117),1))&TRIM(LEFT(Translit.Translit(Service!F117),1))),TRIM('Информация о пользователе'!F119))","v":"pusto"},{"$f":"IF('Информация о пользователе'!G119=\"\",TRIM(LEFT(Translit.Translit(Service!E117),2))&INDEX(Service!H117:H135,RANDBETWEEN(1,19),1)&RANDBETWEEN(1,9)&IF(Service!F117=\"\",TRIM(LEFT(Translit.Translit(Service!E117),3))&INDEX(Service!A117:A142,RANDBETWEEN(1,26),1),TRIM(LEFT(Translit.Translit(Service!F117),2))&INDEX(Service!H117:H135,RANDBETWEEN(1,19),1)&INDEX(Service!A117:A142,RANDBETWEEN(1,26),1)),'Информация о пользователе'!G119)","v":{"$error":"#NAME?"}}]
[{"$f":"TRIM(IF('Информация о пользователе'!A120=\"\",\"Пусто\",'Информация о пользователе'!A120))","v":"Пусто"},{"$f":"TRIM(IF('Информация о пользователе'!B120=\"\",\" \",'Информация о пользователе'!B120&\" \"&'Информация о пользователе'!C120))","v":""},{"$f":"TRIM(IF(AD!A119=\"\",\"\",AD!B119&\" \"&A119))","v":"Пусто"},{"$f":"TRIM(IF('Информация о пользователе'!D120=\"\",F119&\"@edu54.ru\",'Информация о пользователе'!D120))","v":"pusto@edu54.ru"},{"$f":"TRIM(IF('Информация о пользователе'!E120=\"\",\"\",'Информация о пользователе'!E120))","v":""},{"$f":"IF('Информация о пользователе'!F120=\"\",TRIM(Translit.Translit(A119)&TRIM(LEFT(Translit.Translit(Service!E118),1))&TRIM(LEFT(Translit.Translit(Service!F118),1))),TRIM('Информация о пользователе'!F120))","v":"pusto"},{"$f":"IF('Информация о пользователе'!G120=\"\",TRIM(LEFT(Translit.Translit(Service!E118),2))&INDEX(Service!H118:H136,RANDBETWEEN(1,19),1)&RANDBETWEEN(1,9)&IF(Service!F118=\"\",TRIM(LEFT(Translit.Translit(Service!E118),3))&INDEX(Service!A118:A143,RANDBETWEEN(1,26),1),TRIM(LEFT(Translit.Translit(Service!F118),2))&INDEX(Service!H118:H136,RANDBETWEEN(1,19),1)&INDEX(Service!A118:A143,RANDBETWEEN(1,26),1)),'Информация о пользователе'!G120)","v":{"$error":"#NAME?"}}]
[{"$f":"TRIM(IF('Информация о пользователе'!A121=\"\",\"Пусто\",'Информация о пользователе'!A121))","v":"Пусто"},{"$f":"TRIM(IF('Информация о пользователе'!B121=\"\",\" \",'Информация о пользователе'!B121&\" \"&'Информация о пользователе'!C121))","v":""},{"$f":"TRIM(IF(AD!A120=\"\",\"\",AD!B120&\" \"&A120))","v":"Пусто"},{"$f":"TRIM(IF('Информация о пользователе'!D121=\"\",F120&\"@edu54.ru\",'Информация о пользователе'!D121))","v":"pusto@edu54.ru"},{"$f":"TRIM(IF('Информация о пользователе'!E121=\"\",\"\",'Информация о пользователе'!E121))","v":""},{"$f":"IF('Информация о пользователе'!F121=\"\",TRIM(Translit.Translit(A120)&TRIM(LEFT(Translit.Translit(Service!E119),1))&TRIM(LEFT(Translit.Translit(Service!F119),1))),TRIM('Информация о пользователе'!F121))","v":"pusto"},{"$f":"IF('Информация о пользователе'!G121=\"\",TRIM(LEFT(Translit.Translit(Service!E119),2))&INDEX(Service!H119:H137,RANDBETWEEN(1,19),1)&RANDBETWEEN(1,9)&IF(Service!F119=\"\",TRIM(LEFT(Translit.Translit(Service!E119),3))&INDEX(Service!A119:A144,RANDBETWEEN(1,26),1),TRIM(LEFT(Translit.Translit(Service!F119),2))&INDEX(Service!H119:H137,RANDBETWEEN(1,19),1)&INDEX(Service!A119:A144,RANDBETWEEN(1,26),1)),'Информация о пользователе'!G121)","v":{"$error":"#NAME?"}}]
[{"$f":"TRIM(IF('Информация о пользователе'!A122=\"\",\"Пусто\",'Информация о пользователе'!A122))","v":"Пусто"},{"$f":"TRIM(IF('Информация о пользователе'!B122=\"\",\" \",'Информация о пользователе'!B122&\" \"&'Информация о пользователе'!C122))","v":""},{"$f":"TRIM(IF(AD!A121=\"\",\"\",AD!B121&\" \"&A121))","v":"Пусто"},{"$f":"TRIM(IF('Информация о пользователе'!D122=\"\",F121&\"@edu54.ru\",'Информация о пользователе'!D122))","v":"pusto@edu54.ru"},{"$f":"TRIM(IF('Информация о пользователе'!E122=\"\",\"\",'Информация о пользователе'!E122))","v":""},{"$f":"IF('Информация о пользователе'!F122=\"\",TRIM(Translit.Translit(A121)&TRIM(LEFT(Translit.Translit(Service!E120),1))&TRIM(LEFT(Translit.Translit(Service!F120),1))),TRIM('Информация о пользователе'!F122))","v":"pusto"},{"$f":"IF('Информация о пользователе'!G122=\"\",TRIM(LEFT(Translit.Translit(Service!E120),2))&INDEX(Service!H120:H138,RANDBETWEEN(1,19),1)&RANDBETWEEN(1,9)&IF(Service!F120=\"\",TRIM(LEFT(Translit.Translit(Service!E120),3))&INDEX(Service!A120:A145,RANDBETWEEN(1,26),1),TRIM(LEFT(Translit.Translit(Service!F120),2))&INDEX(Service!H120:H138,RANDBETWEEN(1,19),1)&INDEX(Service!A120:A145,RANDBETWEEN(1,26),1)),'Информация о пользователе'!G122)","v":{"$error":"#NAME?"}}]
[{"$f":"TRIM(IF('Информация о пользователе'!A123=\"\",\"Пусто\",'Информация о пользователе'!A123))","v":"Пусто"},{"$f":"TRIM(IF('Информация о пользователе'!B123=\"\",\" \",'Информация о пользователе'!B123&\" \"&'Информация о пользователе'!C123))","v":""},{"$f":"TRIM(IF(AD!A122=\"\",\"\",AD!B122&\" \"&A122))","v":"Пусто"},{"$f":"TRIM(IF('Информация о пользователе'!D123=\"\",F122&\"@edu54.ru\",'Информация о пользователе'!D123))","v":"pusto@edu54.ru"},{"$f":"TRIM(IF('Информация о пользователе'!E123=\"\",\"\",'Информация о пользователе'!E123))","v":""},{"$f":"IF('Информация о пользователе'!F123=\"\",TRIM(Translit.Translit(A122)&TRIM(LEFT(Translit.Translit(Service!E121),1))&TRIM(LEFT(Translit.Translit(Service!F121),1))),TRIM('Информация о пользователе'!F123))","v":"pusto"},{"$f":"IF('Информация о пользователе'!G123=\"\",TRIM(LEFT(Translit.Translit(Service!E121),2))&INDEX(Service!H121:H139,RANDBETWEEN(1,19),1)&RANDBETWEEN(1,9)&IF(Service!F121=\"\",TRIM(LEFT(Translit.Translit(Service!E121),3))&INDEX(Service!A121:A146,RANDBETWEEN(1,26),1),TRIM(LEFT(Translit.Translit(Service!F121),2))&INDEX(Service!H121:H139,RANDBETWEEN(1,19),1)&INDEX(Service!A121:A146,RANDBETWEEN(1,26),1)),'Информация о пользователе'!G123)","v":{"$error":"#NAME?"}}]
[{"$f":"TRIM(IF('Информация о пользователе'!A124=\"\",\"Пусто\",'Информация о пользователе'!A124))","v":"Пусто"},{"$f":"TRIM(IF('Информация о пользователе'!B124=\"\",\" \",'Информация о пользователе'!B124&\" \"&'Информация о пользователе'!C124))","v":""},{"$f":"TRIM(IF(AD!A123=\"\",\"\",AD!B123&\" \"&A123))","v":"Пусто"},{"$f":"TRIM(IF('Информация о пользователе'!D124=\"\",F123&\"@edu54.ru\",'Информация о пользователе'!D124))","v":"pusto@edu54.ru"},{"$f":"TRIM(IF('Информация о пользователе'!E124=\"\",\"\",'Информация о пользователе'!E124))","v":""},{"$f":"IF('Информация о пользователе'!F124=\"\",TRIM(Translit.Translit(A123)&TRIM(LEFT(Translit.Translit(Service!E122),1))&TRIM(LEFT(Translit.Translit(Service!F122),1))),TRIM('Информация о пользователе'!F124))","v":"pusto"},{"$f":"IF('Информация о пользователе'!G124=\"\",TRIM(LEFT(Translit.Translit(Service!E122),2))&INDEX(Service!H122:H140,RANDBETWEEN(1,19),1)&RANDBETWEEN(1,9)&IF(Service!F122=\"\",TRIM(LEFT(Translit.Translit(Service!E122),3))&INDEX(Service!A122:A147,RANDBETWEEN(1,26),1),TRIM(LEFT(Translit.Translit(Service!F122),2))&INDEX(Service!H122:H140,RANDBETWEEN(1,19),1)&INDEX(Service!A122:A147,RANDBETWEEN(1,26),1)),'Информация о пользователе'!G124)","v":{"$error":"#NAME?"}}]
[{"$f":"TRIM(IF('Информация о пользователе'!A125=\"\",\"Пусто\",'Информация о пользователе'!A125))","v":"Пусто"},{"$f":"TRIM(IF('Информация о пользователе'!B125=\"\",\" \",'Информация о пользователе'!B125&\" \"&'Информация о пользователе'!C125))","v":""},{"$f":"TRIM(IF(AD!A124=\"\",\"\",AD!B124&\" \"&A124))","v":"Пусто"},{"$f":"TRIM(IF('Информация о пользователе'!D125=\"\",F124&\"@edu54.ru\",'Информация о пользователе'!D125))","v":"pusto@edu54.ru"},{"$f":"TRIM(IF('Информация о пользователе'!E125=\"\",\"\",'Информация о пользователе'!E125))","v":""},{"$f":"IF('Информация о пользователе'!F125=\"\",TRIM(Translit.Translit(A124)&TRIM(LEFT(Translit.Translit(Service!E123),1))&TRIM(LEFT(Translit.Translit(Service!F123),1))),TRIM('Информация о пользователе'!F125))","v":"pusto"},{"$f":"IF('Информация о пользователе'!G125=\"\",TRIM(LEFT(Translit.Translit(Service!E123),2))&INDEX(Service!H123:H141,RANDBETWEEN(1,19),1)&RANDBETWEEN(1,9)&IF(Service!F123=\"\",TRIM(LEFT(Translit.Translit(Service!E123),3))&INDEX(Service!A123:A148,RANDBETWEEN(1,26),1),TRIM(LEFT(Translit.Translit(Service!F123),2))&INDEX(Service!H123:H141,RANDBETWEEN(1,19),1)&INDEX(Service!A123:A148,RANDBETWEEN(1,26),1)),'Информация о пользователе'!G125)","v":{"$error":"#NAME?"}}]
[{"$f":"TRIM(IF('Информация о пользователе'!A126=\"\",\"Пусто\",'Информация о пользователе'!A126))","v":"Пусто"},{"$f":"TRIM(IF('Информация о пользователе'!B126=\"\",\" \",'Информация о пользователе'!B126&\" \"&'Информация о пользователе'!C126))","v":""},{"$f":"TRIM(IF(AD!A125=\"\",\"\",AD!B125&\" \"&A125))","v":"Пусто"},{"$f":"TRIM(IF('Информация о пользователе'!D126=\"\",F125&\"@edu54.ru\",'Информация о пользователе'!D126))","v":"pusto@edu54.ru"},{"$f":"TRIM(IF('Информация о пользователе'!E126=\"\",\"\",'Информация о пользователе'!E126))","v":""},{"$f":"IF('Информация о пользователе'!F126=\"\",TRIM(Translit.Translit(A125)&TRIM(LEFT(Translit.Translit(Service!E124),1))&TRIM(LEFT(Translit.Translit(Service!F124),1))),TRIM('Информация о пользователе'!F126))","v":"pusto"},{"$f":"IF('Информация о пользователе'!G126=\"\",TRIM(LEFT(Translit.Translit(Service!E124),2))&INDEX(Service!H124:H142,RANDBETWEEN(1,19),1)&RANDBETWEEN(1,9)&IF(Service!F124=\"\",TRIM(LEFT(Translit.Translit(Service!E124),3))&INDEX(Service!A124:A149,RANDBETWEEN(1,26),1),TRIM(LEFT(Translit.Translit(Service!F124),2))&INDEX(Service!H124:H142,RANDBETWEEN(1,19),1)&INDEX(Service!A124:A149,RANDBETWEEN(1,26),1)),'Информация о пользователе'!G126)","v":{"$error":"#NAME?"}}]
[{"$f":"TRIM(IF('Информация о пользователе'!A127=\"\",\"Пусто\",'Информация о пользователе'!A127))","v":"Пусто"},{"$f":"TRIM(IF('Информация о пользователе'!B127=\"\",\" \",'Информация о пользователе'!B127&\" \"&'Информация о пользователе'!C127))","v":""},{"$f":"TRIM(IF(AD!A126=\"\",\"\",AD!B126&\" \"&A126))","v":"Пусто"},{"$f":"TRIM(IF('Информация о пользователе'!D127=\"\",F126&\"@edu54.ru\",'Информация о пользователе'!D127))","v":"pusto@edu54.ru"},{"$f":"TRIM(IF('Информация о пользователе'!E127=\"\",\"\",'Информация о пользователе'!E127))","v":""},{"$f":"IF('Информация о пользователе'!F127=\"\",TRIM(Translit.Translit(A126)&TRIM(LEFT(Translit.Translit(Service!E125),1))&TRIM(LEFT(Translit.Translit(Service!F125),1))),TRIM('Информация о пользователе'!F127))","v":"pusto"},{"$f":"IF('Информация о пользователе'!G127=\"\",TRIM(LEFT(Translit.Translit(Service!E125),2))&INDEX(Service!H125:H143,RANDBETWEEN(1,19),1)&RANDBETWEEN(1,9)&IF(Service!F125=\"\",TRIM(LEFT(Translit.Translit(Service!E125),3))&INDEX(Service!A125:A150,RANDBETWEEN(1,26),1),TRIM(LEFT(Translit.Translit(Service!F125),2))&INDEX(Service!H125:H143,RANDBETWEEN(1,19),1)&INDEX(Service!A125:A150,RANDBETWEEN(1,26),1)),'Информация о пользователе'!G127)","v":{"$error":"#NAME?"}}]
[{"$f":"TRIM(IF('Информация о пользователе'!A128=\"\",\"Пусто\",'Информация о пользователе'!A128))","v":"Пусто"},{"$f":"TRIM(IF('Информация о пользователе'!B128=\"\",\" \",'Информация о пользователе'!B128&\" \"&'Информация о пользователе'!C128))","v":""},{"$f":"TRIM(IF(AD!A127=\"\",\"\",AD!B127&\" \"&A127))","v":"Пусто"},{"$f":"TRIM(IF('Информация о пользователе'!D128=\"\",F127&\"@edu54.ru\",'Информация о пользователе'!D128))","v":"pusto@edu54.ru"},{"$f":"TRIM(IF('Информация о пользователе'!E128=\"\",\"\",'Информация о пользователе'!E128))","v":""},{"$f":"IF('Информация о пользователе'!F128=\"\",TRIM(Translit.Translit(A127)&TRIM(LEFT(Translit.Translit(Service!E126),1))&TRIM(LEFT(Translit.Translit(Service!F126),1))),TRIM('Информация о пользователе'!F128))","v":"pusto"},{"$f":"IF('Информация о пользователе'!G128=\"\",TRIM(LEFT(Translit.Translit(Service!E126),2))&INDEX(Service!H126:H144,RANDBETWEEN(1,19),1)&RANDBETWEEN(1,9)&IF(Service!F126=\"\",TRIM(LEFT(Translit.Translit(Service!E126),3))&INDEX(Service!A126:A151,RANDBETWEEN(1,26),1),TRIM(LEFT(Translit.Translit(Service!F126),2))&INDEX(Service!H126:H144,RANDBETWEEN(1,19),1)&INDEX(Service!A126:A151,RANDBETWEEN(1,26),1)),'Информация о пользователе'!G128)","v":{"$error":"#NAME?"}}]
[{"$f":"TRIM(IF('Информация о пользователе'!A129=\"\",\"Пусто\",'Информация о пользователе'!A129))","v":"Пусто"},{"$f":"TRIM(IF('Информация о пользователе'!B129=\"\",\" \",'Информация о пользователе'!B129&\" \"&'Информация о пользователе'!C129))","v":""},{"$f":"TRIM(IF(AD!A128=\"\",\"\",AD!B128&\" \"&A128))","v":"Пусто"},{"$f":"TRIM(IF('Информация о пользователе'!D129=\"\",F128&\"@edu54.ru\",'Информация о пользователе'!D129))","v":"pusto@edu54.ru"},{"$f":"TRIM(IF('Информация о пользователе'!E129=\"\",\"\",'Информация о пользователе'!E129))","v":""},{"$f":"IF('Информация о пользователе'!F129=\"\",TRIM(Translit.Translit(A128)&TRIM(LEFT(Translit.Translit(Service!E127),1))&TRIM(LEFT(Translit.Translit(Service!F127),1))),TRIM('Информация о пользователе'!F129))","v":"pusto"},{"$f":"IF('Информация о пользователе'!G129=\"\",TRIM(LEFT(Translit.Translit(Service!E127),2))&INDEX(Service!H127:H145,RANDBETWEEN(1,19),1)&RANDBETWEEN(1,9)&IF(Service!F127=\"\",TRIM(LEFT(Translit.Translit(Service!E127),3))&INDEX(Service!A127:A152,RANDBETWEEN(1,26),1),TRIM(LEFT(Translit.Translit(Service!F127),2))&INDEX(Service!H127:H145,RANDBETWEEN(1,19),1)&INDEX(Service!A127:A152,RANDBETWEEN(1,26),1)),'Информация о пользователе'!G129)","v":{"$error":"#NAME?"}}]
[{"$f":"TRIM(IF('Информация о пользователе'!A130=\"\",\"Пусто\",'Информация о пользователе'!A130))","v":"Пусто"},{"$f":"TRIM(IF('Информация о пользователе'!B130=\"\",\" \",'Информация о пользователе'!B130&\" \"&'Информация о пользователе'!C130))","v":""},{"$f":"TRIM(IF(AD!A129=\"\",\"\",AD!B129&\" \"&A129))","v":"Пусто"},{"$f":"TRIM(IF('Информация о пользователе'!D130=\"\",F129&\"@edu54.ru\",'Информация о пользователе'!D130))","v":"pusto@edu54.ru"},{"$f":"TRIM(IF('Информация о пользователе'!E130=\"\",\"\",'Информация о пользователе'!E130))","v":""},{"$f":"IF('Информация о пользователе'!F130=\"\",TRIM(Translit.Translit(A129)&TRIM(LEFT(Translit.Translit(Service!E128),1))&TRIM(LEFT(Translit.Translit(Service!F128),1))),TRIM('Информация о пользователе'!F130))","v":"pusto"},{"$f":"IF('Информация о пользователе'!G130=\"\",TRIM(LEFT(Translit.Translit(Service!E128),2))&INDEX(Service!H128:H146,RANDBETWEEN(1,19),1)&RANDBETWEEN(1,9)&IF(Service!F128=\"\",TRIM(LEFT(Translit.Translit(Service!E128),3))&INDEX(Service!A128:A153,RANDBETWEEN(1,26),1),TRIM(LEFT(Translit.Translit(Service!F128),2))&INDEX(Service!H128:H146,RANDBETWEEN(1,19),1)&INDEX(Service!A128:A153,RANDBETWEEN(1,26),1)),'Информация о пользователе'!G130)","v":{"$error":"#NAME?"}}]
[{"$f":"TRIM(IF('Информация о пользователе'!A131=\"\",\"Пусто\",'Информация о пользователе'!A131))","v":"Пусто"},{"$f":"TRIM(IF('Информация о пользователе'!B131=\"\",\" \",'Информация о пользователе'!B131&\" \"&'Информация о пользователе'!C131))","v":""},{"$f":"TRIM(IF(AD!A130=\"\",\"\",AD!B130&\" \"&A130))","v":"Пусто"},{"$f":"TRIM(IF('Информация о пользователе'!D131=\"\",F130&\"@edu54.ru\",'Информация о пользователе'!D131))","v":"pusto@edu54.ru"},{"$f":"TRIM(IF('Информация о пользователе'!E131=\"\",\"\",'Информация о пользователе'!E131))","v":""},{"$f":"IF('Информация о пользователе'!F131=\"\",TRIM(Translit.Translit(A130)&TRIM(LEFT(Translit.Translit(Service!E129),1))&TRIM(LEFT(Translit.Translit(Service!F129),1))),TRIM('Информация о пользователе'!F131))","v":"pusto"},{"$f":"IF('Информация о пользователе'!G131=\"\",TRIM(LEFT(Translit.Translit(Service!E129),2))&INDEX(Service!H129:H147,RANDBETWEEN(1,19),1)&RANDBETWEEN(1,9)&IF(Service!F129=\"\",TRIM(LEFT(Translit.Translit(Service!E129),3))&INDEX(Service!A129:A154,RANDBETWEEN(1,26),1),TRIM(LEFT(Translit.Translit(Service!F129),2))&INDEX(Service!H129:H147,RANDBETWEEN(1,19),1)&INDEX(Service!A129:A154,RANDBETWEEN(1,26),1)),'Информация о пользователе'!G131)","v":{"$error":"#NAME?"}}]
[{"$f":"TRIM(IF('Информация о пользователе'!A132=\"\",\"Пусто\",'Информация о пользователе'!A132))","v":"Пусто"},{"$f":"TRIM(IF('Информация о пользователе'!B132=\"\",\" \",'Информация о пользователе'!B132&\" \"&'Информация о пользователе'!C132))","v":""},{"$f":"TRIM(IF(AD!A131=\"\",\"\",AD!B131&\" \"&A131))","v":"Пусто"},{"$f":"TRIM(IF('Информация о пользователе'!D132=\"\",F131&\"@edu54.ru\",'Информация о пользователе'!D132))","v":"pusto@edu54.ru"},{"$f":"TRIM(IF('Информация о пользователе'!E132=\"\",\"\",'Информация о пользователе'!E132))","v":""},{"$f":"IF('Информация о пользователе'!F132=\"\",TRIM(Translit.Translit(A131)&TRIM(LEFT(Translit.Translit(Service!E130),1))&TRIM(LEFT(Translit.Translit(Service!F130),1))),TRIM('Информация о пользователе'!F132))","v":"pusto"},{"$f":"IF('Информация о пользователе'!G132=\"\",TRIM(LEFT(Translit.Translit(Service!E130),2))&INDEX(Service!H130:H148,RANDBETWEEN(1,19),1)&RANDBETWEEN(1,9)&IF(Service!F130=\"\",TRIM(LEFT(Translit.Translit(Service!E130),3))&INDEX(Service!A130:A155,RANDBETWEEN(1,26),1),TRIM(LEFT(Translit.Translit(Service!F130),2))&INDEX(Service!H130:H148,RANDBETWEEN(1,19),1)&INDEX(Service!A130:A155,RANDBETWEEN(1,26),1)),'Информация о пользователе'!G132)","v":{"$error":"#NAME?"}}]
[{"$f":"TRIM(IF('Информация о пользователе'!A133=\"\",\"Пусто\",'Информация о пользователе'!A133))","v":"Пусто"},{"$f":"TRIM(IF('Информация о пользователе'!B133=\"\",\" \",'Информация о пользователе'!B133&\" \"&'Информация о пользователе'!C133))","v":""},{"$f":"TRIM(IF(AD!A132=\"\",\"\",AD!B132&\" \"&A132))","v":"Пусто"},{"$f":"TRIM(IF('Информация о пользователе'!D133=\"\",F132&\"@edu54.ru\",'Информация о пользователе'!D133))","v":"pusto@edu54.ru"},{"$f":"TRIM(IF('Информация о пользователе'!E133=\"\",\"\",'Информация о пользователе'!E133))","v":""},{"$f":"IF('Информация о пользователе'!F133=\"\",TRIM(Translit.Translit(A132)&TRIM(LEFT(Translit.Translit(Service!E131),1))&TRIM(LEFT(Translit.Translit(Service!F131),1))),TRIM('Информация о пользователе'!F133))","v":"pusto"},{"$f":"IF('Информация о пользователе'!G133=\"\",TRIM(LEFT(Translit.Translit(Service!E131),2))&INDEX(Service!H131:H149,RANDBETWEEN(1,19),1)&RANDBETWEEN(1,9)&IF(Service!F131=\"\",TRIM(LEFT(Translit.Translit(Service!E131),3))&INDEX(Service!A131:A156,RANDBETWEEN(1,26),1),TRIM(LEFT(Translit.Translit(Service!F131),2))&INDEX(Service!H131:H149,RANDBETWEEN(1,19),1)&INDEX(Service!A131:A156,RANDBETWEEN(1,26),1)),'Информация о пользователе'!G133)","v":{"$error":"#NAME?"}}]
[{"$f":"TRIM(IF('Информация о пользователе'!A134=\"\",\"Пусто\",'Информация о пользователе'!A134))","v":"Пусто"},{"$f":"TRIM(IF('Информация о пользователе'!B134=\"\",\" \",'Информация о пользователе'!B134&\" \"&'Информация о пользователе'!C134))","v":""},{"$f":"TRIM(IF(AD!A133=\"\",\"\",AD!B133&\" \"&A133))","v":"Пусто"},{"$f":"TRIM(IF('Информация о пользователе'!D134=\"\",F133&\"@edu54.ru\",'Информация о пользователе'!D134))","v":"pusto@edu54.ru"},{"$f":"TRIM(IF('Информация о пользователе'!E134=\"\",\"\",'Информация о пользователе'!E134))","v":""},{"$f":"IF('Информация о пользователе'!F134=\"\",TRIM(Translit.Translit(A133)&TRIM(LEFT(Translit.Translit(Service!E132),1))&TRIM(LEFT(Translit.Translit(Service!F132),1))),TRIM('Информация о пользователе'!F134))","v":"pusto"},{"$f":"IF('Информация о пользователе'!G134=\"\",TRIM(LEFT(Translit.Translit(Service!E132),2))&INDEX(Service!H132:H150,RANDBETWEEN(1,19),1)&RANDBETWEEN(1,9)&IF(Service!F132=\"\",TRIM(LEFT(Translit.Translit(Service!E132),3))&INDEX(Service!A132:A157,RANDBETWEEN(1,26),1),TRIM(LEFT(Translit.Translit(Service!F132),2))&INDEX(Service!H132:H150,RANDBETWEEN(1,19),1)&INDEX(Service!A132:A157,RANDBETWEEN(1,26),1)),'Информация о пользователе'!G134)","v":{"$error":"#NAME?"}}]
[{"$f":"TRIM(IF('Информация о пользователе'!A135=\"\",\"Пусто\",'Информация о пользователе'!A135))","v":"Пусто"},{"$f":"TRIM(IF('Информация о пользователе'!B135=\"\",\" \",'Информация о пользователе'!B135&\" \"&'Информация о пользователе'!C135))","v":""},{"$f":"TRIM(IF(AD!A134=\"\",\"\",AD!B134&\" \"&A134))","v":"Пусто"},{"$f":"TRIM(IF('Информация о пользователе'!D135=\"\",F134&\"@edu54.ru\",'Информация о пользователе'!D135))","v":"pusto@edu54.ru"},{"$f":"TRIM(IF('Информация о пользователе'!E135=\"\",\"\",'Информация о пользователе'!E135))","v":""},{"$f":"IF('Информация о пользователе'!F135=\"\",TRIM(Translit.Translit(A134)&TRIM(LEFT(Translit.Translit(Service!E133),1))&TRIM(LEFT(Translit.Translit(Service!F133),1))),TRIM('Информация о пользователе'!F135))","v":"pusto"},{"$f":"IF('Информация о пользователе'!G135=\"\",TRIM(LEFT(Translit.Translit(Service!E133),2))&INDEX(Service!H133:H151,RANDBETWEEN(1,19),1)&RANDBETWEEN(1,9)&IF(Service!F133=\"\",TRIM(LEFT(Translit.Translit(Service!E133),3))&INDEX(Service!A133:A158,RANDBETWEEN(1,26),1),TRIM(LEFT(Translit.Translit(Service!F133),2))&INDEX(Service!H133:H151,RANDBETWEEN(1,19),1)&INDEX(Service!A133:A158,RANDBETWEEN(1,26),1)),'Информация о пользователе'!G135)","v":{"$error":"#NAME?"}}]
[{"$f":"TRIM(IF('Информация о пользователе'!A136=\"\",\"Пусто\",'Информация о пользователе'!A136))","v":"Пусто"},{"$f":"TRIM(IF('Информация о пользователе'!B136=\"\",\" \",'Информация о пользователе'!B136&\" \"&'Информация о пользователе'!C136))","v":""},{"$f":"TRIM(IF(AD!A135=\"\",\"\",AD!B135&\" \"&A135))","v":"Пусто"},{"$f":"TRIM(IF('Информация о пользователе'!D136=\"\",F135&\"@edu54.ru\",'Информация о пользователе'!D136))","v":"pusto@edu54.ru"},{"$f":"TRIM(IF('Информация о пользователе'!E136=\"\",\"\",'Информация о пользователе'!E136))","v":""},{"$f":"IF('Информация о пользователе'!F136=\"\",TRIM(Translit.Translit(A135)&TRIM(LEFT(Translit.Translit(Service!E134),1))&TRIM(LEFT(Translit.Translit(Service!F134),1))),TRIM('Информация о пользователе'!F136))","v":"pusto"},{"$f":"IF('Информация о пользователе'!G136=\"\",TRIM(LEFT(Translit.Translit(Service!E134),2))&INDEX(Service!H134:H152,RANDBETWEEN(1,19),1)&RANDBETWEEN(1,9)&IF(Service!F134=\"\",TRIM(LEFT(Translit.Translit(Service!E134),3))&INDEX(Service!A134:A159,RANDBETWEEN(1,26),1),TRIM(LEFT(Translit.Translit(Service!F134),2))&INDEX(Service!H134:H152,RANDBETWEEN(1,19),1)&INDEX(Service!A134:A159,RANDBETWEEN(1,26),1)),'Информация о пользователе'!G136)","v":{"$error":"#NAME?"}}]
[{"$f":"TRIM(IF('Информация о пользователе'!A137=\"\",\"Пусто\",'Информация о пользователе'!A137))","v":"Пусто"},{"$f":"TRIM(IF('Информация о пользователе'!B137=\"\",\" \",'Информация о пользователе'!B137&\" \"&'Информация о пользователе'!C137))","v":""},{"$f":"TRIM(IF(AD!A136=\"\",\"\",AD!B136&\" \"&A136))","v":"Пусто"},{"$f":"TRIM(IF('Информация о пользователе'!D137=\"\",F136&\"@edu54.ru\",'Информация о пользователе'!D137))","v":"pusto@edu54.ru"},{"$f":"TRIM(IF('Информация о пользователе'!E137=\"\",\"\",'Информация о пользователе'!E137))","v":""},{"$f":"IF('Информация о пользователе'!F137=\"\",TRIM(Translit.Translit(A136)&TRIM(LEFT(Translit.Translit(Service!E135),1))&TRIM(LEFT(Translit.Translit(Service!F135),1))),TRIM('Информация о пользователе'!F137))","v":"pusto"},{"$f":"IF('Информация о пользователе'!G137=\"\",TRIM(LEFT(Translit.Translit(Service!E135),2))&INDEX(Service!H135:H153,RANDBETWEEN(1,19),1)&RANDBETWEEN(1,9)&IF(Service!F135=\"\",TRIM(LEFT(Translit.Translit(Service!E135),3))&INDEX(Service!A135:A160,RANDBETWEEN(1,26),1),TRIM(LEFT(Translit.Translit(Service!F135),2))&INDEX(Service!H135:H153,RANDBETWEEN(1,19),1)&INDEX(Service!A135:A160,RANDBETWEEN(1,26),1)),'Информация о пользователе'!G137)","v":{"$error":"#NAME?"}}]
[{"$f":"TRIM(IF('Информация о пользователе'!A138=\"\",\"Пусто\",'Информация о пользователе'!A138))","v":"Пусто"},{"$f":"TRIM(IF('Информация о пользователе'!B138=\"\",\" \",'Информация о пользователе'!B138&\" \"&'Информация о пользователе'!C138))","v":""},{"$f":"TRIM(IF(AD!A137=\"\",\"\",AD!B137&\" \"&A137))","v":"Пусто"},{"$f":"TRIM(IF('Информация о пользователе'!D138=\"\",F137&\"@edu54.ru\",'Информация о пользователе'!D138))","v":"pusto@edu54.ru"},{"$f":"TRIM(IF('Информация о пользователе'!E138=\"\",\"\",'Информация о пользователе'!E138))","v":""},{"$f":"IF('Информация о пользователе'!F138=\"\",TRIM(Translit.Translit(A137)&TRIM(LEFT(Translit.Translit(Service!E136),1))&TRIM(LEFT(Translit.Translit(Service!F136),1))),TRIM('Информация о пользователе'!F138))","v":"pusto"},{"$f":"IF('Информация о пользователе'!G138=\"\",TRIM(LEFT(Translit.Translit(Service!E136),2))&INDEX(Service!H136:H154,RANDBETWEEN(1,19),1)&RANDBETWEEN(1,9)&IF(Service!F136=\"\",TRIM(LEFT(Translit.Translit(Service!E136),3))&INDEX(Service!A136:A161,RANDBETWEEN(1,26),1),TRIM(LEFT(Translit.Translit(Service!F136),2))&INDEX(Service!H136:H154,RANDBETWEEN(1,19),1)&INDEX(Service!A136:A161,RANDBETWEEN(1,26),1)),'Информация о пользователе'!G138)","v":{"$error":"#NAME?"}}]
[{"$f":"TRIM(IF('Информация о пользователе'!A139=\"\",\"Пусто\",'Информация о пользователе'!A139))","v":"Пусто"},{"$f":"TRIM(IF('Информация о пользователе'!B139=\"\",\" \",'Информация о пользователе'!B139&\" \"&'Информация о пользователе'!C139))","v":""},{"$f":"TRIM(IF(AD!A138=\"\",\"\",AD!B138&\" \"&A138))","v":"Пусто"},{"$f":"TRIM(IF('Информация о пользователе'!D139=\"\",F138&\"@edu54.ru\",'Информация о пользователе'!D139))","v":"pusto@edu54.ru"},{"$f":"TRIM(IF('Информация о пользователе'!E139=\"\",\"\",'Информация о пользователе'!E139))","v":""},{"$f":"IF('Информация о пользователе'!F139=\"\",TRIM(Translit.Translit(A138)&TRIM(LEFT(Translit.Translit(Service!E137),1))&TRIM(LEFT(Translit.Translit(Service!F137),1))),TRIM('Информация о пользователе'!F139))","v":"pusto"},{"$f":"IF('Информация о пользователе'!G139=\"\",TRIM(LEFT(Translit.Translit(Service!E137),2))&INDEX(Service!H137:H155,RANDBETWEEN(1,19),1)&RANDBETWEEN(1,9)&IF(Service!F137=\"\",TRIM(LEFT(Translit.Translit(Service!E137),3))&INDEX(Service!A137:A162,RANDBETWEEN(1,26),1),TRIM(LEFT(Translit.Translit(Service!F137),2))&INDEX(Service!H137:H155,RANDBETWEEN(1,19),1)&INDEX(Service!A137:A162,RANDBETWEEN(1,26),1)),'Информация о пользователе'!G139)","v":{"$error":"#NAME?"}}]
[{"$f":"TRIM(IF('Информация о пользователе'!A140=\"\",\"Пусто\",'Информация о пользователе'!A140))","v":"Пусто"},{"$f":"TRIM(IF('Информация о пользователе'!B140=\"\",\" \",'Информация о пользователе'!B140&\" \"&'Информация о пользователе'!C140))","v":""},{"$f":"TRIM(IF(AD!A139=\"\",\"\",AD!B139&\" \"&A139))","v":"Пусто"},{"$f":"TRIM(IF('Информация о пользователе'!D140=\"\",F139&\"@edu54.ru\",'Информация о пользователе'!D140))","v":"pusto@edu54.ru"},{"$f":"TRIM(IF('Информация о пользователе'!E140=\"\",\"\",'Информация о пользователе'!E140))","v":""},{"$f":"IF('Информация о пользователе'!F140=\"\",TRIM(Translit.Translit(A139)&TRIM(LEFT(Translit.Translit(Service!E138),1))&TRIM(LEFT(Translit.Translit(Service!F138),1))),TRIM('Информация о пользователе'!F140))","v":"pusto"},{"$f":"IF('Информация о пользователе'!G140=\"\",TRIM(LEFT(Translit.Translit(Service!E138),2))&INDEX(Service!H138:H156,RANDBETWEEN(1,19),1)&RANDBETWEEN(1,9)&IF(Service!F138=\"\",TRIM(LEFT(Translit.Translit(Service!E138),3))&INDEX(Service!A138:A163,RANDBETWEEN(1,26),1),TRIM(LEFT(Translit.Translit(Service!F138),2))&INDEX(Service!H138:H156,RANDBETWEEN(1,19),1)&INDEX(Service!A138:A163,RANDBETWEEN(1,26),1)),'Информация о пользователе'!G140)","v":{"$error":"#NAME?"}}]
[{"$f":"TRIM(IF('Информация о пользователе'!A141=\"\",\"Пусто\",'Информация о пользователе'!A141))","v":"Пусто"},{"$f":"TRIM(IF('Информация о пользователе'!B141=\"\",\" \",'Информация о пользователе'!B141&\" \"&'Информация о пользователе'!C141))","v":""},{"$f":"TRIM(IF(AD!A140=\"\",\"\",AD!B140&\" \"&A140))","v":"Пусто"},{"$f":"TRIM(IF('Информация о пользователе'!D141=\"\",F140&\"@edu54.ru\",'Информация о пользователе'!D141))","v":"pusto@edu54.ru"},{"$f":"TRIM(IF('Информация о пользователе'!E141=\"\",\"\",'Информация о пользователе'!E141))","v":""},{"$f":"IF('Информация о пользователе'!F141=\"\",TRIM(Translit.Translit(A140)&TRIM(LEFT(Translit.Translit(Service!E139),1))&TRIM(LEFT(Translit.Translit(Service!F139),1))),TRIM('Информация о пользователе'!F141))","v":"pusto"},{"$f":"IF('Информация о пользователе'!G141=\"\",TRIM(LEFT(Translit.Translit(Service!E139),2))&INDEX(Service!H139:H157,RANDBETWEEN(1,19),1)&RANDBETWEEN(1,9)&IF(Service!F139=\"\",TRIM(LEFT(Translit.Translit(Service!E139),3))&INDEX(Service!A139:A164,RANDBETWEEN(1,26),1),TRIM(LEFT(Translit.Translit(Service!F139),2))&INDEX(Service!H139:H157,RANDBETWEEN(1,19),1)&INDEX(Service!A139:A164,RANDBETWEEN(1,26),1)),'Информация о пользователе'!G141)","v":{"$error":"#NAME?"}}]
[{"$f":"TRIM(IF('Информация о пользователе'!A142=\"\",\"Пусто\",'Информация о пользователе'!A142))","v":"Пусто"},{"$f":"TRIM(IF('Информация о пользователе'!B142=\"\",\" \",'Информация о пользователе'!B142&\" \"&'Информация о пользователе'!C142))","v":""},{"$f":"TRIM(IF(AD!A141=\"\",\"\",AD!B141&\" \"&A141))","v":"Пусто"},{"$f":"TRIM(IF('Информация о пользователе'!D142=\"\",F141&\"@edu54.ru\",'Информация о пользователе'!D142))","v":"pusto@edu54.ru"},{"$f":"TRIM(IF('Информация о пользователе'!E142=\"\",\"\",'Информация о пользователе'!E142))","v":""},{"$f":"IF('Информация о пользователе'!F142=\"\",TRIM(Translit.Translit(A141)&TRIM(LEFT(Translit.Translit(Service!E140),1))&TRIM(LEFT(Translit.Translit(Service!F140),1))),TRIM('Информация о пользователе'!F142))","v":"pusto"},{"$f":"IF('Информация о пользователе'!G142=\"\",TRIM(LEFT(Translit.Translit(Service!E140),2))&INDEX(Service!H140:H158,RANDBETWEEN(1,19),1)&RANDBETWEEN(1,9)&IF(Service!F140=\"\",TRIM(LEFT(Translit.Translit(Service!E140),3))&INDEX(Service!A140:A165,RANDBETWEEN(1,26),1),TRIM(LEFT(Translit.Translit(Service!F140),2))&INDEX(Service!H140:H158,RANDBETWEEN(1,19),1)&INDEX(Service!A140:A165,RANDBETWEEN(1,26),1)),'Информация о пользователе'!G142)","v":{"$error":"#NAME?"}}]
[{"$f":"TRIM(IF('Информация о пользователе'!A143=\"\",\"Пусто\",'Информация о пользователе'!A143))","v":"Пусто"},{"$f":"TRIM(IF('Информация о пользователе'!B143=\"\",\" \",'Информация о пользователе'!B143&\" \"&'Информация о пользователе'!C143))","v":""},{"$f":"TRIM(IF(AD!A142=\"\",\"\",AD!B142&\" \"&A142))","v":"Пусто"},{"$f":"TRIM(IF('Информация о пользователе'!D143=\"\",F142&\"@edu54.ru\",'Информация о пользователе'!D143))","v":"pusto@edu54.ru"},{"$f":"TRIM(IF('Информация о пользователе'!E143=\"\",\"\",'Информация о пользователе'!E143))","v":""},{"$f":"IF('Информация о пользователе'!F143=\"\",TRIM(Translit.Translit(A142)&TRIM(LEFT(Translit.Translit(Service!E141),1))&TRIM(LEFT(Translit.Translit(Service!F141),1))),TRIM('Информация о пользователе'!F143))","v":"pusto"},{"$f":"IF('Информация о пользователе'!G143=\"\",TRIM(LEFT(Translit.Translit(Service!E141),2))&INDEX(Service!H141:H159,RANDBETWEEN(1,19),1)&RANDBETWEEN(1,9)&IF(Service!F141=\"\",TRIM(LEFT(Translit.Translit(Service!E141),3))&INDEX(Service!A141:A166,RANDBETWEEN(1,26),1),TRIM(LEFT(Translit.Translit(Service!F141),2))&INDEX(Service!H141:H159,RANDBETWEEN(1,19),1)&INDEX(Service!A141:A166,RANDBETWEEN(1,26),1)),'Информация о пользователе'!G143)","v":{"$error":"#NAME?"}}]
[{"$f":"TRIM(IF('Информация о пользователе'!A144=\"\",\"Пусто\",'Информация о пользователе'!A144))","v":"Пусто"},{"$f":"TRIM(IF('Информация о пользователе'!B144=\"\",\" \",'Информация о пользователе'!B144&\" \"&'Информация о пользователе'!C144))","v":""},{"$f":"TRIM(IF(AD!A143=\"\",\"\",AD!B143&\" \"&A143))","v":"Пусто"},{"$f":"TRIM(IF('Информация о пользователе'!D144=\"\",F143&\"@edu54.ru\",'Информация о пользователе'!D144))","v":"pusto@edu54.ru"},{"$f":"TRIM(IF('Информация о пользователе'!E144=\"\",\"\",'Информация о пользователе'!E144))","v":""},{"$f":"IF('Информация о пользователе'!F144=\"\",TRIM(Translit.Translit(A143)&TRIM(LEFT(Translit.Translit(Service!E142),1))&TRIM(LEFT(Translit.Translit(Service!F142),1))),TRIM('Информация о пользователе'!F144))","v":"pusto"},{"$f":"IF('Информация о пользователе'!G144=\"\",TRIM(LEFT(Translit.Translit(Service!E142),2))&INDEX(Service!H142:H160,RANDBETWEEN(1,19),1)&RANDBETWEEN(1,9)&IF(Service!F142=\"\",TRIM(LEFT(Translit.Translit(Service!E142),3))&INDEX(Service!A142:A167,RANDBETWEEN(1,26),1),TRIM(LEFT(Translit.Translit(Service!F142),2))&INDEX(Service!H142:H160,RANDBETWEEN(1,19),1)&INDEX(Service!A142:A167,RANDBETWEEN(1,26),1)),'Информация о пользователе'!G144)","v":{"$error":"#NAME?"}}]
[{"$f":"TRIM(IF('Информация о пользователе'!A145=\"\",\"Пусто\",'Информация о пользователе'!A145))","v":"Пусто"},{"$f":"TRIM(IF('Информация о пользователе'!B145=\"\",\" \",'Информация о пользователе'!B145&\" \"&'Информация о пользователе'!C145))","v":""},{"$f":"TRIM(IF(AD!A144=\"\",\"\",AD!B144&\" \"&A144))","v":"Пусто"},{"$f":"TRIM(IF('Информация о пользователе'!D145=\"\",F144&\"@edu54.ru\",'Информация о пользователе'!D145))","v":"pusto@edu54.ru"},{"$f":"TRIM(IF('Информация о пользователе'!E145=\"\",\"\",'Информация о пользователе'!E145))","v":""},{"$f":"IF('Информация о пользователе'!F145=\"\",TRIM(Translit.Translit(A144)&TRIM(LEFT(Translit.Translit(Service!E143),1))&TRIM(LEFT(Translit.Translit(Service!F143),1))),TRIM('Информация о пользователе'!F145))","v":"pusto"},{"$f":"IF('Информация о пользователе'!G145=\"\",TRIM(LEFT(Translit.Translit(Service!E143),2))&INDEX(Service!H143:H161,RANDBETWEEN(1,19),1)&RANDBETWEEN(1,9)&IF(Service!F143=\"\",TRIM(LEFT(Translit.Translit(Service!E143),3))&INDEX(Service!A143:A168,RANDBETWEEN(1,26),1),TRIM(LEFT(Translit.Translit(Service!F143),2))&INDEX(Service!H143:H161,RANDBETWEEN(1,19),1)&INDEX(Service!A143:A168,RANDBETWEEN(1,26),1)),'Информация о пользователе'!G145)","v":{"$error":"#NAME?"}}]
[{"$f":"TRIM(IF('Информация о пользователе'!A146=\"\",\"Пусто\",'Информация о пользователе'!A146))","v":"Пусто"},{"$f":"TRIM(IF('Информация о пользователе'!B146=\"\",\" \",'Информация о пользователе'!B146&\" \"&'Информация о пользователе'!C146))","v":""},{"$f":"TRIM(IF(AD!A145=\"\",\"\",AD!B145&\" \"&A145))","v":"Пусто"},{"$f":"TRIM(IF('Информация о пользователе'!D146=\"\",F145&\"@edu54.ru\",'Информация о пользователе'!D146))","v":"pusto@edu54.ru"},{"$f":"TRIM(IF('Информация о пользователе'!E146=\"\",\"\",'Информация о пользователе'!E146))","v":""},{"$f":"IF('Информация о пользователе'!F146=\"\",TRIM(Translit.Translit(A145)&TRIM(LEFT(Translit.Translit(Service!E144),1))&TRIM(LEFT(Translit.Translit(Service!F144),1))),TRIM('Информация о пользователе'!F146))","v":"pusto"},{"$f":"IF('Информация о пользователе'!G146=\"\",TRIM(LEFT(Translit.Translit(Service!E144),2))&INDEX(Service!H144:H162,RANDBETWEEN(1,19),1)&RANDBETWEEN(1,9)&IF(Service!F144=\"\",TRIM(LEFT(Translit.Translit(Service!E144),3))&INDEX(Service!A144:A169,RANDBETWEEN(1,26),1),TRIM(LEFT(Translit.Translit(Service!F144),2))&INDEX(Service!H144:H162,RANDBETWEEN(1,19),1)&INDEX(Service!A144:A169,RANDBETWEEN(1,26),1)),'Информация о пользователе'!G146)","v":{"$error":"#NAME?"}}]
[{"$f":"TRIM(IF('Информация о пользователе'!A147=\"\",\"Пусто\",'Информация о пользователе'!A147))","v":"Пусто"},{"$f":"TRIM(IF('Информация о пользователе'!B147=\"\",\" \",'Информация о пользователе'!B147&\" \"&'Информация о пользователе'!C147))","v":""},{"$f":"TRIM(IF(AD!A146=\"\",\"\",AD!B146&\" \"&A146))","v":"Пусто"},{"$f":"TRIM(IF('Информация о пользователе'!D147=\"\",F146&\"@edu54.ru\",'Информация о пользователе'!D147))","v":"pusto@edu54.ru"},{"$f":"TRIM(IF('Информация о пользователе'!E147=\"\",\"\",'Информация о пользователе'!E147))","v":""},{"$f":"IF('Информация о пользователе'!F147=\"\",TRIM(Translit.Translit(A146)&TRIM(LEFT(Translit.Translit(Service!E145),1))&TRIM(LEFT(Translit.Translit(Service!F145),1))),TRIM('Информация о пользователе'!F147))","v":"pusto"},{"$f":"IF('Информация о пользователе'!G147=\"\",TRIM(LEFT(Translit.Translit(Service!E145),2))&INDEX(Service!H145:H163,RANDBETWEEN(1,19),1)&RANDBETWEEN(1,9)&IF(Service!F145=\"\",TRIM(LEFT(Translit.Translit(Service!E145),3))&INDEX(Service!A145:A170,RANDBETWEEN(1,26),1),TRIM(LEFT(Translit.Translit(Service!F145),2))&INDEX(Service!H145:H163,RANDBETWEEN(1,19),1)&INDEX(Service!A145:A170,RANDBETWEEN(1,26),1)),'Информация о пользователе'!G147)","v":{"$error":"#NAME?"}}]
[{"$f":"TRIM(IF('Информация о пользователе'!A148=\"\",\"Пусто\",'Информация о пользователе'!A148))","v":"Пусто"},{"$f":"TRIM(IF('Информация о пользователе'!B148=\"\",\" \",'Информация о пользователе'!B148&\" \"&'Информация о пользователе'!C148))","v":""},{"$f":"TRIM(IF(AD!A147=\"\",\"\",AD!B147&\" \"&A147))","v":"Пусто"},{"$f":"TRIM(IF('Информация о пользователе'!D148=\"\",F147&\"@edu54.ru\",'Информация о пользователе'!D148))","v":"pusto@edu54.ru"},{"$f":"TRIM(IF('Информация о пользователе'!E148=\"\",\"\",'Информация о пользователе'!E148))","v":""},{"$f":"IF('Информация о пользователе'!F148=\"\",TRIM(Translit.Translit(A147)&TRIM(LEFT(Translit.Translit(Service!E146),1))&TRIM(LEFT(Translit.Translit(Service!F146),1))),TRIM('Информация о пользователе'!F148))","v":"pusto"},{"$f":"IF('Информация о пользователе'!G148=\"\",TRIM(LEFT(Translit.Translit(Service!E146),2))&INDEX(Service!H146:H164,RANDBETWEEN(1,19),1)&RANDBETWEEN(1,9)&IF(Service!F146=\"\",TRIM(LEFT(Translit.Translit(Service!E146),3))&INDEX(Service!A146:A171,RANDBETWEEN(1,26),1),TRIM(LEFT(Translit.Translit(Service!F146),2))&INDEX(Service!H146:H164,RANDBETWEEN(1,19),1)&INDEX(Service!A146:A171,RANDBETWEEN(1,26),1)),'Информация о пользователе'!G148)","v":{"$error":"#NAME?"}}]
[{"$f":"TRIM(IF('Информация о пользователе'!A149=\"\",\"Пусто\",'Информация о пользователе'!A149))","v":"Пусто"},{"$f":"TRIM(IF('Информация о пользователе'!B149=\"\",\" \",'Информация о пользователе'!B149&\" \"&'Информация о пользователе'!C149))","v":""},{"$f":"TRIM(IF(AD!A148=\"\",\"\",AD!B148&\" \"&A148))","v":"Пусто"},{"$f":"TRIM(IF('Информация о пользователе'!D149=\"\",F148&\"@edu54.ru\",'Информация о пользователе'!D149))","v":"pusto@edu54.ru"},{"$f":"TRIM(IF('Информация о пользователе'!E149=\"\",\"\",'Информация о пользователе'!E149))","v":""},{"$f":"IF('Информация о пользователе'!F149=\"\",TRIM(Translit.Translit(A148)&TRIM(LEFT(Translit.Translit(Service!E147),1))&TRIM(LEFT(Translit.Translit(Service!F147),1))),TRIM('Информация о пользователе'!F149))","v":"pusto"},{"$f":"IF('Информация о пользователе'!G149=\"\",TRIM(LEFT(Translit.Translit(Service!E147),2))&INDEX(Service!H147:H165,RANDBETWEEN(1,19),1)&RANDBETWEEN(1,9)&IF(Service!F147=\"\",TRIM(LEFT(Translit.Translit(Service!E147),3))&INDEX(Service!A147:A172,RANDBETWEEN(1,26),1),TRIM(LEFT(Translit.Translit(Service!F147),2))&INDEX(Service!H147:H165,RANDBETWEEN(1,19),1)&INDEX(Service!A147:A172,RANDBETWEEN(1,26),1)),'Информация о пользователе'!G149)","v":{"$error":"#NAME?"}}]
[{"$f":"TRIM(IF('Информация о пользователе'!A150=\"\",\"Пусто\",'Информация о пользователе'!A150))","v":"Пусто"},{"$f":"TRIM(IF('Информация о пользователе'!B150=\"\",\" \",'Информация о пользователе'!B150&\" \"&'Информация о пользователе'!C150))","v":""},{"$f":"TRIM(IF(AD!A149=\"\",\"\",AD!B149&\" \"&A149))","v":"Пусто"},{"$f":"TRIM(IF('Информация о пользователе'!D150=\"\",F149&\"@edu54.ru\",'Информация о пользователе'!D150))","v":"pusto@edu54.ru"},{"$f":"TRIM(IF('Информация о пользователе'!E150=\"\",\"\",'Информация о пользователе'!E150))","v":""},{"$f":"IF('Информация о пользователе'!F150=\"\",TRIM(Translit.Translit(A149)&TRIM(LEFT(Translit.Translit(Service!E148),1))&TRIM(LEFT(Translit.Translit(Service!F148),1))),TRIM('Информация о пользователе'!F150))","v":"pusto"},{"$f":"IF('Информация о пользователе'!G150=\"\",TRIM(LEFT(Translit.Translit(Service!E148),2))&INDEX(Service!H148:H166,RANDBETWEEN(1,19),1)&RANDBETWEEN(1,9)&IF(Service!F148=\"\",TRIM(LEFT(Translit.Translit(Service!E148),3))&INDEX(Service!A148:A173,RANDBETWEEN(1,26),1),TRIM(LEFT(Translit.Translit(Service!F148),2))&INDEX(Service!H148:H166,RANDBETWEEN(1,19),1)&INDEX(Service!A148:A173,RANDBETWEEN(1,26),1)),'Информация о пользователе'!G150)","v":{"$error":"#NAME?"}}]
[{"$f":"TRIM(IF('Информация о пользователе'!A151=\"\",\"Пусто\",'Информация о пользователе'!A151))","v":"Пусто"},{"$f":"TRIM(IF('Информация о пользователе'!B151=\"\",\" \",'Информация о пользователе'!B151&\" \"&'Информация о пользователе'!C151))","v":""},{"$f":"TRIM(IF(AD!A150=\"\",\"\",AD!B150&\" \"&A150))","v":"Пусто"},{"$f":"TRIM(IF('Информация о пользователе'!D151=\"\",F150&\"@edu54.ru\",'Информация о пользователе'!D151))","v":"pusto@edu54.ru"},{"$f":"TRIM(IF('Информация о пользователе'!E151=\"\",\"\",'Информация о пользователе'!E151))","v":""},{"$f":"IF('Информация о пользователе'!F151=\"\",TRIM(Translit.Translit(A150)&TRIM(LEFT(Translit.Translit(Service!E149),1))&TRIM(LEFT(Translit.Translit(Service!F149),1))),TRIM('Информация о пользователе'!F151))","v":"pusto"},{"$f":"IF('Информация о пользователе'!G151=\"\",TRIM(LEFT(Translit.Translit(Service!E149),2))&INDEX(Service!H149:H167,RANDBETWEEN(1,19),1)&RANDBETWEEN(1,9)&IF(Service!F149=\"\",TRIM(LEFT(Translit.Translit(Service!E149),3))&INDEX(Service!A149:A174,RANDBETWEEN(1,26),1),TRIM(LEFT(Translit.Translit(Service!F149),2))&INDEX(Service!H149:H167,RANDBETWEEN(1,19),1)&INDEX(Service!A149:A174,RANDBETWEEN(1,26),1)),'Информация о пользователе'!G151)","v":{"$error":"#NAME?"}}]
[{"$f":"TRIM(IF('Информация о пользователе'!A152=\"\",\"Пусто\",'Информация о пользователе'!A152))","v":"Пусто"},{"$f":"TRIM(IF('Информация о пользователе'!B152=\"\",\" \",'Информация о пользователе'!B152&\" \"&'Информация о пользователе'!C152))","v":""},{"$f":"TRIM(IF(AD!A151=\"\",\"\",AD!B151&\" \"&A151))","v":"Пусто"},{"$f":"TRIM(IF('Информация о пользователе'!D152=\"\",F151&\"@edu54.ru\",'Информация о пользователе'!D152))","v":"pusto@edu54.ru"},{"$f":"TRIM(IF('Информация о пользователе'!E152=\"\",\"\",'Информация о пользователе'!E152))","v":""},{"$f":"IF('Информация о пользователе'!F152=\"\",TRIM(Translit.Translit(A151)&TRIM(LEFT(Translit.Translit(Service!E150),1))&TRIM(LEFT(Translit.Translit(Service!F150),1))),TRIM('Информация о пользователе'!F152))","v":"pusto"},{"$f":"IF('Информация о пользователе'!G152=\"\",TRIM(LEFT(Translit.Translit(Service!E150),2))&INDEX(Service!H150:H168,RANDBETWEEN(1,19),1)&RANDBETWEEN(1,9)&IF(Service!F150=\"\",TRIM(LEFT(Translit.Translit(Service!E150),3))&INDEX(Service!A150:A175,RANDBETWEEN(1,26),1),TRIM(LEFT(Translit.Translit(Service!F150),2))&INDEX(Service!H150:H168,RANDBETWEEN(1,19),1)&INDEX(Service!A150:A175,RANDBETWEEN(1,26),1)),'Информация о пользователе'!G152)","v":{"$error":"#NAME?"}}]
[{"$f":"TRIM(IF('Информация о пользователе'!A153=\"\",\"Пусто\",'Информация о пользователе'!A153))","v":"Пусто"},{"$f":"TRIM(IF('Информация о пользователе'!B153=\"\",\" \",'Информация о пользователе'!B153&\" \"&'Информация о пользователе'!C153))","v":""},{"$f":"TRIM(IF(AD!A152=\"\",\"\",AD!B152&\" \"&A152))","v":"Пусто"},{"$f":"TRIM(IF('Информация о пользователе'!D153=\"\",F152&\"@edu54.ru\",'Информация о пользователе'!D153))","v":"pusto@edu54.ru"},{"$f":"TRIM(IF('Информация о пользователе'!E153=\"\",\"\",'Информация о пользователе'!E153))","v":""},{"$f":"IF('Информация о пользователе'!F153=\"\",TRIM(Translit.Translit(A152)&TRIM(LEFT(Translit.Translit(Service!E151),1))&TRIM(LEFT(Translit.Translit(Service!F151),1))),TRIM('Информация о пользователе'!F153))","v":"pusto"},{"$f":"IF('Информация о пользователе'!G153=\"\",TRIM(LEFT(Translit.Translit(Service!E151),2))&INDEX(Service!H151:H169,RANDBETWEEN(1,19),1)&RANDBETWEEN(1,9)&IF(Service!F151=\"\",TRIM(LEFT(Translit.Translit(Service!E151),3))&INDEX(Service!A151:A176,RANDBETWEEN(1,26),1),TRIM(LEFT(Translit.Translit(Service!F151),2))&INDEX(Service!H151:H169,RANDBETWEEN(1,19),1)&INDEX(Service!A151:A176,RANDBETWEEN(1,26),1)),'Информация о пользователе'!G153)","v":{"$error":"#NAME?"}}]
[{"$f":"TRIM(IF('Информация о пользователе'!A154=\"\",\"Пусто\",'Информация о пользователе'!A154))","v":"Пусто"},{"$f":"TRIM(IF('Информация о пользователе'!B154=\"\",\" \",'Информация о пользователе'!B154&\" \"&'Информация о пользователе'!C154))","v":""},{"$f":"TRIM(IF(AD!A153=\"\",\"\",AD!B153&\" \"&A153))","v":"Пусто"},{"$f":"TRIM(IF('Информация о пользователе'!D154=\"\",F153&\"@edu54.ru\",'Информация о пользователе'!D154))","v":"pusto@edu54.ru"},{"$f":"TRIM(IF('Информация о пользователе'!E154=\"\",\"\",'Информация о пользователе'!E154))","v":""},{"$f":"IF('Информация о пользователе'!F154=\"\",TRIM(Translit.Translit(A153)&TRIM(LEFT(Translit.Translit(Service!E152),1))&TRIM(LEFT(Translit.Translit(Service!F152),1))),TRIM('Информация о пользователе'!F154))","v":"pusto"},{"$f":"IF('Информация о пользователе'!G154=\"\",TRIM(LEFT(Translit.Translit(Service!E152),2))&INDEX(Service!H152:H170,RANDBETWEEN(1,19),1)&RANDBETWEEN(1,9)&IF(Service!F152=\"\",TRIM(LEFT(Translit.Translit(Service!E152),3))&INDEX(Service!A152:A177,RANDBETWEEN(1,26),1),TRIM(LEFT(Translit.Translit(Service!F152),2))&INDEX(Service!H152:H170,RANDBETWEEN(1,19),1)&INDEX(Service!A152:A177,RANDBETWEEN(1,26),1)),'Информация о пользователе'!G154)","v":{"$error":"#NAME?"}}]
[{"$f":"TRIM(IF('Информация о пользователе'!A155=\"\",\"Пусто\",'Информация о пользователе'!A155))","v":"Пусто"},{"$f":"TRIM(IF('Информация о пользователе'!B155=\"\",\" \",'Информация о пользователе'!B155&\" \"&'Информация о пользователе'!C155))","v":""},{"$f":"TRIM(IF(AD!A154=\"\",\"\",AD!B154&\" \"&A154))","v":"Пусто"},{"$f":"TRIM(IF('Информация о пользователе'!D155=\"\",F154&\"@edu54.ru\",'Информация о пользователе'!D155))","v":"pusto@edu54.ru"},{"$f":"TRIM(IF('Информация о пользователе'!E155=\"\",\"\",'Информация о пользователе'!E155))","v":""},{"$f":"IF('Информация о пользователе'!F155=\"\",TRIM(Translit.Translit(A154)&TRIM(LEFT(Translit.Translit(Service!E153),1))&TRIM(LEFT(Translit.Translit(Service!F153),1))),TRIM('Информация о пользователе'!F155))","v":"pusto"},{"$f":"IF('Информация о пользователе'!G155=\"\",TRIM(LEFT(Translit.Translit(Service!E153),2))&INDEX(Service!H153:H171,RANDBETWEEN(1,19),1)&RANDBETWEEN(1,9)&IF(Service!F153=\"\",TRIM(LEFT(Translit.Translit(Service!E153),3))&INDEX(Service!A153:A178,RANDBETWEEN(1,26),1),TRIM(LEFT(Translit.Translit(Service!F153),2))&INDEX(Service!H153:H171,RANDBETWEEN(1,19),1)&INDEX(Service!A153:A178,RANDBETWEEN(1,26),1)),'Информация о пользователе'!G155)","v":{"$error":"#NAME?"}}]
[{"$f":"TRIM(IF('Информация о пользователе'!A156=\"\",\"Пусто\",'Информация о пользователе'!A156))","v":"Пусто"},{"$f":"TRIM(IF('Информация о пользователе'!B156=\"\",\" \",'Информация о пользователе'!B156&\" \"&'Информация о пользователе'!C156))","v":""},{"$f":"TRIM(IF(AD!A155=\"\",\"\",AD!B155&\" \"&A155))","v":"Пусто"},{"$f":"TRIM(IF('Информация о пользователе'!D156=\"\",F155&\"@edu54.ru\",'Информация о пользователе'!D156))","v":"pusto@edu54.ru"},{"$f":"TRIM(IF('Информация о пользователе'!E156=\"\",\"\",'Информация о пользователе'!E156))","v":""},{"$f":"IF('Информация о пользователе'!F156=\"\",TRIM(Translit.Translit(A155)&TRIM(LEFT(Translit.Translit(Service!E154),1))&TRIM(LEFT(Translit.Translit(Service!F154),1))),TRIM('Информация о пользователе'!F156))","v":"pusto"},{"$f":"IF('Информация о пользователе'!G156=\"\",TRIM(LEFT(Translit.Translit(Service!E154),2))&INDEX(Service!H154:H172,RANDBETWEEN(1,19),1)&RANDBETWEEN(1,9)&IF(Service!F154=\"\",TRIM(LEFT(Translit.Translit(Service!E154),3))&INDEX(Service!A154:A179,RANDBETWEEN(1,26),1),TRIM(LEFT(Translit.Translit(Service!F154),2))&INDEX(Service!H154:H172,RANDBETWEEN(1,19),1)&INDEX(Service!A154:A179,RANDBETWEEN(1,26),1)),'Информация о пользователе'!G156)","v":{"$error":"#NAME?"}}]
[{"$f":"TRIM(IF('Информация о пользователе'!A157=\"\",\"Пусто\",'Информация о пользователе'!A157))","v":"Пусто"},{"$f":"TRIM(IF('Информация о пользователе'!B157=\"\",\" \",'Информация о пользователе'!B157&\" \"&'Информация о пользователе'!C157))","v":""},{"$f":"TRIM(IF(AD!A156=\"\",\"\",AD!B156&\" \"&A156))","v":"Пусто"},{"$f":"TRIM(IF('Информация о пользователе'!D157=\"\",F156&\"@edu54.ru\",'Информация о пользователе'!D157))","v":"pusto@edu54.ru"},{"$f":"TRIM(IF('Информация о пользователе'!E157=\"\",\"\",'Информация о пользователе'!E157))","v":""},{"$f":"IF('Информация о пользователе'!F157=\"\",TRIM(Translit.Translit(A156)&TRIM(LEFT(Translit.Translit(Service!E155),1))&TRIM(LEFT(Translit.Translit(Service!F155),1))),TRIM('Информация о пользователе'!F157))","v":"pusto"},{"$f":"IF('Информация о пользователе'!G157=\"\",TRIM(LEFT(Translit.Translit(Service!E155),2))&INDEX(Service!H155:H173,RANDBETWEEN(1,19),1)&RANDBETWEEN(1,9)&IF(Service!F155=\"\",TRIM(LEFT(Translit.Translit(Service!E155),3))&INDEX(Service!A155:A180,RANDBETWEEN(1,26),1),TRIM(LEFT(Translit.Translit(Service!F155),2))&INDEX(Service!H155:H173,RANDBETWEEN(1,19),1)&INDEX(Service!A155:A180,RANDBETWEEN(1,26),1)),'Информация о пользователе'!G157)","v":{"$error":"#NAME?"}}]
[{"$f":"TRIM(IF('Информация о пользователе'!A158=\"\",\"Пусто\",'Информация о пользователе'!A158))","v":"Пусто"},{"$f":"TRIM(IF('Информация о пользователе'!B158=\"\",\" \",'Информация о пользователе'!B158&\" \"&'Информация о пользователе'!C158))","v":""},{"$f":"TRIM(IF(AD!A157=\"\",\"\",AD!B157&\" \"&A157))","v":"Пусто"},{"$f":"TRIM(IF('Информация о пользователе'!D158=\"\",F157&\"@edu54.ru\",'Информация о пользователе'!D158))","v":"pusto@edu54.ru"},{"$f":"TRIM(IF('Информация о пользователе'!E158=\"\",\"\",'Информация о пользователе'!E158))","v":""},{"$f":"IF('Информация о пользователе'!F158=\"\",TRIM(Translit.Translit(A157)&TRIM(LEFT(Translit.Translit(Service!E156),1))&TRIM(LEFT(Translit.Translit(Service!F156),1))),TRIM('Информация о пользователе'!F158))","v":"pusto"},{"$f":"IF('Информация о пользователе'!G158=\"\",TRIM(LEFT(Translit.Translit(Service!E156),2))&INDEX(Service!H156:H174,RANDBETWEEN(1,19),1)&RANDBETWEEN(1,9)&IF(Service!F156=\"\",TRIM(LEFT(Translit.Translit(Service!E156),3))&INDEX(Service!A156:A181,RANDBETWEEN(1,26),1),TRIM(LEFT(Translit.Translit(Service!F156),2))&INDEX(Service!H156:H174,RANDBETWEEN(1,19),1)&INDEX(Service!A156:A181,RANDBETWEEN(1,26),1)),'Информация о пользователе'!G158)","v":{"$error":"#NAME?"}}]
[{"$f":"TRIM(IF('Информация о пользователе'!A159=\"\",\"Пусто\",'Информация о пользователе'!A159))","v":"Пусто"},{"$f":"TRIM(IF('Информация о пользователе'!B159=\"\",\" \",'Информация о пользователе'!B159&\" \"&'Информация о пользователе'!C159))","v":""},{"$f":"TRIM(IF(AD!A158=\"\",\"\",AD!B158&\" \"&A158))","v":"Пусто"},{"$f":"TRIM(IF('Информация о пользователе'!D159=\"\",F158&\"@edu54.ru\",'Информация о пользователе'!D159))","v":"pusto@edu54.ru"},{"$f":"TRIM(IF('Информация о пользователе'!E159=\"\",\"\",'Информация о пользователе'!E159))","v":""},{"$f":"IF('Информация о пользователе'!F159=\"\",TRIM(Translit.Translit(A158)&TRIM(LEFT(Translit.Translit(Service!E157),1))&TRIM(LEFT(Translit.Translit(Service!F157),1))),TRIM('Информация о пользователе'!F159))","v":"pusto"},{"$f":"IF('Информация о пользователе'!G159=\"\",TRIM(LEFT(Translit.Translit(Service!E157),2))&INDEX(Service!H157:H175,RANDBETWEEN(1,19),1)&RANDBETWEEN(1,9)&IF(Service!F157=\"\",TRIM(LEFT(Translit.Translit(Service!E157),3))&INDEX(Service!A157:A182,RANDBETWEEN(1,26),1),TRIM(LEFT(Translit.Translit(Service!F157),2))&INDEX(Service!H157:H175,RANDBETWEEN(1,19),1)&INDEX(Service!A157:A182,RANDBETWEEN(1,26),1)),'Информация о пользователе'!G159)","v":{"$error":"#NAME?"}}]
[{"$f":"TRIM(IF('Информация о пользователе'!A160=\"\",\"Пусто\",'Информация о пользователе'!A160))","v":"Пусто"},{"$f":"TRIM(IF('Информация о пользователе'!B160=\"\",\" \",'Информация о пользователе'!B160&\" \"&'Информация о пользователе'!C160))","v":""},{"$f":"TRIM(IF(AD!A159=\"\",\"\",AD!B159&\" \"&A159))","v":"Пусто"},{"$f":"TRIM(IF('Информация о пользователе'!D160=\"\",F159&\"@edu54.ru\",'Информация о пользователе'!D160))","v":"pusto@edu54.ru"},{"$f":"TRIM(IF('Информация о пользователе'!E160=\"\",\"\",'Информация о пользователе'!E160))","v":""},{"$f":"IF('Информация о пользователе'!F160=\"\",TRIM(Translit.Translit(A159)&TRIM(LEFT(Translit.Translit(Service!E158),1))&TRIM(LEFT(Translit.Translit(Service!F158),1))),TRIM('Информация о пользователе'!F160))","v":"pusto"},{"$f":"IF('Информация о пользователе'!G160=\"\",TRIM(LEFT(Translit.Translit(Service!E158),2))&INDEX(Service!H158:H176,RANDBETWEEN(1,19),1)&RANDBETWEEN(1,9)&IF(Service!F158=\"\",TRIM(LEFT(Translit.Translit(Service!E158),3))&INDEX(Service!A158:A183,RANDBETWEEN(1,26),1),TRIM(LEFT(Translit.Translit(Service!F158),2))&INDEX(Service!H158:H176,RANDBETWEEN(1,19),1)&INDEX(Service!A158:A183,RANDBETWEEN(1,26),1)),'Информация о пользователе'!G160)","v":{"$error":"#NAME?"}}]
[{"$f":"TRIM(IF('Информация о пользователе'!A161=\"\",\"Пусто\",'Информация о пользователе'!A161))","v":"Пусто"},{"$f":"TRIM(IF('Информация о пользователе'!B161=\"\",\" \",'Информация о пользователе'!B161&\" \"&'Информация о пользователе'!C161))","v":""},{"$f":"TRIM(IF(AD!A160=\"\",\"\",AD!B160&\" \"&A160))","v":"Пусто"},{"$f":"TRIM(IF('Информация о пользователе'!D161=\"\",F160&\"@edu54.ru\",'Информация о пользователе'!D161))","v":"pusto@edu54.ru"},{"$f":"TRIM(IF('Информация о пользователе'!E161=\"\",\"\",'Информация о пользователе'!E161))","v":""},{"$f":"IF('Информация о пользователе'!F161=\"\",TRIM(Translit.Translit(A160)&TRIM(LEFT(Translit.Translit(Service!E159),1))&TRIM(LEFT(Translit.Translit(Service!F159),1))),TRIM('Информация о пользователе'!F161))","v":"pusto"},{"$f":"IF('Информация о пользователе'!G161=\"\",TRIM(LEFT(Translit.Translit(Service!E159),2))&INDEX(Service!H159:H177,RANDBETWEEN(1,19),1)&RANDBETWEEN(1,9)&IF(Service!F159=\"\",TRIM(LEFT(Translit.Translit(Service!E159),3))&INDEX(Service!A159:A184,RANDBETWEEN(1,26),1),TRIM(LEFT(Translit.Translit(Service!F159),2))&INDEX(Service!H159:H177,RANDBETWEEN(1,19),1)&INDEX(Service!A159:A184,RANDBETWEEN(1,26),1)),'Информация о пользователе'!G161)","v":{"$error":"#NAME?"}}]
[{"$f":"TRIM(IF('Информация о пользователе'!A162=\"\",\"Пусто\",'Информация о пользователе'!A162))","v":"Пусто"},{"$f":"TRIM(IF('Информация о пользователе'!B162=\"\",\" \",'Информация о пользователе'!B162&\" \"&'Информация о пользователе'!C162))","v":""},{"$f":"TRIM(IF(AD!A161=\"\",\"\",AD!B161&\" \"&A161))","v":"Пусто"},{"$f":"TRIM(IF('Информация о пользователе'!D162=\"\",F161&\"@edu54.ru\",'Информация о пользователе'!D162))","v":"pusto@edu54.ru"},{"$f":"TRIM(IF('Информация о пользователе'!E162=\"\",\"\",'Информация о пользователе'!E162))","v":""},{"$f":"IF('Информация о пользователе'!F162=\"\",TRIM(Translit.Translit(A161)&TRIM(LEFT(Translit.Translit(Service!E160),1))&TRIM(LEFT(Translit.Translit(Service!F160),1))),TRIM('Информация о пользователе'!F162))","v":"pusto"},{"$f":"IF('Информация о пользователе'!G162=\"\",TRIM(LEFT(Translit.Translit(Service!E160),2))&INDEX(Service!H160:H178,RANDBETWEEN(1,19),1)&RANDBETWEEN(1,9)&IF(Service!F160=\"\",TRIM(LEFT(Translit.Translit(Service!E160),3))&INDEX(Service!A160:A185,RANDBETWEEN(1,26),1),TRIM(LEFT(Translit.Translit(Service!F160),2))&INDEX(Service!H160:H178,RANDBETWEEN(1,19),1)&INDEX(Service!A160:A185,RANDBETWEEN(1,26),1)),'Информация о пользователе'!G162)","v":{"$error":"#NAME?"}}]
[{"$f":"TRIM(IF('Информация о пользователе'!A163=\"\",\"Пусто\",'Информация о пользователе'!A163))","v":"Пусто"},{"$f":"TRIM(IF('Информация о пользователе'!B163=\"\",\" \",'Информация о пользователе'!B163&\" \"&'Информация о пользователе'!C163))","v":""},{"$f":"TRIM(IF(AD!A162=\"\",\"\",AD!B162&\" \"&A162))","v":"Пусто"},{"$f":"TRIM(IF('Информация о пользователе'!D163=\"\",F162&\"@edu54.ru\",'Информация о пользователе'!D163))","v":"pusto@edu54.ru"},{"$f":"TRIM(IF('Информация о пользователе'!E163=\"\",\"\",'Информация о пользователе'!E163))","v":""},{"$f":"IF('Информация о пользователе'!F163=\"\",TRIM(Translit.Translit(A162)&TRIM(LEFT(Translit.Translit(Service!E161),1))&TRIM(LEFT(Translit.Translit(Service!F161),1))),TRIM('Информация о пользователе'!F163))","v":"pusto"},{"$f":"IF('Информация о пользователе'!G163=\"\",TRIM(LEFT(Translit.Translit(Service!E161),2))&INDEX(Service!H161:H179,RANDBETWEEN(1,19),1)&RANDBETWEEN(1,9)&IF(Service!F161=\"\",TRIM(LEFT(Translit.Translit(Service!E161),3))&INDEX(Service!A161:A186,RANDBETWEEN(1,26),1),TRIM(LEFT(Translit.Translit(Service!F161),2))&INDEX(Service!H161:H179,RANDBETWEEN(1,19),1)&INDEX(Service!A161:A186,RANDBETWEEN(1,26),1)),'Информация о пользователе'!G163)","v":{"$error":"#NAME?"}}]
[{"$f":"TRIM(IF('Информация о пользователе'!A164=\"\",\"Пусто\",'Информация о пользователе'!A164))","v":"Пусто"},{"$f":"TRIM(IF('Информация о пользователе'!B164=\"\",\" \",'Информация о пользователе'!B164&\" \"&'Информация о пользователе'!C164))","v":""},{"$f":"TRIM(IF(AD!A163=\"\",\"\",AD!B163&\" \"&A163))","v":"Пусто"},{"$f":"TRIM(IF('Информация о пользователе'!D164=\"\",F163&\"@edu54.ru\",'Информация о пользователе'!D164))","v":"pusto@edu54.ru"},{"$f":"TRIM(IF('Информация о пользователе'!E164=\"\",\"\",'Информация о пользователе'!E164))","v":""},{"$f":"IF('Информация о пользователе'!F164=\"\",TRIM(Translit.Translit(A163)&TRIM(LEFT(Translit.Translit(Service!E162),1))&TRIM(LEFT(Translit.Translit(Service!F162),1))),TRIM('Информация о пользователе'!F164))","v":"pusto"},{"$f":"IF('Информация о пользователе'!G164=\"\",TRIM(LEFT(Translit.Translit(Service!E162),2))&INDEX(Service!H162:H180,RANDBETWEEN(1,19),1)&RANDBETWEEN(1,9)&IF(Service!F162=\"\",TRIM(LEFT(Translit.Translit(Service!E162),3))&INDEX(Service!A162:A187,RANDBETWEEN(1,26),1),TRIM(LEFT(Translit.Translit(Service!F162),2))&INDEX(Service!H162:H180,RANDBETWEEN(1,19),1)&INDEX(Service!A162:A187,RANDBETWEEN(1,26),1)),'Информация о пользователе'!G164)","v":{"$error":"#NAME?"}}]
[{"$f":"TRIM(IF('Информация о пользователе'!A165=\"\",\"Пусто\",'Информация о пользователе'!A165))","v":"Пусто"},{"$f":"TRIM(IF('Информация о пользователе'!B165=\"\",\" \",'Информация о пользователе'!B165&\" \"&'Информация о пользователе'!C165))","v":""},{"$f":"TRIM(IF(AD!A164=\"\",\"\",AD!B164&\" \"&A164))","v":"Пусто"},{"$f":"TRIM(IF('Информация о пользователе'!D165=\"\",F164&\"@edu54.ru\",'Информация о пользователе'!D165))","v":"pusto@edu54.ru"},{"$f":"TRIM(IF('Информация о пользователе'!E165=\"\",\"\",'Информация о пользователе'!E165))","v":""},{"$f":"IF('Информация о пользователе'!F165=\"\",TRIM(Translit.Translit(A164)&TRIM(LEFT(Translit.Translit(Service!E163),1))&TRIM(LEFT(Translit.Translit(Service!F163),1))),TRIM('Информация о пользователе'!F165))","v":"pusto"},{"$f":"IF('Информация о пользователе'!G165=\"\",TRIM(LEFT(Translit.Translit(Service!E163),2))&INDEX(Service!H163:H181,RANDBETWEEN(1,19),1)&RANDBETWEEN(1,9)&IF(Service!F163=\"\",TRIM(LEFT(Translit.Translit(Service!E163),3))&INDEX(Service!A163:A188,RANDBETWEEN(1,26),1),TRIM(LEFT(Translit.Translit(Service!F163),2))&INDEX(Service!H163:H181,RANDBETWEEN(1,19),1)&INDEX(Service!A163:A188,RANDBETWEEN(1,26),1)),'Информация о пользователе'!G165)","v":{"$error":"#NAME?"}}]
[{"$f":"TRIM(IF('Информация о пользователе'!A166=\"\",\"Пусто\",'Информация о пользователе'!A166))","v":"Пусто"},{"$f":"TRIM(IF('Информация о пользователе'!B166=\"\",\" \",'Информация о пользователе'!B166&\" \"&'Информация о пользователе'!C166))","v":""},{"$f":"TRIM(IF(AD!A165=\"\",\"\",AD!B165&\" \"&A165))","v":"Пусто"},{"$f":"TRIM(IF('Информация о пользователе'!D166=\"\",F165&\"@edu54.ru\",'Информация о пользователе'!D166))","v":"pusto@edu54.ru"},{"$f":"TRIM(IF('Информация о пользователе'!E166=\"\",\"\",'Информация о пользователе'!E166))","v":""},{"$f":"IF('Информация о пользователе'!F166=\"\",TRIM(Translit.Translit(A165)&TRIM(LEFT(Translit.Translit(Service!E164),1))&TRIM(LEFT(Translit.Translit(Service!F164),1))),TRIM('Информация о пользователе'!F166))","v":"pusto"},{"$f":"IF('Информация о пользователе'!G166=\"\",TRIM(LEFT(Translit.Translit(Service!E164),2))&INDEX(Service!H164:H182,RANDBETWEEN(1,19),1)&RANDBETWEEN(1,9)&IF(Service!F164=\"\",TRIM(LEFT(Translit.Translit(Service!E164),3))&INDEX(Service!A164:A189,RANDBETWEEN(1,26),1),TRIM(LEFT(Translit.Translit(Service!F164),2))&INDEX(Service!H164:H182,RANDBETWEEN(1,19),1)&INDEX(Service!A164:A189,RANDBETWEEN(1,26),1)),'Информация о пользователе'!G166)","v":{"$error":"#NAME?"}}]
[{"$f":"TRIM(IF('Информация о пользователе'!A167=\"\",\"Пусто\",'Информация о пользователе'!A167))","v":"Пусто"},{"$f":"TRIM(IF('Информация о пользователе'!B167=\"\",\" \",'Информация о пользователе'!B167&\" \"&'Информация о пользователе'!C167))","v":""},{"$f":"TRIM(IF(AD!A166=\"\",\"\",AD!B166&\" \"&A166))","v":"Пусто"},{"$f":"TRIM(IF('Информация о пользователе'!D167=\"\",F166&\"@edu54.ru\",'Информация о пользователе'!D167))","v":"pusto@edu54.ru"},{"$f":"TRIM(IF('Информация о пользователе'!E167=\"\",\"\",'Информация о пользователе'!E167))","v":""},{"$f":"IF('Информация о пользователе'!F167=\"\",TRIM(Translit.Translit(A166)&TRIM(LEFT(Translit.Translit(Service!E165),1))&TRIM(LEFT(Translit.Translit(Service!F165),1))),TRIM('Информация о пользователе'!F167))","v":"pusto"},{"$f":"IF('Информация о пользователе'!G167=\"\",TRIM(LEFT(Translit.Translit(Service!E165),2))&INDEX(Service!H165:H183,RANDBETWEEN(1,19),1)&RANDBETWEEN(1,9)&IF(Service!F165=\"\",TRIM(LEFT(Translit.Translit(Service!E165),3))&INDEX(Service!A165:A190,RANDBETWEEN(1,26),1),TRIM(LEFT(Translit.Translit(Service!F165),2))&INDEX(Service!H165:H183,RANDBETWEEN(1,19),1)&INDEX(Service!A165:A190,RANDBETWEEN(1,26),1)),'Информация о пользователе'!G167)","v":{"$error":"#NAME?"}}]
[{"$f":"TRIM(IF('Информация о пользователе'!A168=\"\",\"Пусто\",'Информация о пользователе'!A168))","v":"Пусто"},{"$f":"TRIM(IF('Информация о пользователе'!B168=\"\",\" \",'Информация о пользователе'!B168&\" \"&'Информация о пользователе'!C168))","v":""},{"$f":"TRIM(IF(AD!A167=\"\",\"\",AD!B167&\" \"&A167))","v":"Пусто"},{"$f":"TRIM(IF('Информация о пользователе'!D168=\"\",F167&\"@edu54.ru\",'Информация о пользователе'!D168))","v":"pusto@edu54.ru"},{"$f":"TRIM(IF('Информация о пользователе'!E168=\"\",\"\",'Информация о пользователе'!E168))","v":""},{"$f":"IF('Информация о пользователе'!F168=\"\",TRIM(Translit.Translit(A167)&TRIM(LEFT(Translit.Translit(Service!E166),1))&TRIM(LEFT(Translit.Translit(Service!F166),1))),TRIM('Информация о пользователе'!F168))","v":"pusto"},{"$f":"IF('Информация о пользователе'!G168=\"\",TRIM(LEFT(Translit.Translit(Service!E166),2))&INDEX(Service!H166:H184,RANDBETWEEN(1,19),1)&RANDBETWEEN(1,9)&IF(Service!F166=\"\",TRIM(LEFT(Translit.Translit(Service!E166),3))&INDEX(Service!A166:A191,RANDBETWEEN(1,26),1),TRIM(LEFT(Translit.Translit(Service!F166),2))&INDEX(Service!H166:H184,RANDBETWEEN(1,19),1)&INDEX(Service!A166:A191,RANDBETWEEN(1,26),1)),'Информация о пользователе'!G168)","v":{"$error":"#NAME?"}}]
[{"$f":"TRIM(IF('Информация о пользователе'!A169=\"\",\"Пусто\",'Информация о пользователе'!A169))","v":"Пусто"},{"$f":"TRIM(IF('Информация о пользователе'!B169=\"\",\" \",'Информация о пользователе'!B169&\" \"&'Информация о пользователе'!C169))","v":""},{"$f":"TRIM(IF(AD!A168=\"\",\"\",AD!B168&\" \"&A168))","v":"Пусто"},{"$f":"TRIM(IF('Информация о пользователе'!D169=\"\",F168&\"@edu54.ru\",'Информация о пользователе'!D169))","v":"pusto@edu54.ru"},{"$f":"TRIM(IF('Информация о пользователе'!E169=\"\",\"\",'Информация о пользователе'!E169))","v":""},{"$f":"IF('Информация о пользователе'!F169=\"\",TRIM(Translit.Translit(A168)&TRIM(LEFT(Translit.Translit(Service!E167),1))&TRIM(LEFT(Translit.Translit(Service!F167),1))),TRIM('Информация о пользователе'!F169))","v":"pusto"},{"$f":"IF('Информация о пользователе'!G169=\"\",TRIM(LEFT(Translit.Translit(Service!E167),2))&INDEX(Service!H167:H185,RANDBETWEEN(1,19),1)&RANDBETWEEN(1,9)&IF(Service!F167=\"\",TRIM(LEFT(Translit.Translit(Service!E167),3))&INDEX(Service!A167:A192,RANDBETWEEN(1,26),1),TRIM(LEFT(Translit.Translit(Service!F167),2))&INDEX(Service!H167:H185,RANDBETWEEN(1,19),1)&INDEX(Service!A167:A192,RANDBETWEEN(1,26),1)),'Информация о пользователе'!G169)","v":{"$error":"#NAME?"}}]
[{"$f":"TRIM(IF('Информация о пользователе'!A170=\"\",\"Пусто\",'Информация о пользователе'!A170))","v":"Пусто"},{"$f":"TRIM(IF('Информация о пользователе'!B170=\"\",\" \",'Информация о пользователе'!B170&\" \"&'Информация о пользователе'!C170))","v":""},{"$f":"TRIM(IF(AD!A169=\"\",\"\",AD!B169&\" \"&A169))","v":"Пусто"},{"$f":"TRIM(IF('Информация о пользователе'!D170=\"\",F169&\"@edu54.ru\",'Информация о пользователе'!D170))","v":"pusto@edu54.ru"},{"$f":"TRIM(IF('Информация о пользователе'!E170=\"\",\"\",'Информация о пользователе'!E170))","v":""},{"$f":"IF('Информация о пользователе'!F170=\"\",TRIM(Translit.Translit(A169)&TRIM(LEFT(Translit.Translit(Service!E168),1))&TRIM(LEFT(Translit.Translit(Service!F168),1))),TRIM('Информация о пользователе'!F170))","v":"pusto"},{"$f":"IF('Информация о пользователе'!G170=\"\",TRIM(LEFT(Translit.Translit(Service!E168),2))&INDEX(Service!H168:H186,RANDBETWEEN(1,19),1)&RANDBETWEEN(1,9)&IF(Service!F168=\"\",TRIM(LEFT(Translit.Translit(Service!E168),3))&INDEX(Service!A168:A193,RANDBETWEEN(1,26),1),TRIM(LEFT(Translit.Translit(Service!F168),2))&INDEX(Service!H168:H186,RANDBETWEEN(1,19),1)&INDEX(Service!A168:A193,RANDBETWEEN(1,26),1)),'Информация о пользователе'!G170)","v":{"$error":"#NAME?"}}]
[{"$f":"TRIM(IF('Информация о пользователе'!A171=\"\",\"Пусто\",'Информация о пользователе'!A171))","v":"Пусто"},{"$f":"TRIM(IF('Информация о пользователе'!B171=\"\",\" \",'Информация о пользователе'!B171&\" \"&'Информация о пользователе'!C171))","v":""},{"$f":"TRIM(IF(AD!A170=\"\",\"\",AD!B170&\" \"&A170))","v":"Пусто"},{"$f":"TRIM(IF('Информация о пользователе'!D171=\"\",F170&\"@edu54.ru\",'Информация о пользователе'!D171))","v":"pusto@edu54.ru"},{"$f":"TRIM(IF('Информация о пользователе'!E171=\"\",\"\",'Информация о пользователе'!E171))","v":""},{"$f":"IF('Информация о пользователе'!F171=\"\",TRIM(Translit.Translit(A170)&TRIM(LEFT(Translit.Translit(Service!E169),1))&TRIM(LEFT(Translit.Translit(Service!F169),1))),TRIM('Информация о пользователе'!F171))","v":"pusto"},{"$f":"IF('Информация о пользователе'!G171=\"\",TRIM(LEFT(Translit.Translit(Service!E169),2))&INDEX(Service!H169:H187,RANDBETWEEN(1,19),1)&RANDBETWEEN(1,9)&IF(Service!F169=\"\",TRIM(LEFT(Translit.Translit(Service!E169),3))&INDEX(Service!A169:A194,RANDBETWEEN(1,26),1),TRIM(LEFT(Translit.Translit(Service!F169),2))&INDEX(Service!H169:H187,RANDBETWEEN(1,19),1)&INDEX(Service!A169:A194,RANDBETWEEN(1,26),1)),'Информация о пользователе'!G171)","v":{"$error":"#NAME?"}}]
[{"$f":"TRIM(IF('Информация о пользователе'!A172=\"\",\"Пусто\",'Информация о пользователе'!A172))","v":"Пусто"},{"$f":"TRIM(IF('Информация о пользователе'!B172=\"\",\" \",'Информация о пользователе'!B172&\" \"&'Информация о пользователе'!C172))","v":""},{"$f":"TRIM(IF(AD!A171=\"\",\"\",AD!B171&\" \"&A171))","v":"Пусто"},{"$f":"TRIM(IF('Информация о пользователе'!D172=\"\",F171&\"@edu54.ru\",'Информация о пользователе'!D172))","v":"pusto@edu54.ru"},{"$f":"TRIM(IF('Информация о пользователе'!E172=\"\",\"\",'Информация о пользователе'!E172))","v":""},{"$f":"IF('Информация о пользователе'!F172=\"\",TRIM(Translit.Translit(A171)&TRIM(LEFT(Translit.Translit(Service!E170),1))&TRIM(LEFT(Translit.Translit(Service!F170),1))),TRIM('Информация о пользователе'!F172))","v":"pusto"},{"$f":"IF('Информация о пользователе'!G172=\"\",TRIM(LEFT(Translit.Translit(Service!E170),2))&INDEX(Service!H170:H188,RANDBETWEEN(1,19),1)&RANDBETWEEN(1,9)&IF(Service!F170=\"\",TRIM(LEFT(Translit.Translit(Service!E170),3))&INDEX(Service!A170:A195,RANDBETWEEN(1,26),1),TRIM(LEFT(Translit.Translit(Service!F170),2))&INDEX(Service!H170:H188,RANDBETWEEN(1,19),1)&INDEX(Service!A170:A195,RANDBETWEEN(1,26),1)),'Информация о пользователе'!G172)","v":{"$error":"#NAME?"}}]
[{"$f":"TRIM(IF('Информация о пользователе'!A173=\"\",\"Пусто\",'Информация о пользователе'!A173))","v":"Пусто"},{"$f":"TRIM(IF('Информация о пользователе'!B173=\"\",\" \",'Информация о пользователе'!B173&\" \"&'Информация о пользователе'!C173))","v":""},{"$f":"TRIM(IF(AD!A172=\"\",\"\",AD!B172&\" \"&A172))","v":"Пусто"},{"$f":"TRIM(IF('Информация о пользователе'!D173=\"\",F172&\"@edu54.ru\",'Информация о пользователе'!D173))","v":"pusto@edu54.ru"},{"$f":"TRIM(IF('Информация о пользователе'!E173=\"\",\"\",'Информация о пользователе'!E173))","v":""},{"$f":"IF('Информация о пользователе'!F173=\"\",TRIM(Translit.Translit(A172)&TRIM(LEFT(Translit.Translit(Service!E171),1))&TRIM(LEFT(Translit.Translit(Service!F171),1))),TRIM('Информация о пользователе'!F173))","v":"pusto"},{"$f":"IF('Информация о пользователе'!G173=\"\",TRIM(LEFT(Translit.Translit(Service!E171),2))&INDEX(Service!H171:H189,RANDBETWEEN(1,19),1)&RANDBETWEEN(1,9)&IF(Service!F171=\"\",TRIM(LEFT(Translit.Translit(Service!E171),3))&INDEX(Service!A171:A196,RANDBETWEEN(1,26),1),TRIM(LEFT(Translit.Translit(Service!F171),2))&INDEX(Service!H171:H189,RANDBETWEEN(1,19),1)&INDEX(Service!A171:A196,RANDBETWEEN(1,26),1)),'Информация о пользователе'!G173)","v":{"$error":"#NAME?"}}]
[{"$f":"TRIM(IF('Информация о пользователе'!A174=\"\",\"Пусто\",'Информация о пользователе'!A174))","v":"Пусто"},{"$f":"TRIM(IF('Информация о пользователе'!B174=\"\",\" \",'Информация о пользователе'!B174&\" \"&'Информация о пользователе'!C174))","v":""},{"$f":"TRIM(IF(AD!A173=\"\",\"\",AD!B173&\" \"&A173))","v":"Пусто"},{"$f":"TRIM(IF('Информация о пользователе'!D174=\"\",F173&\"@edu54.ru\",'Информация о пользователе'!D174))","v":"pusto@edu54.ru"},{"$f":"TRIM(IF('Информация о пользователе'!E174=\"\",\"\",'Информация о пользователе'!E174))","v":""},{"$f":"IF('Информация о пользователе'!F174=\"\",TRIM(Translit.Translit(A173)&TRIM(LEFT(Translit.Translit(Service!E172),1))&TRIM(LEFT(Translit.Translit(Service!F172),1))),TRIM('Информация о пользователе'!F174))","v":"pusto"},{"$f":"IF('Информация о пользователе'!G174=\"\",TRIM(LEFT(Translit.Translit(Service!E172),2))&INDEX(Service!H172:H190,RANDBETWEEN(1,19),1)&RANDBETWEEN(1,9)&IF(Service!F172=\"\",TRIM(LEFT(Translit.Translit(Service!E172),3))&INDEX(Service!A172:A197,RANDBETWEEN(1,26),1),TRIM(LEFT(Translit.Translit(Service!F172),2))&INDEX(Service!H172:H190,RANDBETWEEN(1,19),1)&INDEX(Service!A172:A197,RANDBETWEEN(1,26),1)),'Информация о пользователе'!G174)","v":{"$error":"#NAME?"}}]
[{"$f":"TRIM(IF('Информация о пользователе'!A175=\"\",\"Пусто\",'Информация о пользователе'!A175))","v":"Пусто"},{"$f":"TRIM(IF('Информация о пользователе'!B175=\"\",\" \",'Информация о пользователе'!B175&\" \"&'Информация о пользователе'!C175))","v":""},{"$f":"TRIM(IF(AD!A174=\"\",\"\",AD!B174&\" \"&A174))","v":"Пусто"},{"$f":"TRIM(IF('Информация о пользователе'!D175=\"\",F174&\"@edu54.ru\",'Информация о пользователе'!D175))","v":"pusto@edu54.ru"},{"$f":"TRIM(IF('Информация о пользователе'!E175=\"\",\"\",'Информация о пользователе'!E175))","v":""},{"$f":"IF('Информация о пользователе'!F175=\"\",TRIM(Translit.Translit(A174)&TRIM(LEFT(Translit.Translit(Service!E173),1))&TRIM(LEFT(Translit.Translit(Service!F173),1))),TRIM('Информация о пользователе'!F175))","v":"pusto"},{"$f":"IF('Информация о пользователе'!G175=\"\",TRIM(LEFT(Translit.Translit(Service!E173),2))&INDEX(Service!H173:H191,RANDBETWEEN(1,19),1)&RANDBETWEEN(1,9)&IF(Service!F173=\"\",TRIM(LEFT(Translit.Translit(Service!E173),3))&INDEX(Service!A173:A198,RANDBETWEEN(1,26),1),TRIM(LEFT(Translit.Translit(Service!F173),2))&INDEX(Service!H173:H191,RANDBETWEEN(1,19),1)&INDEX(Service!A173:A198,RANDBETWEEN(1,26),1)),'Информация о пользователе'!G175)","v":{"$error":"#NAME?"}}]
[{"$f":"TRIM(IF('Информация о пользователе'!A176=\"\",\"Пусто\",'Информация о пользователе'!A176))","v":"Пусто"},{"$f":"TRIM(IF('Информация о пользователе'!B176=\"\",\" \",'Информация о пользователе'!B176&\" \"&'Информация о пользователе'!C176))","v":""},{"$f":"TRIM(IF(AD!A175=\"\",\"\",AD!B175&\" \"&A175))","v":"Пусто"},{"$f":"TRIM(IF('Информация о пользователе'!D176=\"\",F175&\"@edu54.ru\",'Информация о пользователе'!D176))","v":"pusto@edu54.ru"},{"$f":"TRIM(IF('Информация о пользователе'!E176=\"\",\"\",'Информация о пользователе'!E176))","v":""},{"$f":"IF('Информация о пользователе'!F176=\"\",TRIM(Translit.Translit(A175)&TRIM(LEFT(Translit.Translit(Service!E174),1))&TRIM(LEFT(Translit.Translit(Service!F174),1))),TRIM('Информация о пользователе'!F176))","v":"pusto"},{"$f":"IF('Информация о пользователе'!G176=\"\",TRIM(LEFT(Translit.Translit(Service!E174),2))&INDEX(Service!H174:H192,RANDBETWEEN(1,19),1)&RANDBETWEEN(1,9)&IF(Service!F174=\"\",TRIM(LEFT(Translit.Translit(Service!E174),3))&INDEX(Service!A174:A199,RANDBETWEEN(1,26),1),TRIM(LEFT(Translit.Translit(Service!F174),2))&INDEX(Service!H174:H192,RANDBETWEEN(1,19),1)&INDEX(Service!A174:A199,RANDBETWEEN(1,26),1)),'Информация о пользователе'!G176)","v":{"$error":"#NAME?"}}]
[{"$f":"TRIM(IF('Информация о пользователе'!A177=\"\",\"Пусто\",'Информация о пользователе'!A177))","v":"Пусто"},{"$f":"TRIM(IF('Информация о пользователе'!B177=\"\",\" \",'Информация о пользователе'!B177&\" \"&'Информация о пользователе'!C177))","v":""},{"$f":"TRIM(IF(AD!A176=\"\",\"\",AD!B176&\" \"&A176))","v":"Пусто"},{"$f":"TRIM(IF('Информация о пользователе'!D177=\"\",F176&\"@edu54.ru\",'Информация о пользователе'!D177))","v":"pusto@edu54.ru"},{"$f":"TRIM(IF('Информация о пользователе'!E177=\"\",\"\",'Информация о пользователе'!E177))","v":""},{"$f":"IF('Информация о пользователе'!F177=\"\",TRIM(Translit.Translit(A176)&TRIM(LEFT(Translit.Translit(Service!E175),1))&TRIM(LEFT(Translit.Translit(Service!F175),1))),TRIM('Информация о пользователе'!F177))","v":"pusto"},{"$f":"IF('Информация о пользователе'!G177=\"\",TRIM(LEFT(Translit.Translit(Service!E175),2))&INDEX(Service!H175:H193,RANDBETWEEN(1,19),1)&RANDBETWEEN(1,9)&IF(Service!F175=\"\",TRIM(LEFT(Translit.Translit(Service!E175),3))&INDEX(Service!A175:A200,RANDBETWEEN(1,26),1),TRIM(LEFT(Translit.Translit(Service!F175),2))&INDEX(Service!H175:H193,RANDBETWEEN(1,19),1)&INDEX(Service!A175:A200,RANDBETWEEN(1,26),1)),'Информация о пользователе'!G177)","v":{"$error":"#NAME?"}}]
[{"$f":"TRIM(IF('Информация о пользователе'!A178=\"\",\"Пусто\",'Информация о пользователе'!A178))","v":"Пусто"},{"$f":"TRIM(IF('Информация о пользователе'!B178=\"\",\" \",'Информация о пользователе'!B178&\" \"&'Информация о пользователе'!C178))","v":""},{"$f":"TRIM(IF(AD!A177=\"\",\"\",AD!B177&\" \"&A177))","v":"Пусто"},{"$f":"TRIM(IF('Информация о пользователе'!D178=\"\",F177&\"@edu54.ru\",'Информация о пользователе'!D178))","v":"pusto@edu54.ru"},{"$f":"TRIM(IF('Информация о пользователе'!E178=\"\",\"\",'Информация о пользователе'!E178))","v":""},{"$f":"IF('Информация о пользователе'!F178=\"\",TRIM(Translit.Translit(A177)&TRIM(LEFT(Translit.Translit(Service!E176),1))&TRIM(LEFT(Translit.Translit(Service!F176),1))),TRIM('Информация о пользователе'!F178))","v":"pusto"},{"$f":"IF('Информация о пользователе'!G178=\"\",TRIM(LEFT(Translit.Translit(Service!E176),2))&INDEX(Service!H176:H194,RANDBETWEEN(1,19),1)&RANDBETWEEN(1,9)&IF(Service!F176=\"\",TRIM(LEFT(Translit.Translit(Service!E176),3))&INDEX(Service!A176:A201,RANDBETWEEN(1,26),1),TRIM(LEFT(Translit.Translit(Service!F176),2))&INDEX(Service!H176:H194,RANDBETWEEN(1,19),1)&INDEX(Service!A176:A201,RANDBETWEEN(1,26),1)),'Информация о пользователе'!G178)","v":{"$error":"#NAME?"}}]
[{"$f":"TRIM(IF('Информация о пользователе'!A179=\"\",\"Пусто\",'Информация о пользователе'!A179))","v":"Пусто"},{"$f":"TRIM(IF('Информация о пользователе'!B179=\"\",\" \",'Информация о пользователе'!B179&\" \"&'Информация о пользователе'!C179))","v":""},{"$f":"TRIM(IF(AD!A178=\"\",\"\",AD!B178&\" \"&A178))","v":"Пусто"},{"$f":"TRIM(IF('Информация о пользователе'!D179=\"\",F178&\"@edu54.ru\",'Информация о пользователе'!D179))","v":"pusto@edu54.ru"},{"$f":"TRIM(IF('Информация о пользователе'!E179=\"\",\"\",'Информация о пользователе'!E179))","v":""},{"$f":"IF('Информация о пользователе'!F179=\"\",TRIM(Translit.Translit(A178)&TRIM(LEFT(Translit.Translit(Service!E177),1))&TRIM(LEFT(Translit.Translit(Service!F177),1))),TRIM('Информация о пользователе'!F179))","v":"pusto"},{"$f":"IF('Информация о пользователе'!G179=\"\",TRIM(LEFT(Translit.Translit(Service!E177),2))&INDEX(Service!H177:H195,RANDBETWEEN(1,19),1)&RANDBETWEEN(1,9)&IF(Service!F177=\"\",TRIM(LEFT(Translit.Translit(Service!E177),3))&INDEX(Service!A177:A202,RANDBETWEEN(1,26),1),TRIM(LEFT(Translit.Translit(Service!F177),2))&INDEX(Service!H177:H195,RANDBETWEEN(1,19),1)&INDEX(Service!A177:A202,RANDBETWEEN(1,26),1)),'Информация о пользователе'!G179)","v":{"$error":"#NAME?"}}]
[{"$f":"TRIM(IF('Информация о пользователе'!A180=\"\",\"Пусто\",'Информация о пользователе'!A180))","v":"Пусто"},{"$f":"TRIM(IF('Информация о пользователе'!B180=\"\",\" \",'Информация о пользователе'!B180&\" \"&'Информация о пользователе'!C180))","v":""},{"$f":"TRIM(IF(AD!A179=\"\",\"\",AD!B179&\" \"&A179))","v":"Пусто"},{"$f":"TRIM(IF('Информация о пользователе'!D180=\"\",F179&\"@edu54.ru\",'Информация о пользователе'!D180))","v":"pusto@edu54.ru"},{"$f":"TRIM(IF('Информация о пользователе'!E180=\"\",\"\",'Информация о пользователе'!E180))","v":""},{"$f":"IF('Информация о пользователе'!F180=\"\",TRIM(Translit.Translit(A179)&TRIM(LEFT(Translit.Translit(Service!E178),1))&TRIM(LEFT(Translit.Translit(Service!F178),1))),TRIM('Информация о пользователе'!F180))","v":"pusto"},{"$f":"IF('Информация о пользователе'!G180=\"\",TRIM(LEFT(Translit.Translit(Service!E178),2))&INDEX(Service!H178:H196,RANDBETWEEN(1,19),1)&RANDBETWEEN(1,9)&IF(Service!F178=\"\",TRIM(LEFT(Translit.Translit(Service!E178),3))&INDEX(Service!A178:A203,RANDBETWEEN(1,26),1),TRIM(LEFT(Translit.Translit(Service!F178),2))&INDEX(Service!H178:H196,RANDBETWEEN(1,19),1)&INDEX(Service!A178:A203,RANDBETWEEN(1,26),1)),'Информация о пользователе'!G180)","v":{"$error":"#NAME?"}}]
[{"$f":"TRIM(IF('Информация о пользователе'!A181=\"\",\"Пусто\",'Информация о пользователе'!A181))","v":"Пусто"},{"$f":"TRIM(IF('Информация о пользователе'!B181=\"\",\" \",'Информация о пользователе'!B181&\" \"&'Информация о пользователе'!C181))","v":""},{"$f":"TRIM(IF(AD!A180=\"\",\"\",AD!B180&\" \"&A180))","v":"Пусто"},{"$f":"TRIM(IF('Информация о пользователе'!D181=\"\",F180&\"@edu54.ru\",'Информация о пользователе'!D181))","v":"pusto@edu54.ru"},{"$f":"TRIM(IF('Информация о пользователе'!E181=\"\",\"\",'Информация о пользователе'!E181))","v":""},{"$f":"IF('Информация о пользователе'!F181=\"\",TRIM(Translit.Translit(A180)&TRIM(LEFT(Translit.Translit(Service!E179),1))&TRIM(LEFT(Translit.Translit(Service!F179),1))),TRIM('Информация о пользователе'!F181))","v":"pusto"},{"$f":"IF('Информация о пользователе'!G181=\"\",TRIM(LEFT(Translit.Translit(Service!E179),2))&INDEX(Service!H179:H197,RANDBETWEEN(1,19),1)&RANDBETWEEN(1,9)&IF(Service!F179=\"\",TRIM(LEFT(Translit.Translit(Service!E179),3))&INDEX(Service!A179:A204,RANDBETWEEN(1,26),1),TRIM(LEFT(Translit.Translit(Service!F179),2))&INDEX(Service!H179:H197,RANDBETWEEN(1,19),1)&INDEX(Service!A179:A204,RANDBETWEEN(1,26),1)),'Информация о пользователе'!G181)","v":{"$error":"#NAME?"}}]
[{"$f":"TRIM(IF('Информация о пользователе'!A182=\"\",\"Пусто\",'Информация о пользователе'!A182))","v":"Пусто"},{"$f":"TRIM(IF('Информация о пользователе'!B182=\"\",\" \",'Информация о пользователе'!B182&\" \"&'Информация о пользователе'!C182))","v":""},{"$f":"TRIM(IF(AD!A181=\"\",\"\",AD!B181&\" \"&A181))","v":"Пусто"},{"$f":"TRIM(IF('Информация о пользователе'!D182=\"\",F181&\"@edu54.ru\",'Информация о пользователе'!D182))","v":"pusto@edu54.ru"},{"$f":"TRIM(IF('Информация о пользователе'!E182=\"\",\"\",'Информация о пользователе'!E182))","v":""},{"$f":"IF('Информация о пользователе'!F182=\"\",TRIM(Translit.Translit(A181)&TRIM(LEFT(Translit.Translit(Service!E180),1))&TRIM(LEFT(Translit.Translit(Service!F180),1))),TRIM('Информация о пользователе'!F182))","v":"pusto"},{"$f":"IF('Информация о пользователе'!G182=\"\",TRIM(LEFT(Translit.Translit(Service!E180),2))&INDEX(Service!H180:H198,RANDBETWEEN(1,19),1)&RANDBETWEEN(1,9)&IF(Service!F180=\"\",TRIM(LEFT(Translit.Translit(Service!E180),3))&INDEX(Service!A180:A205,RANDBETWEEN(1,26),1),TRIM(LEFT(Translit.Translit(Service!F180),2))&INDEX(Service!H180:H198,RANDBETWEEN(1,19),1)&INDEX(Service!A180:A205,RANDBETWEEN(1,26),1)),'Информация о пользователе'!G182)","v":{"$error":"#NAME?"}}]
[{"$f":"TRIM(IF('Информация о пользователе'!A183=\"\",\"Пусто\",'Информация о пользователе'!A183))","v":"Пусто"},{"$f":"TRIM(IF('Информация о пользователе'!B183=\"\",\" \",'Информация о пользователе'!B183&\" \"&'Информация о пользователе'!C183))","v":""},{"$f":"TRIM(IF(AD!A182=\"\",\"\",AD!B182&\" \"&A182))","v":"Пусто"},{"$f":"TRIM(IF('Информация о пользователе'!D183=\"\",F182&\"@edu54.ru\",'Информация о пользователе'!D183))","v":"pusto@edu54.ru"},{"$f":"TRIM(IF('Информация о пользователе'!E183=\"\",\"\",'Информация о пользователе'!E183))","v":""},{"$f":"IF('Информация о пользователе'!F183=\"\",TRIM(Translit.Translit(A182)&TRIM(LEFT(Translit.Translit(Service!E181),1))&TRIM(LEFT(Translit.Translit(Service!F181),1))),TRIM('Информация о пользователе'!F183))","v":"pusto"},{"$f":"IF('Информация о пользователе'!G183=\"\",TRIM(LEFT(Translit.Translit(Service!E181),2))&INDEX(Service!H181:H199,RANDBETWEEN(1,19),1)&RANDBETWEEN(1,9)&IF(Service!F181=\"\",TRIM(LEFT(Translit.Translit(Service!E181),3))&INDEX(Service!A181:A206,RANDBETWEEN(1,26),1),TRIM(LEFT(Translit.Translit(Service!F181),2))&INDEX(Service!H181:H199,RANDBETWEEN(1,19),1)&INDEX(Service!A181:A206,RANDBETWEEN(1,26),1)),'Информация о пользователе'!G183)","v":{"$error":"#NAME?"}}]
[{"$f":"TRIM(IF('Информация о пользователе'!A184=\"\",\"Пусто\",'Информация о пользователе'!A184))","v":"Пусто"},{"$f":"TRIM(IF('Информация о пользователе'!B184=\"\",\" \",'Информация о пользователе'!B184&\" \"&'Информация о пользователе'!C184))","v":""},{"$f":"TRIM(IF(AD!A183=\"\",\"\",AD!B183&\" \"&A183))","v":"Пусто"},{"$f":"TRIM(IF('Информация о пользователе'!D184=\"\",F183&\"@edu54.ru\",'Информация о пользователе'!D184))","v":"pusto@edu54.ru"},{"$f":"TRIM(IF('Информация о пользователе'!E184=\"\",\"\",'Информация о пользователе'!E184))","v":""},{"$f":"IF('Информация о пользователе'!F184=\"\",TRIM(Translit.Translit(A183)&TRIM(LEFT(Translit.Translit(Service!E182),1))&TRIM(LEFT(Translit.Translit(Service!F182),1))),TRIM('Информация о пользователе'!F184))","v":"pusto"},{"$f":"IF('Информация о пользователе'!G184=\"\",TRIM(LEFT(Translit.Translit(Service!E182),2))&INDEX(Service!H182:H200,RANDBETWEEN(1,19),1)&RANDBETWEEN(1,9)&IF(Service!F182=\"\",TRIM(LEFT(Translit.Translit(Service!E182),3))&INDEX(Service!A182:A207,RANDBETWEEN(1,26),1),TRIM(LEFT(Translit.Translit(Service!F182),2))&INDEX(Service!H182:H200,RANDBETWEEN(1,19),1)&INDEX(Service!A182:A207,RANDBETWEEN(1,26),1)),'Информация о пользователе'!G184)","v":{"$error":"#NAME?"}}]
[{"$f":"TRIM(IF('Информация о пользователе'!A185=\"\",\"Пусто\",'Информация о пользователе'!A185))","v":"Пусто"},{"$f":"TRIM(IF('Информация о пользователе'!B185=\"\",\" \",'Информация о пользователе'!B185&\" \"&'Информация о пользователе'!C185))","v":""},{"$f":"TRIM(IF(AD!A184=\"\",\"\",AD!B184&\" \"&A184))","v":"Пусто"},{"$f":"TRIM(IF('Информация о пользователе'!D185=\"\",F184&\"@edu54.ru\",'Информация о пользователе'!D185))","v":"pusto@edu54.ru"},{"$f":"TRIM(IF('Информация о пользователе'!E185=\"\",\"\",'Информация о пользователе'!E185))","v":""},{"$f":"IF('Информация о пользователе'!F185=\"\",TRIM(Translit.Translit(A184)&TRIM(LEFT(Translit.Translit(Service!E183),1))&TRIM(LEFT(Translit.Translit(Service!F183),1))),TRIM('Информация о пользователе'!F185))","v":"pusto"},{"$f":"IF('Информация о пользователе'!G185=\"\",TRIM(LEFT(Translit.Translit(Service!E183),2))&INDEX(Service!H183:H201,RANDBETWEEN(1,19),1)&RANDBETWEEN(1,9)&IF(Service!F183=\"\",TRIM(LEFT(Translit.Translit(Service!E183),3))&INDEX(Service!A183:A208,RANDBETWEEN(1,26),1),TRIM(LEFT(Translit.Translit(Service!F183),2))&INDEX(Service!H183:H201,RANDBETWEEN(1,19),1)&INDEX(Service!A183:A208,RANDBETWEEN(1,26),1)),'Информация о пользователе'!G185)","v":{"$error":"#NAME?"}}]
[{"$f":"TRIM(IF('Информация о пользователе'!A186=\"\",\"Пусто\",'Информация о пользователе'!A186))","v":"Пусто"},{"$f":"TRIM(IF('Информация о пользователе'!B186=\"\",\" \",'Информация о пользователе'!B186&\" \"&'Информация о пользователе'!C186))","v":""},{"$f":"TRIM(IF(AD!A185=\"\",\"\",AD!B185&\" \"&A185))","v":"Пусто"},{"$f":"TRIM(IF('Информация о пользователе'!D186=\"\",F185&\"@edu54.ru\",'Информация о пользователе'!D186))","v":"pusto@edu54.ru"},{"$f":"TRIM(IF('Информация о пользователе'!E186=\"\",\"\",'Информация о пользователе'!E186))","v":""},{"$f":"IF('Информация о пользователе'!F186=\"\",TRIM(Translit.Translit(A185)&TRIM(LEFT(Translit.Translit(Service!E184),1))&TRIM(LEFT(Translit.Translit(Service!F184),1))),TRIM('Информация о пользователе'!F186))","v":"pusto"},{"$f":"IF('Информация о пользователе'!G186=\"\",TRIM(LEFT(Translit.Translit(Service!E184),2))&INDEX(Service!H184:H202,RANDBETWEEN(1,19),1)&RANDBETWEEN(1,9)&IF(Service!F184=\"\",TRIM(LEFT(Translit.Translit(Service!E184),3))&INDEX(Service!A184:A209,RANDBETWEEN(1,26),1),TRIM(LEFT(Translit.Translit(Service!F184),2))&INDEX(Service!H184:H202,RANDBETWEEN(1,19),1)&INDEX(Service!A184:A209,RANDBETWEEN(1,26),1)),'Информация о пользователе'!G186)","v":{"$error":"#NAME?"}}]
[{"$f":"TRIM(IF('Информация о пользователе'!A187=\"\",\"Пусто\",'Информация о пользователе'!A187))","v":"Пусто"},{"$f":"TRIM(IF('Информация о пользователе'!B187=\"\",\" \",'Информация о пользователе'!B187&\" \"&'Информация о пользователе'!C187))","v":""},{"$f":"TRIM(IF(AD!A186=\"\",\"\",AD!B186&\" \"&A186))","v":"Пусто"},{"$f":"TRIM(IF('Информация о пользователе'!D187=\"\",F186&\"@edu54.ru\",'Информация о пользователе'!D187))","v":"pusto@edu54.ru"},{"$f":"TRIM(IF('Информация о пользователе'!E187=\"\",\"\",'Информация о пользователе'!E187))","v":""},{"$f":"IF('Информация о пользователе'!F187=\"\",TRIM(Translit.Translit(A186)&TRIM(LEFT(Translit.Translit(Service!E185),1))&TRIM(LEFT(Translit.Translit(Service!F185),1))),TRIM('Информация о пользователе'!F187))","v":"pusto"},{"$f":"IF('Информация о пользователе'!G187=\"\",TRIM(LEFT(Translit.Translit(Service!E185),2))&INDEX(Service!H185:H203,RANDBETWEEN(1,19),1)&RANDBETWEEN(1,9)&IF(Service!F185=\"\",TRIM(LEFT(Translit.Translit(Service!E185),3))&INDEX(Service!A185:A210,RANDBETWEEN(1,26),1),TRIM(LEFT(Translit.Translit(Service!F185),2))&INDEX(Service!H185:H203,RANDBETWEEN(1,19),1)&INDEX(Service!A185:A210,RANDBETWEEN(1,26),1)),'Информация о пользователе'!G187)","v":{"$error":"#NAME?"}}]
[{"$f":"TRIM(IF('Информация о пользователе'!A188=\"\",\"Пусто\",'Информация о пользователе'!A188))","v":"Пусто"},{"$f":"TRIM(IF('Информация о пользователе'!B188=\"\",\" \",'Информация о пользователе'!B188&\" \"&'Информация о пользователе'!C188))","v":""},{"$f":"TRIM(IF(AD!A187=\"\",\"\",AD!B187&\" \"&A187))","v":"Пусто"},{"$f":"TRIM(IF('Информация о пользователе'!D188=\"\",F187&\"@edu54.ru\",'Информация о пользователе'!D188))","v":"pusto@edu54.ru"},{"$f":"TRIM(IF('Информация о пользователе'!E188=\"\",\"\",'Информация о пользователе'!E188))","v":""},{"$f":"IF('Информация о пользователе'!F188=\"\",TRIM(Translit.Translit(A187)&TRIM(LEFT(Translit.Translit(Service!E186),1))&TRIM(LEFT(Translit.Translit(Service!F186),1))),TRIM('Информация о пользователе'!F188))","v":"pusto"},{"$f":"IF('Информация о пользователе'!G188=\"\",TRIM(LEFT(Translit.Translit(Service!E186),2))&INDEX(Service!H186:H204,RANDBETWEEN(1,19),1)&RANDBETWEEN(1,9)&IF(Service!F186=\"\",TRIM(LEFT(Translit.Translit(Service!E186),3))&INDEX(Service!A186:A211,RANDBETWEEN(1,26),1),TRIM(LEFT(Translit.Translit(Service!F186),2))&INDEX(Service!H186:H204,RANDBETWEEN(1,19),1)&INDEX(Service!A186:A211,RANDBETWEEN(1,26),1)),'Информация о пользователе'!G188)","v":{"$error":"#NAME?"}}]
[{"$f":"TRIM(IF('Информация о пользователе'!A189=\"\",\"Пусто\",'Информация о пользователе'!A189))","v":"Пусто"},{"$f":"TRIM(IF('Информация о пользователе'!B189=\"\",\" \",'Информация о пользователе'!B189&\" \"&'Информация о пользователе'!C189))","v":""},{"$f":"TRIM(IF(AD!A188=\"\",\"\",AD!B188&\" \"&A188))","v":"Пусто"},{"$f":"TRIM(IF('Информация о пользователе'!D189=\"\",F188&\"@edu54.ru\",'Информация о пользователе'!D189))","v":"pusto@edu54.ru"},{"$f":"TRIM(IF('Информация о пользователе'!E189=\"\",\"\",'Информация о пользователе'!E189))","v":""},{"$f":"IF('Информация о пользователе'!F189=\"\",TRIM(Translit.Translit(A188)&TRIM(LEFT(Translit.Translit(Service!E187),1))&TRIM(LEFT(Translit.Translit(Service!F187),1))),TRIM('Информация о пользователе'!F189))","v":"pusto"},{"$f":"IF('Информация о пользователе'!G189=\"\",TRIM(LEFT(Translit.Translit(Service!E187),2))&INDEX(Service!H187:H205,RANDBETWEEN(1,19),1)&RANDBETWEEN(1,9)&IF(Service!F187=\"\",TRIM(LEFT(Translit.Translit(Service!E187),3))&INDEX(Service!A187:A212,RANDBETWEEN(1,26),1),TRIM(LEFT(Translit.Translit(Service!F187),2))&INDEX(Service!H187:H205,RANDBETWEEN(1,19),1)&INDEX(Service!A187:A212,RANDBETWEEN(1,26),1)),'Информация о пользователе'!G189)","v":{"$error":"#NAME?"}}]
[{"$f":"TRIM(IF('Информация о пользователе'!A190=\"\",\"Пусто\",'Информация о пользователе'!A190))","v":"Пусто"},{"$f":"TRIM(IF('Информация о пользователе'!B190=\"\",\" \",'Информация о пользователе'!B190&\" \"&'Информация о пользователе'!C190))","v":""},{"$f":"TRIM(IF(AD!A189=\"\",\"\",AD!B189&\" \"&A189))","v":"Пусто"},{"$f":"TRIM(IF('Информация о пользователе'!D190=\"\",F189&\"@edu54.ru\",'Информация о пользователе'!D190))","v":"pusto@edu54.ru"},{"$f":"TRIM(IF('Информация о пользователе'!E190=\"\",\"\",'Информация о пользователе'!E190))","v":""},{"$f":"IF('Информация о пользователе'!F190=\"\",TRIM(Translit.Translit(A189)&TRIM(LEFT(Translit.Translit(Service!E188),1))&TRIM(LEFT(Translit.Translit(Service!F188),1))),TRIM('Информация о пользователе'!F190))","v":"pusto"},{"$f":"IF('Информация о пользователе'!G190=\"\",TRIM(LEFT(Translit.Translit(Service!E188),2))&INDEX(Service!H188:H206,RANDBETWEEN(1,19),1)&RANDBETWEEN(1,9)&IF(Service!F188=\"\",TRIM(LEFT(Translit.Translit(Service!E188),3))&INDEX(Service!A188:A213,RANDBETWEEN(1,26),1),TRIM(LEFT(Translit.Translit(Service!F188),2))&INDEX(Service!H188:H206,RANDBETWEEN(1,19),1)&INDEX(Service!A188:A213,RANDBETWEEN(1,26),1)),'Информация о пользователе'!G190)","v":{"$error":"#NAME?"}}]
[{"$f":"TRIM(IF('Информация о пользователе'!A191=\"\",\"Пусто\",'Информация о пользователе'!A191))","v":"Пусто"},{"$f":"TRIM(IF('Информация о пользователе'!B191=\"\",\" \",'Информация о пользователе'!B191&\" \"&'Информация о пользователе'!C191))","v":""},{"$f":"TRIM(IF(AD!A190=\"\",\"\",AD!B190&\" \"&A190))","v":"Пусто"},{"$f":"TRIM(IF('Информация о пользователе'!D191=\"\",F190&\"@edu54.ru\",'Информация о пользователе'!D191))","v":"pusto@edu54.ru"},{"$f":"TRIM(IF('Информация о пользователе'!E191=\"\",\"\",'Информация о пользователе'!E191))","v":""},{"$f":"IF('Информация о пользователе'!F191=\"\",TRIM(Translit.Translit(A190)&TRIM(LEFT(Translit.Translit(Service!E189),1))&TRIM(LEFT(Translit.Translit(Service!F189),1))),TRIM('Информация о пользователе'!F191))","v":"pusto"},{"$f":"IF('Информация о пользователе'!G191=\"\",TRIM(LEFT(Translit.Translit(Service!E189),2))&INDEX(Service!H189:H207,RANDBETWEEN(1,19),1)&RANDBETWEEN(1,9)&IF(Service!F189=\"\",TRIM(LEFT(Translit.Translit(Service!E189),3))&INDEX(Service!A189:A214,RANDBETWEEN(1,26),1),TRIM(LEFT(Translit.Translit(Service!F189),2))&INDEX(Service!H189:H207,RANDBETWEEN(1,19),1)&INDEX(Service!A189:A214,RANDBETWEEN(1,26),1)),'Информация о пользователе'!G191)","v":{"$error":"#NAME?"}}]
[{"$f":"TRIM(IF('Информация о пользователе'!A192=\"\",\"Пусто\",'Информация о пользователе'!A192))","v":"Пусто"},{"$f":"TRIM(IF('Информация о пользователе'!B192=\"\",\" \",'Информация о пользователе'!B192&\" \"&'Информация о пользователе'!C192))","v":""},{"$f":"TRIM(IF(AD!A191=\"\",\"\",AD!B191&\" \"&A191))","v":"Пусто"},{"$f":"TRIM(IF('Информация о пользователе'!D192=\"\",F191&\"@edu54.ru\",'Информация о пользователе'!D192))","v":"pusto@edu54.ru"},{"$f":"TRIM(IF('Информация о пользователе'!E192=\"\",\"\",'Информация о пользователе'!E192))","v":""},{"$f":"IF('Информация о пользователе'!F192=\"\",TRIM(Translit.Translit(A191)&TRIM(LEFT(Translit.Translit(Service!E190),1))&TRIM(LEFT(Translit.Translit(Service!F190),1))),TRIM('Информация о пользователе'!F192))","v":"pusto"},{"$f":"IF('Информация о пользователе'!G192=\"\",TRIM(LEFT(Translit.Translit(Service!E190),2))&INDEX(Service!H190:H208,RANDBETWEEN(1,19),1)&RANDBETWEEN(1,9)&IF(Service!F190=\"\",TRIM(LEFT(Translit.Translit(Service!E190),3))&INDEX(Service!A190:A215,RANDBETWEEN(1,26),1),TRIM(LEFT(Translit.Translit(Service!F190),2))&INDEX(Service!H190:H208,RANDBETWEEN(1,19),1)&INDEX(Service!A190:A215,RANDBETWEEN(1,26),1)),'Информация о пользователе'!G192)","v":{"$error":"#NAME?"}}]
[{"$f":"TRIM(IF('Информация о пользователе'!A193=\"\",\"Пусто\",'Информация о пользователе'!A193))","v":"Пусто"},{"$f":"TRIM(IF('Информация о пользователе'!B193=\"\",\" \",'Информация о пользователе'!B193&\" \"&'Информация о пользователе'!C193))","v":""},{"$f":"TRIM(IF(AD!A192=\"\",\"\",AD!B192&\" \"&A192))","v":"Пусто"},{"$f":"TRIM(IF('Информация о пользователе'!D193=\"\",F192&\"@edu54.ru\",'Информация о пользователе'!D193))","v":"pusto@edu54.ru"},{"$f":"TRIM(IF('Информация о пользователе'!E193=\"\",\"\",'Информация о пользователе'!E193))","v":""},{"$f":"IF('Информация о пользователе'!F193=\"\",TRIM(Translit.Translit(A192)&TRIM(LEFT(Translit.Translit(Service!E191),1))&TRIM(LEFT(Translit.Translit(Service!F191),1))),TRIM('Информация о пользователе'!F193))","v":"pusto"},{"$f":"IF('Информация о пользователе'!G193=\"\",TRIM(LEFT(Translit.Translit(Service!E191),2))&INDEX(Service!H191:H209,RANDBETWEEN(1,19),1)&RANDBETWEEN(1,9)&IF(Service!F191=\"\",TRIM(LEFT(Translit.Translit(Service!E191),3))&INDEX(Service!A191:A216,RANDBETWEEN(1,26),1),TRIM(LEFT(Translit.Translit(Service!F191),2))&INDEX(Service!H191:H209,RANDBETWEEN(1,19),1)&INDEX(Service!A191:A216,RANDBETWEEN(1,26),1)),'Информация о пользователе'!G193)","v":{"$error":"#NAME?"}}]
[{"$f":"TRIM(IF('Информация о пользователе'!A194=\"\",\"Пусто\",'Информация о пользователе'!A194))","v":"Пусто"},{"$f":"TRIM(IF('Информация о пользователе'!B194=\"\",\" \",'Информация о пользователе'!B194&\" \"&'Информация о пользователе'!C194))","v":""},{"$f":"TRIM(IF(AD!A193=\"\",\"\",AD!B193&\" \"&A193))","v":"Пусто"},{"$f":"TRIM(IF('Информация о пользователе'!D194=\"\",F193&\"@edu54.ru\",'Информация о пользователе'!D194))","v":"pusto@edu54.ru"},{"$f":"TRIM(IF('Информация о пользователе'!E194=\"\",\"\",'Информация о пользователе'!E194))","v":""},{"$f":"IF('Информация о пользователе'!F194=\"\",TRIM(Translit.Translit(A193)&TRIM(LEFT(Translit.Translit(Service!E192),1))&TRIM(LEFT(Translit.Translit(Service!F192),1))),TRIM('Информация о пользователе'!F194))","v":"pusto"},{"$f":"IF('Информация о пользователе'!G194=\"\",TRIM(LEFT(Translit.Translit(Service!E192),2))&INDEX(Service!H192:H210,RANDBETWEEN(1,19),1)&RANDBETWEEN(1,9)&IF(Service!F192=\"\",TRIM(LEFT(Translit.Translit(Service!E192),3))&INDEX(Service!A192:A217,RANDBETWEEN(1,26),1),TRIM(LEFT(Translit.Translit(Service!F192),2))&INDEX(Service!H192:H210,RANDBETWEEN(1,19),1)&INDEX(Service!A192:A217,RANDBETWEEN(1,26),1)),'Информация о пользователе'!G194)","v":{"$error":"#NAME?"}}]
[{"$f":"TRIM(IF('Информация о пользователе'!A195=\"\",\"Пусто\",'Информация о пользователе'!A195))","v":"Пусто"},{"$f":"TRIM(IF('Информация о пользователе'!B195=\"\",\" \",'Информация о пользователе'!B195&\" \"&'Информация о пользователе'!C195))","v":""},{"$f":"TRIM(IF(AD!A194=\"\",\"\",AD!B194&\" \"&A194))","v":"Пусто"},{"$f":"TRIM(IF('Информация о пользователе'!D195=\"\",F194&\"@edu54.ru\",'Информация о пользователе'!D195))","v":"pusto@edu54.ru"},{"$f":"TRIM(IF('Информация о пользователе'!E195=\"\",\"\",'Информация о пользователе'!E195))","v":""},{"$f":"IF('Информация о пользователе'!F195=\"\",TRIM(Translit.Translit(A194)&TRIM(LEFT(Translit.Translit(Service!E193),1))&TRIM(LEFT(Translit.Translit(Service!F193),1))),TRIM('Информация о пользователе'!F195))","v":"pusto"},{"$f":"IF('Информация о пользователе'!G195=\"\",TRIM(LEFT(Translit.Translit(Service!E193),2))&INDEX(Service!H193:H211,RANDBETWEEN(1,19),1)&RANDBETWEEN(1,9)&IF(Service!F193=\"\",TRIM(LEFT(Translit.Translit(Service!E193),3))&INDEX(Service!A193:A218,RANDBETWEEN(1,26),1),TRIM(LEFT(Translit.Translit(Service!F193),2))&INDEX(Service!H193:H211,RANDBETWEEN(1,19),1)&INDEX(Service!A193:A218,RANDBETWEEN(1,26),1)),'Информация о пользователе'!G195)","v":{"$error":"#NAME?"}}]
[{"$f":"TRIM(IF('Информация о пользователе'!A196=\"\",\"Пусто\",'Информация о пользователе'!A196))","v":"Пусто"},{"$f":"TRIM(IF('Информация о пользователе'!B196=\"\",\" \",'Информация о пользователе'!B196&\" \"&'Информация о пользователе'!C196))","v":""},{"$f":"TRIM(IF(AD!A195=\"\",\"\",AD!B195&\" \"&A195))","v":"Пусто"},{"$f":"TRIM(IF('Информация о пользователе'!D196=\"\",F195&\"@edu54.ru\",'Информация о пользователе'!D196))","v":"pusto@edu54.ru"},{"$f":"TRIM(IF('Информация о пользователе'!E196=\"\",\"\",'Информация о пользователе'!E196))","v":""},{"$f":"IF('Информация о пользователе'!F196=\"\",TRIM(Translit.Translit(A195)&TRIM(LEFT(Translit.Translit(Service!E194),1))&TRIM(LEFT(Translit.Translit(Service!F194),1))),TRIM('Информация о пользователе'!F196))","v":"pusto"},{"$f":"IF('Информация о пользователе'!G196=\"\",TRIM(LEFT(Translit.Translit(Service!E194),2))&INDEX(Service!H194:H212,RANDBETWEEN(1,19),1)&RANDBETWEEN(1,9)&IF(Service!F194=\"\",TRIM(LEFT(Translit.Translit(Service!E194),3))&INDEX(Service!A194:A219,RANDBETWEEN(1,26),1),TRIM(LEFT(Translit.Translit(Service!F194),2))&INDEX(Service!H194:H212,RANDBETWEEN(1,19),1)&INDEX(Service!A194:A219,RANDBETWEEN(1,26),1)),'Информация о пользователе'!G196)","v":{"$error":"#NAME?"}}]
[{"$f":"TRIM(IF('Информация о пользователе'!A197=\"\",\"Пусто\",'Информация о пользователе'!A197))","v":"Пусто"},{"$f":"TRIM(IF('Информация о пользователе'!B197=\"\",\" \",'Информация о пользователе'!B197&\" \"&'Информация о пользователе'!C197))","v":""},{"$f":"TRIM(IF(AD!A196=\"\",\"\",AD!B196&\" \"&A196))","v":"Пусто"},{"$f":"TRIM(IF('Информация о пользователе'!D197=\"\",F196&\"@edu54.ru\",'Информация о пользователе'!D197))","v":"pusto@edu54.ru"},{"$f":"TRIM(IF('Информация о пользователе'!E197=\"\",\"\",'Информация о пользователе'!E197))","v":""},{"$f":"IF('Информация о пользователе'!F197=\"\",TRIM(Translit.Translit(A196)&TRIM(LEFT(Translit.Translit(Service!E195),1))&TRIM(LEFT(Translit.Translit(Service!F195),1))),TRIM('Информация о пользователе'!F197))","v":"pusto"},{"$f":"IF('Информация о пользователе'!G197=\"\",TRIM(LEFT(Translit.Translit(Service!E195),2))&INDEX(Service!H195:H213,RANDBETWEEN(1,19),1)&RANDBETWEEN(1,9)&IF(Service!F195=\"\",TRIM(LEFT(Translit.Translit(Service!E195),3))&INDEX(Service!A195:A220,RANDBETWEEN(1,26),1),TRIM(LEFT(Translit.Translit(Service!F195),2))&INDEX(Service!H195:H213,RANDBETWEEN(1,19),1)&INDEX(Service!A195:A220,RANDBETWEEN(1,26),1)),'Информация о пользователе'!G197)","v":{"$error":"#NAME?"}}]
[{"$f":"TRIM(IF('Информация о пользователе'!A198=\"\",\"Пусто\",'Информация о пользователе'!A198))","v":"Пусто"},{"$f":"TRIM(IF('Информация о пользователе'!B198=\"\",\" \",'Информация о пользователе'!B198&\" \"&'Информация о пользователе'!C198))","v":""},{"$f":"TRIM(IF(AD!A197=\"\",\"\",AD!B197&\" \"&A197))","v":"Пусто"},{"$f":"TRIM(IF('Информация о пользователе'!D198=\"\",F197&\"@edu54.ru\",'Информация о пользователе'!D198))","v":"pusto@edu54.ru"},{"$f":"TRIM(IF('Информация о пользователе'!E198=\"\",\"\",'Информация о пользователе'!E198))","v":""},{"$f":"IF('Информация о пользователе'!F198=\"\",TRIM(Translit.Translit(A197)&TRIM(LEFT(Translit.Translit(Service!E196),1))&TRIM(LEFT(Translit.Translit(Service!F196),1))),TRIM('Информация о пользователе'!F198))","v":"pusto"},{"$f":"IF('Информация о пользователе'!G198=\"\",TRIM(LEFT(Translit.Translit(Service!E196),2))&INDEX(Service!H196:H214,RANDBETWEEN(1,19),1)&RANDBETWEEN(1,9)&IF(Service!F196=\"\",TRIM(LEFT(Translit.Translit(Service!E196),3))&INDEX(Service!A196:A221,RANDBETWEEN(1,26),1),TRIM(LEFT(Translit.Translit(Service!F196),2))&INDEX(Service!H196:H214,RANDBETWEEN(1,19),1)&INDEX(Service!A196:A221,RANDBETWEEN(1,26),1)),'Информация о пользователе'!G198)","v":{"$error":"#NAME?"}}]
[{"$f":"TRIM(IF('Информация о пользователе'!A199=\"\",\"Пусто\",'Информация о пользователе'!A199))","v":"Пусто"},{"$f":"TRIM(IF('Информация о пользователе'!B199=\"\",\" \",'Информация о пользователе'!B199&\" \"&'Информация о пользователе'!C199))","v":""},{"$f":"TRIM(IF(AD!A198=\"\",\"\",AD!B198&\" \"&A198))","v":"Пусто"},{"$f":"TRIM(IF('Информация о пользователе'!D199=\"\",F198&\"@edu54.ru\",'Информация о пользователе'!D199))","v":"pusto@edu54.ru"},{"$f":"TRIM(IF('Информация о пользователе'!E199=\"\",\"\",'Информация о пользователе'!E199))","v":""},{"$f":"IF('Информация о пользователе'!F199=\"\",TRIM(Translit.Translit(A198)&TRIM(LEFT(Translit.Translit(Service!E197),1))&TRIM(LEFT(Translit.Translit(Service!F197),1))),TRIM('Информация о пользователе'!F199))","v":"pusto"},{"$f":"IF('Информация о пользователе'!G199=\"\",TRIM(LEFT(Translit.Translit(Service!E197),2))&INDEX(Service!H197:H215,RANDBETWEEN(1,19),1)&RANDBETWEEN(1,9)&IF(Service!F197=\"\",TRIM(LEFT(Translit.Translit(Service!E197),3))&INDEX(Service!A197:A222,RANDBETWEEN(1,26),1),TRIM(LEFT(Translit.Translit(Service!F197),2))&INDEX(Service!H197:H215,RANDBETWEEN(1,19),1)&INDEX(Service!A197:A222,RANDBETWEEN(1,26),1)),'Информация о пользователе'!G199)","v":{"$error":"#NAME?"}}]
[{"$f":"TRIM(IF('Информация о пользователе'!A200=\"\",\"Пусто\",'Информация о пользователе'!A200))","v":"Пусто"},{"$f":"TRIM(IF('Информация о пользователе'!B200=\"\",\" \",'Информация о пользователе'!B200&\" \"&'Информация о пользователе'!C200))","v":""},{"$f":"TRIM(IF(AD!A199=\"\",\"\",AD!B199&\" \"&A199))","v":"Пусто"},{"$f":"TRIM(IF('Информация о пользователе'!D200=\"\",F199&\"@edu54.ru\",'Информация о пользователе'!D200))","v":"pusto@edu54.ru"},{"$f":"TRIM(IF('Информация о пользователе'!E200=\"\",\"\",'Информация о пользователе'!E200))","v":""},{"$f":"IF('Информация о пользователе'!F200=\"\",TRIM(Translit.Translit(A199)&TRIM(LEFT(Translit.Translit(Service!E198),1))&TRIM(LEFT(Translit.Translit(Service!F198),1))),TRIM('Информация о пользователе'!F200))","v":"pusto"},{"$f":"IF('Информация о пользователе'!G200=\"\",TRIM(LEFT(Translit.Translit(Service!E198),2))&INDEX(Service!H198:H216,RANDBETWEEN(1,19),1)&RANDBETWEEN(1,9)&IF(Service!F198=\"\",TRIM(LEFT(Translit.Translit(Service!E198),3))&INDEX(Service!A198:A223,RANDBETWEEN(1,26),1),TRIM(LEFT(Translit.Translit(Service!F198),2))&INDEX(Service!H198:H216,RANDBETWEEN(1,19),1)&INDEX(Service!A198:A223,RANDBETWEEN(1,26),1)),'Информация о пользователе'!G200)","v":{"$error":"#NAME?"}}]
[{"$f":"TRIM(IF('Информация о пользователе'!A201=\"\",\"Пусто\",'Информация о пользователе'!A201))","v":"Пусто"},{"$f":"TRIM(IF('Информация о пользователе'!B201=\"\",\" \",'Информация о пользователе'!B201&\" \"&'Информация о пользователе'!C201))","v":""},{"$f":"TRIM(IF(AD!A200=\"\",\"\",AD!B200&\" \"&A200))","v":"Пусто"},{"$f":"TRIM(IF('Информация о пользователе'!D201=\"\",F200&\"@edu54.ru\",'Информация о пользователе'!D201))","v":"pusto@edu54.ru"},{"$f":"TRIM(IF('Информация о пользователе'!E201=\"\",\"\",'Информация о пользователе'!E201))","v":""},{"$f":"IF('Информация о пользователе'!F201=\"\",TRIM(Translit.Translit(A200)&TRIM(LEFT(Translit.Translit(Service!E199),1))&TRIM(LEFT(Translit.Translit(Service!F199),1))),TRIM('Информация о пользователе'!F201))","v":"pusto"},{"$f":"IF('Информация о пользователе'!G201=\"\",TRIM(LEFT(Translit.Translit(Service!E199),2))&INDEX(Service!H199:H217,RANDBETWEEN(1,19),1)&RANDBETWEEN(1,9)&IF(Service!F199=\"\",TRIM(LEFT(Translit.Translit(Service!E199),3))&INDEX(Service!A199:A224,RANDBETWEEN(1,26),1),TRIM(LEFT(Translit.Translit(Service!F199),2))&INDEX(Service!H199:H217,RANDBETWEEN(1,19),1)&INDEX(Service!A199:A224,RANDBETWEEN(1,26),1)),'Информация о пользователе'!G201)","v":{"$error":"#NAME?"}}]
[{"$f":"TRIM(IF('Информация о пользователе'!A202=\"\",\"Пусто\",'Информация о пользователе'!A202))","v":"Пусто"},{"$f":"TRIM(IF('Информация о пользователе'!B202=\"\",\" \",'Информация о пользователе'!B202&\" \"&'Информация о пользователе'!C202))","v":""},{"$f":"TRIM(IF(AD!A201=\"\",\"\",AD!B201&\" \"&A201))","v":"Пусто"},{"$f":"TRIM(IF('Информация о пользователе'!D202=\"\",F201&\"@edu54.ru\",'Информация о пользователе'!D202))","v":"pusto@edu54.ru"},{"$f":"TRIM(IF('Информация о пользователе'!E202=\"\",\"\",'Информация о пользователе'!E202))","v":""},{"$f":"IF('Информация о пользователе'!F202=\"\",TRIM(Translit.Translit(A201)&TRIM(LEFT(Translit.Translit(Service!E200),1))&TRIM(LEFT(Translit.Translit(Service!F200),1))),TRIM('Информация о пользователе'!F202))","v":"pusto"},{"$f":"IF('Информация о пользователе'!G202=\"\",TRIM(LEFT(Translit.Translit(Service!E200),2))&INDEX(Service!H200:H218,RANDBETWEEN(1,19),1)&RANDBETWEEN(1,9)&IF(Service!F200=\"\",TRIM(LEFT(Translit.Translit(Service!E200),3))&INDEX(Service!A200:A225,RANDBETWEEN(1,26),1),TRIM(LEFT(Translit.Translit(Service!F200),2))&INDEX(Service!H200:H218,RANDBETWEEN(1,19),1)&INDEX(Service!A200:A225,RANDBETWEEN(1,26),1)),'Информация о пользователе'!G202)","v":{"$error":"#NAME?"}}]
[{"$f":"TRIM(IF('Информация о пользователе'!A203=\"\",\"Пусто\",'Информация о пользователе'!A203))","v":"Пусто"},{"$f":"TRIM(IF('Информация о пользователе'!B203=\"\",\" \",'Информация о пользователе'!B203&\" \"&'Информация о пользователе'!C203))","v":""},{"$f":"TRIM(IF(AD!A202=\"\",\"\",AD!B202&\" \"&A202))","v":"Пусто"},{"$f":"TRIM(IF('Информация о пользователе'!D203=\"\",F202&\"@edu54.ru\",'Информация о пользователе'!D203))","v":"pusto@edu54.ru"},{"$f":"TRIM(IF('Информация о пользователе'!E203=\"\",\"\",'Информация о пользователе'!E203))","v":""},{"$f":"IF('Информация о пользователе'!F203=\"\",TRIM(Translit.Translit(A202)&TRIM(LEFT(Translit.Translit(Service!E201),1))&TRIM(LEFT(Translit.Translit(Service!F201),1))),TRIM('Информация о пользователе'!F203))","v":"pusto"},{"$f":"IF('Информация о пользователе'!G203=\"\",TRIM(LEFT(Translit.Translit(Service!E201),2))&INDEX(Service!H201:H219,RANDBETWEEN(1,19),1)&RANDBETWEEN(1,9)&IF(Service!F201=\"\",TRIM(LEFT(Translit.Translit(Service!E201),3))&INDEX(Service!A201:A226,RANDBETWEEN(1,26),1),TRIM(LEFT(Translit.Translit(Service!F201),2))&INDEX(Service!H201:H219,RANDBETWEEN(1,19),1)&INDEX(Service!A201:A226,RANDBETWEEN(1,26),1)),'Информация о пользователе'!G203)","v":{"$error":"#NAME?"}}]
[{"$f":"TRIM(IF('Информация о пользователе'!A204=\"\",\"Пусто\",'Информация о пользователе'!A204))","v":"Пусто"},{"$f":"TRIM(IF('Информация о пользователе'!B204=\"\",\" \",'Информация о пользователе'!B204&\" \"&'Информация о пользователе'!C204))","v":""},{"$f":"TRIM(IF(AD!A203=\"\",\"\",AD!B203&\" \"&A203))","v":"Пусто"},{"$f":"TRIM(IF('Информация о пользователе'!D204=\"\",F203&\"@edu54.ru\",'Информация о пользователе'!D204))","v":"pusto@edu54.ru"},{"$f":"TRIM(IF('Информация о пользователе'!E204=\"\",\"\",'Информация о пользователе'!E204))","v":""},{"$f":"IF('Информация о пользователе'!F204=\"\",TRIM(Translit.Translit(A203)&TRIM(LEFT(Translit.Translit(Service!E202),1))&TRIM(LEFT(Translit.Translit(Service!F202),1))),TRIM('Информация о пользователе'!F204))","v":"pusto"},{"$f":"IF('Информация о пользователе'!G204=\"\",TRIM(LEFT(Translit.Translit(Service!E202),2))&INDEX(Service!H202:H220,RANDBETWEEN(1,19),1)&RANDBETWEEN(1,9)&IF(Service!F202=\"\",TRIM(LEFT(Translit.Translit(Service!E202),3))&INDEX(Service!A202:A227,RANDBETWEEN(1,26),1),TRIM(LEFT(Translit.Translit(Service!F202),2))&INDEX(Service!H202:H220,RANDBETWEEN(1,19),1)&INDEX(Service!A202:A227,RANDBETWEEN(1,26),1)),'Информация о пользователе'!G204)","v":{"$error":"#NAME?"}}]
[{"$f":"TRIM(IF('Информация о пользователе'!A205=\"\",\"Пусто\",'Информация о пользователе'!A205))","v":"Пусто"},{"$f":"TRIM(IF('Информация о пользователе'!B205=\"\",\" \",'Информация о пользователе'!B205&\" \"&'Информация о пользователе'!C205))","v":""},{"$f":"TRIM(IF(AD!A204=\"\",\"\",AD!B204&\" \"&A204))","v":"Пусто"},{"$f":"TRIM(IF('Информация о пользователе'!D205=\"\",F204&\"@edu54.ru\",'Информация о пользователе'!D205))","v":"pusto@edu54.ru"},{"$f":"TRIM(IF('Информация о пользователе'!E205=\"\",\"\",'Информация о пользователе'!E205))","v":""},{"$f":"IF('Информация о пользователе'!F205=\"\",TRIM(Translit.Translit(A204)&TRIM(LEFT(Translit.Translit(Service!E203),1))&TRIM(LEFT(Translit.Translit(Service!F203),1))),TRIM('Информация о пользователе'!F205))","v":"pusto"},{"$f":"IF('Информация о пользователе'!G205=\"\",TRIM(LEFT(Translit.Translit(Service!E203),2))&INDEX(Service!H203:H221,RANDBETWEEN(1,19),1)&RANDBETWEEN(1,9)&IF(Service!F203=\"\",TRIM(LEFT(Translit.Translit(Service!E203),3))&INDEX(Service!A203:A228,RANDBETWEEN(1,26),1),TRIM(LEFT(Translit.Translit(Service!F203),2))&INDEX(Service!H203:H221,RANDBETWEEN(1,19),1)&INDEX(Service!A203:A228,RANDBETWEEN(1,26),1)),'Информация о пользователе'!G205)","v":{"$error":"#NAME?"}}]
[{"$f":"TRIM(IF('Информация о пользователе'!A206=\"\",\"Пусто\",'Информация о пользователе'!A206))","v":"Пусто"},{"$f":"TRIM(IF('Информация о пользователе'!B206=\"\",\" \",'Информация о пользователе'!B206&\" \"&'Информация о пользователе'!C206))","v":""},{"$f":"TRIM(IF(AD!A205=\"\",\"\",AD!B205&\" \"&A205))","v":"Пусто"},{"$f":"TRIM(IF('Информация о пользователе'!D206=\"\",F205&\"@edu54.ru\",'Информация о пользователе'!D206))","v":"pusto@edu54.ru"},{"$f":"TRIM(IF('Информация о пользователе'!E206=\"\",\"\",'Информация о пользователе'!E206))","v":""},{"$f":"IF('Информация о пользователе'!F206=\"\",TRIM(Translit.Translit(A205)&TRIM(LEFT(Translit.Translit(Service!E204),1))&TRIM(LEFT(Translit.Translit(Service!F204),1))),TRIM('Информация о пользователе'!F206))","v":"pusto"},{"$f":"IF('Информация о пользователе'!G206=\"\",TRIM(LEFT(Translit.Translit(Service!E204),2))&INDEX(Service!H204:H222,RANDBETWEEN(1,19),1)&RANDBETWEEN(1,9)&IF(Service!F204=\"\",TRIM(LEFT(Translit.Translit(Service!E204),3))&INDEX(Service!A204:A229,RANDBETWEEN(1,26),1),TRIM(LEFT(Translit.Translit(Service!F204),2))&INDEX(Service!H204:H222,RANDBETWEEN(1,19),1)&INDEX(Service!A204:A229,RANDBETWEEN(1,26),1)),'Информация о пользователе'!G206)","v":{"$error":"#NAME?"}}]
[{"$f":"TRIM(IF('Информация о пользователе'!A207=\"\",\"Пусто\",'Информация о пользователе'!A207))","v":"Пусто"},{"$f":"TRIM(IF('Информация о пользователе'!B207=\"\",\" \",'Информация о пользователе'!B207&\" \"&'Информация о пользователе'!C207))","v":""},{"$f":"TRIM(IF(AD!A206=\"\",\"\",AD!B206&\" \"&A206))","v":"Пусто"},{"$f":"TRIM(IF('Информация о пользователе'!D207=\"\",F206&\"@edu54.ru\",'Информация о пользователе'!D207))","v":"pusto@edu54.ru"},{"$f":"TRIM(IF('Информация о пользователе'!E207=\"\",\"\",'Информация о пользователе'!E207))","v":""},{"$f":"IF('Информация о пользователе'!F207=\"\",TRIM(Translit.Translit(A206)&TRIM(LEFT(Translit.Translit(Service!E205),1))&TRIM(LEFT(Translit.Translit(Service!F205),1))),TRIM('Информация о пользователе'!F207))","v":"pusto"},{"$f":"IF('Информация о пользователе'!G207=\"\",TRIM(LEFT(Translit.Translit(Service!E205),2))&INDEX(Service!H205:H223,RANDBETWEEN(1,19),1)&RANDBETWEEN(1,9)&IF(Service!F205=\"\",TRIM(LEFT(Translit.Translit(Service!E205),3))&INDEX(Service!A205:A230,RANDBETWEEN(1,26),1),TRIM(LEFT(Translit.Translit(Service!F205),2))&INDEX(Service!H205:H223,RANDBETWEEN(1,19),1)&INDEX(Service!A205:A230,RANDBETWEEN(1,26),1)),'Информация о пользователе'!G207)","v":{"$error":"#NAME?"}}]
[{"$f":"TRIM(IF('Информация о пользователе'!A208=\"\",\"Пусто\",'Информация о пользователе'!A208))","v":"Пусто"},{"$f":"TRIM(IF('Информация о пользователе'!B208=\"\",\" \",'Информация о пользователе'!B208&\" \"&'Информация о пользователе'!C208))","v":""},{"$f":"TRIM(IF(AD!A207=\"\",\"\",AD!B207&\" \"&A207))","v":"Пусто"},{"$f":"TRIM(IF('Информация о пользователе'!D208=\"\",F207&\"@edu54.ru\",'Информация о пользователе'!D208))","v":"pusto@edu54.ru"},{"$f":"TRIM(IF('Информация о пользователе'!E208=\"\",\"\",'Информация о пользователе'!E208))","v":""},{"$f":"IF('Информация о пользователе'!F208=\"\",TRIM(Translit.Translit(A207)&TRIM(LEFT(Translit.Translit(Service!E206),1))&TRIM(LEFT(Translit.Translit(Service!F206),1))),TRIM('Информация о пользователе'!F208))","v":"pusto"},{"$f":"IF('Информация о пользователе'!G208=\"\",TRIM(LEFT(Translit.Translit(Service!E206),2))&INDEX(Service!H206:H224,RANDBETWEEN(1,19),1)&RANDBETWEEN(1,9)&IF(Service!F206=\"\",TRIM(LEFT(Translit.Translit(Service!E206),3))&INDEX(Service!A206:A231,RANDBETWEEN(1,26),1),TRIM(LEFT(Translit.Translit(Service!F206),2))&INDEX(Service!H206:H224,RANDBETWEEN(1,19),1)&INDEX(Service!A206:A231,RANDBETWEEN(1,26),1)),'Информация о пользователе'!G208)","v":{"$error":"#NAME?"}}]
[{"$f":"TRIM(IF('Информация о пользователе'!A209=\"\",\"Пусто\",'Информация о пользователе'!A209))","v":"Пусто"},{"$f":"TRIM(IF('Информация о пользователе'!B209=\"\",\" \",'Информация о пользователе'!B209&\" \"&'Информация о пользователе'!C209))","v":""},{"$f":"TRIM(IF(AD!A208=\"\",\"\",AD!B208&\" \"&A208))","v":"Пусто"},{"$f":"TRIM(IF('Информация о пользователе'!D209=\"\",F208&\"@edu54.ru\",'Информация о пользователе'!D209))","v":"pusto@edu54.ru"},{"$f":"TRIM(IF('Информация о пользователе'!E209=\"\",\"\",'Информация о пользователе'!E209))","v":""},{"$f":"IF('Информация о пользователе'!F209=\"\",TRIM(Translit.Translit(A208)&TRIM(LEFT(Translit.Translit(Service!E207),1))&TRIM(LEFT(Translit.Translit(Service!F207),1))),TRIM('Информация о пользователе'!F209))","v":"pusto"},{"$f":"IF('Информация о пользователе'!G209=\"\",TRIM(LEFT(Translit.Translit(Service!E207),2))&INDEX(Service!H207:H225,RANDBETWEEN(1,19),1)&RANDBETWEEN(1,9)&IF(Service!F207=\"\",TRIM(LEFT(Translit.Translit(Service!E207),3))&INDEX(Service!A207:A232,RANDBETWEEN(1,26),1),TRIM(LEFT(Translit.Translit(Service!F207),2))&INDEX(Service!H207:H225,RANDBETWEEN(1,19),1)&INDEX(Service!A207:A232,RANDBETWEEN(1,26),1)),'Информация о пользователе'!G209)","v":{"$error":"#NAME?"}}]
[{"$f":"TRIM(IF('Информация о пользователе'!A210=\"\",\"Пусто\",'Информация о пользователе'!A210))","v":"Пусто"},{"$f":"TRIM(IF('Информация о пользователе'!B210=\"\",\" \",'Информация о пользователе'!B210&\" \"&'Информация о пользователе'!C210))","v":""},{"$f":"TRIM(IF(AD!A209=\"\",\"\",AD!B209&\" \"&A209))","v":"Пусто"},{"$f":"TRIM(IF('Информация о пользователе'!D210=\"\",F209&\"@edu54.ru\",'Информация о пользователе'!D210))","v":"pusto@edu54.ru"},{"$f":"TRIM(IF('Информация о пользователе'!E210=\"\",\"\",'Информация о пользователе'!E210))","v":""},{"$f":"IF('Информация о пользователе'!F210=\"\",TRIM(Translit.Translit(A209)&TRIM(LEFT(Translit.Translit(Service!E208),1))&TRIM(LEFT(Translit.Translit(Service!F208),1))),TRIM('Информация о пользователе'!F210))","v":"pusto"},{"$f":"IF('Информация о пользователе'!G210=\"\",TRIM(LEFT(Translit.Translit(Service!E208),2))&INDEX(Service!H208:H226,RANDBETWEEN(1,19),1)&RANDBETWEEN(1,9)&IF(Service!F208=\"\",TRIM(LEFT(Translit.Translit(Service!E208),3))&INDEX(Service!A208:A233,RANDBETWEEN(1,26),1),TRIM(LEFT(Translit.Translit(Service!F208),2))&INDEX(Service!H208:H226,RANDBETWEEN(1,19),1)&INDEX(Service!A208:A233,RANDBETWEEN(1,26),1)),'Информация о пользователе'!G210)","v":{"$error":"#NAME?"}}]
[{"$f":"TRIM(IF('Информация о пользователе'!A211=\"\",\"Пусто\",'Информация о пользователе'!A211))","v":"Пусто"},{"$f":"TRIM(IF('Информация о пользователе'!B211=\"\",\" \",'Информация о пользователе'!B211&\" \"&'Информация о пользователе'!C211))","v":""},{"$f":"TRIM(IF(AD!A210=\"\",\"\",AD!B210&\" \"&A210))","v":"Пусто"},{"$f":"TRIM(IF('Информация о пользователе'!D211=\"\",F210&\"@edu54.ru\",'Информация о пользователе'!D211))","v":"pusto@edu54.ru"},{"$f":"TRIM(IF('Информация о пользователе'!E211=\"\",\"\",'Информация о пользователе'!E211))","v":""},{"$f":"IF('Информация о пользователе'!F211=\"\",TRIM(Translit.Translit(A210)&TRIM(LEFT(Translit.Translit(Service!E209),1))&TRIM(LEFT(Translit.Translit(Service!F209),1))),TRIM('Информация о пользователе'!F211))","v":"pusto"},{"$f":"IF('Информация о пользователе'!G211=\"\",TRIM(LEFT(Translit.Translit(Service!E209),2))&INDEX(Service!H209:H227,RANDBETWEEN(1,19),1)&RANDBETWEEN(1,9)&IF(Service!F209=\"\",TRIM(LEFT(Translit.Translit(Service!E209),3))&INDEX(Service!A209:A234,RANDBETWEEN(1,26),1),TRIM(LEFT(Translit.Translit(Service!F209),2))&INDEX(Service!H209:H227,RANDBETWEEN(1,19),1)&INDEX(Service!A209:A234,RANDBETWEEN(1,26),1)),'Информация о пользователе'!G211)","v":{"$error":"#NAME?"}}]
[{"$f":"TRIM(IF('Информация о пользователе'!A212=\"\",\"Пусто\",'Информация о пользователе'!A212))","v":"Пусто"},{"$f":"TRIM(IF('Информация о пользователе'!B212=\"\",\" \",'Информация о пользователе'!B212&\" \"&'Информация о пользователе'!C212))","v":""},{"$f":"TRIM(IF(AD!A211=\"\",\"\",AD!B211&\" \"&A211))","v":"Пусто"},{"$f":"TRIM(IF('Информация о пользователе'!D212=\"\",F211&\"@edu54.ru\",'Информация о пользователе'!D212))","v":"pusto@edu54.ru"},{"$f":"TRIM(IF('Информация о пользователе'!E212=\"\",\"\",'Информация о пользователе'!E212))","v":""},{"$f":"IF('Информация о пользователе'!F212=\"\",TRIM(Translit.Translit(A211)&TRIM(LEFT(Translit.Translit(Service!E210),1))&TRIM(LEFT(Translit.Translit(Service!F210),1))),TRIM('Информация о пользователе'!F212))","v":"pusto"},{"$f":"IF('Информация о пользователе'!G212=\"\",TRIM(LEFT(Translit.Translit(Service!E210),2))&INDEX(Service!H210:H228,RANDBETWEEN(1,19),1)&RANDBETWEEN(1,9)&IF(Service!F210=\"\",TRIM(LEFT(Translit.Translit(Service!E210),3))&INDEX(Service!A210:A235,RANDBETWEEN(1,26),1),TRIM(LEFT(Translit.Translit(Service!F210),2))&INDEX(Service!H210:H228,RANDBETWEEN(1,19),1)&INDEX(Service!A210:A235,RANDBETWEEN(1,26),1)),'Информация о пользователе'!G212)","v":{"$error":"#NAME?"}}]
[{"$f":"TRIM(IF('Информация о пользователе'!A213=\"\",\"Пусто\",'Информация о пользователе'!A213))","v":"Пусто"},{"$f":"TRIM(IF('Информация о пользователе'!B213=\"\",\" \",'Информация о пользователе'!B213&\" \"&'Информация о пользователе'!C213))","v":""},{"$f":"TRIM(IF(AD!A212=\"\",\"\",AD!B212&\" \"&A212))","v":"Пусто"},{"$f":"TRIM(IF('Информация о пользователе'!D213=\"\",F212&\"@edu54.ru\",'Информация о пользователе'!D213))","v":"pusto@edu54.ru"},{"$f":"TRIM(IF('Информация о пользователе'!E213=\"\",\"\",'Информация о пользователе'!E213))","v":""},{"$f":"IF('Информация о пользователе'!F213=\"\",TRIM(Translit.Translit(A212)&TRIM(LEFT(Translit.Translit(Service!E211),1))&TRIM(LEFT(Translit.Translit(Service!F211),1))),TRIM('Информация о пользователе'!F213))","v":"pusto"},{"$f":"IF('Информация о пользователе'!G213=\"\",TRIM(LEFT(Translit.Translit(Service!E211),2))&INDEX(Service!H211:H229,RANDBETWEEN(1,19),1)&RANDBETWEEN(1,9)&IF(Service!F211=\"\",TRIM(LEFT(Translit.Translit(Service!E211),3))&INDEX(Service!A211:A236,RANDBETWEEN(1,26),1),TRIM(LEFT(Translit.Translit(Service!F211),2))&INDEX(Service!H211:H229,RANDBETWEEN(1,19),1)&INDEX(Service!A211:A236,RANDBETWEEN(1,26),1)),'Информация о пользователе'!G213)","v":{"$error":"#NAME?"}}]
[{"$f":"TRIM(IF('Информация о пользователе'!A214=\"\",\"Пусто\",'Информация о пользователе'!A214))","v":"Пусто"},{"$f":"TRIM(IF('Информация о пользователе'!B214=\"\",\" \",'Информация о пользователе'!B214&\" \"&'Информация о пользователе'!C214))","v":""},{"$f":"TRIM(IF(AD!A213=\"\",\"\",AD!B213&\" \"&A213))","v":"Пусто"},{"$f":"TRIM(IF('Информация о пользователе'!D214=\"\",F213&\"@edu54.ru\",'Информация о пользователе'!D214))","v":"pusto@edu54.ru"},{"$f":"TRIM(IF('Информация о пользователе'!E214=\"\",\"\",'Информация о пользователе'!E214))","v":""},{"$f":"IF('Информация о пользователе'!F214=\"\",TRIM(Translit.Translit(A213)&TRIM(LEFT(Translit.Translit(Service!E212),1))&TRIM(LEFT(Translit.Translit(Service!F212),1))),TRIM('Информация о пользователе'!F214))","v":"pusto"},{"$f":"IF('Информация о пользователе'!G214=\"\",TRIM(LEFT(Translit.Translit(Service!E212),2))&INDEX(Service!H212:H230,RANDBETWEEN(1,19),1)&RANDBETWEEN(1,9)&IF(Service!F212=\"\",TRIM(LEFT(Translit.Translit(Service!E212),3))&INDEX(Service!A212:A237,RANDBETWEEN(1,26),1),TRIM(LEFT(Translit.Translit(Service!F212),2))&INDEX(Service!H212:H230,RANDBETWEEN(1,19),1)&INDEX(Service!A212:A237,RANDBETWEEN(1,26),1)),'Информация о пользователе'!G214)","v":{"$error":"#NAME?"}}]
[{"$f":"TRIM(IF('Информация о пользователе'!A215=\"\",\"Пусто\",'Информация о пользователе'!A215))","v":"Пусто"},{"$f":"TRIM(IF('Информация о пользователе'!B215=\"\",\" \",'Информация о пользователе'!B215&\" \"&'Информация о пользователе'!C215))","v":""},{"$f":"TRIM(IF(AD!A214=\"\",\"\",AD!B214&\" \"&A214))","v":"Пусто"},{"$f":"TRIM(IF('Информация о пользователе'!D215=\"\",F214&\"@edu54.ru\",'Информация о пользователе'!D215))","v":"pusto@edu54.ru"},{"$f":"TRIM(IF('Информация о пользователе'!E215=\"\",\"\",'Информация о пользователе'!E215))","v":""},{"$f":"IF('Информация о пользователе'!F215=\"\",TRIM(Translit.Translit(A214)&TRIM(LEFT(Translit.Translit(Service!E213),1))&TRIM(LEFT(Translit.Translit(Service!F213),1))),TRIM('Информация о пользователе'!F215))","v":"pusto"},{"$f":"IF('Информация о пользователе'!G215=\"\",TRIM(LEFT(Translit.Translit(Service!E213),2))&INDEX(Service!H213:H231,RANDBETWEEN(1,19),1)&RANDBETWEEN(1,9)&IF(Service!F213=\"\",TRIM(LEFT(Translit.Translit(Service!E213),3))&INDEX(Service!A213:A238,RANDBETWEEN(1,26),1),TRIM(LEFT(Translit.Translit(Service!F213),2))&INDEX(Service!H213:H231,RANDBETWEEN(1,19),1)&INDEX(Service!A213:A238,RANDBETWEEN(1,26),1)),'Информация о пользователе'!G215)","v":{"$error":"#NAME?"}}]
[{"$f":"TRIM(IF('Информация о пользователе'!A216=\"\",\"Пусто\",'Информация о пользователе'!A216))","v":"Пусто"},{"$f":"TRIM(IF('Информация о пользователе'!B216=\"\",\" \",'Информация о пользователе'!B216&\" \"&'Информация о пользователе'!C216))","v":""},{"$f":"TRIM(IF(AD!A215=\"\",\"\",AD!B215&\" \"&A215))","v":"Пусто"},{"$f":"TRIM(IF('Информация о пользователе'!D216=\"\",F215&\"@edu54.ru\",'Информация о пользователе'!D216))","v":"pusto@edu54.ru"},{"$f":"TRIM(IF('Информация о пользователе'!E216=\"\",\"\",'Информация о пользователе'!E216))","v":""},{"$f":"IF('Информация о пользователе'!F216=\"\",TRIM(Translit.Translit(A215)&TRIM(LEFT(Translit.Translit(Service!E214),1))&TRIM(LEFT(Translit.Translit(Service!F214),1))),TRIM('Информация о пользователе'!F216))","v":"pusto"},{"$f":"IF('Информация о пользователе'!G216=\"\",TRIM(LEFT(Translit.Translit(Service!E214),2))&INDEX(Service!H214:H232,RANDBETWEEN(1,19),1)&RANDBETWEEN(1,9)&IF(Service!F214=\"\",TRIM(LEFT(Translit.Translit(Service!E214),3))&INDEX(Service!A214:A239,RANDBETWEEN(1,26),1),TRIM(LEFT(Translit.Translit(Service!F214),2))&INDEX(Service!H214:H232,RANDBETWEEN(1,19),1)&INDEX(Service!A214:A239,RANDBETWEEN(1,26),1)),'Информация о пользователе'!G216)","v":{"$error":"#NAME?"}}]
[{"$f":"TRIM(IF('Информация о пользователе'!A217=\"\",\"Пусто\",'Информация о пользователе'!A217))","v":"Пусто"},{"$f":"TRIM(IF('Информация о пользователе'!B217=\"\",\" \",'Информация о пользователе'!B217&\" \"&'Информация о пользователе'!C217))","v":""},{"$f":"TRIM(IF(AD!A216=\"\",\"\",AD!B216&\" \"&A216))","v":"Пусто"},{"$f":"TRIM(IF('Информация о пользователе'!D217=\"\",F216&\"@edu54.ru\",'Информация о пользователе'!D217))","v":"pusto@edu54.ru"},{"$f":"TRIM(IF('Информация о пользователе'!E217=\"\",\"\",'Информация о пользователе'!E217))","v":""},{"$f":"IF('Информация о пользователе'!F217=\"\",TRIM(Translit.Translit(A216)&TRIM(LEFT(Translit.Translit(Service!E215),1))&TRIM(LEFT(Translit.Translit(Service!F215),1))),TRIM('Информация о пользователе'!F217))","v":"pusto"},{"$f":"IF('Информация о пользователе'!G217=\"\",TRIM(LEFT(Translit.Translit(Service!E215),2))&INDEX(Service!H215:H233,RANDBETWEEN(1,19),1)&RANDBETWEEN(1,9)&IF(Service!F215=\"\",TRIM(LEFT(Translit.Translit(Service!E215),3))&INDEX(Service!A215:A240,RANDBETWEEN(1,26),1),TRIM(LEFT(Translit.Translit(Service!F215),2))&INDEX(Service!H215:H233,RANDBETWEEN(1,19),1)&INDEX(Service!A215:A240,RANDBETWEEN(1,26),1)),'Информация о пользователе'!G217)","v":{"$error":"#NAME?"}}]
[{"$f":"TRIM(IF('Информация о пользователе'!A218=\"\",\"Пусто\",'Информация о пользователе'!A218))","v":"Пусто"},{"$f":"TRIM(IF('Информация о пользователе'!B218=\"\",\" \",'Информация о пользователе'!B218&\" \"&'Информация о пользователе'!C218))","v":""},{"$f":"TRIM(IF(AD!A217=\"\",\"\",AD!B217&\" \"&A217))","v":"Пусто"},{"$f":"TRIM(IF('Информация о пользователе'!D218=\"\",F217&\"@edu54.ru\",'Информация о пользователе'!D218))","v":"pusto@edu54.ru"},{"$f":"TRIM(IF('Информация о пользователе'!E218=\"\",\"\",'Информация о пользователе'!E218))","v":""},{"$f":"IF('Информация о пользователе'!F218=\"\",TRIM(Translit.Translit(A217)&TRIM(LEFT(Translit.Translit(Service!E216),1))&TRIM(LEFT(Translit.Translit(Service!F216),1))),TRIM('Информация о пользователе'!F218))","v":"pusto"},{"$f":"IF('Информация о пользователе'!G218=\"\",TRIM(LEFT(Translit.Translit(Service!E216),2))&INDEX(Service!H216:H234,RANDBETWEEN(1,19),1)&RANDBETWEEN(1,9)&IF(Service!F216=\"\",TRIM(LEFT(Translit.Translit(Service!E216),3))&INDEX(Service!A216:A241,RANDBETWEEN(1,26),1),TRIM(LEFT(Translit.Translit(Service!F216),2))&INDEX(Service!H216:H234,RANDBETWEEN(1,19),1)&INDEX(Service!A216:A241,RANDBETWEEN(1,26),1)),'Информация о пользователе'!G218)","v":{"$error":"#NAME?"}}]
[{"$f":"TRIM(IF('Информация о пользователе'!A219=\"\",\"Пусто\",'Информация о пользователе'!A219))","v":"Пусто"},{"$f":"TRIM(IF('Информация о пользователе'!B219=\"\",\" \",'Информация о пользователе'!B219&\" \"&'Информация о пользователе'!C219))","v":""},{"$f":"TRIM(IF(AD!A218=\"\",\"\",AD!B218&\" \"&A218))","v":"Пусто"},{"$f":"TRIM(IF('Информация о пользователе'!D219=\"\",F218&\"@edu54.ru\",'Информация о пользователе'!D219))","v":"pusto@edu54.ru"},{"$f":"TRIM(IF('Информация о пользователе'!E219=\"\",\"\",'Информация о пользователе'!E219))","v":""},{"$f":"IF('Информация о пользователе'!F219=\"\",TRIM(Translit.Translit(A218)&TRIM(LEFT(Translit.Translit(Service!E217),1))&TRIM(LEFT(Translit.Translit(Service!F217),1))),TRIM('Информация о пользователе'!F219))","v":"pusto"},{"$f":"IF('Информация о пользователе'!G219=\"\",TRIM(LEFT(Translit.Translit(Service!E217),2))&INDEX(Service!H217:H235,RANDBETWEEN(1,19),1)&RANDBETWEEN(1,9)&IF(Service!F217=\"\",TRIM(LEFT(Translit.Translit(Service!E217),3))&INDEX(Service!A217:A242,RANDBETWEEN(1,26),1),TRIM(LEFT(Translit.Translit(Service!F217),2))&INDEX(Service!H217:H235,RANDBETWEEN(1,19),1)&INDEX(Service!A217:A242,RANDBETWEEN(1,26),1)),'Информация о пользователе'!G219)","v":{"$error":"#NAME?"}}]
[{"$f":"TRIM(IF('Информация о пользователе'!A220=\"\",\"Пусто\",'Информация о пользователе'!A220))","v":"Пусто"},{"$f":"TRIM(IF('Информация о пользователе'!B220=\"\",\" \",'Информация о пользователе'!B220&\" \"&'Информация о пользователе'!C220))","v":""},{"$f":"TRIM(IF(AD!A219=\"\",\"\",AD!B219&\" \"&A219))","v":"Пусто"},{"$f":"TRIM(IF('Информация о пользователе'!D220=\"\",F219&\"@edu54.ru\",'Информация о пользователе'!D220))","v":"pusto@edu54.ru"},{"$f":"TRIM(IF('Информация о пользователе'!E220=\"\",\"\",'Информация о пользователе'!E220))","v":""},{"$f":"IF('Информация о пользователе'!F220=\"\",TRIM(Translit.Translit(A219)&TRIM(LEFT(Translit.Translit(Service!E218),1))&TRIM(LEFT(Translit.Translit(Service!F218),1))),TRIM('Информация о пользователе'!F220))","v":"pusto"},{"$f":"IF('Информация о пользователе'!G220=\"\",TRIM(LEFT(Translit.Translit(Service!E218),2))&INDEX(Service!H218:H236,RANDBETWEEN(1,19),1)&RANDBETWEEN(1,9)&IF(Service!F218=\"\",TRIM(LEFT(Translit.Translit(Service!E218),3))&INDEX(Service!A218:A243,RANDBETWEEN(1,26),1),TRIM(LEFT(Translit.Translit(Service!F218),2))&INDEX(Service!H218:H236,RANDBETWEEN(1,19),1)&INDEX(Service!A218:A243,RANDBETWEEN(1,26),1)),'Информация о пользователе'!G220)","v":{"$error":"#NAME?"}}]
[{"$f":"TRIM(IF('Информация о пользователе'!A221=\"\",\"Пусто\",'Информация о пользователе'!A221))","v":"Пусто"},{"$f":"TRIM(IF('Информация о пользователе'!B221=\"\",\" \",'Информация о пользователе'!B221&\" \"&'Информация о пользователе'!C221))","v":""},{"$f":"TRIM(IF(AD!A220=\"\",\"\",AD!B220&\" \"&A220))","v":"Пусто"},{"$f":"TRIM(IF('Информация о пользователе'!D221=\"\",F220&\"@edu54.ru\",'Информация о пользователе'!D221))","v":"pusto@edu54.ru"},{"$f":"TRIM(IF('Информация о пользователе'!E221=\"\",\"\",'Информация о пользователе'!E221))","v":""},{"$f":"IF('Информация о пользователе'!F221=\"\",TRIM(Translit.Translit(A220)&TRIM(LEFT(Translit.Translit(Service!E219),1))&TRIM(LEFT(Translit.Translit(Service!F219),1))),TRIM('Информация о пользователе'!F221))","v":"pusto"},{"$f":"IF('Информация о пользователе'!G221=\"\",TRIM(LEFT(Translit.Translit(Service!E219),2))&INDEX(Service!H219:H237,RANDBETWEEN(1,19),1)&RANDBETWEEN(1,9)&IF(Service!F219=\"\",TRIM(LEFT(Translit.Translit(Service!E219),3))&INDEX(Service!A219:A244,RANDBETWEEN(1,26),1),TRIM(LEFT(Translit.Translit(Service!F219),2))&INDEX(Service!H219:H237,RANDBETWEEN(1,19),1)&INDEX(Service!A219:A244,RANDBETWEEN(1,26),1)),'Информация о пользователе'!G221)","v":{"$error":"#NAME?"}}]
[{"$f":"TRIM(IF('Информация о пользователе'!A222=\"\",\"Пусто\",'Информация о пользователе'!A222))","v":"Пусто"},{"$f":"TRIM(IF('Информация о пользователе'!B222=\"\",\" \",'Информация о пользователе'!B222&\" \"&'Информация о пользователе'!C222))","v":""},{"$f":"TRIM(IF(AD!A221=\"\",\"\",AD!B221&\" \"&A221))","v":"Пусто"},{"$f":"TRIM(IF('Информация о пользователе'!D222=\"\",F221&\"@edu54.ru\",'Информация о пользователе'!D222))","v":"pusto@edu54.ru"},{"$f":"TRIM(IF('Информация о пользователе'!E222=\"\",\"\",'Информация о пользователе'!E222))","v":""},{"$f":"IF('Информация о пользователе'!F222=\"\",TRIM(Translit.Translit(A221)&TRIM(LEFT(Translit.Translit(Service!E220),1))&TRIM(LEFT(Translit.Translit(Service!F220),1))),TRIM('Информация о пользователе'!F222))","v":"pusto"},{"$f":"IF('Информация о пользователе'!G222=\"\",TRIM(LEFT(Translit.Translit(Service!E220),2))&INDEX(Service!H220:H238,RANDBETWEEN(1,19),1)&RANDBETWEEN(1,9)&IF(Service!F220=\"\",TRIM(LEFT(Translit.Translit(Service!E220),3))&INDEX(Service!A220:A245,RANDBETWEEN(1,26),1),TRIM(LEFT(Translit.Translit(Service!F220),2))&INDEX(Service!H220:H238,RANDBETWEEN(1,19),1)&INDEX(Service!A220:A245,RANDBETWEEN(1,26),1)),'Информация о пользователе'!G222)","v":{"$error":"#NAME?"}}]
[{"$f":"TRIM(IF('Информация о пользователе'!A223=\"\",\"Пусто\",'Информация о пользователе'!A223))","v":"Пусто"},{"$f":"TRIM(IF('Информация о пользователе'!B223=\"\",\" \",'Информация о пользователе'!B223&\" \"&'Информация о пользователе'!C223))","v":""},{"$f":"TRIM(IF(AD!A222=\"\",\"\",AD!B222&\" \"&A222))","v":"Пусто"},{"$f":"TRIM(IF('Информация о пользователе'!D223=\"\",F222&\"@edu54.ru\",'Информация о пользователе'!D223))","v":"pusto@edu54.ru"},{"$f":"TRIM(IF('Информация о пользователе'!E223=\"\",\"\",'Информация о пользователе'!E223))","v":""},{"$f":"IF('Информация о пользователе'!F223=\"\",TRIM(Translit.Translit(A222)&TRIM(LEFT(Translit.Translit(Service!E221),1))&TRIM(LEFT(Translit.Translit(Service!F221),1))),TRIM('Информация о пользователе'!F223))","v":"pusto"},{"$f":"IF('Информация о пользователе'!G223=\"\",TRIM(LEFT(Translit.Translit(Service!E221),2))&INDEX(Service!H221:H239,RANDBETWEEN(1,19),1)&RANDBETWEEN(1,9)&IF(Service!F221=\"\",TRIM(LEFT(Translit.Translit(Service!E221),3))&INDEX(Service!A221:A246,RANDBETWEEN(1,26),1),TRIM(LEFT(Translit.Translit(Service!F221),2))&INDEX(Service!H221:H239,RANDBETWEEN(1,19),1)&INDEX(Service!A221:A246,RANDBETWEEN(1,26),1)),'Информация о пользователе'!G223)","v":{"$error":"#NAME?"}}]
[{"$f":"TRIM(IF('Информация о пользователе'!A224=\"\",\"Пусто\",'Информация о пользователе'!A224))","v":"Пусто"},{"$f":"TRIM(IF('Информация о пользователе'!B224=\"\",\" \",'Информация о пользователе'!B224&\" \"&'Информация о пользователе'!C224))","v":""},{"$f":"TRIM(IF(AD!A223=\"\",\"\",AD!B223&\" \"&A223))","v":"Пусто"},{"$f":"TRIM(IF('Информация о пользователе'!D224=\"\",F223&\"@edu54.ru\",'Информация о пользователе'!D224))","v":"pusto@edu54.ru"},{"$f":"TRIM(IF('Информация о пользователе'!E224=\"\",\"\",'Информация о пользователе'!E224))","v":""},{"$f":"IF('Информация о пользователе'!F224=\"\",TRIM(Translit.Translit(A223)&TRIM(LEFT(Translit.Translit(Service!E222),1))&TRIM(LEFT(Translit.Translit(Service!F222),1))),TRIM('Информация о пользователе'!F224))","v":"pusto"},{"$f":"IF('Информация о пользователе'!G224=\"\",TRIM(LEFT(Translit.Translit(Service!E222),2))&INDEX(Service!H222:H240,RANDBETWEEN(1,19),1)&RANDBETWEEN(1,9)&IF(Service!F222=\"\",TRIM(LEFT(Translit.Translit(Service!E222),3))&INDEX(Service!A222:A247,RANDBETWEEN(1,26),1),TRIM(LEFT(Translit.Translit(Service!F222),2))&INDEX(Service!H222:H240,RANDBETWEEN(1,19),1)&INDEX(Service!A222:A247,RANDBETWEEN(1,26),1)),'Информация о пользователе'!G224)","v":{"$error":"#NAME?"}}]
[{"$f":"TRIM(IF('Информация о пользователе'!A225=\"\",\"Пусто\",'Информация о пользователе'!A225))","v":"Пусто"},{"$f":"TRIM(IF('Информация о пользователе'!B225=\"\",\" \",'Информация о пользователе'!B225&\" \"&'Информация о пользователе'!C225))","v":""},{"$f":"TRIM(IF(AD!A224=\"\",\"\",AD!B224&\" \"&A224))","v":"Пусто"},{"$f":"TRIM(IF('Информация о пользователе'!D225=\"\",F224&\"@edu54.ru\",'Информация о пользователе'!D225))","v":"pusto@edu54.ru"},{"$f":"TRIM(IF('Информация о пользователе'!E225=\"\",\"\",'Информация о пользователе'!E225))","v":""},{"$f":"IF('Информация о пользователе'!F225=\"\",TRIM(Translit.Translit(A224)&TRIM(LEFT(Translit.Translit(Service!E223),1))&TRIM(LEFT(Translit.Translit(Service!F223),1))),TRIM('Информация о пользователе'!F225))","v":"pusto"},{"$f":"IF('Информация о пользователе'!G225=\"\",TRIM(LEFT(Translit.Translit(Service!E223),2))&INDEX(Service!H223:H241,RANDBETWEEN(1,19),1)&RANDBETWEEN(1,9)&IF(Service!F223=\"\",TRIM(LEFT(Translit.Translit(Service!E223),3))&INDEX(Service!A223:A248,RANDBETWEEN(1,26),1),TRIM(LEFT(Translit.Translit(Service!F223),2))&INDEX(Service!H223:H241,RANDBETWEEN(1,19),1)&INDEX(Service!A223:A248,RANDBETWEEN(1,26),1)),'Информация о пользователе'!G225)","v":{"$error":"#NAME?"}}]
[{"$f":"TRIM(IF('Информация о пользователе'!A226=\"\",\"Пусто\",'Информация о пользователе'!A226))","v":"Пусто"},{"$f":"TRIM(IF('Информация о пользователе'!B226=\"\",\" \",'Информация о пользователе'!B226&\" \"&'Информация о пользователе'!C226))","v":""},{"$f":"TRIM(IF(AD!A225=\"\",\"\",AD!B225&\" \"&A225))","v":"Пусто"},{"$f":"TRIM(IF('Информация о пользователе'!D226=\"\",F225&\"@edu54.ru\",'Информация о пользователе'!D226))","v":"pusto@edu54.ru"},{"$f":"TRIM(IF('Информация о пользователе'!E226=\"\",\"\",'Информация о пользователе'!E226))","v":""},{"$f":"IF('Информация о пользователе'!F226=\"\",TRIM(Translit.Translit(A225)&TRIM(LEFT(Translit.Translit(Service!E224),1))&TRIM(LEFT(Translit.Translit(Service!F224),1))),TRIM('Информация о пользователе'!F226))","v":"pusto"},{"$f":"IF('Информация о пользователе'!G226=\"\",TRIM(LEFT(Translit.Translit(Service!E224),2))&INDEX(Service!H224:H242,RANDBETWEEN(1,19),1)&RANDBETWEEN(1,9)&IF(Service!F224=\"\",TRIM(LEFT(Translit.Translit(Service!E224),3))&INDEX(Service!A224:A249,RANDBETWEEN(1,26),1),TRIM(LEFT(Translit.Translit(Service!F224),2))&INDEX(Service!H224:H242,RANDBETWEEN(1,19),1)&INDEX(Service!A224:A249,RANDBETWEEN(1,26),1)),'Информация о пользователе'!G226)","v":{"$error":"#NAME?"}}]
[{"$f":"TRIM(IF('Информация о пользователе'!A227=\"\",\"Пусто\",'Информация о пользователе'!A227))","v":"Пусто"},{"$f":"TRIM(IF('Информация о пользователе'!B227=\"\",\" \",'Информация о пользователе'!B227&\" \"&'Информация о пользователе'!C227))","v":""},{"$f":"TRIM(IF(AD!A226=\"\",\"\",AD!B226&\" \"&A226))","v":"Пусто"},{"$f":"TRIM(IF('Информация о пользователе'!D227=\"\",F226&\"@edu54.ru\",'Информация о пользователе'!D227))","v":"pusto@edu54.ru"},{"$f":"TRIM(IF('Информация о пользователе'!E227=\"\",\"\",'Информация о пользователе'!E227))","v":""},{"$f":"IF('Информация о пользователе'!F227=\"\",TRIM(Translit.Translit(A226)&TRIM(LEFT(Translit.Translit(Service!E225),1))&TRIM(LEFT(Translit.Translit(Service!F225),1))),TRIM('Информация о пользователе'!F227))","v":"pusto"},{"$f":"IF('Информация о пользователе'!G227=\"\",TRIM(LEFT(Translit.Translit(Service!E225),2))&INDEX(Service!H225:H243,RANDBETWEEN(1,19),1)&RANDBETWEEN(1,9)&IF(Service!F225=\"\",TRIM(LEFT(Translit.Translit(Service!E225),3))&INDEX(Service!A225:A250,RANDBETWEEN(1,26),1),TRIM(LEFT(Translit.Translit(Service!F225),2))&INDEX(Service!H225:H243,RANDBETWEEN(1,19),1)&INDEX(Service!A225:A250,RANDBETWEEN(1,26),1)),'Информация о пользователе'!G227)","v":{"$error":"#NAME?"}}]
[{"$f":"TRIM(IF('Информация о пользователе'!A228=\"\",\"Пусто\",'Информация о пользователе'!A228))","v":"Пусто"},{"$f":"TRIM(IF('Информация о пользователе'!B228=\"\",\" \",'Информация о пользователе'!B228&\" \"&'Информация о пользователе'!C228))","v":""},{"$f":"TRIM(IF(AD!A227=\"\",\"\",AD!B227&\" \"&A227))","v":"Пусто"},{"$f":"TRIM(IF('Информация о пользователе'!D228=\"\",F227&\"@edu54.ru\",'Информация о пользователе'!D228))","v":"pusto@edu54.ru"},{"$f":"TRIM(IF('Информация о пользователе'!E228=\"\",\"\",'Информация о пользователе'!E228))","v":""},{"$f":"IF('Информация о пользователе'!F228=\"\",TRIM(Translit.Translit(A227)&TRIM(LEFT(Translit.Translit(Service!E226),1))&TRIM(LEFT(Translit.Translit(Service!F226),1))),TRIM('Информация о пользователе'!F228))","v":"pusto"},{"$f":"IF('Информация о пользователе'!G228=\"\",TRIM(LEFT(Translit.Translit(Service!E226),2))&INDEX(Service!H226:H244,RANDBETWEEN(1,19),1)&RANDBETWEEN(1,9)&IF(Service!F226=\"\",TRIM(LEFT(Translit.Translit(Service!E226),3))&INDEX(Service!A226:A251,RANDBETWEEN(1,26),1),TRIM(LEFT(Translit.Translit(Service!F226),2))&INDEX(Service!H226:H244,RANDBETWEEN(1,19),1)&INDEX(Service!A226:A251,RANDBETWEEN(1,26),1)),'Информация о пользователе'!G228)","v":{"$error":"#NAME?"}}]
[{"$f":"TRIM(IF('Информация о пользователе'!A229=\"\",\"Пусто\",'Информация о пользователе'!A229))","v":"Пусто"},{"$f":"TRIM(IF('Информация о пользователе'!B229=\"\",\" \",'Информация о пользователе'!B229&\" \"&'Информация о пользователе'!C229))","v":""},{"$f":"TRIM(IF(AD!A228=\"\",\"\",AD!B228&\" \"&A228))","v":"Пусто"},{"$f":"TRIM(IF('Информация о пользователе'!D229=\"\",F228&\"@edu54.ru\",'Информация о пользователе'!D229))","v":"pusto@edu54.ru"},{"$f":"TRIM(IF('Информация о пользователе'!E229=\"\",\"\",'Информация о пользователе'!E229))","v":""},{"$f":"IF('Информация о пользователе'!F229=\"\",TRIM(Translit.Translit(A228)&TRIM(LEFT(Translit.Translit(Service!E227),1))&TRIM(LEFT(Translit.Translit(Service!F227),1))),TRIM('Информация о пользователе'!F229))","v":"pusto"},{"$f":"IF('Информация о пользователе'!G229=\"\",TRIM(LEFT(Translit.Translit(Service!E227),2))&INDEX(Service!H227:H245,RANDBETWEEN(1,19),1)&RANDBETWEEN(1,9)&IF(Service!F227=\"\",TRIM(LEFT(Translit.Translit(Service!E227),3))&INDEX(Service!A227:A252,RANDBETWEEN(1,26),1),TRIM(LEFT(Translit.Translit(Service!F227),2))&INDEX(Service!H227:H245,RANDBETWEEN(1,19),1)&INDEX(Service!A227:A252,RANDBETWEEN(1,26),1)),'Информация о пользователе'!G229)","v":{"$error":"#NAME?"}}]
[{"$f":"TRIM(IF('Информация о пользователе'!A230=\"\",\"Пусто\",'Информация о пользователе'!A230))","v":"Пусто"},{"$f":"TRIM(IF('Информация о пользователе'!B230=\"\",\" \",'Информация о пользователе'!B230&\" \"&'Информация о пользователе'!C230))","v":""},{"$f":"TRIM(IF(AD!A229=\"\",\"\",AD!B229&\" \"&A229))","v":"Пусто"},{"$f":"TRIM(IF('Информация о пользователе'!D230=\"\",F229&\"@edu54.ru\",'Информация о пользователе'!D230))","v":"pusto@edu54.ru"},{"$f":"TRIM(IF('Информация о пользователе'!E230=\"\",\"\",'Информация о пользователе'!E230))","v":""},{"$f":"IF('Информация о пользователе'!F230=\"\",TRIM(Translit.Translit(A229)&TRIM(LEFT(Translit.Translit(Service!E228),1))&TRIM(LEFT(Translit.Translit(Service!F228),1))),TRIM('Информация о пользователе'!F230))","v":"pusto"},{"$f":"IF('Информация о пользователе'!G230=\"\",TRIM(LEFT(Translit.Translit(Service!E228),2))&INDEX(Service!H228:H246,RANDBETWEEN(1,19),1)&RANDBETWEEN(1,9)&IF(Service!F228=\"\",TRIM(LEFT(Translit.Translit(Service!E228),3))&INDEX(Service!A228:A253,RANDBETWEEN(1,26),1),TRIM(LEFT(Translit.Translit(Service!F228),2))&INDEX(Service!H228:H246,RANDBETWEEN(1,19),1)&INDEX(Service!A228:A253,RANDBETWEEN(1,26),1)),'Информация о пользователе'!G230)","v":{"$error":"#NAME?"}}]
[{"$f":"TRIM(IF('Информация о пользователе'!A231=\"\",\"Пусто\",'Информация о пользователе'!A231))","v":"Пусто"},{"$f":"TRIM(IF('Информация о пользователе'!B231=\"\",\" \",'Информация о пользователе'!B231&\" \"&'Информация о пользователе'!C231))","v":""},{"$f":"TRIM(IF(AD!A230=\"\",\"\",AD!B230&\" \"&A230))","v":"Пусто"},{"$f":"TRIM(IF('Информация о пользователе'!D231=\"\",F230&\"@edu54.ru\",'Информация о пользователе'!D231))","v":"pusto@edu54.ru"},{"$f":"TRIM(IF('Информация о пользователе'!E231=\"\",\"\",'Информация о пользователе'!E231))","v":""},{"$f":"IF('Информация о пользователе'!F231=\"\",TRIM(Translit.Translit(A230)&TRIM(LEFT(Translit.Translit(Service!E229),1))&TRIM(LEFT(Translit.Translit(Service!F229),1))),TRIM('Информация о пользователе'!F231))","v":"pusto"},{"$f":"IF('Информация о пользователе'!G231=\"\",TRIM(LEFT(Translit.Translit(Service!E229),2))&INDEX(Service!H229:H247,RANDBETWEEN(1,19),1)&RANDBETWEEN(1,9)&IF(Service!F229=\"\",TRIM(LEFT(Translit.Translit(Service!E229),3))&INDEX(Service!A229:A254,RANDBETWEEN(1,26),1),TRIM(LEFT(Translit.Translit(Service!F229),2))&INDEX(Service!H229:H247,RANDBETWEEN(1,19),1)&INDEX(Service!A229:A254,RANDBETWEEN(1,26),1)),'Информация о пользователе'!G231)","v":{"$error":"#NAME?"}}]
[{"$f":"TRIM(IF('Информация о пользователе'!A232=\"\",\"Пусто\",'Информация о пользователе'!A232))","v":"Пусто"},{"$f":"TRIM(IF('Информация о пользователе'!B232=\"\",\" \",'Информация о пользователе'!B232&\" \"&'Информация о пользователе'!C232))","v":""},{"$f":"TRIM(IF(AD!A231=\"\",\"\",AD!B231&\" \"&A231))","v":"Пусто"},{"$f":"TRIM(IF('Информация о пользователе'!D232=\"\",F231&\"@edu54.ru\",'Информация о пользователе'!D232))","v":"pusto@edu54.ru"},{"$f":"TRIM(IF('Информация о пользователе'!E232=\"\",\"\",'Информация о пользователе'!E232))","v":""},{"$f":"IF('Информация о пользователе'!F232=\"\",TRIM(Translit.Translit(A231)&TRIM(LEFT(Translit.Translit(Service!E230),1))&TRIM(LEFT(Translit.Translit(Service!F230),1))),TRIM('Информация о пользователе'!F232))","v":"pusto"},{"$f":"IF('Информация о пользователе'!G232=\"\",TRIM(LEFT(Translit.Translit(Service!E230),2))&INDEX(Service!H230:H248,RANDBETWEEN(1,19),1)&RANDBETWEEN(1,9)&IF(Service!F230=\"\",TRIM(LEFT(Translit.Translit(Service!E230),3))&INDEX(Service!A230:A255,RANDBETWEEN(1,26),1),TRIM(LEFT(Translit.Translit(Service!F230),2))&INDEX(Service!H230:H248,RANDBETWEEN(1,19),1)&INDEX(Service!A230:A255,RANDBETWEEN(1,26),1)),'Информация о пользователе'!G232)","v":{"$error":"#NAME?"}}]
[{"$f":"TRIM(IF('Информация о пользователе'!A233=\"\",\"Пусто\",'Информация о пользователе'!A233))","v":"Пусто"},{"$f":"TRIM(IF('Информация о пользователе'!B233=\"\",\" \",'Информация о пользователе'!B233&\" \"&'Информация о пользователе'!C233))","v":""},{"$f":"TRIM(IF(AD!A232=\"\",\"\",AD!B232&\" \"&A232))","v":"Пусто"},{"$f":"TRIM(IF('Информация о пользователе'!D233=\"\",F232&\"@edu54.ru\",'Информация о пользователе'!D233))","v":"pusto@edu54.ru"},{"$f":"TRIM(IF('Информация о пользователе'!E233=\"\",\"\",'Информация о пользователе'!E233))","v":""},{"$f":"IF('Информация о пользователе'!F233=\"\",TRIM(Translit.Translit(A232)&TRIM(LEFT(Translit.Translit(Service!E231),1))&TRIM(LEFT(Translit.Translit(Service!F231),1))),TRIM('Информация о пользователе'!F233))","v":"pusto"},{"$f":"IF('Информация о пользователе'!G233=\"\",TRIM(LEFT(Translit.Translit(Service!E231),2))&INDEX(Service!H231:H249,RANDBETWEEN(1,19),1)&RANDBETWEEN(1,9)&IF(Service!F231=\"\",TRIM(LEFT(Translit.Translit(Service!E231),3))&INDEX(Service!A231:A256,RANDBETWEEN(1,26),1),TRIM(LEFT(Translit.Translit(Service!F231),2))&INDEX(Service!H231:H249,RANDBETWEEN(1,19),1)&INDEX(Service!A231:A256,RANDBETWEEN(1,26),1)),'Информация о пользователе'!G233)","v":{"$error":"#NAME?"}}]
[{"$f":"TRIM(IF('Информация о пользователе'!A234=\"\",\"Пусто\",'Информация о пользователе'!A234))","v":"Пусто"},{"$f":"TRIM(IF('Информация о пользователе'!B234=\"\",\" \",'Информация о пользователе'!B234&\" \"&'Информация о пользователе'!C234))","v":""},{"$f":"TRIM(IF(AD!A233=\"\",\"\",AD!B233&\" \"&A233))","v":"Пусто"},{"$f":"TRIM(IF('Информация о пользователе'!D234=\"\",F233&\"@edu54.ru\",'Информация о пользователе'!D234))","v":"pusto@edu54.ru"},{"$f":"TRIM(IF('Информация о пользователе'!E234=\"\",\"\",'Информация о пользователе'!E234))","v":""},{"$f":"IF('Информация о пользователе'!F234=\"\",TRIM(Translit.Translit(A233)&TRIM(LEFT(Translit.Translit(Service!E232),1))&TRIM(LEFT(Translit.Translit(Service!F232),1))),TRIM('Информация о пользователе'!F234))","v":"pusto"},{"$f":"IF('Информация о пользователе'!G234=\"\",TRIM(LEFT(Translit.Translit(Service!E232),2))&INDEX(Service!H232:H250,RANDBETWEEN(1,19),1)&RANDBETWEEN(1,9)&IF(Service!F232=\"\",TRIM(LEFT(Translit.Translit(Service!E232),3))&INDEX(Service!A232:A257,RANDBETWEEN(1,26),1),TRIM(LEFT(Translit.Translit(Service!F232),2))&INDEX(Service!H232:H250,RANDBETWEEN(1,19),1)&INDEX(Service!A232:A257,RANDBETWEEN(1,26),1)),'Информация о пользователе'!G234)","v":{"$error":"#NAME?"}}]
[{"$f":"TRIM(IF('Информация о пользователе'!A235=\"\",\"Пусто\",'Информация о пользователе'!A235))","v":"Пусто"},{"$f":"TRIM(IF('Информация о пользователе'!B235=\"\",\" \",'Информация о пользователе'!B235&\" \"&'Информация о пользователе'!C235))","v":""},{"$f":"TRIM(IF(AD!A234=\"\",\"\",AD!B234&\" \"&A234))","v":"Пусто"},{"$f":"TRIM(IF('Информация о пользователе'!D235=\"\",F234&\"@edu54.ru\",'Информация о пользователе'!D235))","v":"pusto@edu54.ru"},{"$f":"TRIM(IF('Информация о пользователе'!E235=\"\",\"\",'Информация о пользователе'!E235))","v":""},{"$f":"IF('Информация о пользователе'!F235=\"\",TRIM(Translit.Translit(A234)&TRIM(LEFT(Translit.Translit(Service!E233),1))&TRIM(LEFT(Translit.Translit(Service!F233),1))),TRIM('Информация о пользователе'!F235))","v":"pusto"},{"$f":"IF('Информация о пользователе'!G235=\"\",TRIM(LEFT(Translit.Translit(Service!E233),2))&INDEX(Service!H233:H251,RANDBETWEEN(1,19),1)&RANDBETWEEN(1,9)&IF(Service!F233=\"\",TRIM(LEFT(Translit.Translit(Service!E233),3))&INDEX(Service!A233:A258,RANDBETWEEN(1,26),1),TRIM(LEFT(Translit.Translit(Service!F233),2))&INDEX(Service!H233:H251,RANDBETWEEN(1,19),1)&INDEX(Service!A233:A258,RANDBETWEEN(1,26),1)),'Информация о пользователе'!G235)","v":{"$error":"#NAME?"}}]
[{"$f":"TRIM(IF('Информация о пользователе'!A236=\"\",\"Пусто\",'Информация о пользователе'!A236))","v":"Пусто"},{"$f":"TRIM(IF('Информация о пользователе'!B236=\"\",\" \",'Информация о пользователе'!B236&\" \"&'Информация о пользователе'!C236))","v":""},{"$f":"TRIM(IF(AD!A235=\"\",\"\",AD!B235&\" \"&A235))","v":"Пусто"},{"$f":"TRIM(IF('Информация о пользователе'!D236=\"\",F235&\"@edu54.ru\",'Информация о пользователе'!D236))","v":"pusto@edu54.ru"},{"$f":"TRIM(IF('Информация о пользователе'!E236=\"\",\"\",'Информация о пользователе'!E236))","v":""},{"$f":"IF('Информация о пользователе'!F236=\"\",TRIM(Translit.Translit(A235)&TRIM(LEFT(Translit.Translit(Service!E234),1))&TRIM(LEFT(Translit.Translit(Service!F234),1))),TRIM('Информация о пользователе'!F236))","v":"pusto"},{"$f":"IF('Информация о пользователе'!G236=\"\",TRIM(LEFT(Translit.Translit(Service!E234),2))&INDEX(Service!H234:H252,RANDBETWEEN(1,19),1)&RANDBETWEEN(1,9)&IF(Service!F234=\"\",TRIM(LEFT(Translit.Translit(Service!E234),3))&INDEX(Service!A234:A259,RANDBETWEEN(1,26),1),TRIM(LEFT(Translit.Translit(Service!F234),2))&INDEX(Service!H234:H252,RANDBETWEEN(1,19),1)&INDEX(Service!A234:A259,RANDBETWEEN(1,26),1)),'Информация о пользователе'!G236)","v":{"$error":"#NAME?"}}]
[{"$f":"TRIM(IF('Информация о пользователе'!A237=\"\",\"Пусто\",'Информация о пользователе'!A237))","v":"Пусто"},{"$f":"TRIM(IF('Информация о пользователе'!B237=\"\",\" \",'Информация о пользователе'!B237&\" \"&'Информация о пользователе'!C237))","v":""},{"$f":"TRIM(IF(AD!A236=\"\",\"\",AD!B236&\" \"&A236))","v":"Пусто"},{"$f":"TRIM(IF('Информация о пользователе'!D237=\"\",F236&\"@edu54.ru\",'Информация о пользователе'!D237))","v":"pusto@edu54.ru"},{"$f":"TRIM(IF('Информация о пользователе'!E237=\"\",\"\",'Информация о пользователе'!E237))","v":""},{"$f":"IF('Информация о пользователе'!F237=\"\",TRIM(Translit.Translit(A236)&TRIM(LEFT(Translit.Translit(Service!E235),1))&TRIM(LEFT(Translit.Translit(Service!F235),1))),TRIM('Информация о пользователе'!F237))","v":"pusto"},{"$f":"IF('Информация о пользователе'!G237=\"\",TRIM(LEFT(Translit.Translit(Service!E235),2))&INDEX(Service!H235:H253,RANDBETWEEN(1,19),1)&RANDBETWEEN(1,9)&IF(Service!F235=\"\",TRIM(LEFT(Translit.Translit(Service!E235),3))&INDEX(Service!A235:A260,RANDBETWEEN(1,26),1),TRIM(LEFT(Translit.Translit(Service!F235),2))&INDEX(Service!H235:H253,RANDBETWEEN(1,19),1)&INDEX(Service!A235:A260,RANDBETWEEN(1,26),1)),'Информация о пользователе'!G237)","v":{"$error":"#NAME?"}}]
[{"$f":"TRIM(IF('Информация о пользователе'!A238=\"\",\"Пусто\",'Информация о пользователе'!A238))","v":"Пусто"},{"$f":"TRIM(IF('Информация о пользователе'!B238=\"\",\" \",'Информация о пользователе'!B238&\" \"&'Информация о пользователе'!C238))","v":""},{"$f":"TRIM(IF(AD!A237=\"\",\"\",AD!B237&\" \"&A237))","v":"Пусто"},{"$f":"TRIM(IF('Информация о пользователе'!D238=\"\",F237&\"@edu54.ru\",'Информация о пользователе'!D238))","v":"pusto@edu54.ru"},{"$f":"TRIM(IF('Информация о пользователе'!E238=\"\",\"\",'Информация о пользователе'!E238))","v":""},{"$f":"IF('Информация о пользователе'!F238=\"\",TRIM(Translit.Translit(A237)&TRIM(LEFT(Translit.Translit(Service!E236),1))&TRIM(LEFT(Translit.Translit(Service!F236),1))),TRIM('Информация о пользователе'!F238))","v":"pusto"},{"$f":"IF('Информация о пользователе'!G238=\"\",TRIM(LEFT(Translit.Translit(Service!E236),2))&INDEX(Service!H236:H254,RANDBETWEEN(1,19),1)&RANDBETWEEN(1,9)&IF(Service!F236=\"\",TRIM(LEFT(Translit.Translit(Service!E236),3))&INDEX(Service!A236:A261,RANDBETWEEN(1,26),1),TRIM(LEFT(Translit.Translit(Service!F236),2))&INDEX(Service!H236:H254,RANDBETWEEN(1,19),1)&INDEX(Service!A236:A261,RANDBETWEEN(1,26),1)),'Информация о пользователе'!G238)","v":{"$error":"#NAME?"}}]
[{"$f":"TRIM(IF('Информация о пользователе'!A239=\"\",\"Пусто\",'Информация о пользователе'!A239))","v":"Пусто"},{"$f":"TRIM(IF('Информация о пользователе'!B239=\"\",\" \",'Информация о пользователе'!B239&\" \"&'Информация о пользователе'!C239))","v":""},{"$f":"TRIM(IF(AD!A238=\"\",\"\",AD!B238&\" \"&A238))","v":"Пусто"},{"$f":"TRIM(IF('Информация о пользователе'!D239=\"\",F238&\"@edu54.ru\",'Информация о пользователе'!D239))","v":"pusto@edu54.ru"},{"$f":"TRIM(IF('Информация о пользователе'!E239=\"\",\"\",'Информация о пользователе'!E239))","v":""},{"$f":"IF('Информация о пользователе'!F239=\"\",TRIM(Translit.Translit(A238)&TRIM(LEFT(Translit.Translit(Service!E237),1))&TRIM(LEFT(Translit.Translit(Service!F237),1))),TRIM('Информация о пользователе'!F239))","v":"pusto"},{"$f":"IF('Информация о пользователе'!G239=\"\",TRIM(LEFT(Translit.Translit(Service!E237),2))&INDEX(Service!H237:H255,RANDBETWEEN(1,19),1)&RANDBETWEEN(1,9)&IF(Service!F237=\"\",TRIM(LEFT(Translit.Translit(Service!E237),3))&INDEX(Service!A237:A262,RANDBETWEEN(1,26),1),TRIM(LEFT(Translit.Translit(Service!F237),2))&INDEX(Service!H237:H255,RANDBETWEEN(1,19),1)&INDEX(Service!A237:A262,RANDBETWEEN(1,26),1)),'Информация о пользователе'!G239)","v":{"$error":"#NAME?"}}]
[{"$f":"TRIM(IF('Информация о пользователе'!A240=\"\",\"Пусто\",'Информация о пользователе'!A240))","v":"Пусто"},{"$f":"TRIM(IF('Информация о пользователе'!B240=\"\",\" \",'Информация о пользователе'!B240&\" \"&'Информация о пользователе'!C240))","v":""},{"$f":"TRIM(IF(AD!A239=\"\",\"\",AD!B239&\" \"&A239))","v":"Пусто"},{"$f":"TRIM(IF('Информация о пользователе'!D240=\"\",F239&\"@edu54.ru\",'Информация о пользователе'!D240))","v":"pusto@edu54.ru"},{"$f":"TRIM(IF('Информация о пользователе'!E240=\"\",\"\",'Информация о пользователе'!E240))","v":""},{"$f":"IF('Информация о пользователе'!F240=\"\",TRIM(Translit.Translit(A239)&TRIM(LEFT(Translit.Translit(Service!E238),1))&TRIM(LEFT(Translit.Translit(Service!F238),1))),TRIM('Информация о пользователе'!F240))","v":"pusto"},{"$f":"IF('Информация о пользователе'!G240=\"\",TRIM(LEFT(Translit.Translit(Service!E238),2))&INDEX(Service!H238:H256,RANDBETWEEN(1,19),1)&RANDBETWEEN(1,9)&IF(Service!F238=\"\",TRIM(LEFT(Translit.Translit(Service!E238),3))&INDEX(Service!A238:A263,RANDBETWEEN(1,26),1),TRIM(LEFT(Translit.Translit(Service!F238),2))&INDEX(Service!H238:H256,RANDBETWEEN(1,19),1)&INDEX(Service!A238:A263,RANDBETWEEN(1,26),1)),'Информация о пользователе'!G240)","v":{"$error":"#NAME?"}}]
[{"$f":"TRIM(IF('Информация о пользователе'!A241=\"\",\"Пусто\",'Информация о пользователе'!A241))","v":"Пусто"},{"$f":"TRIM(IF('Информация о пользователе'!B241=\"\",\" \",'Информация о пользователе'!B241&\" \"&'Информация о пользователе'!C241))","v":""},{"$f":"TRIM(IF(AD!A240=\"\",\"\",AD!B240&\" \"&A240))","v":"Пусто"},{"$f":"TRIM(IF('Информация о пользователе'!D241=\"\",F240&\"@edu54.ru\",'Информация о пользователе'!D241))","v":"pusto@edu54.ru"},{"$f":"TRIM(IF('Информация о пользователе'!E241=\"\",\"\",'Информация о пользователе'!E241))","v":""},{"$f":"IF('Информация о пользователе'!F241=\"\",TRIM(Translit.Translit(A240)&TRIM(LEFT(Translit.Translit(Service!E239),1))&TRIM(LEFT(Translit.Translit(Service!F239),1))),TRIM('Информация о пользователе'!F241))","v":"pusto"},{"$f":"IF('Информация о пользователе'!G241=\"\",TRIM(LEFT(Translit.Translit(Service!E239),2))&INDEX(Service!H239:H257,RANDBETWEEN(1,19),1)&RANDBETWEEN(1,9)&IF(Service!F239=\"\",TRIM(LEFT(Translit.Translit(Service!E239),3))&INDEX(Service!A239:A264,RANDBETWEEN(1,26),1),TRIM(LEFT(Translit.Translit(Service!F239),2))&INDEX(Service!H239:H257,RANDBETWEEN(1,19),1)&INDEX(Service!A239:A264,RANDBETWEEN(1,26),1)),'Информация о пользователе'!G241)","v":{"$error":"#NAME?"}}]
[{"$f":"TRIM(IF('Информация о пользователе'!A242=\"\",\"Пусто\",'Информация о пользователе'!A242))","v":"Пусто"},{"$f":"TRIM(IF('Информация о пользователе'!B242=\"\",\" \",'Информация о пользователе'!B242&\" \"&'Информация о пользователе'!C242))","v":""},{"$f":"TRIM(IF(AD!A241=\"\",\"\",AD!B241&\" \"&A241))","v":"Пусто"},{"$f":"TRIM(IF('Информация о пользователе'!D242=\"\",F241&\"@edu54.ru\",'Информация о пользователе'!D242))","v":"pusto@edu54.ru"},{"$f":"TRIM(IF('Информация о пользователе'!E242=\"\",\"\",'Информация о пользователе'!E242))","v":""},{"$f":"IF('Информация о пользователе'!F242=\"\",TRIM(Translit.Translit(A241)&TRIM(LEFT(Translit.Translit(Service!E240),1))&TRIM(LEFT(Translit.Translit(Service!F240),1))),TRIM('Информация о пользователе'!F242))","v":"pusto"},{"$f":"IF('Информация о пользователе'!G242=\"\",TRIM(LEFT(Translit.Translit(Service!E240),2))&INDEX(Service!H240:H258,RANDBETWEEN(1,19),1)&RANDBETWEEN(1,9)&IF(Service!F240=\"\",TRIM(LEFT(Translit.Translit(Service!E240),3))&INDEX(Service!A240:A265,RANDBETWEEN(1,26),1),TRIM(LEFT(Translit.Translit(Service!F240),2))&INDEX(Service!H240:H258,RANDBETWEEN(1,19),1)&INDEX(Service!A240:A265,RANDBETWEEN(1,26),1)),'Информация о пользователе'!G242)","v":{"$error":"#NAME?"}}]
[{"$f":"TRIM(IF('Информация о пользователе'!A243=\"\",\"Пусто\",'Информация о пользователе'!A243))","v":"Пусто"},{"$f":"TRIM(IF('Информация о пользователе'!B243=\"\",\" \",'Информация о пользователе'!B243&\" \"&'Информация о пользователе'!C243))","v":""},{"$f":"TRIM(IF(AD!A242=\"\",\"\",AD!B242&\" \"&A242))","v":"Пусто"},{"$f":"TRIM(IF('Информация о пользователе'!D243=\"\",F242&\"@edu54.ru\",'Информация о пользователе'!D243))","v":"pusto@edu54.ru"},{"$f":"TRIM(IF('Информация о пользователе'!E243=\"\",\"\",'Информация о пользователе'!E243))","v":""},{"$f":"IF('Информация о пользователе'!F243=\"\",TRIM(Translit.Translit(A242)&TRIM(LEFT(Translit.Translit(Service!E241),1))&TRIM(LEFT(Translit.Translit(Service!F241),1))),TRIM('Информация о пользователе'!F243))","v":"pusto"},{"$f":"IF('Информация о пользователе'!G243=\"\",TRIM(LEFT(Translit.Translit(Service!E241),2))&INDEX(Service!H241:H259,RANDBETWEEN(1,19),1)&RANDBETWEEN(1,9)&IF(Service!F241=\"\",TRIM(LEFT(Translit.Translit(Service!E241),3))&INDEX(Service!A241:A266,RANDBETWEEN(1,26),1),TRIM(LEFT(Translit.Translit(Service!F241),2))&INDEX(Service!H241:H259,RANDBETWEEN(1,19),1)&INDEX(Service!A241:A266,RANDBETWEEN(1,26),1)),'Информация о пользователе'!G243)","v":{"$error":"#NAME?"}}]
[{"$f":"TRIM(IF('Информация о пользователе'!A244=\"\",\"Пусто\",'Информация о пользователе'!A244))","v":"Пусто"},{"$f":"TRIM(IF('Информация о пользователе'!B244=\"\",\" \",'Информация о пользователе'!B244&\" \"&'Информация о пользователе'!C244))","v":""},{"$f":"TRIM(IF(AD!A243=\"\",\"\",AD!B243&\" \"&A243))","v":"Пусто"},{"$f":"TRIM(IF('Информация о пользователе'!D244=\"\",F243&\"@edu54.ru\",'Информация о пользователе'!D244))","v":"pusto@edu54.ru"},{"$f":"TRIM(IF('Информация о пользователе'!E244=\"\",\"\",'Информация о пользователе'!E244))","v":""},{"$f":"IF('Информация о пользователе'!F244=\"\",TRIM(Translit.Translit(A243)&TRIM(LEFT(Translit.Translit(Service!E242),1))&TRIM(LEFT(Translit.Translit(Service!F242),1))),TRIM('Информация о пользователе'!F244))","v":"pusto"},{"$f":"IF('Информация о пользователе'!G244=\"\",TRIM(LEFT(Translit.Translit(Service!E242),2))&INDEX(Service!H242:H260,RANDBETWEEN(1,19),1)&RANDBETWEEN(1,9)&IF(Service!F242=\"\",TRIM(LEFT(Translit.Translit(Service!E242),3))&INDEX(Service!A242:A267,RANDBETWEEN(1,26),1),TRIM(LEFT(Translit.Translit(Service!F242),2))&INDEX(Service!H242:H260,RANDBETWEEN(1,19),1)&INDEX(Service!A242:A267,RANDBETWEEN(1,26),1)),'Информация о пользователе'!G244)","v":{"$error":"#NAME?"}}]
[{"$f":"TRIM(IF('Информация о пользователе'!A245=\"\",\"Пусто\",'Информация о пользователе'!A245))","v":"Пусто"},{"$f":"TRIM(IF('Информация о пользователе'!B245=\"\",\" \",'Информация о пользователе'!B245&\" \"&'Информация о пользователе'!C245))","v":""},{"$f":"TRIM(IF(AD!A244=\"\",\"\",AD!B244&\" \"&A244))","v":"Пусто"},{"$f":"TRIM(IF('Информация о пользователе'!D245=\"\",F244&\"@edu54.ru\",'Информация о пользователе'!D245))","v":"pusto@edu54.ru"},{"$f":"TRIM(IF('Информация о пользователе'!E245=\"\",\"\",'Информация о пользователе'!E245))","v":""},{"$f":"IF('Информация о пользователе'!F245=\"\",TRIM(Translit.Translit(A244)&TRIM(LEFT(Translit.Translit(Service!E243),1))&TRIM(LEFT(Translit.Translit(Service!F243),1))),TRIM('Информация о пользователе'!F245))","v":"pusto"},{"$f":"IF('Информация о пользователе'!G245=\"\",TRIM(LEFT(Translit.Translit(Service!E243),2))&INDEX(Service!H243:H261,RANDBETWEEN(1,19),1)&RANDBETWEEN(1,9)&IF(Service!F243=\"\",TRIM(LEFT(Translit.Translit(Service!E243),3))&INDEX(Service!A243:A268,RANDBETWEEN(1,26),1),TRIM(LEFT(Translit.Translit(Service!F243),2))&INDEX(Service!H243:H261,RANDBETWEEN(1,19),1)&INDEX(Service!A243:A268,RANDBETWEEN(1,26),1)),'Информация о пользователе'!G245)","v":{"$error":"#NAME?"}}]
[{"$f":"TRIM(IF('Информация о пользователе'!A246=\"\",\"Пусто\",'Информация о пользователе'!A246))","v":"Пусто"},{"$f":"TRIM(IF('Информация о пользователе'!B246=\"\",\" \",'Информация о пользователе'!B246&\" \"&'Информация о пользователе'!C246))","v":""},{"$f":"TRIM(IF(AD!A245=\"\",\"\",AD!B245&\" \"&A245))","v":"Пусто"},{"$f":"TRIM(IF('Информация о пользователе'!D246=\"\",F245&\"@edu54.ru\",'Информация о пользователе'!D246))","v":"pusto@edu54.ru"},{"$f":"TRIM(IF('Информация о пользователе'!E246=\"\",\"\",'Информация о пользователе'!E246))","v":""},{"$f":"IF('Информация о пользователе'!F246=\"\",TRIM(Translit.Translit(A245)&TRIM(LEFT(Translit.Translit(Service!E244),1))&TRIM(LEFT(Translit.Translit(Service!F244),1))),TRIM('Информация о пользователе'!F246))","v":"pusto"},{"$f":"IF('Информация о пользователе'!G246=\"\",TRIM(LEFT(Translit.Translit(Service!E244),2))&INDEX(Service!H244:H262,RANDBETWEEN(1,19),1)&RANDBETWEEN(1,9)&IF(Service!F244=\"\",TRIM(LEFT(Translit.Translit(Service!E244),3))&INDEX(Service!A244:A269,RANDBETWEEN(1,26),1),TRIM(LEFT(Translit.Translit(Service!F244),2))&INDEX(Service!H244:H262,RANDBETWEEN(1,19),1)&INDEX(Service!A244:A269,RANDBETWEEN(1,26),1)),'Информация о пользователе'!G246)","v":{"$error":"#NAME?"}}]
[{"$f":"TRIM(IF('Информация о пользователе'!A247=\"\",\"Пусто\",'Информация о пользователе'!A247))","v":"Пусто"},{"$f":"TRIM(IF('Информация о пользователе'!B247=\"\",\" \",'Информация о пользователе'!B247&\" \"&'Информация о пользователе'!C247))","v":""},{"$f":"TRIM(IF(AD!A246=\"\",\"\",AD!B246&\" \"&A246))","v":"Пусто"},{"$f":"TRIM(IF('Информация о пользователе'!D247=\"\",F246&\"@edu54.ru\",'Информация о пользователе'!D247))","v":"pusto@edu54.ru"},{"$f":"TRIM(IF('Информация о пользователе'!E247=\"\",\"\",'Информация о пользователе'!E247))","v":""},{"$f":"IF('Информация о пользователе'!F247=\"\",TRIM(Translit.Translit(A246)&TRIM(LEFT(Translit.Translit(Service!E245),1))&TRIM(LEFT(Translit.Translit(Service!F245),1))),TRIM('Информация о пользователе'!F247))","v":"pusto"},{"$f":"IF('Информация о пользователе'!G247=\"\",TRIM(LEFT(Translit.Translit(Service!E245),2))&INDEX(Service!H245:H263,RANDBETWEEN(1,19),1)&RANDBETWEEN(1,9)&IF(Service!F245=\"\",TRIM(LEFT(Translit.Translit(Service!E245),3))&INDEX(Service!A245:A270,RANDBETWEEN(1,26),1),TRIM(LEFT(Translit.Translit(Service!F245),2))&INDEX(Service!H245:H263,RANDBETWEEN(1,19),1)&INDEX(Service!A245:A270,RANDBETWEEN(1,26),1)),'Информация о пользователе'!G247)","v":{"$error":"#NAME?"}}]
[{"$f":"TRIM(IF('Информация о пользователе'!A248=\"\",\"Пусто\",'Информация о пользователе'!A248))","v":"Пусто"},{"$f":"TRIM(IF('Информация о пользователе'!B248=\"\",\" \",'Информация о пользователе'!B248&\" \"&'Информация о пользователе'!C248))","v":""},{"$f":"TRIM(IF(AD!A247=\"\",\"\",AD!B247&\" \"&A247))","v":"Пусто"},{"$f":"TRIM(IF('Информация о пользователе'!D248=\"\",F247&\"@edu54.ru\",'Информация о пользователе'!D248))","v":"pusto@edu54.ru"},{"$f":"TRIM(IF('Информация о пользователе'!E248=\"\",\"\",'Информация о пользователе'!E248))","v":""},{"$f":"IF('Информация о пользователе'!F248=\"\",TRIM(Translit.Translit(A247)&TRIM(LEFT(Translit.Translit(Service!E246),1))&TRIM(LEFT(Translit.Translit(Service!F246),1))),TRIM('Информация о пользователе'!F248))","v":"pusto"},{"$f":"IF('Информация о пользователе'!G248=\"\",TRIM(LEFT(Translit.Translit(Service!E246),2))&INDEX(Service!H246:H264,RANDBETWEEN(1,19),1)&RANDBETWEEN(1,9)&IF(Service!F246=\"\",TRIM(LEFT(Translit.Translit(Service!E246),3))&INDEX(Service!A246:A271,RANDBETWEEN(1,26),1),TRIM(LEFT(Translit.Translit(Service!F246),2))&INDEX(Service!H246:H264,RANDBETWEEN(1,19),1)&INDEX(Service!A246:A271,RANDBETWEEN(1,26),1)),'Информация о пользователе'!G248)","v":{"$error":"#NAME?"}}]
[{"$f":"TRIM(IF('Информация о пользователе'!A249=\"\",\"Пусто\",'Информация о пользователе'!A249))","v":"Пусто"},{"$f":"TRIM(IF('Информация о пользователе'!B249=\"\",\" \",'Информация о пользователе'!B249&\" \"&'Информация о пользователе'!C249))","v":""},{"$f":"TRIM(IF(AD!A248=\"\",\"\",AD!B248&\" \"&A248))","v":"Пусто"},{"$f":"TRIM(IF('Информация о пользователе'!D249=\"\",F248&\"@edu54.ru\",'Информация о пользователе'!D249))","v":"pusto@edu54.ru"},{"$f":"TRIM(IF('Информация о пользователе'!E249=\"\",\"\",'Информация о пользователе'!E249))","v":""},{"$f":"IF('Информация о пользователе'!F249=\"\",TRIM(Translit.Translit(A248)&TRIM(LEFT(Translit.Translit(Service!E247),1))&TRIM(LEFT(Translit.Translit(Service!F247),1))),TRIM('Информация о пользователе'!F249))","v":"pusto"},{"$f":"IF('Информация о пользователе'!G249=\"\",TRIM(LEFT(Translit.Translit(Service!E247),2))&INDEX(Service!H247:H265,RANDBETWEEN(1,19),1)&RANDBETWEEN(1,9)&IF(Service!F247=\"\",TRIM(LEFT(Translit.Translit(Service!E247),3))&INDEX(Service!A247:A272,RANDBETWEEN(1,26),1),TRIM(LEFT(Translit.Translit(Service!F247),2))&INDEX(Service!H247:H265,RANDBETWEEN(1,19),1)&INDEX(Service!A247:A272,RANDBETWEEN(1,26),1)),'Информация о пользователе'!G249)","v":{"$error":"#NAME?"}}]
[{"$f":"TRIM(IF('Информация о пользователе'!A250=\"\",\"Пусто\",'Информация о пользователе'!A250))","v":"Пусто"},{"$f":"TRIM(IF('Информация о пользователе'!B250=\"\",\" \",'Информация о пользователе'!B250&\" \"&'Информация о пользователе'!C250))","v":""},{"$f":"TRIM(IF(AD!A249=\"\",\"\",AD!B249&\" \"&A249))","v":"Пусто"},{"$f":"TRIM(IF('Информация о пользователе'!D250=\"\",F249&\"@edu54.ru\",'Информация о пользователе'!D250))","v":"pusto@edu54.ru"},{"$f":"TRIM(IF('Информация о пользователе'!E250=\"\",\"\",'Информация о пользователе'!E250))","v":""},{"$f":"IF('Информация о пользователе'!F250=\"\",TRIM(Translit.Translit(A249)&TRIM(LEFT(Translit.Translit(Service!E248),1))&TRIM(LEFT(Translit.Translit(Service!F248),1))),TRIM('Информация о пользователе'!F250))","v":"pusto"},{"$f":"IF('Информация о пользователе'!G250=\"\",TRIM(LEFT(Translit.Translit(Service!E248),2))&INDEX(Service!H248:H266,RANDBETWEEN(1,19),1)&RANDBETWEEN(1,9)&IF(Service!F248=\"\",TRIM(LEFT(Translit.Translit(Service!E248),3))&INDEX(Service!A248:A273,RANDBETWEEN(1,26),1),TRIM(LEFT(Translit.Translit(Service!F248),2))&INDEX(Service!H248:H266,RANDBETWEEN(1,19),1)&INDEX(Service!A248:A273,RANDBETWEEN(1,26),1)),'Информация о пользователе'!G250)","v":{"$error":"#NAME?"}}]
[{"$f":"TRIM(IF('Информация о пользователе'!A251=\"\",\"Пусто\",'Информация о пользователе'!A251))","v":"Пусто"},{"$f":"TRIM(IF('Информация о пользователе'!B251=\"\",\" \",'Информация о пользователе'!B251&\" \"&'Информация о пользователе'!C251))","v":""},{"$f":"TRIM(IF(AD!A250=\"\",\"\",AD!B250&\" \"&A250))","v":"Пусто"},{"$f":"TRIM(IF('Информация о пользователе'!D251=\"\",F250&\"@edu54.ru\",'Информация о пользователе'!D251))","v":"pusto@edu54.ru"},{"$f":"TRIM(IF('Информация о пользователе'!E251=\"\",\"\",'Информация о пользователе'!E251))","v":""},{"$f":"IF('Информация о пользователе'!F251=\"\",TRIM(Translit.Translit(A250)&TRIM(LEFT(Translit.Translit(Service!E249),1))&TRIM(LEFT(Translit.Translit(Service!F249),1))),TRIM('Информация о пользователе'!F251))","v":"pusto"},{"$f":"IF('Информация о пользователе'!G251=\"\",TRIM(LEFT(Translit.Translit(Service!E249),2))&INDEX(Service!H249:H267,RANDBETWEEN(1,19),1)&RANDBETWEEN(1,9)&IF(Service!F249=\"\",TRIM(LEFT(Translit.Translit(Service!E249),3))&INDEX(Service!A249:A274,RANDBETWEEN(1,26),1),TRIM(LEFT(Translit.Translit(Service!F249),2))&INDEX(Service!H249:H267,RANDBETWEEN(1,19),1)&INDEX(Service!A249:A274,RANDBETWEEN(1,26),1)),'Информация о пользователе'!G251)","v":{"$error":"#NAME?"}}]
[{"$f":"TRIM(IF('Информация о пользователе'!A252=\"\",\"Пусто\",'Информация о пользователе'!A252))","v":"Пусто"},{"$f":"TRIM(IF('Информация о пользователе'!B252=\"\",\" \",'Информация о пользователе'!B252&\" \"&'Информация о пользователе'!C252))","v":""},{"$f":"TRIM(IF(AD!A251=\"\",\"\",AD!B251&\" \"&A251))","v":"Пусто"},{"$f":"TRIM(IF('Информация о пользователе'!D252=\"\",F251&\"@edu54.ru\",'Информация о пользователе'!D252))","v":"pusto@edu54.ru"},{"$f":"TRIM(IF('Информация о пользователе'!E252=\"\",\"\",'Информация о пользователе'!E252))","v":""},{"$f":"IF('Информация о пользователе'!F252=\"\",TRIM(Translit.Translit(A251)&TRIM(LEFT(Translit.Translit(Service!E250),1))&TRIM(LEFT(Translit.Translit(Service!F250),1))),TRIM('Информация о пользователе'!F252))","v":"pusto"},{"$f":"IF('Информация о пользователе'!G252=\"\",TRIM(LEFT(Translit.Translit(Service!E250),2))&INDEX(Service!H250:H268,RANDBETWEEN(1,19),1)&RANDBETWEEN(1,9)&IF(Service!F250=\"\",TRIM(LEFT(Translit.Translit(Service!E250),3))&INDEX(Service!A250:A275,RANDBETWEEN(1,26),1),TRIM(LEFT(Translit.Translit(Service!F250),2))&INDEX(Service!H250:H268,RANDBETWEEN(1,19),1)&INDEX(Service!A250:A275,RANDBETWEEN(1,26),1)),'Информация о пользователе'!G252)","v":{"$error":"#NAME?"}}]
[{"$f":"TRIM(IF('Информация о пользователе'!A253=\"\",\"Пусто\",'Информация о пользователе'!A253))","v":"Пусто"},{"$f":"TRIM(IF('Информация о пользователе'!B253=\"\",\" \",'Информация о пользователе'!B253&\" \"&'Информация о пользователе'!C253))","v":""},{"$f":"TRIM(IF(AD!A252=\"\",\"\",AD!B252&\" \"&A252))","v":"Пусто"},{"$f":"TRIM(IF('Информация о пользователе'!D253=\"\",F252&\"@edu54.ru\",'Информация о пользователе'!D253))","v":"pusto@edu54.ru"},{"$f":"TRIM(IF('Информация о пользователе'!E253=\"\",\"\",'Информация о пользователе'!E253))","v":""},{"$f":"IF('Информация о пользователе'!F253=\"\",TRIM(Translit.Translit(A252)&TRIM(LEFT(Translit.Translit(Service!E251),1))&TRIM(LEFT(Translit.Translit(Service!F251),1))),TRIM('Информация о пользователе'!F253))","v":"pusto"},{"$f":"IF('Информация о пользователе'!G253=\"\",TRIM(LEFT(Translit.Translit(Service!E251),2))&INDEX(Service!H251:H269,RANDBETWEEN(1,19),1)&RANDBETWEEN(1,9)&IF(Service!F251=\"\",TRIM(LEFT(Translit.Translit(Service!E251),3))&INDEX(Service!A251:A276,RANDBETWEEN(1,26),1),TRIM(LEFT(Translit.Translit(Service!F251),2))&INDEX(Service!H251:H269,RANDBETWEEN(1,19),1)&INDEX(Service!A251:A276,RANDBETWEEN(1,26),1)),'Информация о пользователе'!G253)","v":{"$error":"#NAME?"}}]
[{"$f":"TRIM(IF('Информация о пользователе'!A254=\"\",\"Пусто\",'Информация о пользователе'!A254))","v":"Пусто"},{"$f":"TRIM(IF('Информация о пользователе'!B254=\"\",\" \",'Информация о пользователе'!B254&\" \"&'Информация о пользователе'!C254))","v":""},{"$f":"TRIM(IF(AD!A253=\"\",\"\",AD!B253&\" \"&A253))","v":"Пусто"},{"$f":"TRIM(IF('Информация о пользователе'!D254=\"\",F253&\"@edu54.ru\",'Информация о пользователе'!D254))","v":"pusto@edu54.ru"},{"$f":"TRIM(IF('Информация о пользователе'!E254=\"\",\"\",'Информация о пользователе'!E254))","v":""},{"$f":"IF('Информация о пользователе'!F254=\"\",TRIM(Translit.Translit(A253)&TRIM(LEFT(Translit.Translit(Service!E252),1))&TRIM(LEFT(Translit.Translit(Service!F252),1))),TRIM('Информация о пользователе'!F254))","v":"pusto"},{"$f":"IF('Информация о пользователе'!G254=\"\",TRIM(LEFT(Translit.Translit(Service!E252),2))&INDEX(Service!H252:H270,RANDBETWEEN(1,19),1)&RANDBETWEEN(1,9)&IF(Service!F252=\"\",TRIM(LEFT(Translit.Translit(Service!E252),3))&INDEX(Service!A252:A277,RANDBETWEEN(1,26),1),TRIM(LEFT(Translit.Translit(Service!F252),2))&INDEX(Service!H252:H270,RANDBETWEEN(1,19),1)&INDEX(Service!A252:A277,RANDBETWEEN(1,26),1)),'Информация о пользователе'!G254)","v":{"$error":"#NAME?"}}]
[{"$f":"TRIM(IF('Информация о пользователе'!A255=\"\",\"Пусто\",'Информация о пользователе'!A255))","v":"Пусто"},{"$f":"TRIM(IF('Информация о пользователе'!B255=\"\",\" \",'Информация о пользователе'!B255&\" \"&'Информация о пользователе'!C255))","v":""},{"$f":"TRIM(IF(AD!A254=\"\",\"\",AD!B254&\" \"&A254))","v":"Пусто"},{"$f":"TRIM(IF('Информация о пользователе'!D255=\"\",F254&\"@edu54.ru\",'Информация о пользователе'!D255))","v":"pusto@edu54.ru"},{"$f":"TRIM(IF('Информация о пользователе'!E255=\"\",\"\",'Информация о пользователе'!E255))","v":""},{"$f":"IF('Информация о пользователе'!F255=\"\",TRIM(Translit.Translit(A254)&TRIM(LEFT(Translit.Translit(Service!E253),1))&TRIM(LEFT(Translit.Translit(Service!F253),1))),TRIM('Информация о пользователе'!F255))","v":"pusto"},{"$f":"IF('Информация о пользователе'!G255=\"\",TRIM(LEFT(Translit.Translit(Service!E253),2))&INDEX(Service!H253:H271,RANDBETWEEN(1,19),1)&RANDBETWEEN(1,9)&IF(Service!F253=\"\",TRIM(LEFT(Translit.Translit(Service!E253),3))&INDEX(Service!A253:A278,RANDBETWEEN(1,26),1),TRIM(LEFT(Translit.Translit(Service!F253),2))&INDEX(Service!H253:H271,RANDBETWEEN(1,19),1)&INDEX(Service!A253:A278,RANDBETWEEN(1,26),1)),'Информация о пользователе'!G255)","v":{"$error":"#NAME?"}}]
[{"$f":"TRIM(IF('Информация о пользователе'!A256=\"\",\"Пусто\",'Информация о пользователе'!A256))","v":"Пусто"},{"$f":"TRIM(IF('Информация о пользователе'!B256=\"\",\" \",'Информация о пользователе'!B256&\" \"&'Информация о пользователе'!C256))","v":""},{"$f":"TRIM(IF(AD!A255=\"\",\"\",AD!B255&\" \"&A255))","v":"Пусто"},{"$f":"TRIM(IF('Информация о пользователе'!D256=\"\",F255&\"@edu54.ru\",'Информация о пользователе'!D256))","v":"pusto@edu54.ru"},{"$f":"TRIM(IF('Информация о пользователе'!E256=\"\",\"\",'Информация о пользователе'!E256))","v":""},{"$f":"IF('Информация о пользователе'!F256=\"\",TRIM(Translit.Translit(A255)&TRIM(LEFT(Translit.Translit(Service!E254),1))&TRIM(LEFT(Translit.Translit(Service!F254),1))),TRIM('Информация о пользователе'!F256))","v":"pusto"},{"$f":"IF('Информация о пользователе'!G256=\"\",TRIM(LEFT(Translit.Translit(Service!E254),2))&INDEX(Service!H254:H272,RANDBETWEEN(1,19),1)&RANDBETWEEN(1,9)&IF(Service!F254=\"\",TRIM(LEFT(Translit.Translit(Service!E254),3))&INDEX(Service!A254:A279,RANDBETWEEN(1,26),1),TRIM(LEFT(Translit.Translit(Service!F254),2))&INDEX(Service!H254:H272,RANDBETWEEN(1,19),1)&INDEX(Service!A254:A279,RANDBETWEEN(1,26),1)),'Информация о пользователе'!G256)","v":{"$error":"#NAME?"}}]
[{"$f":"TRIM(IF('Информация о пользователе'!A257=\"\",\"Пусто\",'Информация о пользователе'!A257))","v":"Пусто"},{"$f":"TRIM(IF('Информация о пользователе'!B257=\"\",\" \",'Информация о пользователе'!B257&\" \"&'Информация о пользователе'!C257))","v":""},{"$f":"TRIM(IF(AD!A256=\"\",\"\",AD!B256&\" \"&A256))","v":"Пусто"},{"$f":"TRIM(IF('Информация о пользователе'!D257=\"\",F256&\"@edu54.ru\",'Информация о пользователе'!D257))","v":"pusto@edu54.ru"},{"$f":"TRIM(IF('Информация о пользователе'!E257=\"\",\"\",'Информация о пользователе'!E257))","v":""},{"$f":"IF('Информация о пользователе'!F257=\"\",TRIM(Translit.Translit(A256)&TRIM(LEFT(Translit.Translit(Service!E255),1))&TRIM(LEFT(Translit.Translit(Service!F255),1))),TRIM('Информация о пользователе'!F257))","v":"pusto"},{"$f":"IF('Информация о пользователе'!G257=\"\",TRIM(LEFT(Translit.Translit(Service!E255),2))&INDEX(Service!H255:H273,RANDBETWEEN(1,19),1)&RANDBETWEEN(1,9)&IF(Service!F255=\"\",TRIM(LEFT(Translit.Translit(Service!E255),3))&INDEX(Service!A255:A280,RANDBETWEEN(1,26),1),TRIM(LEFT(Translit.Translit(Service!F255),2))&INDEX(Service!H255:H273,RANDBETWEEN(1,19),1)&INDEX(Service!A255:A280,RANDBETWEEN(1,26),1)),'Информация о пользователе'!G257)","v":{"$error":"#NAME?"}}]
[{"$f":"TRIM(IF('Информация о пользователе'!A258=\"\",\"Пусто\",'Информация о пользователе'!A258))","v":"Пусто"},{"$f":"TRIM(IF('Информация о пользователе'!B258=\"\",\" \",'Информация о пользователе'!B258&\" \"&'Информация о пользователе'!C258))","v":""},{"$f":"TRIM(IF(AD!A257=\"\",\"\",AD!B257&\" \"&A257))","v":"Пусто"},{"$f":"TRIM(IF('Информация о пользователе'!D258=\"\",F257&\"@edu54.ru\",'Информация о пользователе'!D258))","v":"pusto@edu54.ru"},{"$f":"TRIM(IF('Информация о пользователе'!E258=\"\",\"\",'Информация о пользователе'!E258))","v":""},{"$f":"IF('Информация о пользователе'!F258=\"\",TRIM(Translit.Translit(A257)&TRIM(LEFT(Translit.Translit(Service!E256),1))&TRIM(LEFT(Translit.Translit(Service!F256),1))),TRIM('Информация о пользователе'!F258))","v":"pusto"},{"$f":"IF('Информация о пользователе'!G258=\"\",TRIM(LEFT(Translit.Translit(Service!E256),2))&INDEX(Service!H256:H274,RANDBETWEEN(1,19),1)&RANDBETWEEN(1,9)&IF(Service!F256=\"\",TRIM(LEFT(Translit.Translit(Service!E256),3))&INDEX(Service!A256:A281,RANDBETWEEN(1,26),1),TRIM(LEFT(Translit.Translit(Service!F256),2))&INDEX(Service!H256:H274,RANDBETWEEN(1,19),1)&INDEX(Service!A256:A281,RANDBETWEEN(1,26),1)),'Информация о пользователе'!G258)","v":{"$error":"#NAME?"}}]
[{"$f":"TRIM(IF('Информация о пользователе'!A259=\"\",\"Пусто\",'Информация о пользователе'!A259))","v":"Пусто"},{"$f":"TRIM(IF('Информация о пользователе'!B259=\"\",\" \",'Информация о пользователе'!B259&\" \"&'Информация о пользователе'!C259))","v":""},{"$f":"TRIM(IF(AD!A258=\"\",\"\",AD!B258&\" \"&A258))","v":"Пусто"},{"$f":"TRIM(IF('Информация о пользователе'!D259=\"\",F258&\"@edu54.ru\",'Информация о пользователе'!D259))","v":"pusto@edu54.ru"},{"$f":"TRIM(IF('Информация о пользователе'!E259=\"\",\"\",'Информация о пользователе'!E259))","v":""},{"$f":"IF('Информация о пользователе'!F259=\"\",TRIM(Translit.Translit(A258)&TRIM(LEFT(Translit.Translit(Service!E257),1))&TRIM(LEFT(Translit.Translit(Service!F257),1))),TRIM('Информация о пользователе'!F259))","v":"pusto"},{"$f":"IF('Информация о пользователе'!G259=\"\",TRIM(LEFT(Translit.Translit(Service!E257),2))&INDEX(Service!H257:H275,RANDBETWEEN(1,19),1)&RANDBETWEEN(1,9)&IF(Service!F257=\"\",TRIM(LEFT(Translit.Translit(Service!E257),3))&INDEX(Service!A257:A282,RANDBETWEEN(1,26),1),TRIM(LEFT(Translit.Translit(Service!F257),2))&INDEX(Service!H257:H275,RANDBETWEEN(1,19),1)&INDEX(Service!A257:A282,RANDBETWEEN(1,26),1)),'Информация о пользователе'!G259)","v":{"$error":"#NAME?"}}]
[{"$f":"TRIM(IF('Информация о пользователе'!A260=\"\",\"Пусто\",'Информация о пользователе'!A260))","v":"Пусто"},{"$f":"TRIM(IF('Информация о пользователе'!B260=\"\",\" \",'Информация о пользователе'!B260&\" \"&'Информация о пользователе'!C260))","v":""},{"$f":"TRIM(IF(AD!A259=\"\",\"\",AD!B259&\" \"&A259))","v":"Пусто"},{"$f":"TRIM(IF('Информация о пользователе'!D260=\"\",F259&\"@edu54.ru\",'Информация о пользователе'!D260))","v":"pusto@edu54.ru"},{"$f":"TRIM(IF('Информация о пользователе'!E260=\"\",\"\",'Информация о пользователе'!E260))","v":""},{"$f":"IF('Информация о пользователе'!F260=\"\",TRIM(Translit.Translit(A259)&TRIM(LEFT(Translit.Translit(Service!E258),1))&TRIM(LEFT(Translit.Translit(Service!F258),1))),TRIM('Информация о пользователе'!F260))","v":"pusto"},{"$f":"IF('Информация о пользователе'!G260=\"\",TRIM(LEFT(Translit.Translit(Service!E258),2))&INDEX(Service!H258:H276,RANDBETWEEN(1,19),1)&RANDBETWEEN(1,9)&IF(Service!F258=\"\",TRIM(LEFT(Translit.Translit(Service!E258),3))&INDEX(Service!A258:A283,RANDBETWEEN(1,26),1),TRIM(LEFT(Translit.Translit(Service!F258),2))&INDEX(Service!H258:H276,RANDBETWEEN(1,19),1)&INDEX(Service!A258:A283,RANDBETWEEN(1,26),1)),'Информация о пользователе'!G260)","v":{"$error":"#NAME?"}}]
[{"$f":"TRIM(IF('Информация о пользователе'!A261=\"\",\"Пусто\",'Информация о пользователе'!A261))","v":"Пусто"},{"$f":"TRIM(IF('Информация о пользователе'!B261=\"\",\" \",'Информация о пользователе'!B261&\" \"&'Информация о пользователе'!C261))","v":""},{"$f":"TRIM(IF(AD!A260=\"\",\"\",AD!B260&\" \"&A260))","v":"Пусто"},{"$f":"TRIM(IF('Информация о пользователе'!D261=\"\",F260&\"@edu54.ru\",'Информация о пользователе'!D261))","v":"pusto@edu54.ru"},{"$f":"TRIM(IF('Информация о пользователе'!E261=\"\",\"\",'Информация о пользователе'!E261))","v":""},{"$f":"IF('Информация о пользователе'!F261=\"\",TRIM(Translit.Translit(A260)&TRIM(LEFT(Translit.Translit(Service!E259),1))&TRIM(LEFT(Translit.Translit(Service!F259),1))),TRIM('Информация о пользователе'!F261))","v":"pusto"},{"$f":"IF('Информация о пользователе'!G261=\"\",TRIM(LEFT(Translit.Translit(Service!E259),2))&INDEX(Service!H259:H277,RANDBETWEEN(1,19),1)&RANDBETWEEN(1,9)&IF(Service!F259=\"\",TRIM(LEFT(Translit.Translit(Service!E259),3))&INDEX(Service!A259:A284,RANDBETWEEN(1,26),1),TRIM(LEFT(Translit.Translit(Service!F259),2))&INDEX(Service!H259:H277,RANDBETWEEN(1,19),1)&INDEX(Service!A259:A284,RANDBETWEEN(1,26),1)),'Информация о пользователе'!G261)","v":{"$error":"#NAME?"}}]
[{"$f":"TRIM(IF('Информация о пользователе'!A262=\"\",\"Пусто\",'Информация о пользователе'!A262))","v":"Пусто"},{"$f":"TRIM(IF('Информация о пользователе'!B262=\"\",\" \",'Информация о пользователе'!B262&\" \"&'Информация о пользователе'!C262))","v":""},{"$f":"TRIM(IF(AD!A261=\"\",\"\",AD!B261&\" \"&A261))","v":"Пусто"},{"$f":"TRIM(IF('Информация о пользователе'!D262=\"\",F261&\"@edu54.ru\",'Информация о пользователе'!D262))","v":"pusto@edu54.ru"},{"$f":"TRIM(IF('Информация о пользователе'!E262=\"\",\"\",'Информация о пользователе'!E262))","v":""},{"$f":"IF('Информация о пользователе'!F262=\"\",TRIM(Translit.Translit(A261)&TRIM(LEFT(Translit.Translit(Service!E260),1))&TRIM(LEFT(Translit.Translit(Service!F260),1))),TRIM('Информация о пользователе'!F262))","v":"pusto"},{"$f":"IF('Информация о пользователе'!G262=\"\",TRIM(LEFT(Translit.Translit(Service!E260),2))&INDEX(Service!H260:H278,RANDBETWEEN(1,19),1)&RANDBETWEEN(1,9)&IF(Service!F260=\"\",TRIM(LEFT(Translit.Translit(Service!E260),3))&INDEX(Service!A260:A285,RANDBETWEEN(1,26),1),TRIM(LEFT(Translit.Translit(Service!F260),2))&INDEX(Service!H260:H278,RANDBETWEEN(1,19),1)&INDEX(Service!A260:A285,RANDBETWEEN(1,26),1)),'Информация о пользователе'!G262)","v":{"$error":"#NAME?"}}]
[{"$f":"TRIM(IF('Информация о пользователе'!A263=\"\",\"Пусто\",'Информация о пользователе'!A263))","v":"Пусто"},{"$f":"TRIM(IF('Информация о пользователе'!B263=\"\",\" \",'Информация о пользователе'!B263&\" \"&'Информация о пользователе'!C263))","v":""},{"$f":"TRIM(IF(AD!A262=\"\",\"\",AD!B262&\" \"&A262))","v":"Пусто"},{"$f":"TRIM(IF('Информация о пользователе'!D263=\"\",F262&\"@edu54.ru\",'Информация о пользователе'!D263))","v":"pusto@edu54.ru"},{"$f":"TRIM(IF('Информация о пользователе'!E263=\"\",\"\",'Информация о пользователе'!E263))","v":""},{"$f":"IF('Информация о пользователе'!F263=\"\",TRIM(Translit.Translit(A262)&TRIM(LEFT(Translit.Translit(Service!E261),1))&TRIM(LEFT(Translit.Translit(Service!F261),1))),TRIM('Информация о пользователе'!F263))","v":"pusto"},{"$f":"IF('Информация о пользователе'!G263=\"\",TRIM(LEFT(Translit.Translit(Service!E261),2))&INDEX(Service!H261:H279,RANDBETWEEN(1,19),1)&RANDBETWEEN(1,9)&IF(Service!F261=\"\",TRIM(LEFT(Translit.Translit(Service!E261),3))&INDEX(Service!A261:A286,RANDBETWEEN(1,26),1),TRIM(LEFT(Translit.Translit(Service!F261),2))&INDEX(Service!H261:H279,RANDBETWEEN(1,19),1)&INDEX(Service!A261:A286,RANDBETWEEN(1,26),1)),'Информация о пользователе'!G263)","v":{"$error":"#NAME?"}}]
[{"$f":"TRIM(IF('Информация о пользователе'!A264=\"\",\"Пусто\",'Информация о пользователе'!A264))","v":"Пусто"},{"$f":"TRIM(IF('Информация о пользователе'!B264=\"\",\" \",'Информация о пользователе'!B264&\" \"&'Информация о пользователе'!C264))","v":""},{"$f":"TRIM(IF(AD!A263=\"\",\"\",AD!B263&\" \"&A263))","v":"Пусто"},{"$f":"TRIM(IF('Информация о пользователе'!D264=\"\",F263&\"@edu54.ru\",'Информация о пользователе'!D264))","v":"pusto@edu54.ru"},{"$f":"TRIM(IF('Информация о пользователе'!E264=\"\",\"\",'Информация о пользователе'!E264))","v":""},{"$f":"IF('Информация о пользователе'!F264=\"\",TRIM(Translit.Translit(A263)&TRIM(LEFT(Translit.Translit(Service!E262),1))&TRIM(LEFT(Translit.Translit(Service!F262),1))),TRIM('Информация о пользователе'!F264))","v":"pusto"},{"$f":"IF('Информация о пользователе'!G264=\"\",TRIM(LEFT(Translit.Translit(Service!E262),2))&INDEX(Service!H262:H280,RANDBETWEEN(1,19),1)&RANDBETWEEN(1,9)&IF(Service!F262=\"\",TRIM(LEFT(Translit.Translit(Service!E262),3))&INDEX(Service!A262:A287,RANDBETWEEN(1,26),1),TRIM(LEFT(Translit.Translit(Service!F262),2))&INDEX(Service!H262:H280,RANDBETWEEN(1,19),1)&INDEX(Service!A262:A287,RANDBETWEEN(1,26),1)),'Информация о пользователе'!G264)","v":{"$error":"#NAME?"}}]
[{"$f":"TRIM(IF('Информация о пользователе'!A265=\"\",\"Пусто\",'Информация о пользователе'!A265))","v":"Пусто"},{"$f":"TRIM(IF('Информация о пользователе'!B265=\"\",\" \",'Информация о пользователе'!B265&\" \"&'Информация о пользователе'!C265))","v":""},{"$f":"TRIM(IF(AD!A264=\"\",\"\",AD!B264&\" \"&A264))","v":"Пусто"},{"$f":"TRIM(IF('Информация о пользователе'!D265=\"\",F264&\"@edu54.ru\",'Информация о пользователе'!D265))","v":"pusto@edu54.ru"},{"$f":"TRIM(IF('Информация о пользователе'!E265=\"\",\"\",'Информация о пользователе'!E265))","v":""},{"$f":"IF('Информация о пользователе'!F265=\"\",TRIM(Translit.Translit(A264)&TRIM(LEFT(Translit.Translit(Service!E263),1))&TRIM(LEFT(Translit.Translit(Service!F263),1))),TRIM('Информация о пользователе'!F265))","v":"pusto"},{"$f":"IF('Информация о пользователе'!G265=\"\",TRIM(LEFT(Translit.Translit(Service!E263),2))&INDEX(Service!H263:H281,RANDBETWEEN(1,19),1)&RANDBETWEEN(1,9)&IF(Service!F263=\"\",TRIM(LEFT(Translit.Translit(Service!E263),3))&INDEX(Service!A263:A288,RANDBETWEEN(1,26),1),TRIM(LEFT(Translit.Translit(Service!F263),2))&INDEX(Service!H263:H281,RANDBETWEEN(1,19),1)&INDEX(Service!A263:A288,RANDBETWEEN(1,26),1)),'Информация о пользователе'!G265)","v":{"$error":"#NAME?"}}]
[{"$f":"TRIM(IF('Информация о пользователе'!A266=\"\",\"Пусто\",'Информация о пользователе'!A266))","v":"Пусто"},{"$f":"TRIM(IF('Информация о пользователе'!B266=\"\",\" \",'Информация о пользователе'!B266&\" \"&'Информация о пользователе'!C266))","v":""},{"$f":"TRIM(IF(AD!A265=\"\",\"\",AD!B265&\" \"&A265))","v":"Пусто"},{"$f":"TRIM(IF('Информация о пользователе'!D266=\"\",F265&\"@edu54.ru\",'Информация о пользователе'!D266))","v":"pusto@edu54.ru"},{"$f":"TRIM(IF('Информация о пользователе'!E266=\"\",\"\",'Информация о пользователе'!E266))","v":""},{"$f":"IF('Информация о пользователе'!F266=\"\",TRIM(Translit.Translit(A265)&TRIM(LEFT(Translit.Translit(Service!E264),1))&TRIM(LEFT(Translit.Translit(Service!F264),1))),TRIM('Информация о пользователе'!F266))","v":"pusto"},{"$f":"IF('Информация о пользователе'!G266=\"\",TRIM(LEFT(Translit.Translit(Service!E264),2))&INDEX(Service!H264:H282,RANDBETWEEN(1,19),1)&RANDBETWEEN(1,9)&IF(Service!F264=\"\",TRIM(LEFT(Translit.Translit(Service!E264),3))&INDEX(Service!A264:A289,RANDBETWEEN(1,26),1),TRIM(LEFT(Translit.Translit(Service!F264),2))&INDEX(Service!H264:H282,RANDBETWEEN(1,19),1)&INDEX(Service!A264:A289,RANDBETWEEN(1,26),1)),'Информация о пользователе'!G266)","v":{"$error":"#NAME?"}}]
[{"$f":"TRIM(IF('Информация о пользователе'!A267=\"\",\"Пусто\",'Информация о пользователе'!A267))","v":"Пусто"},{"$f":"TRIM(IF('Информация о пользователе'!B267=\"\",\" \",'Информация о пользователе'!B267&\" \"&'Информация о пользователе'!C267))","v":""},{"$f":"TRIM(IF(AD!A266=\"\",\"\",AD!B266&\" \"&A266))","v":"Пусто"},{"$f":"TRIM(IF('Информация о пользователе'!D267=\"\",F266&\"@edu54.ru\",'Информация о пользователе'!D267))","v":"pusto@edu54.ru"},{"$f":"TRIM(IF('Информация о пользователе'!E267=\"\",\"\",'Информация о пользователе'!E267))","v":""},{"$f":"IF('Информация о пользователе'!F267=\"\",TRIM(Translit.Translit(A266)&TRIM(LEFT(Translit.Translit(Service!E265),1))&TRIM(LEFT(Translit.Translit(Service!F265),1))),TRIM('Информация о пользователе'!F267))","v":"pusto"},{"$f":"IF('Информация о пользователе'!G267=\"\",TRIM(LEFT(Translit.Translit(Service!E265),2))&INDEX(Service!H265:H283,RANDBETWEEN(1,19),1)&RANDBETWEEN(1,9)&IF(Service!F265=\"\",TRIM(LEFT(Translit.Translit(Service!E265),3))&INDEX(Service!A265:A290,RANDBETWEEN(1,26),1),TRIM(LEFT(Translit.Translit(Service!F265),2))&INDEX(Service!H265:H283,RANDBETWEEN(1,19),1)&INDEX(Service!A265:A290,RANDBETWEEN(1,26),1)),'Информация о пользователе'!G267)","v":{"$error":"#NAME?"}}]
[{"$f":"TRIM(IF('Информация о пользователе'!A268=\"\",\"Пусто\",'Информация о пользователе'!A268))","v":"Пусто"},{"$f":"TRIM(IF('Информация о пользователе'!B268=\"\",\" \",'Информация о пользователе'!B268&\" \"&'Информация о пользователе'!C268))","v":""},{"$f":"TRIM(IF(AD!A267=\"\",\"\",AD!B267&\" \"&A267))","v":"Пусто"},{"$f":"TRIM(IF('Информация о пользователе'!D268=\"\",F267&\"@edu54.ru\",'Информация о пользователе'!D268))","v":"pusto@edu54.ru"},{"$f":"TRIM(IF('Информация о пользователе'!E268=\"\",\"\",'Информация о пользователе'!E268))","v":""},{"$f":"IF('Информация о пользователе'!F268=\"\",TRIM(Translit.Translit(A267)&TRIM(LEFT(Translit.Translit(Service!E266),1))&TRIM(LEFT(Translit.Translit(Service!F266),1))),TRIM('Информация о пользователе'!F268))","v":"pusto"},{"$f":"IF('Информация о пользователе'!G268=\"\",TRIM(LEFT(Translit.Translit(Service!E266),2))&INDEX(Service!H266:H284,RANDBETWEEN(1,19),1)&RANDBETWEEN(1,9)&IF(Service!F266=\"\",TRIM(LEFT(Translit.Translit(Service!E266),3))&INDEX(Service!A266:A291,RANDBETWEEN(1,26),1),TRIM(LEFT(Translit.Translit(Service!F266),2))&INDEX(Service!H266:H284,RANDBETWEEN(1,19),1)&INDEX(Service!A266:A291,RANDBETWEEN(1,26),1)),'Информация о пользователе'!G268)","v":{"$error":"#NAME?"}}]
[{"$f":"TRIM(IF('Информация о пользователе'!A269=\"\",\"Пусто\",'Информация о пользователе'!A269))","v":"Пусто"},{"$f":"TRIM(IF('Информация о пользователе'!B269=\"\",\" \",'Информация о пользователе'!B269&\" \"&'Информация о пользователе'!C269))","v":""},{"$f":"TRIM(IF(AD!A268=\"\",\"\",AD!B268&\" \"&A268))","v":"Пусто"},{"$f":"TRIM(IF('Информация о пользователе'!D269=\"\",F268&\"@edu54.ru\",'Информация о пользователе'!D269))","v":"pusto@edu54.ru"},{"$f":"TRIM(IF('Информация о пользователе'!E269=\"\",\"\",'Информация о пользователе'!E269))","v":""},{"$f":"IF('Информация о пользователе'!F269=\"\",TRIM(Translit.Translit(A268)&TRIM(LEFT(Translit.Translit(Service!E267),1))&TRIM(LEFT(Translit.Translit(Service!F267),1))),TRIM('Информация о пользователе'!F269))","v":"pusto"},{"$f":"IF('Информация о пользователе'!G269=\"\",TRIM(LEFT(Translit.Translit(Service!E267),2))&INDEX(Service!H267:H285,RANDBETWEEN(1,19),1)&RANDBETWEEN(1,9)&IF(Service!F267=\"\",TRIM(LEFT(Translit.Translit(Service!E267),3))&INDEX(Service!A267:A292,RANDBETWEEN(1,26),1),TRIM(LEFT(Translit.Translit(Service!F267),2))&INDEX(Service!H267:H285,RANDBETWEEN(1,19),1)&INDEX(Service!A267:A292,RANDBETWEEN(1,26),1)),'Информация о пользователе'!G269)","v":{"$error":"#NAME?"}}]
[{"$f":"TRIM(IF('Информация о пользователе'!A270=\"\",\"Пусто\",'Информация о пользователе'!A270))","v":"Пусто"},{"$f":"TRIM(IF('Информация о пользователе'!B270=\"\",\" \",'Информация о пользователе'!B270&\" \"&'Информация о пользователе'!C270))","v":""},{"$f":"TRIM(IF(AD!A269=\"\",\"\",AD!B269&\" \"&A269))","v":"Пусто"},{"$f":"TRIM(IF('Информация о пользователе'!D270=\"\",F269&\"@edu54.ru\",'Информация о пользователе'!D270))","v":"pusto@edu54.ru"},{"$f":"TRIM(IF('Информация о пользователе'!E270=\"\",\"\",'Информация о пользователе'!E270))","v":""},{"$f":"IF('Информация о пользователе'!F270=\"\",TRIM(Translit.Translit(A269)&TRIM(LEFT(Translit.Translit(Service!E268),1))&TRIM(LEFT(Translit.Translit(Service!F268),1))),TRIM('Информация о пользователе'!F270))","v":"pusto"},{"$f":"IF('Информация о пользователе'!G270=\"\",TRIM(LEFT(Translit.Translit(Service!E268),2))&INDEX(Service!H268:H286,RANDBETWEEN(1,19),1)&RANDBETWEEN(1,9)&IF(Service!F268=\"\",TRIM(LEFT(Translit.Translit(Service!E268),3))&INDEX(Service!A268:A293,RANDBETWEEN(1,26),1),TRIM(LEFT(Translit.Translit(Service!F268),2))&INDEX(Service!H268:H286,RANDBETWEEN(1,19),1)&INDEX(Service!A268:A293,RANDBETWEEN(1,26),1)),'Информация о пользователе'!G270)","v":{"$error":"#NAME?"}}]
[{"$f":"TRIM(IF('Информация о пользователе'!A271=\"\",\"Пусто\",'Информация о пользователе'!A271))","v":"Пусто"},{"$f":"TRIM(IF('Информация о пользователе'!B271=\"\",\" \",'Информация о пользователе'!B271&\" \"&'Информация о пользователе'!C271))","v":""},{"$f":"TRIM(IF(AD!A270=\"\",\"\",AD!B270&\" \"&A270))","v":"Пусто"},{"$f":"TRIM(IF('Информация о пользователе'!D271=\"\",F270&\"@edu54.ru\",'Информация о пользователе'!D271))","v":"pusto@edu54.ru"},{"$f":"TRIM(IF('Информация о пользователе'!E271=\"\",\"\",'Информация о пользователе'!E271))","v":""},{"$f":"IF('Информация о пользователе'!F271=\"\",TRIM(Translit.Translit(A270)&TRIM(LEFT(Translit.Translit(Service!E269),1))&TRIM(LEFT(Translit.Translit(Service!F269),1))),TRIM('Информация о пользователе'!F271))","v":"pusto"},{"$f":"IF('Информация о пользователе'!G271=\"\",TRIM(LEFT(Translit.Translit(Service!E269),2))&INDEX(Service!H269:H287,RANDBETWEEN(1,19),1)&RANDBETWEEN(1,9)&IF(Service!F269=\"\",TRIM(LEFT(Translit.Translit(Service!E269),3))&INDEX(Service!A269:A294,RANDBETWEEN(1,26),1),TRIM(LEFT(Translit.Translit(Service!F269),2))&INDEX(Service!H269:H287,RANDBETWEEN(1,19),1)&INDEX(Service!A269:A294,RANDBETWEEN(1,26),1)),'Информация о пользователе'!G271)","v":{"$error":"#NAME?"}}]
[{"$f":"TRIM(IF('Информация о пользователе'!A272=\"\",\"Пусто\",'Информация о пользователе'!A272))","v":"Пусто"},{"$f":"TRIM(IF('Информация о пользователе'!B272=\"\",\" \",'Информация о пользователе'!B272&\" \"&'Информация о пользователе'!C272))","v":""},{"$f":"TRIM(IF(AD!A271=\"\",\"\",AD!B271&\" \"&A271))","v":"Пусто"},{"$f":"TRIM(IF('Информация о пользователе'!D272=\"\",F271&\"@edu54.ru\",'Информация о пользователе'!D272))","v":"pusto@edu54.ru"},{"$f":"TRIM(IF('Информация о пользователе'!E272=\"\",\"\",'Информация о пользователе'!E272))","v":""},{"$f":"IF('Информация о пользователе'!F272=\"\",TRIM(Translit.Translit(A271)&TRIM(LEFT(Translit.Translit(Service!E270),1))&TRIM(LEFT(Translit.Translit(Service!F270),1))),TRIM('Информация о пользователе'!F272))","v":"pusto"},{"$f":"IF('Информация о пользователе'!G272=\"\",TRIM(LEFT(Translit.Translit(Service!E270),2))&INDEX(Service!H270:H288,RANDBETWEEN(1,19),1)&RANDBETWEEN(1,9)&IF(Service!F270=\"\",TRIM(LEFT(Translit.Translit(Service!E270),3))&INDEX(Service!A270:A295,RANDBETWEEN(1,26),1),TRIM(LEFT(Translit.Translit(Service!F270),2))&INDEX(Service!H270:H288,RANDBETWEEN(1,19),1)&INDEX(Service!A270:A295,RANDBETWEEN(1,26),1)),'Информация о пользователе'!G272)","v":{"$error":"#NAME?"}}]
[{"$f":"TRIM(IF('Информация о пользователе'!A273=\"\",\"Пусто\",'Информация о пользователе'!A273))","v":"Пусто"},{"$f":"TRIM(IF('Информация о пользователе'!B273=\"\",\" \",'Информация о пользователе'!B273&\" \"&'Информация о пользователе'!C273))","v":""},{"$f":"TRIM(IF(AD!A272=\"\",\"\",AD!B272&\" \"&A272))","v":"Пусто"},{"$f":"TRIM(IF('Информация о пользователе'!D273=\"\",F272&\"@edu54.ru\",'Информация о пользователе'!D273))","v":"pusto@edu54.ru"},{"$f":"TRIM(IF('Информация о пользователе'!E273=\"\",\"\",'Информация о пользователе'!E273))","v":""},{"$f":"IF('Информация о пользователе'!F273=\"\",TRIM(Translit.Translit(A272)&TRIM(LEFT(Translit.Translit(Service!E271),1))&TRIM(LEFT(Translit.Translit(Service!F271),1))),TRIM('Информация о пользователе'!F273))","v":"pusto"},{"$f":"IF('Информация о пользователе'!G273=\"\",TRIM(LEFT(Translit.Translit(Service!E271),2))&INDEX(Service!H271:H289,RANDBETWEEN(1,19),1)&RANDBETWEEN(1,9)&IF(Service!F271=\"\",TRIM(LEFT(Translit.Translit(Service!E271),3))&INDEX(Service!A271:A296,RANDBETWEEN(1,26),1),TRIM(LEFT(Translit.Translit(Service!F271),2))&INDEX(Service!H271:H289,RANDBETWEEN(1,19),1)&INDEX(Service!A271:A296,RANDBETWEEN(1,26),1)),'Информация о пользователе'!G273)","v":{"$error":"#NAME?"}}]
[{"$f":"TRIM(IF('Информация о пользователе'!A274=\"\",\"Пусто\",'Информация о пользователе'!A274))","v":"Пусто"},{"$f":"TRIM(IF('Информация о пользователе'!B274=\"\",\" \",'Информация о пользователе'!B274&\" \"&'Информация о пользователе'!C274))","v":""},{"$f":"TRIM(IF(AD!A273=\"\",\"\",AD!B273&\" \"&A273))","v":"Пусто"},{"$f":"TRIM(IF('Информация о пользователе'!D274=\"\",F273&\"@edu54.ru\",'Информация о пользователе'!D274))","v":"pusto@edu54.ru"},{"$f":"TRIM(IF('Информация о пользователе'!E274=\"\",\"\",'Информация о пользователе'!E274))","v":""},{"$f":"IF('Информация о пользователе'!F274=\"\",TRIM(Translit.Translit(A273)&TRIM(LEFT(Translit.Translit(Service!E272),1))&TRIM(LEFT(Translit.Translit(Service!F272),1))),TRIM('Информация о пользователе'!F274))","v":"pusto"},{"$f":"IF('Информация о пользователе'!G274=\"\",TRIM(LEFT(Translit.Translit(Service!E272),2))&INDEX(Service!H272:H290,RANDBETWEEN(1,19),1)&RANDBETWEEN(1,9)&IF(Service!F272=\"\",TRIM(LEFT(Translit.Translit(Service!E272),3))&INDEX(Service!A272:A297,RANDBETWEEN(1,26),1),TRIM(LEFT(Translit.Translit(Service!F272),2))&INDEX(Service!H272:H290,RANDBETWEEN(1,19),1)&INDEX(Service!A272:A297,RANDBETWEEN(1,26),1)),'Информация о пользователе'!G274)","v":{"$error":"#NAME?"}}]
[{"$f":"TRIM(IF('Информация о пользователе'!A275=\"\",\"Пусто\",'Информация о пользователе'!A275))","v":"Пусто"},{"$f":"TRIM(IF('Информация о пользователе'!B275=\"\",\" \",'Информация о пользователе'!B275&\" \"&'Информация о пользователе'!C275))","v":""},{"$f":"TRIM(IF(AD!A274=\"\",\"\",AD!B274&\" \"&A274))","v":"Пусто"},{"$f":"TRIM(IF('Информация о пользователе'!D275=\"\",F274&\"@edu54.ru\",'Информация о пользователе'!D275))","v":"pusto@edu54.ru"},{"$f":"TRIM(IF('Информация о пользователе'!E275=\"\",\"\",'Информация о пользователе'!E275))","v":""},{"$f":"IF('Информация о пользователе'!F275=\"\",TRIM(Translit.Translit(A274)&TRIM(LEFT(Translit.Translit(Service!E273),1))&TRIM(LEFT(Translit.Translit(Service!F273),1))),TRIM('Информация о пользователе'!F275))","v":"pusto"},{"$f":"IF('Информация о пользователе'!G275=\"\",TRIM(LEFT(Translit.Translit(Service!E273),2))&INDEX(Service!H273:H291,RANDBETWEEN(1,19),1)&RANDBETWEEN(1,9)&IF(Service!F273=\"\",TRIM(LEFT(Translit.Translit(Service!E273),3))&INDEX(Service!A273:A298,RANDBETWEEN(1,26),1),TRIM(LEFT(Translit.Translit(Service!F273),2))&INDEX(Service!H273:H291,RANDBETWEEN(1,19),1)&INDEX(Service!A273:A298,RANDBETWEEN(1,26),1)),'Информация о пользователе'!G275)","v":{"$error":"#NAME?"}}]
[{"$f":"TRIM(IF('Информация о пользователе'!A276=\"\",\"Пусто\",'Информация о пользователе'!A276))","v":"Пусто"},{"$f":"TRIM(IF('Информация о пользователе'!B276=\"\",\" \",'Информация о пользователе'!B276&\" \"&'Информация о пользователе'!C276))","v":""},{"$f":"TRIM(IF(AD!A275=\"\",\"\",AD!B275&\" \"&A275))","v":"Пусто"},{"$f":"TRIM(IF('Информация о пользователе'!D276=\"\",F275&\"@edu54.ru\",'Информация о пользователе'!D276))","v":"pusto@edu54.ru"},{"$f":"TRIM(IF('Информация о пользователе'!E276=\"\",\"\",'Информация о пользователе'!E276))","v":""},{"$f":"IF('Информация о пользователе'!F276=\"\",TRIM(Translit.Translit(A275)&TRIM(LEFT(Translit.Translit(Service!E274),1))&TRIM(LEFT(Translit.Translit(Service!F274),1))),TRIM('Информация о пользователе'!F276))","v":"pusto"},{"$f":"IF('Информация о пользователе'!G276=\"\",TRIM(LEFT(Translit.Translit(Service!E274),2))&INDEX(Service!H274:H292,RANDBETWEEN(1,19),1)&RANDBETWEEN(1,9)&IF(Service!F274=\"\",TRIM(LEFT(Translit.Translit(Service!E274),3))&INDEX(Service!A274:A299,RANDBETWEEN(1,26),1),TRIM(LEFT(Translit.Translit(Service!F274),2))&INDEX(Service!H274:H292,RANDBETWEEN(1,19),1)&INDEX(Service!A274:A299,RANDBETWEEN(1,26),1)),'Информация о пользователе'!G276)","v":{"$error":"#NAME?"}}]
[{"$f":"TRIM(IF('Информация о пользователе'!A277=\"\",\"Пусто\",'Информация о пользователе'!A277))","v":"Пусто"},{"$f":"TRIM(IF('Информация о пользователе'!B277=\"\",\" \",'Информация о пользователе'!B277&\" \"&'Информация о пользователе'!C277))","v":""},{"$f":"TRIM(IF(AD!A276=\"\",\"\",AD!B276&\" \"&A276))","v":"Пусто"},{"$f":"TRIM(IF('Информация о пользователе'!D277=\"\",F276&\"@edu54.ru\",'Информация о пользователе'!D277))","v":"pusto@edu54.ru"},{"$f":"TRIM(IF('Информация о пользователе'!E277=\"\",\"\",'Информация о пользователе'!E277))","v":""},{"$f":"IF('Информация о пользователе'!F277=\"\",TRIM(Translit.Translit(A276)&TRIM(LEFT(Translit.Translit(Service!E275),1))&TRIM(LEFT(Translit.Translit(Service!F275),1))),TRIM('Информация о пользователе'!F277))","v":"pusto"},{"$f":"IF('Информация о пользователе'!G277=\"\",TRIM(LEFT(Translit.Translit(Service!E275),2))&INDEX(Service!H275:H293,RANDBETWEEN(1,19),1)&RANDBETWEEN(1,9)&IF(Service!F275=\"\",TRIM(LEFT(Translit.Translit(Service!E275),3))&INDEX(Service!A275:A300,RANDBETWEEN(1,26),1),TRIM(LEFT(Translit.Translit(Service!F275),2))&INDEX(Service!H275:H293,RANDBETWEEN(1,19),1)&INDEX(Service!A275:A300,RANDBETWEEN(1,26),1)),'Информация о пользователе'!G277)","v":{"$error":"#NAME?"}}]
[{"$f":"TRIM(IF('Информация о пользователе'!A278=\"\",\"Пусто\",'Информация о пользователе'!A278))","v":"Пусто"},{"$f":"TRIM(IF('Информация о пользователе'!B278=\"\",\" \",'Информация о пользователе'!B278&\" \"&'Информация о пользователе'!C278))","v":""},{"$f":"TRIM(IF(AD!A277=\"\",\"\",AD!B277&\" \"&A277))","v":"Пусто"},{"$f":"TRIM(IF('Информация о пользователе'!D278=\"\",F277&\"@edu54.ru\",'Информация о пользователе'!D278))","v":"pusto@edu54.ru"},{"$f":"TRIM(IF('Информация о пользователе'!E278=\"\",\"\",'Информация о пользователе'!E278))","v":""},{"$f":"IF('Информация о пользователе'!F278=\"\",TRIM(Translit.Translit(A277)&TRIM(LEFT(Translit.Translit(Service!E276),1))&TRIM(LEFT(Translit.Translit(Service!F276),1))),TRIM('Информация о пользователе'!F278))","v":"pusto"},{"$f":"IF('Информация о пользователе'!G278=\"\",TRIM(LEFT(Translit.Translit(Service!E276),2))&INDEX(Service!H276:H294,RANDBETWEEN(1,19),1)&RANDBETWEEN(1,9)&IF(Service!F276=\"\",TRIM(LEFT(Translit.Translit(Service!E276),3))&INDEX(Service!A276:A301,RANDBETWEEN(1,26),1),TRIM(LEFT(Translit.Translit(Service!F276),2))&INDEX(Service!H276:H294,RANDBETWEEN(1,19),1)&INDEX(Service!A276:A301,RANDBETWEEN(1,26),1)),'Информация о пользователе'!G278)","v":{"$error":"#NAME?"}}]
[{"$f":"TRIM(IF('Информация о пользователе'!A279=\"\",\"Пусто\",'Информация о пользователе'!A279))","v":"Пусто"},{"$f":"TRIM(IF('Информация о пользователе'!B279=\"\",\" \",'Информация о пользователе'!B279&\" \"&'Информация о пользователе'!C279))","v":""},{"$f":"TRIM(IF(AD!A278=\"\",\"\",AD!B278&\" \"&A278))","v":"Пусто"},{"$f":"TRIM(IF('Информация о пользователе'!D279=\"\",F278&\"@edu54.ru\",'Информация о пользователе'!D279))","v":"pusto@edu54.ru"},{"$f":"TRIM(IF('Информация о пользователе'!E279=\"\",\"\",'Информация о пользователе'!E279))","v":""},{"$f":"IF('Информация о пользователе'!F279=\"\",TRIM(Translit.Translit(A278)&TRIM(LEFT(Translit.Translit(Service!E277),1))&TRIM(LEFT(Translit.Translit(Service!F277),1))),TRIM('Информация о пользователе'!F279))","v":"pusto"},{"$f":"IF('Информация о пользователе'!G279=\"\",TRIM(LEFT(Translit.Translit(Service!E277),2))&INDEX(Service!H277:H295,RANDBETWEEN(1,19),1)&RANDBETWEEN(1,9)&IF(Service!F277=\"\",TRIM(LEFT(Translit.Translit(Service!E277),3))&INDEX(Service!A277:A302,RANDBETWEEN(1,26),1),TRIM(LEFT(Translit.Translit(Service!F277),2))&INDEX(Service!H277:H295,RANDBETWEEN(1,19),1)&INDEX(Service!A277:A302,RANDBETWEEN(1,26),1)),'Информация о пользователе'!G279)","v":{"$error":"#NAME?"}}]
[{"$f":"TRIM(IF('Информация о пользователе'!A280=\"\",\"Пусто\",'Информация о пользователе'!A280))","v":"Пусто"},{"$f":"TRIM(IF('Информация о пользователе'!B280=\"\",\" \",'Информация о пользователе'!B280&\" \"&'Информация о пользователе'!C280))","v":""},{"$f":"TRIM(IF(AD!A279=\"\",\"\",AD!B279&\" \"&A279))","v":"Пусто"},{"$f":"TRIM(IF('Информация о пользователе'!D280=\"\",F279&\"@edu54.ru\",'Информация о пользователе'!D280))","v":"pusto@edu54.ru"},{"$f":"TRIM(IF('Информация о пользователе'!E280=\"\",\"\",'Информация о пользователе'!E280))","v":""},{"$f":"IF('Информация о пользователе'!F280=\"\",TRIM(Translit.Translit(A279)&TRIM(LEFT(Translit.Translit(Service!E278),1))&TRIM(LEFT(Translit.Translit(Service!F278),1))),TRIM('Информация о пользователе'!F280))","v":"pusto"},{"$f":"IF('Информация о пользователе'!G280=\"\",TRIM(LEFT(Translit.Translit(Service!E278),2))&INDEX(Service!H278:H296,RANDBETWEEN(1,19),1)&RANDBETWEEN(1,9)&IF(Service!F278=\"\",TRIM(LEFT(Translit.Translit(Service!E278),3))&INDEX(Service!A278:A303,RANDBETWEEN(1,26),1),TRIM(LEFT(Translit.Translit(Service!F278),2))&INDEX(Service!H278:H296,RANDBETWEEN(1,19),1)&INDEX(Service!A278:A303,RANDBETWEEN(1,26),1)),'Информация о пользователе'!G280)","v":{"$error":"#NAME?"}}]
[{"$f":"TRIM(IF('Информация о пользователе'!A281=\"\",\"Пусто\",'Информация о пользователе'!A281))","v":"Пусто"},{"$f":"TRIM(IF('Информация о пользователе'!B281=\"\",\" \",'Информация о пользователе'!B281&\" \"&'Информация о пользователе'!C281))","v":""},{"$f":"TRIM(IF(AD!A280=\"\",\"\",AD!B280&\" \"&A280))","v":"Пусто"},{"$f":"TRIM(IF('Информация о пользователе'!D281=\"\",F280&\"@edu54.ru\",'Информация о пользователе'!D281))","v":"pusto@edu54.ru"},{"$f":"TRIM(IF('Информация о пользователе'!E281=\"\",\"\",'Информация о пользователе'!E281))","v":""},{"$f":"IF('Информация о пользователе'!F281=\"\",TRIM(Translit.Translit(A280)&TRIM(LEFT(Translit.Translit(Service!E279),1))&TRIM(LEFT(Translit.Translit(Service!F279),1))),TRIM('Информация о пользователе'!F281))","v":"pusto"},{"$f":"IF('Информация о пользователе'!G281=\"\",TRIM(LEFT(Translit.Translit(Service!E279),2))&INDEX(Service!H279:H297,RANDBETWEEN(1,19),1)&RANDBETWEEN(1,9)&IF(Service!F279=\"\",TRIM(LEFT(Translit.Translit(Service!E279),3))&INDEX(Service!A279:A304,RANDBETWEEN(1,26),1),TRIM(LEFT(Translit.Translit(Service!F279),2))&INDEX(Service!H279:H297,RANDBETWEEN(1,19),1)&INDEX(Service!A279:A304,RANDBETWEEN(1,26),1)),'Информация о пользователе'!G281)","v":{"$error":"#NAME?"}}]
[{"$f":"TRIM(IF('Информация о пользователе'!A282=\"\",\"Пусто\",'Информация о пользователе'!A282))","v":"Пусто"},{"$f":"TRIM(IF('Информация о пользователе'!B282=\"\",\" \",'Информация о пользователе'!B282&\" \"&'Информация о пользователе'!C282))","v":""},{"$f":"TRIM(IF(AD!A281=\"\",\"\",AD!B281&\" \"&A281))","v":"Пусто"},{"$f":"TRIM(IF('Информация о пользователе'!D282=\"\",F281&\"@edu54.ru\",'Информация о пользователе'!D282))","v":"pusto@edu54.ru"},{"$f":"TRIM(IF('Информация о пользователе'!E282=\"\",\"\",'Информация о пользователе'!E282))","v":""},{"$f":"IF('Информация о пользователе'!F282=\"\",TRIM(Translit.Translit(A281)&TRIM(LEFT(Translit.Translit(Service!E280),1))&TRIM(LEFT(Translit.Translit(Service!F280),1))),TRIM('Информация о пользователе'!F282))","v":"pusto"},{"$f":"IF('Информация о пользователе'!G282=\"\",TRIM(LEFT(Translit.Translit(Service!E280),2))&INDEX(Service!H280:H298,RANDBETWEEN(1,19),1)&RANDBETWEEN(1,9)&IF(Service!F280=\"\",TRIM(LEFT(Translit.Translit(Service!E280),3))&INDEX(Service!A280:A305,RANDBETWEEN(1,26),1),TRIM(LEFT(Translit.Translit(Service!F280),2))&INDEX(Service!H280:H298,RANDBETWEEN(1,19),1)&INDEX(Service!A280:A305,RANDBETWEEN(1,26),1)),'Информация о пользователе'!G282)","v":{"$error":"#NAME?"}}]
[{"$f":"TRIM(IF('Информация о пользователе'!A283=\"\",\"Пусто\",'Информация о пользователе'!A283))","v":"Пусто"},{"$f":"TRIM(IF('Информация о пользователе'!B283=\"\",\" \",'Информация о пользователе'!B283&\" \"&'Информация о пользователе'!C283))","v":""},{"$f":"TRIM(IF(AD!A282=\"\",\"\",AD!B282&\" \"&A282))","v":"Пусто"},{"$f":"TRIM(IF('Информация о пользователе'!D283=\"\",F282&\"@edu54.ru\",'Информация о пользователе'!D283))","v":"pusto@edu54.ru"},{"$f":"TRIM(IF('Информация о пользователе'!E283=\"\",\"\",'Информация о пользователе'!E283))","v":""},{"$f":"IF('Информация о пользователе'!F283=\"\",TRIM(Translit.Translit(A282)&TRIM(LEFT(Translit.Translit(Service!E281),1))&TRIM(LEFT(Translit.Translit(Service!F281),1))),TRIM('Информация о пользователе'!F283))","v":"pusto"},{"$f":"IF('Информация о пользователе'!G283=\"\",TRIM(LEFT(Translit.Translit(Service!E281),2))&INDEX(Service!H281:H299,RANDBETWEEN(1,19),1)&RANDBETWEEN(1,9)&IF(Service!F281=\"\",TRIM(LEFT(Translit.Translit(Service!E281),3))&INDEX(Service!A281:A306,RANDBETWEEN(1,26),1),TRIM(LEFT(Translit.Translit(Service!F281),2))&INDEX(Service!H281:H299,RANDBETWEEN(1,19),1)&INDEX(Service!A281:A306,RANDBETWEEN(1,26),1)),'Информация о пользователе'!G283)","v":{"$error":"#NAME?"}}]
[{"$f":"TRIM(IF('Информация о пользователе'!A284=\"\",\"Пусто\",'Информация о пользователе'!A284))","v":"Пусто"},{"$f":"TRIM(IF('Информация о пользователе'!B284=\"\",\" \",'Информация о пользователе'!B284&\" \"&'Информация о пользователе'!C284))","v":""},{"$f":"TRIM(IF(AD!A283=\"\",\"\",AD!B283&\" \"&A283))","v":"Пусто"},{"$f":"TRIM(IF('Информация о пользователе'!D284=\"\",F283&\"@edu54.ru\",'Информация о пользователе'!D284))","v":"pusto@edu54.ru"},{"$f":"TRIM(IF('Информация о пользователе'!E284=\"\",\"\",'Информация о пользователе'!E284))","v":""},{"$f":"IF('Информация о пользователе'!F284=\"\",TRIM(Translit.Translit(A283)&TRIM(LEFT(Translit.Translit(Service!E282),1))&TRIM(LEFT(Translit.Translit(Service!F282),1))),TRIM('Информация о пользователе'!F284))","v":"pusto"},{"$f":"IF('Информация о пользователе'!G284=\"\",TRIM(LEFT(Translit.Translit(Service!E282),2))&INDEX(Service!H282:H300,RANDBETWEEN(1,19),1)&RANDBETWEEN(1,9)&IF(Service!F282=\"\",TRIM(LEFT(Translit.Translit(Service!E282),3))&INDEX(Service!A282:A307,RANDBETWEEN(1,26),1),TRIM(LEFT(Translit.Translit(Service!F282),2))&INDEX(Service!H282:H300,RANDBETWEEN(1,19),1)&INDEX(Service!A282:A307,RANDBETWEEN(1,26),1)),'Информация о пользователе'!G284)","v":{"$error":"#NAME?"}}]
[{"$f":"TRIM(IF('Информация о пользователе'!A285=\"\",\"Пусто\",'Информация о пользователе'!A285))","v":"Пусто"},{"$f":"TRIM(IF('Информация о пользователе'!B285=\"\",\" \",'Информация о пользователе'!B285&\" \"&'Информация о пользователе'!C285))","v":""},{"$f":"TRIM(IF(AD!A284=\"\",\"\",AD!B284&\" \"&A284))","v":"Пусто"},{"$f":"TRIM(IF('Информация о пользователе'!D285=\"\",F284&\"@edu54.ru\",'Информация о пользователе'!D285))","v":"pusto@edu54.ru"},{"$f":"TRIM(IF('Информация о пользователе'!E285=\"\",\"\",'Информация о пользователе'!E285))","v":""},{"$f":"IF('Информация о пользователе'!F285=\"\",TRIM(Translit.Translit(A284)&TRIM(LEFT(Translit.Translit(Service!E283),1))&TRIM(LEFT(Translit.Translit(Service!F283),1))),TRIM('Информация о пользователе'!F285))","v":"pusto"},{"$f":"IF('Информация о пользователе'!G285=\"\",TRIM(LEFT(Translit.Translit(Service!E283),2))&INDEX(Service!H283:H301,RANDBETWEEN(1,19),1)&RANDBETWEEN(1,9)&IF(Service!F283=\"\",TRIM(LEFT(Translit.Translit(Service!E283),3))&INDEX(Service!A283:A308,RANDBETWEEN(1,26),1),TRIM(LEFT(Translit.Translit(Service!F283),2))&INDEX(Service!H283:H301,RANDBETWEEN(1,19),1)&INDEX(Service!A283:A308,RANDBETWEEN(1,26),1)),'Информация о пользователе'!G285)","v":{"$error":"#NAME?"}}]
[{"$f":"TRIM(IF('Информация о пользователе'!A286=\"\",\"Пусто\",'Информация о пользователе'!A286))","v":"Пусто"},{"$f":"TRIM(IF('Информация о пользователе'!B286=\"\",\" \",'Информация о пользователе'!B286&\" \"&'Информация о пользователе'!C286))","v":""},{"$f":"TRIM(IF(AD!A285=\"\",\"\",AD!B285&\" \"&A285))","v":"Пусто"},{"$f":"TRIM(IF('Информация о пользователе'!D286=\"\",F285&\"@edu54.ru\",'Информация о пользователе'!D286))","v":"pusto@edu54.ru"},{"$f":"TRIM(IF('Информация о пользователе'!E286=\"\",\"\",'Информация о пользователе'!E286))","v":""},{"$f":"IF('Информация о пользователе'!F286=\"\",TRIM(Translit.Translit(A285)&TRIM(LEFT(Translit.Translit(Service!E284),1))&TRIM(LEFT(Translit.Translit(Service!F284),1))),TRIM('Информация о пользователе'!F286))","v":"pusto"},{"$f":"IF('Информация о пользователе'!G286=\"\",TRIM(LEFT(Translit.Translit(Service!E284),2))&INDEX(Service!H284:H302,RANDBETWEEN(1,19),1)&RANDBETWEEN(1,9)&IF(Service!F284=\"\",TRIM(LEFT(Translit.Translit(Service!E284),3))&INDEX(Service!A284:A309,RANDBETWEEN(1,26),1),TRIM(LEFT(Translit.Translit(Service!F284),2))&INDEX(Service!H284:H302,RANDBETWEEN(1,19),1)&INDEX(Service!A284:A309,RANDBETWEEN(1,26),1)),'Информация о пользователе'!G286)","v":{"$error":"#NAME?"}}]
[{"$f":"TRIM(IF('Информация о пользователе'!A287=\"\",\"Пусто\",'Информация о пользователе'!A287))","v":"Пусто"},{"$f":"TRIM(IF('Информация о пользователе'!B287=\"\",\" \",'Информация о пользователе'!B287&\" \"&'Информация о пользователе'!C287))","v":""},{"$f":"TRIM(IF(AD!A286=\"\",\"\",AD!B286&\" \"&A286))","v":"Пусто"},{"$f":"TRIM(IF('Информация о пользователе'!D287=\"\",F286&\"@edu54.ru\",'Информация о пользователе'!D287))","v":"pusto@edu54.ru"},{"$f":"TRIM(IF('Информация о пользователе'!E287=\"\",\"\",'Информация о пользователе'!E287))","v":""},{"$f":"IF('Информация о пользователе'!F287=\"\",TRIM(Translit.Translit(A286)&TRIM(LEFT(Translit.Translit(Service!E285),1))&TRIM(LEFT(Translit.Translit(Service!F285),1))),TRIM('Информация о пользователе'!F287))","v":"pusto"},{"$f":"IF('Информация о пользователе'!G287=\"\",TRIM(LEFT(Translit.Translit(Service!E285),2))&INDEX(Service!H285:H303,RANDBETWEEN(1,19),1)&RANDBETWEEN(1,9)&IF(Service!F285=\"\",TRIM(LEFT(Translit.Translit(Service!E285),3))&INDEX(Service!A285:A310,RANDBETWEEN(1,26),1),TRIM(LEFT(Translit.Translit(Service!F285),2))&INDEX(Service!H285:H303,RANDBETWEEN(1,19),1)&INDEX(Service!A285:A310,RANDBETWEEN(1,26),1)),'Информация о пользователе'!G287)","v":{"$error":"#NAME?"}}]
[{"$f":"TRIM(IF('Информация о пользователе'!A288=\"\",\"Пусто\",'Информация о пользователе'!A288))","v":"Пусто"},{"$f":"TRIM(IF('Информация о пользователе'!B288=\"\",\" \",'Информация о пользователе'!B288&\" \"&'Информация о пользователе'!C288))","v":""},{"$f":"TRIM(IF(AD!A287=\"\",\"\",AD!B287&\" \"&A287))","v":"Пусто"},{"$f":"TRIM(IF('Информация о пользователе'!D288=\"\",F287&\"@edu54.ru\",'Информация о пользователе'!D288))","v":"pusto@edu54.ru"},{"$f":"TRIM(IF('Информация о пользователе'!E288=\"\",\"\",'Информация о пользователе'!E288))","v":""},{"$f":"IF('Информация о пользователе'!F288=\"\",TRIM(Translit.Translit(A287)&TRIM(LEFT(Translit.Translit(Service!E286),1))&TRIM(LEFT(Translit.Translit(Service!F286),1))),TRIM('Информация о пользователе'!F288))","v":"pusto"},{"$f":"IF('Информация о пользователе'!G288=\"\",TRIM(LEFT(Translit.Translit(Service!E286),2))&INDEX(Service!H286:H304,RANDBETWEEN(1,19),1)&RANDBETWEEN(1,9)&IF(Service!F286=\"\",TRIM(LEFT(Translit.Translit(Service!E286),3))&INDEX(Service!A286:A311,RANDBETWEEN(1,26),1),TRIM(LEFT(Translit.Translit(Service!F286),2))&INDEX(Service!H286:H304,RANDBETWEEN(1,19),1)&INDEX(Service!A286:A311,RANDBETWEEN(1,26),1)),'Информация о пользователе'!G288)","v":{"$error":"#NAME?"}}]
[{"$f":"TRIM(IF('Информация о пользователе'!A289=\"\",\"Пусто\",'Информация о пользователе'!A289))","v":"Пусто"},{"$f":"TRIM(IF('Информация о пользователе'!B289=\"\",\" \",'Информация о пользователе'!B289&\" \"&'Информация о пользователе'!C289))","v":""},{"$f":"TRIM(IF(AD!A288=\"\",\"\",AD!B288&\" \"&A288))","v":"Пусто"},{"$f":"TRIM(IF('Информация о пользователе'!D289=\"\",F288&\"@edu54.ru\",'Информация о пользователе'!D289))","v":"pusto@edu54.ru"},{"$f":"TRIM(IF('Информация о пользователе'!E289=\"\",\"\",'Информация о пользователе'!E289))","v":""},{"$f":"IF('Информация о пользователе'!F289=\"\",TRIM(Translit.Translit(A288)&TRIM(LEFT(Translit.Translit(Service!E287),1))&TRIM(LEFT(Translit.Translit(Service!F287),1))),TRIM('Информация о пользователе'!F289))","v":"pusto"},{"$f":"IF('Информация о пользователе'!G289=\"\",TRIM(LEFT(Translit.Translit(Service!E287),2))&INDEX(Service!H287:H305,RANDBETWEEN(1,19),1)&RANDBETWEEN(1,9)&IF(Service!F287=\"\",TRIM(LEFT(Translit.Translit(Service!E287),3))&INDEX(Service!A287:A312,RANDBETWEEN(1,26),1),TRIM(LEFT(Translit.Translit(Service!F287),2))&INDEX(Service!H287:H305,RANDBETWEEN(1,19),1)&INDEX(Service!A287:A312,RANDBETWEEN(1,26),1)),'Информация о пользователе'!G289)","v":{"$error":"#NAME?"}}]
[{"$f":"TRIM(IF('Информация о пользователе'!A290=\"\",\"Пусто\",'Информация о пользователе'!A290))","v":"Пусто"},{"$f":"TRIM(IF('Информация о пользователе'!B290=\"\",\" \",'Информация о пользователе'!B290&\" \"&'Информация о пользователе'!C290))","v":""},{"$f":"TRIM(IF(AD!A289=\"\",\"\",AD!B289&\" \"&A289))","v":"Пусто"},{"$f":"TRIM(IF('Информация о пользователе'!D290=\"\",F289&\"@edu54.ru\",'Информация о пользователе'!D290))","v":"pusto@edu54.ru"},{"$f":"TRIM(IF('Информация о пользователе'!E290=\"\",\"\",'Информация о пользователе'!E290))","v":""},{"$f":"IF('Информация о пользователе'!F290=\"\",TRIM(Translit.Translit(A289)&TRIM(LEFT(Translit.Translit(Service!E288),1))&TRIM(LEFT(Translit.Translit(Service!F288),1))),TRIM('Информация о пользователе'!F290))","v":"pusto"},{"$f":"IF('Информация о пользователе'!G290=\"\",TRIM(LEFT(Translit.Translit(Service!E288),2))&INDEX(Service!H288:H306,RANDBETWEEN(1,19),1)&RANDBETWEEN(1,9)&IF(Service!F288=\"\",TRIM(LEFT(Translit.Translit(Service!E288),3))&INDEX(Service!A288:A313,RANDBETWEEN(1,26),1),TRIM(LEFT(Translit.Translit(Service!F288),2))&INDEX(Service!H288:H306,RANDBETWEEN(1,19),1)&INDEX(Service!A288:A313,RANDBETWEEN(1,26),1)),'Информация о пользователе'!G290)","v":{"$error":"#NAME?"}}]
[{"$f":"TRIM(IF('Информация о пользователе'!A291=\"\",\"Пусто\",'Информация о пользователе'!A291))","v":"Пусто"},{"$f":"TRIM(IF('Информация о пользователе'!B291=\"\",\" \",'Информация о пользователе'!B291&\" \"&'Информация о пользователе'!C291))","v":""},{"$f":"TRIM(IF(AD!A290=\"\",\"\",AD!B290&\" \"&A290))","v":"Пусто"},{"$f":"TRIM(IF('Информация о пользователе'!D291=\"\",F290&\"@edu54.ru\",'Информация о пользователе'!D291))","v":"pusto@edu54.ru"},{"$f":"TRIM(IF('Информация о пользователе'!E291=\"\",\"\",'Информация о пользователе'!E291))","v":""},{"$f":"IF('Информация о пользователе'!F291=\"\",TRIM(Translit.Translit(A290)&TRIM(LEFT(Translit.Translit(Service!E289),1))&TRIM(LEFT(Translit.Translit(Service!F289),1))),TRIM('Информация о пользователе'!F291))","v":"pusto"},{"$f":"IF('Информация о пользователе'!G291=\"\",TRIM(LEFT(Translit.Translit(Service!E289),2))&INDEX(Service!H289:H307,RANDBETWEEN(1,19),1)&RANDBETWEEN(1,9)&IF(Service!F289=\"\",TRIM(LEFT(Translit.Translit(Service!E289),3))&INDEX(Service!A289:A314,RANDBETWEEN(1,26),1),TRIM(LEFT(Translit.Translit(Service!F289),2))&INDEX(Service!H289:H307,RANDBETWEEN(1,19),1)&INDEX(Service!A289:A314,RANDBETWEEN(1,26),1)),'Информация о пользователе'!G291)","v":{"$error":"#NAME?"}}]
[{"$f":"TRIM(IF('Информация о пользователе'!A292=\"\",\"Пусто\",'Информация о пользователе'!A292))","v":"Пусто"},{"$f":"TRIM(IF('Информация о пользователе'!B292=\"\",\" \",'Информация о пользователе'!B292&\" \"&'Информация о пользователе'!C292))","v":""},{"$f":"TRIM(IF(AD!A291=\"\",\"\",AD!B291&\" \"&A291))","v":"Пусто"},{"$f":"TRIM(IF('Информация о пользователе'!D292=\"\",F291&\"@edu54.ru\",'Информация о пользователе'!D292))","v":"pusto@edu54.ru"},{"$f":"TRIM(IF('Информация о пользователе'!E292=\"\",\"\",'Информация о пользователе'!E292))","v":""},{"$f":"IF('Информация о пользователе'!F292=\"\",TRIM(Translit.Translit(A291)&TRIM(LEFT(Translit.Translit(Service!E290),1))&TRIM(LEFT(Translit.Translit(Service!F290),1))),TRIM('Информация о пользователе'!F292))","v":"pusto"},{"$f":"IF('Информация о пользователе'!G292=\"\",TRIM(LEFT(Translit.Translit(Service!E290),2))&INDEX(Service!H290:H308,RANDBETWEEN(1,19),1)&RANDBETWEEN(1,9)&IF(Service!F290=\"\",TRIM(LEFT(Translit.Translit(Service!E290),3))&INDEX(Service!A290:A315,RANDBETWEEN(1,26),1),TRIM(LEFT(Translit.Translit(Service!F290),2))&INDEX(Service!H290:H308,RANDBETWEEN(1,19),1)&INDEX(Service!A290:A315,RANDBETWEEN(1,26),1)),'Информация о пользователе'!G292)","v":{"$error":"#NAME?"}}]
[{"$f":"TRIM(IF('Информация о пользователе'!A293=\"\",\"Пусто\",'Информация о пользователе'!A293))","v":"Пусто"},{"$f":"TRIM(IF('Информация о пользователе'!B293=\"\",\" \",'Информация о пользователе'!B293&\" \"&'Информация о пользователе'!C293))","v":""},{"$f":"TRIM(IF(AD!A292=\"\",\"\",AD!B292&\" \"&A292))","v":"Пусто"},{"$f":"TRIM(IF('Информация о пользователе'!D293=\"\",F292&\"@edu54.ru\",'Информация о пользователе'!D293))","v":"pusto@edu54.ru"},{"$f":"TRIM(IF('Информация о пользователе'!E293=\"\",\"\",'Информация о пользователе'!E293))","v":""},{"$f":"IF('Информация о пользователе'!F293=\"\",TRIM(Translit.Translit(A292)&TRIM(LEFT(Translit.Translit(Service!E291),1))&TRIM(LEFT(Translit.Translit(Service!F291),1))),TRIM('Информация о пользователе'!F293))","v":"pusto"},{"$f":"IF('Информация о пользователе'!G293=\"\",TRIM(LEFT(Translit.Translit(Service!E291),2))&INDEX(Service!H291:H309,RANDBETWEEN(1,19),1)&RANDBETWEEN(1,9)&IF(Service!F291=\"\",TRIM(LEFT(Translit.Translit(Service!E291),3))&INDEX(Service!A291:A316,RANDBETWEEN(1,26),1),TRIM(LEFT(Translit.Translit(Service!F291),2))&INDEX(Service!H291:H309,RANDBETWEEN(1,19),1)&INDEX(Service!A291:A316,RANDBETWEEN(1,26),1)),'Информация о пользователе'!G293)","v":{"$error":"#NAME?"}}]
[{"$f":"TRIM(IF('Информация о пользователе'!A294=\"\",\"Пусто\",'Информация о пользователе'!A294))","v":"Пусто"},{"$f":"TRIM(IF('Информация о пользователе'!B294=\"\",\" \",'Информация о пользователе'!B294&\" \"&'Информация о пользователе'!C294))","v":""},{"$f":"TRIM(IF(AD!A293=\"\",\"\",AD!B293&\" \"&A293))","v":"Пусто"},{"$f":"TRIM(IF('Информация о пользователе'!D294=\"\",F293&\"@edu54.ru\",'Информация о пользователе'!D294))","v":"pusto@edu54.ru"},{"$f":"TRIM(IF('Информация о пользователе'!E294=\"\",\"\",'Информация о пользователе'!E294))","v":""},{"$f":"IF('Информация о пользователе'!F294=\"\",TRIM(Translit.Translit(A293)&TRIM(LEFT(Translit.Translit(Service!E292),1))&TRIM(LEFT(Translit.Translit(Service!F292),1))),TRIM('Информация о пользователе'!F294))","v":"pusto"},{"$f":"IF('Информация о пользователе'!G294=\"\",TRIM(LEFT(Translit.Translit(Service!E292),2))&INDEX(Service!H292:H310,RANDBETWEEN(1,19),1)&RANDBETWEEN(1,9)&IF(Service!F292=\"\",TRIM(LEFT(Translit.Translit(Service!E292),3))&INDEX(Service!A292:A317,RANDBETWEEN(1,26),1),TRIM(LEFT(Translit.Translit(Service!F292),2))&INDEX(Service!H292:H310,RANDBETWEEN(1,19),1)&INDEX(Service!A292:A317,RANDBETWEEN(1,26),1)),'Информация о пользователе'!G294)","v":{"$error":"#NAME?"}}]
[{"$f":"TRIM(IF('Информация о пользователе'!A295=\"\",\"Пусто\",'Информация о пользователе'!A295))","v":"Пусто"},{"$f":"TRIM(IF('Информация о пользователе'!B295=\"\",\" \",'Информация о пользователе'!B295&\" \"&'Информация о пользователе'!C295))","v":""},{"$f":"TRIM(IF(AD!A294=\"\",\"\",AD!B294&\" \"&A294))","v":"Пусто"},{"$f":"TRIM(IF('Информация о пользователе'!D295=\"\",F294&\"@edu54.ru\",'Информация о пользователе'!D295))","v":"pusto@edu54.ru"},{"$f":"TRIM(IF('Информация о пользователе'!E295=\"\",\"\",'Информация о пользователе'!E295))","v":""},{"$f":"IF('Информация о пользователе'!F295=\"\",TRIM(Translit.Translit(A294)&TRIM(LEFT(Translit.Translit(Service!E293),1))&TRIM(LEFT(Translit.Translit(Service!F293),1))),TRIM('Информация о пользователе'!F295))","v":"pusto"},{"$f":"IF('Информация о пользователе'!G295=\"\",TRIM(LEFT(Translit.Translit(Service!E293),2))&INDEX(Service!H293:H311,RANDBETWEEN(1,19),1)&RANDBETWEEN(1,9)&IF(Service!F293=\"\",TRIM(LEFT(Translit.Translit(Service!E293),3))&INDEX(Service!A293:A318,RANDBETWEEN(1,26),1),TRIM(LEFT(Translit.Translit(Service!F293),2))&INDEX(Service!H293:H311,RANDBETWEEN(1,19),1)&INDEX(Service!A293:A318,RANDBETWEEN(1,26),1)),'Информация о пользователе'!G295)","v":{"$error":"#NAME?"}}]
[{"$f":"TRIM(IF('Информация о пользователе'!A296=\"\",\"Пусто\",'Информация о пользователе'!A296))","v":"Пусто"},{"$f":"TRIM(IF('Информация о пользователе'!B296=\"\",\" \",'Информация о пользователе'!B296&\" \"&'Информация о пользователе'!C296))","v":""},{"$f":"TRIM(IF(AD!A295=\"\",\"\",AD!B295&\" \"&A295))","v":"Пусто"},{"$f":"TRIM(IF('Информация о пользователе'!D296=\"\",F295&\"@edu54.ru\",'Информация о пользователе'!D296))","v":"pusto@edu54.ru"},{"$f":"TRIM(IF('Информация о пользователе'!E296=\"\",\"\",'Информация о пользователе'!E296))","v":""},{"$f":"IF('Информация о пользователе'!F296=\"\",TRIM(Translit.Translit(A295)&TRIM(LEFT(Translit.Translit(Service!E294),1))&TRIM(LEFT(Translit.Translit(Service!F294),1))),TRIM('Информация о пользователе'!F296))","v":"pusto"},{"$f":"IF('Информация о пользователе'!G296=\"\",TRIM(LEFT(Translit.Translit(Service!E294),2))&INDEX(Service!H294:H312,RANDBETWEEN(1,19),1)&RANDBETWEEN(1,9)&IF(Service!F294=\"\",TRIM(LEFT(Translit.Translit(Service!E294),3))&INDEX(Service!A294:A319,RANDBETWEEN(1,26),1),TRIM(LEFT(Translit.Translit(Service!F294),2))&INDEX(Service!H294:H312,RANDBETWEEN(1,19),1)&INDEX(Service!A294:A319,RANDBETWEEN(1,26),1)),'Информация о пользователе'!G296)","v":{"$error":"#NAME?"}}]
[{"$f":"TRIM(IF('Информация о пользователе'!A297=\"\",\"Пусто\",'Информация о пользователе'!A297))","v":"Пусто"},{"$f":"TRIM(IF('Информация о пользователе'!B297=\"\",\" \",'Информация о пользователе'!B297&\" \"&'Информация о пользователе'!C297))","v":""},{"$f":"TRIM(IF(AD!A296=\"\",\"\",AD!B296&\" \"&A296))","v":"Пусто"},{"$f":"TRIM(IF('Информация о пользователе'!D297=\"\",F296&\"@edu54.ru\",'Информация о пользователе'!D297))","v":"pusto@edu54.ru"},{"$f":"TRIM(IF('Информация о пользователе'!E297=\"\",\"\",'Информация о пользователе'!E297))","v":""},{"$f":"IF('Информация о пользователе'!F297=\"\",TRIM(Translit.Translit(A296)&TRIM(LEFT(Translit.Translit(Service!E295),1))&TRIM(LEFT(Translit.Translit(Service!F295),1))),TRIM('Информация о пользователе'!F297))","v":"pusto"},{"$f":"IF('Информация о пользователе'!G297=\"\",TRIM(LEFT(Translit.Translit(Service!E295),2))&INDEX(Service!H295:H313,RANDBETWEEN(1,19),1)&RANDBETWEEN(1,9)&IF(Service!F295=\"\",TRIM(LEFT(Translit.Translit(Service!E295),3))&INDEX(Service!A295:A320,RANDBETWEEN(1,26),1),TRIM(LEFT(Translit.Translit(Service!F295),2))&INDEX(Service!H295:H313,RANDBETWEEN(1,19),1)&INDEX(Service!A295:A320,RANDBETWEEN(1,26),1)),'Информация о пользователе'!G297)","v":{"$error":"#NAME?"}}]
[{"$f":"TRIM(IF('Информация о пользователе'!A298=\"\",\"Пусто\",'Информация о пользователе'!A298))","v":"Пусто"},{"$f":"TRIM(IF('Информация о пользователе'!B298=\"\",\" \",'Информация о пользователе'!B298&\" \"&'Информация о пользователе'!C298))","v":""},{"$f":"TRIM(IF(AD!A297=\"\",\"\",AD!B297&\" \"&A297))","v":"Пусто"},{"$f":"TRIM(IF('Информация о пользователе'!D298=\"\",F297&\"@edu54.ru\",'Информация о пользователе'!D298))","v":"pusto@edu54.ru"},{"$f":"TRIM(IF('Информация о пользователе'!E298=\"\",\"\",'Информация о пользователе'!E298))","v":""},{"$f":"IF('Информация о пользователе'!F298=\"\",TRIM(Translit.Translit(A297)&TRIM(LEFT(Translit.Translit(Service!E296),1))&TRIM(LEFT(Translit.Translit(Service!F296),1))),TRIM('Информация о пользователе'!F298))","v":"pusto"},{"$f":"IF('Информация о пользователе'!G298=\"\",TRIM(LEFT(Translit.Translit(Service!E296),2))&INDEX(Service!H296:H314,RANDBETWEEN(1,19),1)&RANDBETWEEN(1,9)&IF(Service!F296=\"\",TRIM(LEFT(Translit.Translit(Service!E296),3))&INDEX(Service!A296:A321,RANDBETWEEN(1,26),1),TRIM(LEFT(Translit.Translit(Service!F296),2))&INDEX(Service!H296:H314,RANDBETWEEN(1,19),1)&INDEX(Service!A296:A321,RANDBETWEEN(1,26),1)),'Информация о пользователе'!G298)","v":{"$error":"#NAME?"}}]
[{"$f":"TRIM(IF('Информация о пользователе'!A299=\"\",\"Пусто\",'Информация о пользователе'!A299))","v":"Пусто"},{"$f":"TRIM(IF('Информация о пользователе'!B299=\"\",\" \",'Информация о пользователе'!B299&\" \"&'Информация о пользователе'!C299))","v":""},{"$f":"TRIM(IF(AD!A298=\"\",\"\",AD!B298&\" \"&A298))","v":"Пусто"},{"$f":"TRIM(IF('Информация о пользователе'!D299=\"\",F298&\"@edu54.ru\",'Информация о пользователе'!D299))","v":"pusto@edu54.ru"},{"$f":"TRIM(IF('Информация о пользователе'!E299=\"\",\"\",'Информация о пользователе'!E299))","v":""},{"$f":"IF('Информация о пользователе'!F299=\"\",TRIM(Translit.Translit(A298)&TRIM(LEFT(Translit.Translit(Service!E297),1))&TRIM(LEFT(Translit.Translit(Service!F297),1))),TRIM('Информация о пользователе'!F299))","v":"pusto"},{"$f":"IF('Информация о пользователе'!G299=\"\",TRIM(LEFT(Translit.Translit(Service!E297),2))&INDEX(Service!H297:H315,RANDBETWEEN(1,19),1)&RANDBETWEEN(1,9)&IF(Service!F297=\"\",TRIM(LEFT(Translit.Translit(Service!E297),3))&INDEX(Service!A297:A322,RANDBETWEEN(1,26),1),TRIM(LEFT(Translit.Translit(Service!F297),2))&INDEX(Service!H297:H315,RANDBETWEEN(1,19),1)&INDEX(Service!A297:A322,RANDBETWEEN(1,26),1)),'Информация о пользователе'!G299)","v":{"$error":"#NAME?"}}]
[{"$f":"TRIM(IF('Информация о пользователе'!A300=\"\",\"Пусто\",'Информация о пользователе'!A300))","v":"Пусто"},{"$f":"TRIM(IF('Информация о пользователе'!B300=\"\",\" \",'Информация о пользователе'!B300&\" \"&'Информация о пользователе'!C300))","v":""},{"$f":"TRIM(IF(AD!A299=\"\",\"\",AD!B299&\" \"&A299))","v":"Пусто"},{"$f":"TRIM(IF('Информация о пользователе'!D300=\"\",F299&\"@edu54.ru\",'Информация о пользователе'!D300))","v":"pusto@edu54.ru"},{"$f":"TRIM(IF('Информация о пользователе'!E300=\"\",\"\",'Информация о пользователе'!E300))","v":""},{"$f":"IF('Информация о пользователе'!F300=\"\",TRIM(Translit.Translit(A299)&TRIM(LEFT(Translit.Translit(Service!E298),1))&TRIM(LEFT(Translit.Translit(Service!F298),1))),TRIM('Информация о пользователе'!F300))","v":"pusto"},{"$f":"IF('Информация о пользователе'!G300=\"\",TRIM(LEFT(Translit.Translit(Service!E298),2))&INDEX(Service!H298:H316,RANDBETWEEN(1,19),1)&RANDBETWEEN(1,9)&IF(Service!F298=\"\",TRIM(LEFT(Translit.Translit(Service!E298),3))&INDEX(Service!A298:A323,RANDBETWEEN(1,26),1),TRIM(LEFT(Translit.Translit(Service!F298),2))&INDEX(Service!H298:H316,RANDBETWEEN(1,19),1)&INDEX(Service!A298:A323,RANDBETWEEN(1,26),1)),'Информация о пользователе'!G300)","v":{"$error":"#NAME?"}}]
[{"$f":"TRIM(IF('Информация о пользователе'!A301=\"\",\"Пусто\",'Информация о пользователе'!A301))","v":"Пусто"},{"$f":"TRIM(IF('Информация о пользователе'!B301=\"\",\" \",'Информация о пользователе'!B301&\" \"&'Информация о пользователе'!C301))","v":""},{"$f":"TRIM(IF(AD!A300=\"\",\"\",AD!B300&\" \"&A300))","v":"Пусто"},{"$f":"TRIM(IF('Информация о пользователе'!D301=\"\",F300&\"@edu54.ru\",'Информация о пользователе'!D301))","v":"pusto@edu54.ru"},{"$f":"TRIM(IF('Информация о пользователе'!E301=\"\",\"\",'Информация о пользователе'!E301))","v":""},{"$f":"IF('Информация о пользователе'!F301=\"\",TRIM(Translit.Translit(A300)&TRIM(LEFT(Translit.Translit(Service!E299),1))&TRIM(LEFT(Translit.Translit(Service!F299),1))),TRIM('Информация о пользователе'!F301))","v":"pusto"},{"$f":"IF('Информация о пользователе'!G301=\"\",TRIM(LEFT(Translit.Translit(Service!E299),2))&INDEX(Service!H299:H317,RANDBETWEEN(1,19),1)&RANDBETWEEN(1,9)&IF(Service!F299=\"\",TRIM(LEFT(Translit.Translit(Service!E299),3))&INDEX(Service!A299:A324,RANDBETWEEN(1,26),1),TRIM(LEFT(Translit.Translit(Service!F299),2))&INDEX(Service!H299:H317,RANDBETWEEN(1,19),1)&INDEX(Service!A299:A324,RANDBETWEEN(1,26),1)),'Информация о пользователе'!G301)","v":{"$error":"#NAME?"}}]
[{"$f":"TRIM(IF('Информация о пользователе'!A302=\"\",\"Пусто\",'Информация о пользователе'!A302))","v":"Пусто"},{"$f":"TRIM(IF('Информация о пользователе'!B302=\"\",\" \",'Информация о пользователе'!B302&\" \"&'Информация о пользователе'!C302))","v":""},{"$f":"TRIM(IF(AD!A301=\"\",\"\",AD!B301&\" \"&A301))","v":"Пусто"},{"$f":"TRIM(IF('Информация о пользователе'!D302=\"\",F301&\"@edu54.ru\",'Информация о пользователе'!D302))","v":"pusto@edu54.ru"},{"$f":"TRIM(IF('Информация о пользователе'!E302=\"\",\"\",'Информация о пользователе'!E302))","v":""},{"$f":"IF('Информация о пользователе'!F302=\"\",TRIM(Translit.Translit(A301)&TRIM(LEFT(Translit.Translit(Service!E300),1))&TRIM(LEFT(Translit.Translit(Service!F300),1))),TRIM('Информация о пользователе'!F302))","v":"pusto"},{"$f":"IF('Информация о пользователе'!G302=\"\",TRIM(LEFT(Translit.Translit(Service!E300),2))&INDEX(Service!H300:H318,RANDBETWEEN(1,19),1)&RANDBETWEEN(1,9)&IF(Service!F300=\"\",TRIM(LEFT(Translit.Translit(Service!E300),3))&INDEX(Service!A300:A325,RANDBETWEEN(1,26),1),TRIM(LEFT(Translit.Translit(Service!F300),2))&INDEX(Service!H300:H318,RANDBETWEEN(1,19),1)&INDEX(Service!A300:A325,RANDBETWEEN(1,26),1)),'Информация о пользователе'!G302)","v":{"$error":"#NAME?"}}]
[{"$f":"TRIM(IF('Информация о пользователе'!A303=\"\",\"Пусто\",'Информация о пользователе'!A303))","v":"Пусто"},{"$f":"TRIM(IF('Информация о пользователе'!B303=\"\",\" \",'Информация о пользователе'!B303&\" \"&'Информация о пользователе'!C303))","v":""},{"$f":"TRIM(IF(AD!A302=\"\",\"\",AD!B302&\" \"&A302))","v":"Пусто"},{"$f":"TRIM(IF('Информация о пользователе'!D303=\"\",F302&\"@edu54.ru\",'Информация о пользователе'!D303))","v":"pusto@edu54.ru"},{"$f":"TRIM(IF('Информация о пользователе'!E303=\"\",\"\",'Информация о пользователе'!E303))","v":""},{"$f":"IF('Информация о пользователе'!F303=\"\",TRIM(Translit.Translit(A302)&TRIM(LEFT(Translit.Translit(Service!E301),1))&TRIM(LEFT(Translit.Translit(Service!F301),1))),TRIM('Информация о пользователе'!F303))","v":"pusto"},{"$f":"IF('Информация о пользователе'!G303=\"\",TRIM(LEFT(Translit.Translit(Service!E301),2))&INDEX(Service!H301:H319,RANDBETWEEN(1,19),1)&RANDBETWEEN(1,9)&IF(Service!F301=\"\",TRIM(LEFT(Translit.Translit(Service!E301),3))&INDEX(Service!A301:A326,RANDBETWEEN(1,26),1),TRIM(LEFT(Translit.Translit(Service!F301),2))&INDEX(Service!H301:H319,RANDBETWEEN(1,19),1)&INDEX(Service!A301:A326,RANDBETWEEN(1,26),1)),'Информация о пользователе'!G303)","v":{"$error":"#NAME?"}}]
[{"$f":"TRIM(IF('Информация о пользователе'!A304=\"\",\"Пусто\",'Информация о пользователе'!A304))","v":"Пусто"},{"$f":"TRIM(IF('Информация о пользователе'!B304=\"\",\" \",'Информация о пользователе'!B304&\" \"&'Информация о пользователе'!C304))","v":""},{"$f":"TRIM(IF(AD!A303=\"\",\"\",AD!B303&\" \"&A303))","v":"Пусто"},{"$f":"TRIM(IF('Информация о пользователе'!D304=\"\",F303&\"@edu54.ru\",'Информация о пользователе'!D304))","v":"pusto@edu54.ru"},{"$f":"TRIM(IF('Информация о пользователе'!E304=\"\",\"\",'Информация о пользователе'!E304))","v":""},{"$f":"IF('Информация о пользователе'!F304=\"\",TRIM(Translit.Translit(A303)&TRIM(LEFT(Translit.Translit(Service!E302),1))&TRIM(LEFT(Translit.Translit(Service!F302),1))),TRIM('Информация о пользователе'!F304))","v":"pusto"},{"$f":"IF('Информация о пользователе'!G304=\"\",TRIM(LEFT(Translit.Translit(Service!E302),2))&INDEX(Service!H302:H320,RANDBETWEEN(1,19),1)&RANDBETWEEN(1,9)&IF(Service!F302=\"\",TRIM(LEFT(Translit.Translit(Service!E302),3))&INDEX(Service!A302:A327,RANDBETWEEN(1,26),1),TRIM(LEFT(Translit.Translit(Service!F302),2))&INDEX(Service!H302:H320,RANDBETWEEN(1,19),1)&INDEX(Service!A302:A327,RANDBETWEEN(1,26),1)),'Информация о пользователе'!G304)","v":{"$error":"#NAME?"}}]
[{"$f":"TRIM(IF('Информация о пользователе'!A305=\"\",\"Пусто\",'Информация о пользователе'!A305))","v":"Пусто"},{"$f":"TRIM(IF('Информация о пользователе'!B305=\"\",\" \",'Информация о пользователе'!B305&\" \"&'Информация о пользователе'!C305))","v":""},{"$f":"TRIM(IF(AD!A304=\"\",\"\",AD!B304&\" \"&A304))","v":"Пусто"},{"$f":"TRIM(IF('Информация о пользователе'!D305=\"\",F304&\"@edu54.ru\",'Информация о пользователе'!D305))","v":"pusto@edu54.ru"},{"$f":"TRIM(IF('Информация о пользователе'!E305=\"\",\"\",'Информация о пользователе'!E305))","v":""},{"$f":"IF('Информация о пользователе'!F305=\"\",TRIM(Translit.Translit(A304)&TRIM(LEFT(Translit.Translit(Service!E303),1))&TRIM(LEFT(Translit.Translit(Service!F303),1))),TRIM('Информация о пользователе'!F305))","v":"pusto"},{"$f":"IF('Информация о пользователе'!G305=\"\",TRIM(LEFT(Translit.Translit(Service!E303),2))&INDEX(Service!H303:H321,RANDBETWEEN(1,19),1)&RANDBETWEEN(1,9)&IF(Service!F303=\"\",TRIM(LEFT(Translit.Translit(Service!E303),3))&INDEX(Service!A303:A328,RANDBETWEEN(1,26),1),TRIM(LEFT(Translit.Translit(Service!F303),2))&INDEX(Service!H303:H321,RANDBETWEEN(1,19),1)&INDEX(Service!A303:A328,RANDBETWEEN(1,26),1)),'Информация о пользователе'!G305)","v":{"$error":"#NAME?"}}]
[{"$f":"TRIM(IF('Информация о пользователе'!A306=\"\",\"Пусто\",'Информация о пользователе'!A306))","v":"Пусто"},{"$f":"TRIM(IF('Информация о пользователе'!B306=\"\",\" \",'Информация о пользователе'!B306&\" \"&'Информация о пользователе'!C306))","v":""},{"$f":"TRIM(IF(AD!A305=\"\",\"\",AD!B305&\" \"&A305))","v":"Пусто"},{"$f":"TRIM(IF('Информация о пользователе'!D306=\"\",F305&\"@edu54.ru\",'Информация о пользователе'!D306))","v":"pusto@edu54.ru"},{"$f":"TRIM(IF('Информация о пользователе'!E306=\"\",\"\",'Информация о пользователе'!E306))","v":""},{"$f":"IF('Информация о пользователе'!F306=\"\",TRIM(Translit.Translit(A305)&TRIM(LEFT(Translit.Translit(Service!E304),1))&TRIM(LEFT(Translit.Translit(Service!F304),1))),TRIM('Информация о пользователе'!F306))","v":"pusto"},{"$f":"IF('Информация о пользователе'!G306=\"\",TRIM(LEFT(Translit.Translit(Service!E304),2))&INDEX(Service!H304:H322,RANDBETWEEN(1,19),1)&RANDBETWEEN(1,9)&IF(Service!F304=\"\",TRIM(LEFT(Translit.Translit(Service!E304),3))&INDEX(Service!A304:A329,RANDBETWEEN(1,26),1),TRIM(LEFT(Translit.Translit(Service!F304),2))&INDEX(Service!H304:H322,RANDBETWEEN(1,19),1)&INDEX(Service!A304:A329,RANDBETWEEN(1,26),1)),'Информация о пользователе'!G306)","v":{"$error":"#NAME?"}}]
[{"$f":"TRIM(IF('Информация о пользователе'!A307=\"\",\"Пусто\",'Информация о пользователе'!A307))","v":"Пусто"},{"$f":"TRIM(IF('Информация о пользователе'!B307=\"\",\" \",'Информация о пользователе'!B307&\" \"&'Информация о пользователе'!C307))","v":""},{"$f":"TRIM(IF(AD!A306=\"\",\"\",AD!B306&\" \"&A306))","v":"Пусто"},{"$f":"TRIM(IF('Информация о пользователе'!D307=\"\",F306&\"@edu54.ru\",'Информация о пользователе'!D307))","v":"pusto@edu54.ru"},{"$f":"TRIM(IF('Информация о пользователе'!E307=\"\",\"\",'Информация о пользователе'!E307))","v":""},{"$f":"IF('Информация о пользователе'!F307=\"\",TRIM(Translit.Translit(A306)&TRIM(LEFT(Translit.Translit(Service!E305),1))&TRIM(LEFT(Translit.Translit(Service!F305),1))),TRIM('Информация о пользователе'!F307))","v":"pusto"},{"$f":"IF('Информация о пользователе'!G307=\"\",TRIM(LEFT(Translit.Translit(Service!E305),2))&INDEX(Service!H305:H323,RANDBETWEEN(1,19),1)&RANDBETWEEN(1,9)&IF(Service!F305=\"\",TRIM(LEFT(Translit.Translit(Service!E305),3))&INDEX(Service!A305:A330,RANDBETWEEN(1,26),1),TRIM(LEFT(Translit.Translit(Service!F305),2))&INDEX(Service!H305:H323,RANDBETWEEN(1,19),1)&INDEX(Service!A305:A330,RANDBETWEEN(1,26),1)),'Информация о пользователе'!G307)","v":{"$error":"#NAME?"}}]
[{"$f":"TRIM(IF('Информация о пользователе'!A308=\"\",\"Пусто\",'Информация о пользователе'!A308))","v":"Пусто"},{"$f":"TRIM(IF('Информация о пользователе'!B308=\"\",\" \",'Информация о пользователе'!B308&\" \"&'Информация о пользователе'!C308))","v":""},{"$f":"TRIM(IF(AD!A307=\"\",\"\",AD!B307&\" \"&A307))","v":"Пусто"},{"$f":"TRIM(IF('Информация о пользователе'!D308=\"\",F307&\"@edu54.ru\",'Информация о пользователе'!D308))","v":"pusto@edu54.ru"},{"$f":"TRIM(IF('Информация о пользователе'!E308=\"\",\"\",'Информация о пользователе'!E308))","v":""},{"$f":"IF('Информация о пользователе'!F308=\"\",TRIM(Translit.Translit(A307)&TRIM(LEFT(Translit.Translit(Service!E306),1))&TRIM(LEFT(Translit.Translit(Service!F306),1))),TRIM('Информация о пользователе'!F308))","v":"pusto"},{"$f":"IF('Информация о пользователе'!G308=\"\",TRIM(LEFT(Translit.Translit(Service!E306),2))&INDEX(Service!H306:H324,RANDBETWEEN(1,19),1)&RANDBETWEEN(1,9)&IF(Service!F306=\"\",TRIM(LEFT(Translit.Translit(Service!E306),3))&INDEX(Service!A306:A331,RANDBETWEEN(1,26),1),TRIM(LEFT(Translit.Translit(Service!F306),2))&INDEX(Service!H306:H324,RANDBETWEEN(1,19),1)&INDEX(Service!A306:A331,RANDBETWEEN(1,26),1)),'Информация о пользователе'!G308)","v":{"$error":"#NAME?"}}]
[{"$f":"TRIM(IF('Информация о пользователе'!A309=\"\",\"Пусто\",'Информация о пользователе'!A309))","v":"Пусто"},{"$f":"TRIM(IF('Информация о пользователе'!B309=\"\",\" \",'Информация о пользователе'!B309&\" \"&'Информация о пользователе'!C309))","v":""},{"$f":"TRIM(IF(AD!A308=\"\",\"\",AD!B308&\" \"&A308))","v":"Пусто"},{"$f":"TRIM(IF('Информация о пользователе'!D309=\"\",F308&\"@edu54.ru\",'Информация о пользователе'!D309))","v":"pusto@edu54.ru"},{"$f":"TRIM(IF('Информация о пользователе'!E309=\"\",\"\",'Информация о пользователе'!E309))","v":""},{"$f":"IF('Информация о пользователе'!F309=\"\",TRIM(Translit.Translit(A308)&TRIM(LEFT(Translit.Translit(Service!E307),1))&TRIM(LEFT(Translit.Translit(Service!F307),1))),TRIM('Информация о пользователе'!F309))","v":"pusto"},{"$f":"IF('Информация о пользователе'!G309=\"\",TRIM(LEFT(Translit.Translit(Service!E307),2))&INDEX(Service!H307:H325,RANDBETWEEN(1,19),1)&RANDBETWEEN(1,9)&IF(Service!F307=\"\",TRIM(LEFT(Translit.Translit(Service!E307),3))&INDEX(Service!A307:A332,RANDBETWEEN(1,26),1),TRIM(LEFT(Translit.Translit(Service!F307),2))&INDEX(Service!H307:H325,RANDBETWEEN(1,19),1)&INDEX(Service!A307:A332,RANDBETWEEN(1,26),1)),'Информация о пользователе'!G309)","v":{"$error":"#NAME?"}}]
[{"$f":"TRIM(IF('Информация о пользователе'!A310=\"\",\"Пусто\",'Информация о пользователе'!A310))","v":"Пусто"},{"$f":"TRIM(IF('Информация о пользователе'!B310=\"\",\" \",'Информация о пользователе'!B310&\" \"&'Информация о пользователе'!C310))","v":""},{"$f":"TRIM(IF(AD!A309=\"\",\"\",AD!B309&\" \"&A309))","v":"Пусто"},{"$f":"TRIM(IF('Информация о пользователе'!D310=\"\",F309&\"@edu54.ru\",'Информация о пользователе'!D310))","v":"pusto@edu54.ru"},{"$f":"TRIM(IF('Информация о пользователе'!E310=\"\",\"\",'Информация о пользователе'!E310))","v":""},{"$f":"IF('Информация о пользователе'!F310=\"\",TRIM(Translit.Translit(A309)&TRIM(LEFT(Translit.Translit(Service!E308),1))&TRIM(LEFT(Translit.Translit(Service!F308),1))),TRIM('Информация о пользователе'!F310))","v":"pusto"},{"$f":"IF('Информация о пользователе'!G310=\"\",TRIM(LEFT(Translit.Translit(Service!E308),2))&INDEX(Service!H308:H326,RANDBETWEEN(1,19),1)&RANDBETWEEN(1,9)&IF(Service!F308=\"\",TRIM(LEFT(Translit.Translit(Service!E308),3))&INDEX(Service!A308:A333,RANDBETWEEN(1,26),1),TRIM(LEFT(Translit.Translit(Service!F308),2))&INDEX(Service!H308:H326,RANDBETWEEN(1,19),1)&INDEX(Service!A308:A333,RANDBETWEEN(1,26),1)),'Информация о пользователе'!G310)","v":{"$error":"#NAME?"}}]
[{"$f":"TRIM(IF('Информация о пользователе'!A311=\"\",\"Пусто\",'Информация о пользователе'!A311))","v":"Пусто"},{"$f":"TRIM(IF('Информация о пользователе'!B311=\"\",\" \",'Информация о пользователе'!B311&\" \"&'Информация о пользователе'!C311))","v":""},{"$f":"TRIM(IF(AD!A310=\"\",\"\",AD!B310&\" \"&A310))","v":"Пусто"},{"$f":"TRIM(IF('Информация о пользователе'!D311=\"\",F310&\"@edu54.ru\",'Информация о пользователе'!D311))","v":"pusto@edu54.ru"},{"$f":"TRIM(IF('Информация о пользователе'!E311=\"\",\"\",'Информация о пользователе'!E311))","v":""},{"$f":"IF('Информация о пользователе'!F311=\"\",TRIM(Translit.Translit(A310)&TRIM(LEFT(Translit.Translit(Service!E309),1))&TRIM(LEFT(Translit.Translit(Service!F309),1))),TRIM('Информация о пользователе'!F311))","v":"pusto"},{"$f":"IF('Информация о пользователе'!G311=\"\",TRIM(LEFT(Translit.Translit(Service!E309),2))&INDEX(Service!H309:H327,RANDBETWEEN(1,19),1)&RANDBETWEEN(1,9)&IF(Service!F309=\"\",TRIM(LEFT(Translit.Translit(Service!E309),3))&INDEX(Service!A309:A334,RANDBETWEEN(1,26),1),TRIM(LEFT(Translit.Translit(Service!F309),2))&INDEX(Service!H309:H327,RANDBETWEEN(1,19),1)&INDEX(Service!A309:A334,RANDBETWEEN(1,26),1)),'Информация о пользователе'!G311)","v":{"$error":"#NAME?"}}]
[{"$f":"TRIM(IF('Информация о пользователе'!A312=\"\",\"Пусто\",'Информация о пользователе'!A312))","v":"Пусто"},{"$f":"TRIM(IF('Информация о пользователе'!B312=\"\",\" \",'Информация о пользователе'!B312&\" \"&'Информация о пользователе'!C312))","v":""},{"$f":"TRIM(IF(AD!A311=\"\",\"\",AD!B311&\" \"&A311))","v":"Пусто"},{"$f":"TRIM(IF('Информация о пользователе'!D312=\"\",F311&\"@edu54.ru\",'Информация о пользователе'!D312))","v":"pusto@edu54.ru"},{"$f":"TRIM(IF('Информация о пользователе'!E312=\"\",\"\",'Информация о пользователе'!E312))","v":""},{"$f":"IF('Информация о пользователе'!F312=\"\",TRIM(Translit.Translit(A311)&TRIM(LEFT(Translit.Translit(Service!E310),1))&TRIM(LEFT(Translit.Translit(Service!F310),1))),TRIM('Информация о пользователе'!F312))","v":"pusto"},{"$f":"IF('Информация о пользователе'!G312=\"\",TRIM(LEFT(Translit.Translit(Service!E310),2))&INDEX(Service!H310:H328,RANDBETWEEN(1,19),1)&RANDBETWEEN(1,9)&IF(Service!F310=\"\",TRIM(LEFT(Translit.Translit(Service!E310),3))&INDEX(Service!A310:A335,RANDBETWEEN(1,26),1),TRIM(LEFT(Translit.Translit(Service!F310),2))&INDEX(Service!H310:H328,RANDBETWEEN(1,19),1)&INDEX(Service!A310:A335,RANDBETWEEN(1,26),1)),'Информация о пользователе'!G312)","v":{"$error":"#NAME?"}}]
[{"$f":"TRIM(IF('Информация о пользователе'!A313=\"\",\"Пусто\",'Информация о пользователе'!A313))","v":"Пусто"},{"$f":"TRIM(IF('Информация о пользователе'!B313=\"\",\" \",'Информация о пользователе'!B313&\" \"&'Информация о пользователе'!C313))","v":""},{"$f":"TRIM(IF(AD!A312=\"\",\"\",AD!B312&\" \"&A312))","v":"Пусто"},{"$f":"TRIM(IF('Информация о пользователе'!D313=\"\",F312&\"@edu54.ru\",'Информация о пользователе'!D313))","v":"pusto@edu54.ru"},{"$f":"TRIM(IF('Информация о пользователе'!E313=\"\",\"\",'Информация о пользователе'!E313))","v":""},{"$f":"IF('Информация о пользователе'!F313=\"\",TRIM(Translit.Translit(A312)&TRIM(LEFT(Translit.Translit(Service!E311),1))&TRIM(LEFT(Translit.Translit(Service!F311),1))),TRIM('Информация о пользователе'!F313))","v":"pusto"},{"$f":"IF('Информация о пользователе'!G313=\"\",TRIM(LEFT(Translit.Translit(Service!E311),2))&INDEX(Service!H311:H329,RANDBETWEEN(1,19),1)&RANDBETWEEN(1,9)&IF(Service!F311=\"\",TRIM(LEFT(Translit.Translit(Service!E311),3))&INDEX(Service!A311:A336,RANDBETWEEN(1,26),1),TRIM(LEFT(Translit.Translit(Service!F311),2))&INDEX(Service!H311:H329,RANDBETWEEN(1,19),1)&INDEX(Service!A311:A336,RANDBETWEEN(1,26),1)),'Информация о пользователе'!G313)","v":{"$error":"#NAME?"}}]
[{"$f":"TRIM(IF('Информация о пользователе'!A314=\"\",\"Пусто\",'Информация о пользователе'!A314))","v":"Пусто"},{"$f":"TRIM(IF('Информация о пользователе'!B314=\"\",\" \",'Информация о пользователе'!B314&\" \"&'Информация о пользователе'!C314))","v":""},{"$f":"TRIM(IF(AD!A313=\"\",\"\",AD!B313&\" \"&A313))","v":"Пусто"},{"$f":"TRIM(IF('Информация о пользователе'!D314=\"\",F313&\"@edu54.ru\",'Информация о пользователе'!D314))","v":"pusto@edu54.ru"},{"$f":"TRIM(IF('Информация о пользователе'!E314=\"\",\"\",'Информация о пользователе'!E314))","v":""},{"$f":"IF('Информация о пользователе'!F314=\"\",TRIM(Translit.Translit(A313)&TRIM(LEFT(Translit.Translit(Service!E312),1))&TRIM(LEFT(Translit.Translit(Service!F312),1))),TRIM('Информация о пользователе'!F314))","v":"pusto"},{"$f":"IF('Информация о пользователе'!G314=\"\",TRIM(LEFT(Translit.Translit(Service!E312),2))&INDEX(Service!H312:H330,RANDBETWEEN(1,19),1)&RANDBETWEEN(1,9)&IF(Service!F312=\"\",TRIM(LEFT(Translit.Translit(Service!E312),3))&INDEX(Service!A312:A337,RANDBETWEEN(1,26),1),TRIM(LEFT(Translit.Translit(Service!F312),2))&INDEX(Service!H312:H330,RANDBETWEEN(1,19),1)&INDEX(Service!A312:A337,RANDBETWEEN(1,26),1)),'Информация о пользователе'!G314)","v":{"$error":"#NAME?"}}]
[{"$f":"TRIM(IF('Информация о пользователе'!A315=\"\",\"Пусто\",'Информация о пользователе'!A315))","v":"Пусто"},{"$f":"TRIM(IF('Информация о пользователе'!B315=\"\",\" \",'Информация о пользователе'!B315&\" \"&'Информация о пользователе'!C315))","v":""},{"$f":"TRIM(IF(AD!A314=\"\",\"\",AD!B314&\" \"&A314))","v":"Пусто"},{"$f":"TRIM(IF('Информация о пользователе'!D315=\"\",F314&\"@edu54.ru\",'Информация о пользователе'!D315))","v":"pusto@edu54.ru"},{"$f":"TRIM(IF('Информация о пользователе'!E315=\"\",\"\",'Информация о пользователе'!E315))","v":""},{"$f":"IF('Информация о пользователе'!F315=\"\",TRIM(Translit.Translit(A314)&TRIM(LEFT(Translit.Translit(Service!E313),1))&TRIM(LEFT(Translit.Translit(Service!F313),1))),TRIM('Информация о пользователе'!F315))","v":"pusto"},{"$f":"IF('Информация о пользователе'!G315=\"\",TRIM(LEFT(Translit.Translit(Service!E313),2))&INDEX(Service!H313:H331,RANDBETWEEN(1,19),1)&RANDBETWEEN(1,9)&IF(Service!F313=\"\",TRIM(LEFT(Translit.Translit(Service!E313),3))&INDEX(Service!A313:A338,RANDBETWEEN(1,26),1),TRIM(LEFT(Translit.Translit(Service!F313),2))&INDEX(Service!H313:H331,RANDBETWEEN(1,19),1)&INDEX(Service!A313:A338,RANDBETWEEN(1,26),1)),'Информация о пользователе'!G315)","v":{"$error":"#NAME?"}}]
[{"$f":"TRIM(IF('Информация о пользователе'!A316=\"\",\"Пусто\",'Информация о пользователе'!A316))","v":"Пусто"},{"$f":"TRIM(IF('Информация о пользователе'!B316=\"\",\" \",'Информация о пользователе'!B316&\" \"&'Информация о пользователе'!C316))","v":""},{"$f":"TRIM(IF(AD!A315=\"\",\"\",AD!B315&\" \"&A315))","v":"Пусто"},{"$f":"TRIM(IF('Информация о пользователе'!D316=\"\",F315&\"@edu54.ru\",'Информация о пользователе'!D316))","v":"pusto@edu54.ru"},{"$f":"TRIM(IF('Информация о пользователе'!E316=\"\",\"\",'Информация о пользователе'!E316))","v":""},{"$f":"IF('Информация о пользователе'!F316=\"\",TRIM(Translit.Translit(A315)&TRIM(LEFT(Translit.Translit(Service!E314),1))&TRIM(LEFT(Translit.Translit(Service!F314),1))),TRIM('Информация о пользователе'!F316))","v":"pusto"},{"$f":"IF('Информация о пользователе'!G316=\"\",TRIM(LEFT(Translit.Translit(Service!E314),2))&INDEX(Service!H314:H332,RANDBETWEEN(1,19),1)&RANDBETWEEN(1,9)&IF(Service!F314=\"\",TRIM(LEFT(Translit.Translit(Service!E314),3))&INDEX(Service!A314:A339,RANDBETWEEN(1,26),1),TRIM(LEFT(Translit.Translit(Service!F314),2))&INDEX(Service!H314:H332,RANDBETWEEN(1,19),1)&INDEX(Service!A314:A339,RANDBETWEEN(1,26),1)),'Информация о пользователе'!G316)","v":{"$error":"#NAME?"}}]
[{"$f":"TRIM(IF('Информация о пользователе'!A317=\"\",\"Пусто\",'Информация о пользователе'!A317))","v":"Пусто"},{"$f":"TRIM(IF('Информация о пользователе'!B317=\"\",\" \",'Информация о пользователе'!B317&\" \"&'Информация о пользователе'!C317))","v":""},{"$f":"TRIM(IF(AD!A316=\"\",\"\",AD!B316&\" \"&A316))","v":"Пусто"},{"$f":"TRIM(IF('Информация о пользователе'!D317=\"\",F316&\"@edu54.ru\",'Информация о пользователе'!D317))","v":"pusto@edu54.ru"},{"$f":"TRIM(IF('Информация о пользователе'!E317=\"\",\"\",'Информация о пользователе'!E317))","v":""},{"$f":"IF('Информация о пользователе'!F317=\"\",TRIM(Translit.Translit(A316)&TRIM(LEFT(Translit.Translit(Service!E315),1))&TRIM(LEFT(Translit.Translit(Service!F315),1))),TRIM('Информация о пользователе'!F317))","v":"pusto"},{"$f":"IF('Информация о пользователе'!G317=\"\",TRIM(LEFT(Translit.Translit(Service!E315),2))&INDEX(Service!H315:H333,RANDBETWEEN(1,19),1)&RANDBETWEEN(1,9)&IF(Service!F315=\"\",TRIM(LEFT(Translit.Translit(Service!E315),3))&INDEX(Service!A315:A340,RANDBETWEEN(1,26),1),TRIM(LEFT(Translit.Translit(Service!F315),2))&INDEX(Service!H315:H333,RANDBETWEEN(1,19),1)&INDEX(Service!A315:A340,RANDBETWEEN(1,26),1)),'Информация о пользователе'!G317)","v":{"$error":"#NAME?"}}]
[{"$f":"TRIM(IF('Информация о пользователе'!A318=\"\",\"Пусто\",'Информация о пользователе'!A318))","v":"Пусто"},{"$f":"TRIM(IF('Информация о пользователе'!B318=\"\",\" \",'Информация о пользователе'!B318&\" \"&'Информация о пользователе'!C318))","v":""},{"$f":"TRIM(IF(AD!A317=\"\",\"\",AD!B317&\" \"&A317))","v":"Пусто"},{"$f":"TRIM(IF('Информация о пользователе'!D318=\"\",F317&\"@edu54.ru\",'Информация о пользователе'!D318))","v":"pusto@edu54.ru"},{"$f":"TRIM(IF('Информация о пользователе'!E318=\"\",\"\",'Информация о пользователе'!E318))","v":""},{"$f":"IF('Информация о пользователе'!F318=\"\",TRIM(Translit.Translit(A317)&TRIM(LEFT(Translit.Translit(Service!E316),1))&TRIM(LEFT(Translit.Translit(Service!F316),1))),TRIM('Информация о пользователе'!F318))","v":"pusto"},{"$f":"IF('Информация о пользователе'!G318=\"\",TRIM(LEFT(Translit.Translit(Service!E316),2))&INDEX(Service!H316:H334,RANDBETWEEN(1,19),1)&RANDBETWEEN(1,9)&IF(Service!F316=\"\",TRIM(LEFT(Translit.Translit(Service!E316),3))&INDEX(Service!A316:A341,RANDBETWEEN(1,26),1),TRIM(LEFT(Translit.Translit(Service!F316),2))&INDEX(Service!H316:H334,RANDBETWEEN(1,19),1)&INDEX(Service!A316:A341,RANDBETWEEN(1,26),1)),'Информация о пользователе'!G318)","v":{"$error":"#NAME?"}}]
[{"$f":"TRIM(IF('Информация о пользователе'!A319=\"\",\"Пусто\",'Информация о пользователе'!A319))","v":"Пусто"},{"$f":"TRIM(IF('Информация о пользователе'!B319=\"\",\" \",'Информация о пользователе'!B319&\" \"&'Информация о пользователе'!C319))","v":""},{"$f":"TRIM(IF(AD!A318=\"\",\"\",AD!B318&\" \"&A318))","v":"Пусто"},{"$f":"TRIM(IF('Информация о пользователе'!D319=\"\",F318&\"@edu54.ru\",'Информация о пользователе'!D319))","v":"pusto@edu54.ru"},{"$f":"TRIM(IF('Информация о пользователе'!E319=\"\",\"\",'Информация о пользователе'!E319))","v":""},{"$f":"IF('Информация о пользователе'!F319=\"\",TRIM(Translit.Translit(A318)&TRIM(LEFT(Translit.Translit(Service!E317),1))&TRIM(LEFT(Translit.Translit(Service!F317),1))),TRIM('Информация о пользователе'!F319))","v":"pusto"},{"$f":"IF('Информация о пользователе'!G319=\"\",TRIM(LEFT(Translit.Translit(Service!E317),2))&INDEX(Service!H317:H335,RANDBETWEEN(1,19),1)&RANDBETWEEN(1,9)&IF(Service!F317=\"\",TRIM(LEFT(Translit.Translit(Service!E317),3))&INDEX(Service!A317:A342,RANDBETWEEN(1,26),1),TRIM(LEFT(Translit.Translit(Service!F317),2))&INDEX(Service!H317:H335,RANDBETWEEN(1,19),1)&INDEX(Service!A317:A342,RANDBETWEEN(1,26),1)),'Информация о пользователе'!G319)","v":{"$error":"#NAME?"}}]
[{"$f":"TRIM(IF('Информация о пользователе'!A320=\"\",\"Пусто\",'Информация о пользователе'!A320))","v":"Пусто"},{"$f":"TRIM(IF('Информация о пользователе'!B320=\"\",\" \",'Информация о пользователе'!B320&\" \"&'Информация о пользователе'!C320))","v":""},{"$f":"TRIM(IF(AD!A319=\"\",\"\",AD!B319&\" \"&A319))","v":"Пусто"},{"$f":"TRIM(IF('Информация о пользователе'!D320=\"\",F319&\"@edu54.ru\",'Информация о пользователе'!D320))","v":"pusto@edu54.ru"},{"$f":"TRIM(IF('Информация о пользователе'!E320=\"\",\"\",'Информация о пользователе'!E320))","v":""},{"$f":"IF('Информация о пользователе'!F320=\"\",TRIM(Translit.Translit(A319)&TRIM(LEFT(Translit.Translit(Service!E318),1))&TRIM(LEFT(Translit.Translit(Service!F318),1))),TRIM('Информация о пользователе'!F320))","v":"pusto"},{"$f":"IF('Информация о пользователе'!G320=\"\",TRIM(LEFT(Translit.Translit(Service!E318),2))&INDEX(Service!H318:H336,RANDBETWEEN(1,19),1)&RANDBETWEEN(1,9)&IF(Service!F318=\"\",TRIM(LEFT(Translit.Translit(Service!E318),3))&INDEX(Service!A318:A343,RANDBETWEEN(1,26),1),TRIM(LEFT(Translit.Translit(Service!F318),2))&INDEX(Service!H318:H336,RANDBETWEEN(1,19),1)&INDEX(Service!A318:A343,RANDBETWEEN(1,26),1)),'Информация о пользователе'!G320)","v":{"$error":"#NAME?"}}]
[{"$f":"TRIM(IF('Информация о пользователе'!A321=\"\",\"Пусто\",'Информация о пользователе'!A321))","v":"Пусто"},{"$f":"TRIM(IF('Информация о пользователе'!B321=\"\",\" \",'Информация о пользователе'!B321&\" \"&'Информация о пользователе'!C321))","v":""},{"$f":"TRIM(IF(AD!A320=\"\",\"\",AD!B320&\" \"&A320))","v":"Пусто"},{"$f":"TRIM(IF('Информация о пользователе'!D321=\"\",F320&\"@edu54.ru\",'Информация о пользователе'!D321))","v":"pusto@edu54.ru"},{"$f":"TRIM(IF('Информация о пользователе'!E321=\"\",\"\",'Информация о пользователе'!E321))","v":""},{"$f":"IF('Информация о пользователе'!F321=\"\",TRIM(Translit.Translit(A320)&TRIM(LEFT(Translit.Translit(Service!E319),1))&TRIM(LEFT(Translit.Translit(Service!F319),1))),TRIM('Информация о пользователе'!F321))","v":"pusto"},{"$f":"IF('Информация о пользователе'!G321=\"\",TRIM(LEFT(Translit.Translit(Service!E319),2))&INDEX(Service!H319:H337,RANDBETWEEN(1,19),1)&RANDBETWEEN(1,9)&IF(Service!F319=\"\",TRIM(LEFT(Translit.Translit(Service!E319),3))&INDEX(Service!A319:A344,RANDBETWEEN(1,26),1),TRIM(LEFT(Translit.Translit(Service!F319),2))&INDEX(Service!H319:H337,RANDBETWEEN(1,19),1)&INDEX(Service!A319:A344,RANDBETWEEN(1,26),1)),'Информация о пользователе'!G321)","v":{"$error":"#NAME?"}}]
[{"$f":"TRIM(IF('Информация о пользователе'!A322=\"\",\"Пусто\",'Информация о пользователе'!A322))","v":"Пусто"},{"$f":"TRIM(IF('Информация о пользователе'!B322=\"\",\" \",'Информация о пользователе'!B322&\" \"&'Информация о пользователе'!C322))","v":""},{"$f":"TRIM(IF(AD!A321=\"\",\"\",AD!B321&\" \"&A321))","v":"Пусто"},{"$f":"TRIM(IF('Информация о пользователе'!D322=\"\",F321&\"@edu54.ru\",'Информация о пользователе'!D322))","v":"pusto@edu54.ru"},{"$f":"TRIM(IF('Информация о пользователе'!E322=\"\",\"\",'Информация о пользователе'!E322))","v":""},{"$f":"IF('Информация о пользователе'!F322=\"\",TRIM(Translit.Translit(A321)&TRIM(LEFT(Translit.Translit(Service!E320),1))&TRIM(LEFT(Translit.Translit(Service!F320),1))),TRIM('Информация о пользователе'!F322))","v":"pusto"},{"$f":"IF('Информация о пользователе'!G322=\"\",TRIM(LEFT(Translit.Translit(Service!E320),2))&INDEX(Service!H320:H338,RANDBETWEEN(1,19),1)&RANDBETWEEN(1,9)&IF(Service!F320=\"\",TRIM(LEFT(Translit.Translit(Service!E320),3))&INDEX(Service!A320:A345,RANDBETWEEN(1,26),1),TRIM(LEFT(Translit.Translit(Service!F320),2))&INDEX(Service!H320:H338,RANDBETWEEN(1,19),1)&INDEX(Service!A320:A345,RANDBETWEEN(1,26),1)),'Информация о пользователе'!G322)","v":{"$error":"#NAME?"}}]
[{"$f":"TRIM(IF('Информация о пользователе'!A323=\"\",\"Пусто\",'Информация о пользователе'!A323))","v":"Пусто"},{"$f":"TRIM(IF('Информация о пользователе'!B323=\"\",\" \",'Информация о пользователе'!B323&\" \"&'Информация о пользователе'!C323))","v":""},{"$f":"TRIM(IF(AD!A322=\"\",\"\",AD!B322&\" \"&A322))","v":"Пусто"},{"$f":"TRIM(IF('Информация о пользователе'!D323=\"\",F322&\"@edu54.ru\",'Информация о пользователе'!D323))","v":"pusto@edu54.ru"},{"$f":"TRIM(IF('Информация о пользователе'!E323=\"\",\"\",'Информация о пользователе'!E323))","v":""},{"$f":"IF('Информация о пользователе'!F323=\"\",TRIM(Translit.Translit(A322)&TRIM(LEFT(Translit.Translit(Service!E321),1))&TRIM(LEFT(Translit.Translit(Service!F321),1))),TRIM('Информация о пользователе'!F323))","v":"pusto"},{"$f":"IF('Информация о пользователе'!G323=\"\",TRIM(LEFT(Translit.Translit(Service!E321),2))&INDEX(Service!H321:H339,RANDBETWEEN(1,19),1)&RANDBETWEEN(1,9)&IF(Service!F321=\"\",TRIM(LEFT(Translit.Translit(Service!E321),3))&INDEX(Service!A321:A346,RANDBETWEEN(1,26),1),TRIM(LEFT(Translit.Translit(Service!F321),2))&INDEX(Service!H321:H339,RANDBETWEEN(1,19),1)&INDEX(Service!A321:A346,RANDBETWEEN(1,26),1)),'Информация о пользователе'!G323)","v":{"$error":"#NAME?"}}]
[{"$f":"TRIM(IF('Информация о пользователе'!A324=\"\",\"Пусто\",'Информация о пользователе'!A324))","v":"Пусто"},{"$f":"TRIM(IF('Информация о пользователе'!B324=\"\",\" \",'Информация о пользователе'!B324&\" \"&'Информация о пользователе'!C324))","v":""},{"$f":"TRIM(IF(AD!A323=\"\",\"\",AD!B323&\" \"&A323))","v":"Пусто"},{"$f":"TRIM(IF('Информация о пользователе'!D324=\"\",F323&\"@edu54.ru\",'Информация о пользователе'!D324))","v":"pusto@edu54.ru"},{"$f":"TRIM(IF('Информация о пользователе'!E324=\"\",\"\",'Информация о пользователе'!E324))","v":""},{"$f":"IF('Информация о пользователе'!F324=\"\",TRIM(Translit.Translit(A323)&TRIM(LEFT(Translit.Translit(Service!E322),1))&TRIM(LEFT(Translit.Translit(Service!F322),1))),TRIM('Информация о пользователе'!F324))","v":"pusto"},{"$f":"IF('Информация о пользователе'!G324=\"\",TRIM(LEFT(Translit.Translit(Service!E322),2))&INDEX(Service!H322:H340,RANDBETWEEN(1,19),1)&RANDBETWEEN(1,9)&IF(Service!F322=\"\",TRIM(LEFT(Translit.Translit(Service!E322),3))&INDEX(Service!A322:A347,RANDBETWEEN(1,26),1),TRIM(LEFT(Translit.Translit(Service!F322),2))&INDEX(Service!H322:H340,RANDBETWEEN(1,19),1)&INDEX(Service!A322:A347,RANDBETWEEN(1,26),1)),'Информация о пользователе'!G324)","v":{"$error":"#NAME?"}}]
[{"$f":"TRIM(IF('Информация о пользователе'!A325=\"\",\"Пусто\",'Информация о пользователе'!A325))","v":"Пусто"},{"$f":"TRIM(IF('Информация о пользователе'!B325=\"\",\" \",'Информация о пользователе'!B325&\" \"&'Информация о пользователе'!C325))","v":""},{"$f":"TRIM(IF(AD!A324=\"\",\"\",AD!B324&\" \"&A324))","v":"Пусто"},{"$f":"TRIM(IF('Информация о пользователе'!D325=\"\",F324&\"@edu54.ru\",'Информация о пользователе'!D325))","v":"pusto@edu54.ru"},{"$f":"TRIM(IF('Информация о пользователе'!E325=\"\",\"\",'Информация о пользователе'!E325))","v":""},{"$f":"IF('Информация о пользователе'!F325=\"\",TRIM(Translit.Translit(A324)&TRIM(LEFT(Translit.Translit(Service!E323),1))&TRIM(LEFT(Translit.Translit(Service!F323),1))),TRIM('Информация о пользователе'!F325))","v":"pusto"},{"$f":"IF('Информация о пользователе'!G325=\"\",TRIM(LEFT(Translit.Translit(Service!E323),2))&INDEX(Service!H323:H341,RANDBETWEEN(1,19),1)&RANDBETWEEN(1,9)&IF(Service!F323=\"\",TRIM(LEFT(Translit.Translit(Service!E323),3))&INDEX(Service!A323:A348,RANDBETWEEN(1,26),1),TRIM(LEFT(Translit.Translit(Service!F323),2))&INDEX(Service!H323:H341,RANDBETWEEN(1,19),1)&INDEX(Service!A323:A348,RANDBETWEEN(1,26),1)),'Информация о пользователе'!G325)","v":{"$error":"#NAME?"}}]
[{"$f":"TRIM(IF('Информация о пользователе'!A326=\"\",\"Пусто\",'Информация о пользователе'!A326))","v":"Пусто"},{"$f":"TRIM(IF('Информация о пользователе'!B326=\"\",\" \",'Информация о пользователе'!B326&\" \"&'Информация о пользователе'!C326))","v":""},{"$f":"TRIM(IF(AD!A325=\"\",\"\",AD!B325&\" \"&A325))","v":"Пусто"},{"$f":"TRIM(IF('Информация о пользователе'!D326=\"\",F325&\"@edu54.ru\",'Информация о пользователе'!D326))","v":"pusto@edu54.ru"},{"$f":"TRIM(IF('Информация о пользователе'!E326=\"\",\"\",'Информация о пользователе'!E326))","v":""},{"$f":"IF('Информация о пользователе'!F326=\"\",TRIM(Translit.Translit(A325)&TRIM(LEFT(Translit.Translit(Service!E324),1))&TRIM(LEFT(Translit.Translit(Service!F324),1))),TRIM('Информация о пользователе'!F326))","v":"pusto"},{"$f":"IF('Информация о пользователе'!G326=\"\",TRIM(LEFT(Translit.Translit(Service!E324),2))&INDEX(Service!H324:H342,RANDBETWEEN(1,19),1)&RANDBETWEEN(1,9)&IF(Service!F324=\"\",TRIM(LEFT(Translit.Translit(Service!E324),3))&INDEX(Service!A324:A349,RANDBETWEEN(1,26),1),TRIM(LEFT(Translit.Translit(Service!F324),2))&INDEX(Service!H324:H342,RANDBETWEEN(1,19),1)&INDEX(Service!A324:A349,RANDBETWEEN(1,26),1)),'Информация о пользователе'!G326)","v":{"$error":"#NAME?"}}]
[{"$f":"TRIM(IF('Информация о пользователе'!A327=\"\",\"Пусто\",'Информация о пользователе'!A327))","v":"Пусто"},{"$f":"TRIM(IF('Информация о пользователе'!B327=\"\",\" \",'Информация о пользователе'!B327&\" \"&'Информация о пользователе'!C327))","v":""},{"$f":"TRIM(IF(AD!A326=\"\",\"\",AD!B326&\" \"&A326))","v":"Пусто"},{"$f":"TRIM(IF('Информация о пользователе'!D327=\"\",F326&\"@edu54.ru\",'Информация о пользователе'!D327))","v":"pusto@edu54.ru"},{"$f":"TRIM(IF('Информация о пользователе'!E327=\"\",\"\",'Информация о пользователе'!E327))","v":""},{"$f":"IF('Информация о пользователе'!F327=\"\",TRIM(Translit.Translit(A326)&TRIM(LEFT(Translit.Translit(Service!E325),1))&TRIM(LEFT(Translit.Translit(Service!F325),1))),TRIM('Информация о пользователе'!F327))","v":"pusto"},{"$f":"IF('Информация о пользователе'!G327=\"\",TRIM(LEFT(Translit.Translit(Service!E325),2))&INDEX(Service!H325:H343,RANDBETWEEN(1,19),1)&RANDBETWEEN(1,9)&IF(Service!F325=\"\",TRIM(LEFT(Translit.Translit(Service!E325),3))&INDEX(Service!A325:A350,RANDBETWEEN(1,26),1),TRIM(LEFT(Translit.Translit(Service!F325),2))&INDEX(Service!H325:H343,RANDBETWEEN(1,19),1)&INDEX(Service!A325:A350,RANDBETWEEN(1,26),1)),'Информация о пользователе'!G327)","v":{"$error":"#NAME?"}}]
[{"$f":"TRIM(IF('Информация о пользователе'!A328=\"\",\"Пусто\",'Информация о пользователе'!A328))","v":"Пусто"},{"$f":"TRIM(IF('Информация о пользователе'!B328=\"\",\" \",'Информация о пользователе'!B328&\" \"&'Информация о пользователе'!C328))","v":""},{"$f":"TRIM(IF(AD!A327=\"\",\"\",AD!B327&\" \"&A327))","v":"Пусто"},{"$f":"TRIM(IF('Информация о пользователе'!D328=\"\",F327&\"@edu54.ru\",'Информация о пользователе'!D328))","v":"pusto@edu54.ru"},{"$f":"TRIM(IF('Информация о пользователе'!E328=\"\",\"\",'Информация о пользователе'!E328))","v":""},{"$f":"IF('Информация о пользователе'!F328=\"\",TRIM(Translit.Translit(A327)&TRIM(LEFT(Translit.Translit(Service!E326),1))&TRIM(LEFT(Translit.Translit(Service!F326),1))),TRIM('Информация о пользователе'!F328))","v":"pusto"},{"$f":"IF('Информация о пользователе'!G328=\"\",TRIM(LEFT(Translit.Translit(Service!E326),2))&INDEX(Service!H326:H344,RANDBETWEEN(1,19),1)&RANDBETWEEN(1,9)&IF(Service!F326=\"\",TRIM(LEFT(Translit.Translit(Service!E326),3))&INDEX(Service!A326:A351,RANDBETWEEN(1,26),1),TRIM(LEFT(Translit.Translit(Service!F326),2))&INDEX(Service!H326:H344,RANDBETWEEN(1,19),1)&INDEX(Service!A326:A351,RANDBETWEEN(1,26),1)),'Информация о пользователе'!G328)","v":{"$error":"#NAME?"}}]
[{"$f":"TRIM(IF('Информация о пользователе'!A329=\"\",\"Пусто\",'Информация о пользователе'!A329))","v":"Пусто"},{"$f":"TRIM(IF('Информация о пользователе'!B329=\"\",\" \",'Информация о пользователе'!B329&\" \"&'Информация о пользователе'!C329))","v":""},{"$f":"TRIM(IF(AD!A328=\"\",\"\",AD!B328&\" \"&A328))","v":"Пусто"},{"$f":"TRIM(IF('Информация о пользователе'!D329=\"\",F328&\"@edu54.ru\",'Информация о пользователе'!D329))","v":"pusto@edu54.ru"},{"$f":"TRIM(IF('Информация о пользователе'!E329=\"\",\"\",'Информация о пользователе'!E329))","v":""},{"$f":"IF('Информация о пользователе'!F329=\"\",TRIM(Translit.Translit(A328)&TRIM(LEFT(Translit.Translit(Service!E327),1))&TRIM(LEFT(Translit.Translit(Service!F327),1))),TRIM('Информация о пользователе'!F329))","v":"pusto"},{"$f":"IF('Информация о пользователе'!G329=\"\",TRIM(LEFT(Translit.Translit(Service!E327),2))&INDEX(Service!H327:H345,RANDBETWEEN(1,19),1)&RANDBETWEEN(1,9)&IF(Service!F327=\"\",TRIM(LEFT(Translit.Translit(Service!E327),3))&INDEX(Service!A327:A352,RANDBETWEEN(1,26),1),TRIM(LEFT(Translit.Translit(Service!F327),2))&INDEX(Service!H327:H345,RANDBETWEEN(1,19),1)&INDEX(Service!A327:A352,RANDBETWEEN(1,26),1)),'Информация о пользователе'!G329)","v":{"$error":"#NAME?"}}]
[{"$f":"TRIM(IF('Информация о пользователе'!A330=\"\",\"Пусто\",'Информация о пользователе'!A330))","v":"Пусто"},{"$f":"TRIM(IF('Информация о пользователе'!B330=\"\",\" \",'Информация о пользователе'!B330&\" \"&'Информация о пользователе'!C330))","v":""},{"$f":"TRIM(IF(AD!A329=\"\",\"\",AD!B329&\" \"&A329))","v":"Пусто"},{"$f":"TRIM(IF('Информация о пользователе'!D330=\"\",F329&\"@edu54.ru\",'Информация о пользователе'!D330))","v":"pusto@edu54.ru"},{"$f":"TRIM(IF('Информация о пользователе'!E330=\"\",\"\",'Информация о пользователе'!E330))","v":""},{"$f":"IF('Информация о пользователе'!F330=\"\",TRIM(Translit.Translit(A329)&TRIM(LEFT(Translit.Translit(Service!E328),1))&TRIM(LEFT(Translit.Translit(Service!F328),1))),TRIM('Информация о пользователе'!F330))","v":"pusto"},{"$f":"IF('Информация о пользователе'!G330=\"\",TRIM(LEFT(Translit.Translit(Service!E328),2))&INDEX(Service!H328:H346,RANDBETWEEN(1,19),1)&RANDBETWEEN(1,9)&IF(Service!F328=\"\",TRIM(LEFT(Translit.Translit(Service!E328),3))&INDEX(Service!A328:A353,RANDBETWEEN(1,26),1),TRIM(LEFT(Translit.Translit(Service!F328),2))&INDEX(Service!H328:H346,RANDBETWEEN(1,19),1)&INDEX(Service!A328:A353,RANDBETWEEN(1,26),1)),'Информация о пользователе'!G330)","v":{"$error":"#NAME?"}}]
[{"$f":"TRIM(IF('Информация о пользователе'!A331=\"\",\"Пусто\",'Информация о пользователе'!A331))","v":"Пусто"},{"$f":"TRIM(IF('Информация о пользователе'!B331=\"\",\" \",'Информация о пользователе'!B331&\" \"&'Информация о пользователе'!C331))","v":""},{"$f":"TRIM(IF(AD!A330=\"\",\"\",AD!B330&\" \"&A330))","v":"Пусто"},{"$f":"TRIM(IF('Информация о пользователе'!D331=\"\",F330&\"@edu54.ru\",'Информация о пользователе'!D331))","v":"pusto@edu54.ru"},{"$f":"TRIM(IF('Информация о пользователе'!E331=\"\",\"\",'Информация о пользователе'!E331))","v":""},{"$f":"IF('Информация о пользователе'!F331=\"\",TRIM(Translit.Translit(A330)&TRIM(LEFT(Translit.Translit(Service!E329),1))&TRIM(LEFT(Translit.Translit(Service!F329),1))),TRIM('Информация о пользователе'!F331))","v":"pusto"},{"$f":"IF('Информация о пользователе'!G331=\"\",TRIM(LEFT(Translit.Translit(Service!E329),2))&INDEX(Service!H329:H347,RANDBETWEEN(1,19),1)&RANDBETWEEN(1,9)&IF(Service!F329=\"\",TRIM(LEFT(Translit.Translit(Service!E329),3))&INDEX(Service!A329:A354,RANDBETWEEN(1,26),1),TRIM(LEFT(Translit.Translit(Service!F329),2))&INDEX(Service!H329:H347,RANDBETWEEN(1,19),1)&INDEX(Service!A329:A354,RANDBETWEEN(1,26),1)),'Информация о пользователе'!G331)","v":{"$error":"#NAME?"}}]
[{"$f":"TRIM(IF('Информация о пользователе'!A332=\"\",\"Пусто\",'Информация о пользователе'!A332))","v":"Пусто"},{"$f":"TRIM(IF('Информация о пользователе'!B332=\"\",\" \",'Информация о пользователе'!B332&\" \"&'Информация о пользователе'!C332))","v":""},{"$f":"TRIM(IF(AD!A331=\"\",\"\",AD!B331&\" \"&A331))","v":"Пусто"},{"$f":"TRIM(IF('Информация о пользователе'!D332=\"\",F331&\"@edu54.ru\",'Информация о пользователе'!D332))","v":"pusto@edu54.ru"},{"$f":"TRIM(IF('Информация о пользователе'!E332=\"\",\"\",'Информация о пользователе'!E332))","v":""},{"$f":"IF('Информация о пользователе'!F332=\"\",TRIM(Translit.Translit(A331)&TRIM(LEFT(Translit.Translit(Service!E330),1))&TRIM(LEFT(Translit.Translit(Service!F330),1))),TRIM('Информация о пользователе'!F332))","v":"pusto"},{"$f":"IF('Информация о пользователе'!G332=\"\",TRIM(LEFT(Translit.Translit(Service!E330),2))&INDEX(Service!H330:H348,RANDBETWEEN(1,19),1)&RANDBETWEEN(1,9)&IF(Service!F330=\"\",TRIM(LEFT(Translit.Translit(Service!E330),3))&INDEX(Service!A330:A355,RANDBETWEEN(1,26),1),TRIM(LEFT(Translit.Translit(Service!F330),2))&INDEX(Service!H330:H348,RANDBETWEEN(1,19),1)&INDEX(Service!A330:A355,RANDBETWEEN(1,26),1)),'Информация о пользователе'!G332)","v":{"$error":"#NAME?"}}]
[{"$f":"TRIM(IF('Информация о пользователе'!A333=\"\",\"Пусто\",'Информация о пользователе'!A333))","v":"Пусто"},{"$f":"TRIM(IF('Информация о пользователе'!B333=\"\",\" \",'Информация о пользователе'!B333&\" \"&'Информация о пользователе'!C333))","v":""},{"$f":"TRIM(IF(AD!A332=\"\",\"\",AD!B332&\" \"&A332))","v":"Пусто"},{"$f":"TRIM(IF('Информация о пользователе'!D333=\"\",F332&\"@edu54.ru\",'Информация о пользователе'!D333))","v":"pusto@edu54.ru"},{"$f":"TRIM(IF('Информация о пользователе'!E333=\"\",\"\",'Информация о пользователе'!E333))","v":""},{"$f":"IF('Информация о пользователе'!F333=\"\",TRIM(Translit.Translit(A332)&TRIM(LEFT(Translit.Translit(Service!E331),1))&TRIM(LEFT(Translit.Translit(Service!F331),1))),TRIM('Информация о пользователе'!F333))","v":"pusto"},{"$f":"IF('Информация о пользователе'!G333=\"\",TRIM(LEFT(Translit.Translit(Service!E331),2))&INDEX(Service!H331:H349,RANDBETWEEN(1,19),1)&RANDBETWEEN(1,9)&IF(Service!F331=\"\",TRIM(LEFT(Translit.Translit(Service!E331),3))&INDEX(Service!A331:A356,RANDBETWEEN(1,26),1),TRIM(LEFT(Translit.Translit(Service!F331),2))&INDEX(Service!H331:H349,RANDBETWEEN(1,19),1)&INDEX(Service!A331:A356,RANDBETWEEN(1,26),1)),'Информация о пользователе'!G333)","v":{"$error":"#NAME?"}}]
[{"$f":"TRIM(IF('Информация о пользователе'!A334=\"\",\"Пусто\",'Информация о пользователе'!A334))","v":"Пусто"},{"$f":"TRIM(IF('Информация о пользователе'!B334=\"\",\" \",'Информация о пользователе'!B334&\" \"&'Информация о пользователе'!C334))","v":""},{"$f":"TRIM(IF(AD!A333=\"\",\"\",AD!B333&\" \"&A333))","v":"Пусто"},{"$f":"TRIM(IF('Информация о пользователе'!D334=\"\",F333&\"@edu54.ru\",'Информация о пользователе'!D334))","v":"pusto@edu54.ru"},{"$f":"TRIM(IF('Информация о пользователе'!E334=\"\",\"\",'Информация о пользователе'!E334))","v":""},{"$f":"IF('Информация о пользователе'!F334=\"\",TRIM(Translit.Translit(A333)&TRIM(LEFT(Translit.Translit(Service!E332),1))&TRIM(LEFT(Translit.Translit(Service!F332),1))),TRIM('Информация о пользователе'!F334))","v":"pusto"},{"$f":"IF('Информация о пользователе'!G334=\"\",TRIM(LEFT(Translit.Translit(Service!E332),2))&INDEX(Service!H332:H350,RANDBETWEEN(1,19),1)&RANDBETWEEN(1,9)&IF(Service!F332=\"\",TRIM(LEFT(Translit.Translit(Service!E332),3))&INDEX(Service!A332:A357,RANDBETWEEN(1,26),1),TRIM(LEFT(Translit.Translit(Service!F332),2))&INDEX(Service!H332:H350,RANDBETWEEN(1,19),1)&INDEX(Service!A332:A357,RANDBETWEEN(1,26),1)),'Информация о пользователе'!G334)","v":{"$error":"#NAME?"}}]
[{"$f":"TRIM(IF('Информация о пользователе'!A335=\"\",\"Пусто\",'Информация о пользователе'!A335))","v":"Пусто"},{"$f":"TRIM(IF('Информация о пользователе'!B335=\"\",\" \",'Информация о пользователе'!B335&\" \"&'Информация о пользователе'!C335))","v":""},{"$f":"TRIM(IF(AD!A334=\"\",\"\",AD!B334&\" \"&A334))","v":"Пусто"},{"$f":"TRIM(IF('Информация о пользователе'!D335=\"\",F334&\"@edu54.ru\",'Информация о пользователе'!D335))","v":"pusto@edu54.ru"},{"$f":"TRIM(IF('Информация о пользователе'!E335=\"\",\"\",'Информация о пользователе'!E335))","v":""},{"$f":"IF('Информация о пользователе'!F335=\"\",TRIM(Translit.Translit(A334)&TRIM(LEFT(Translit.Translit(Service!E333),1))&TRIM(LEFT(Translit.Translit(Service!F333),1))),TRIM('Информация о пользователе'!F335))","v":"pusto"},{"$f":"IF('Информация о пользователе'!G335=\"\",TRIM(LEFT(Translit.Translit(Service!E333),2))&INDEX(Service!H333:H351,RANDBETWEEN(1,19),1)&RANDBETWEEN(1,9)&IF(Service!F333=\"\",TRIM(LEFT(Translit.Translit(Service!E333),3))&INDEX(Service!A333:A358,RANDBETWEEN(1,26),1),TRIM(LEFT(Translit.Translit(Service!F333),2))&INDEX(Service!H333:H351,RANDBETWEEN(1,19),1)&INDEX(Service!A333:A358,RANDBETWEEN(1,26),1)),'Информация о пользователе'!G335)","v":{"$error":"#NAME?"}}]
[{"$f":"TRIM(IF('Информация о пользователе'!A336=\"\",\"Пусто\",'Информация о пользователе'!A336))","v":"Пусто"},{"$f":"TRIM(IF('Информация о пользователе'!B336=\"\",\" \",'Информация о пользователе'!B336&\" \"&'Информация о пользователе'!C336))","v":""},{"$f":"TRIM(IF(AD!A335=\"\",\"\",AD!B335&\" \"&A335))","v":"Пусто"},{"$f":"TRIM(IF('Информация о пользователе'!D336=\"\",F335&\"@edu54.ru\",'Информация о пользователе'!D336))","v":"pusto@edu54.ru"},{"$f":"TRIM(IF('Информация о пользователе'!E336=\"\",\"\",'Информация о пользователе'!E336))","v":""},{"$f":"IF('Информация о пользователе'!F336=\"\",TRIM(Translit.Translit(A335)&TRIM(LEFT(Translit.Translit(Service!E334),1))&TRIM(LEFT(Translit.Translit(Service!F334),1))),TRIM('Информация о пользователе'!F336))","v":"pusto"},{"$f":"IF('Информация о пользователе'!G336=\"\",TRIM(LEFT(Translit.Translit(Service!E334),2))&INDEX(Service!H334:H352,RANDBETWEEN(1,19),1)&RANDBETWEEN(1,9)&IF(Service!F334=\"\",TRIM(LEFT(Translit.Translit(Service!E334),3))&INDEX(Service!A334:A359,RANDBETWEEN(1,26),1),TRIM(LEFT(Translit.Translit(Service!F334),2))&INDEX(Service!H334:H352,RANDBETWEEN(1,19),1)&INDEX(Service!A334:A359,RANDBETWEEN(1,26),1)),'Информация о пользователе'!G336)","v":{"$error":"#NAME?"}}]
[{"$f":"TRIM(IF('Информация о пользователе'!A337=\"\",\"Пусто\",'Информация о пользователе'!A337))","v":"Пусто"},{"$f":"TRIM(IF('Информация о пользователе'!B337=\"\",\" \",'Информация о пользователе'!B337&\" \"&'Информация о пользователе'!C337))","v":""},{"$f":"TRIM(IF(AD!A336=\"\",\"\",AD!B336&\" \"&A336))","v":"Пусто"},{"$f":"TRIM(IF('Информация о пользователе'!D337=\"\",F336&\"@edu54.ru\",'Информация о пользователе'!D337))","v":"pusto@edu54.ru"},{"$f":"TRIM(IF('Информация о пользователе'!E337=\"\",\"\",'Информация о пользователе'!E337))","v":""},{"$f":"IF('Информация о пользователе'!F337=\"\",TRIM(Translit.Translit(A336)&TRIM(LEFT(Translit.Translit(Service!E335),1))&TRIM(LEFT(Translit.Translit(Service!F335),1))),TRIM('Информация о пользователе'!F337))","v":"pusto"},{"$f":"IF('Информация о пользователе'!G337=\"\",TRIM(LEFT(Translit.Translit(Service!E335),2))&INDEX(Service!H335:H353,RANDBETWEEN(1,19),1)&RANDBETWEEN(1,9)&IF(Service!F335=\"\",TRIM(LEFT(Translit.Translit(Service!E335),3))&INDEX(Service!A335:A360,RANDBETWEEN(1,26),1),TRIM(LEFT(Translit.Translit(Service!F335),2))&INDEX(Service!H335:H353,RANDBETWEEN(1,19),1)&INDEX(Service!A335:A360,RANDBETWEEN(1,26),1)),'Информация о пользователе'!G337)","v":{"$error":"#NAME?"}}]
[{"$f":"TRIM(IF('Информация о пользователе'!A338=\"\",\"Пусто\",'Информация о пользователе'!A338))","v":"Пусто"},{"$f":"TRIM(IF('Информация о пользователе'!B338=\"\",\" \",'Информация о пользователе'!B338&\" \"&'Информация о пользователе'!C338))","v":""},{"$f":"TRIM(IF(AD!A337=\"\",\"\",AD!B337&\" \"&A337))","v":"Пусто"},{"$f":"TRIM(IF('Информация о пользователе'!D338=\"\",F337&\"@edu54.ru\",'Информация о пользователе'!D338))","v":"pusto@edu54.ru"},{"$f":"TRIM(IF('Информация о пользователе'!E338=\"\",\"\",'Информация о пользователе'!E338))","v":""},{"$f":"IF('Информация о пользователе'!F338=\"\",TRIM(Translit.Translit(A337)&TRIM(LEFT(Translit.Translit(Service!E336),1))&TRIM(LEFT(Translit.Translit(Service!F336),1))),TRIM('Информация о пользователе'!F338))","v":"pusto"},{"$f":"IF('Информация о пользователе'!G338=\"\",TRIM(LEFT(Translit.Translit(Service!E336),2))&INDEX(Service!H336:H354,RANDBETWEEN(1,19),1)&RANDBETWEEN(1,9)&IF(Service!F336=\"\",TRIM(LEFT(Translit.Translit(Service!E336),3))&INDEX(Service!A336:A361,RANDBETWEEN(1,26),1),TRIM(LEFT(Translit.Translit(Service!F336),2))&INDEX(Service!H336:H354,RANDBETWEEN(1,19),1)&INDEX(Service!A336:A361,RANDBETWEEN(1,26),1)),'Информация о пользователе'!G338)","v":{"$error":"#NAME?"}}]
[{"$f":"TRIM(IF('Информация о пользователе'!A339=\"\",\"Пусто\",'Информация о пользователе'!A339))","v":"Пусто"},{"$f":"TRIM(IF('Информация о пользователе'!B339=\"\",\" \",'Информация о пользователе'!B339&\" \"&'Информация о пользователе'!C339))","v":""},{"$f":"TRIM(IF(AD!A338=\"\",\"\",AD!B338&\" \"&A338))","v":"Пусто"},{"$f":"TRIM(IF('Информация о пользователе'!D339=\"\",F338&\"@edu54.ru\",'Информация о пользователе'!D339))","v":"pusto@edu54.ru"},{"$f":"TRIM(IF('Информация о пользователе'!E339=\"\",\"\",'Информация о пользователе'!E339))","v":""},{"$f":"IF('Информация о пользователе'!F339=\"\",TRIM(Translit.Translit(A338)&TRIM(LEFT(Translit.Translit(Service!E337),1))&TRIM(LEFT(Translit.Translit(Service!F337),1))),TRIM('Информация о пользователе'!F339))","v":"pusto"},{"$f":"IF('Информация о пользователе'!G339=\"\",TRIM(LEFT(Translit.Translit(Service!E337),2))&INDEX(Service!H337:H355,RANDBETWEEN(1,19),1)&RANDBETWEEN(1,9)&IF(Service!F337=\"\",TRIM(LEFT(Translit.Translit(Service!E337),3))&INDEX(Service!A337:A362,RANDBETWEEN(1,26),1),TRIM(LEFT(Translit.Translit(Service!F337),2))&INDEX(Service!H337:H355,RANDBETWEEN(1,19),1)&INDEX(Service!A337:A362,RANDBETWEEN(1,26),1)),'Информация о пользователе'!G339)","v":{"$error":"#NAME?"}}]
[{"$f":"TRIM(IF('Информация о пользователе'!A340=\"\",\"Пусто\",'Информация о пользователе'!A340))","v":"Пусто"},{"$f":"TRIM(IF('Информация о пользователе'!B340=\"\",\" \",'Информация о пользователе'!B340&\" \"&'Информация о пользователе'!C340))","v":""},{"$f":"TRIM(IF(AD!A339=\"\",\"\",AD!B339&\" \"&A339))","v":"Пусто"},{"$f":"TRIM(IF('Информация о пользователе'!D340=\"\",F339&\"@edu54.ru\",'Информация о пользователе'!D340))","v":"pusto@edu54.ru"},{"$f":"TRIM(IF('Информация о пользователе'!E340=\"\",\"\",'Информация о пользователе'!E340))","v":""},{"$f":"IF('Информация о пользователе'!F340=\"\",TRIM(Translit.Translit(A339)&TRIM(LEFT(Translit.Translit(Service!E338),1))&TRIM(LEFT(Translit.Translit(Service!F338),1))),TRIM('Информация о пользователе'!F340))","v":"pusto"},{"$f":"IF('Информация о пользователе'!G340=\"\",TRIM(LEFT(Translit.Translit(Service!E338),2))&INDEX(Service!H338:H356,RANDBETWEEN(1,19),1)&RANDBETWEEN(1,9)&IF(Service!F338=\"\",TRIM(LEFT(Translit.Translit(Service!E338),3))&INDEX(Service!A338:A363,RANDBETWEEN(1,26),1),TRIM(LEFT(Translit.Translit(Service!F338),2))&INDEX(Service!H338:H356,RANDBETWEEN(1,19),1)&INDEX(Service!A338:A363,RANDBETWEEN(1,26),1)),'Информация о пользователе'!G340)","v":{"$error":"#NAME?"}}]
[{"$f":"TRIM(IF('Информация о пользователе'!A341=\"\",\"Пусто\",'Информация о пользователе'!A341))","v":"Пусто"},{"$f":"TRIM(IF('Информация о пользователе'!B341=\"\",\" \",'Информация о пользователе'!B341&\" \"&'Информация о пользователе'!C341))","v":""},{"$f":"TRIM(IF(AD!A340=\"\",\"\",AD!B340&\" \"&A340))","v":"Пусто"},{"$f":"TRIM(IF('Информация о пользователе'!D341=\"\",F340&\"@edu54.ru\",'Информация о пользователе'!D341))","v":"pusto@edu54.ru"},{"$f":"TRIM(IF('Информация о пользователе'!E341=\"\",\"\",'Информация о пользователе'!E341))","v":""},{"$f":"IF('Информация о пользователе'!F341=\"\",TRIM(Translit.Translit(A340)&TRIM(LEFT(Translit.Translit(Service!E339),1))&TRIM(LEFT(Translit.Translit(Service!F339),1))),TRIM('Информация о пользователе'!F341))","v":"pusto"},{"$f":"IF('Информация о пользователе'!G341=\"\",TRIM(LEFT(Translit.Translit(Service!E339),2))&INDEX(Service!H339:H357,RANDBETWEEN(1,19),1)&RANDBETWEEN(1,9)&IF(Service!F339=\"\",TRIM(LEFT(Translit.Translit(Service!E339),3))&INDEX(Service!A339:A364,RANDBETWEEN(1,26),1),TRIM(LEFT(Translit.Translit(Service!F339),2))&INDEX(Service!H339:H357,RANDBETWEEN(1,19),1)&INDEX(Service!A339:A364,RANDBETWEEN(1,26),1)),'Информация о пользователе'!G341)","v":{"$error":"#NAME?"}}]
[{"$f":"TRIM(IF('Информация о пользователе'!A342=\"\",\"Пусто\",'Информация о пользователе'!A342))","v":"Пусто"},{"$f":"TRIM(IF('Информация о пользователе'!B342=\"\",\" \",'Информация о пользователе'!B342&\" \"&'Информация о пользователе'!C342))","v":""},{"$f":"TRIM(IF(AD!A341=\"\",\"\",AD!B341&\" \"&A341))","v":"Пусто"},{"$f":"TRIM(IF('Информация о пользователе'!D342=\"\",F341&\"@edu54.ru\",'Информация о пользователе'!D342))","v":"pusto@edu54.ru"},{"$f":"TRIM(IF('Информация о пользователе'!E342=\"\",\"\",'Информация о пользователе'!E342))","v":""},{"$f":"IF('Информация о пользователе'!F342=\"\",TRIM(Translit.Translit(A341)&TRIM(LEFT(Translit.Translit(Service!E340),1))&TRIM(LEFT(Translit.Translit(Service!F340),1))),TRIM('Информация о пользователе'!F342))","v":"pusto"},{"$f":"IF('Информация о пользователе'!G342=\"\",TRIM(LEFT(Translit.Translit(Service!E340),2))&INDEX(Service!H340:H358,RANDBETWEEN(1,19),1)&RANDBETWEEN(1,9)&IF(Service!F340=\"\",TRIM(LEFT(Translit.Translit(Service!E340),3))&INDEX(Service!A340:A365,RANDBETWEEN(1,26),1),TRIM(LEFT(Translit.Translit(Service!F340),2))&INDEX(Service!H340:H358,RANDBETWEEN(1,19),1)&INDEX(Service!A340:A365,RANDBETWEEN(1,26),1)),'Информация о пользователе'!G342)","v":{"$error":"#NAME?"}}]
[{"$f":"TRIM(IF('Информация о пользователе'!A343=\"\",\"Пусто\",'Информация о пользователе'!A343))","v":"Пусто"},{"$f":"TRIM(IF('Информация о пользователе'!B343=\"\",\" \",'Информация о пользователе'!B343&\" \"&'Информация о пользователе'!C343))","v":""},{"$f":"TRIM(IF(AD!A342=\"\",\"\",AD!B342&\" \"&A342))","v":"Пусто"},{"$f":"TRIM(IF('Информация о пользователе'!D343=\"\",F342&\"@edu54.ru\",'Информация о пользователе'!D343))","v":"pusto@edu54.ru"},{"$f":"TRIM(IF('Информация о пользователе'!E343=\"\",\"\",'Информация о пользователе'!E343))","v":""},{"$f":"IF('Информация о пользователе'!F343=\"\",TRIM(Translit.Translit(A342)&TRIM(LEFT(Translit.Translit(Service!E341),1))&TRIM(LEFT(Translit.Translit(Service!F341),1))),TRIM('Информация о пользователе'!F343))","v":"pusto"},{"$f":"IF('Информация о пользователе'!G343=\"\",TRIM(LEFT(Translit.Translit(Service!E341),2))&INDEX(Service!H341:H359,RANDBETWEEN(1,19),1)&RANDBETWEEN(1,9)&IF(Service!F341=\"\",TRIM(LEFT(Translit.Translit(Service!E341),3))&INDEX(Service!A341:A366,RANDBETWEEN(1,26),1),TRIM(LEFT(Translit.Translit(Service!F341),2))&INDEX(Service!H341:H359,RANDBETWEEN(1,19),1)&INDEX(Service!A341:A366,RANDBETWEEN(1,26),1)),'Информация о пользователе'!G343)","v":{"$error":"#NAME?"}}]
[{"$f":"TRIM(IF('Информация о пользователе'!A344=\"\",\"Пусто\",'Информация о пользователе'!A344))","v":"Пусто"},{"$f":"TRIM(IF('Информация о пользователе'!B344=\"\",\" \",'Информация о пользователе'!B344&\" \"&'Информация о пользователе'!C344))","v":""},{"$f":"TRIM(IF(AD!A343=\"\",\"\",AD!B343&\" \"&A343))","v":"Пусто"},{"$f":"TRIM(IF('Информация о пользователе'!D344=\"\",F343&\"@edu54.ru\",'Информация о пользователе'!D344))","v":"pusto@edu54.ru"},{"$f":"TRIM(IF('Информация о пользователе'!E344=\"\",\"\",'Информация о пользователе'!E344))","v":""},{"$f":"IF('Информация о пользователе'!F344=\"\",TRIM(Translit.Translit(A343)&TRIM(LEFT(Translit.Translit(Service!E342),1))&TRIM(LEFT(Translit.Translit(Service!F342),1))),TRIM('Информация о пользователе'!F344))","v":"pusto"},{"$f":"IF('Информация о пользователе'!G344=\"\",TRIM(LEFT(Translit.Translit(Service!E342),2))&INDEX(Service!H342:H360,RANDBETWEEN(1,19),1)&RANDBETWEEN(1,9)&IF(Service!F342=\"\",TRIM(LEFT(Translit.Translit(Service!E342),3))&INDEX(Service!A342:A367,RANDBETWEEN(1,26),1),TRIM(LEFT(Translit.Translit(Service!F342),2))&INDEX(Service!H342:H360,RANDBETWEEN(1,19),1)&INDEX(Service!A342:A367,RANDBETWEEN(1,26),1)),'Информация о пользователе'!G344)","v":{"$error":"#NAME?"}}]
[{"$f":"TRIM(IF('Информация о пользователе'!A345=\"\",\"Пусто\",'Информация о пользователе'!A345))","v":"Пусто"},{"$f":"TRIM(IF('Информация о пользователе'!B345=\"\",\" \",'Информация о пользователе'!B345&\" \"&'Информация о пользователе'!C345))","v":""},{"$f":"TRIM(IF(AD!A344=\"\",\"\",AD!B344&\" \"&A344))","v":"Пусто"},{"$f":"TRIM(IF('Информация о пользователе'!D345=\"\",F344&\"@edu54.ru\",'Информация о пользователе'!D345))","v":"pusto@edu54.ru"},{"$f":"TRIM(IF('Информация о пользователе'!E345=\"\",\"\",'Информация о пользователе'!E345))","v":""},{"$f":"IF('Информация о пользователе'!F345=\"\",TRIM(Translit.Translit(A344)&TRIM(LEFT(Translit.Translit(Service!E343),1))&TRIM(LEFT(Translit.Translit(Service!F343),1))),TRIM('Информация о пользователе'!F345))","v":"pusto"},{"$f":"IF('Информация о пользователе'!G345=\"\",TRIM(LEFT(Translit.Translit(Service!E343),2))&INDEX(Service!H343:H361,RANDBETWEEN(1,19),1)&RANDBETWEEN(1,9)&IF(Service!F343=\"\",TRIM(LEFT(Translit.Translit(Service!E343),3))&INDEX(Service!A343:A368,RANDBETWEEN(1,26),1),TRIM(LEFT(Translit.Translit(Service!F343),2))&INDEX(Service!H343:H361,RANDBETWEEN(1,19),1)&INDEX(Service!A343:A368,RANDBETWEEN(1,26),1)),'Информация о пользователе'!G345)","v":{"$error":"#NAME?"}}]
[{"$f":"TRIM(IF('Информация о пользователе'!A346=\"\",\"Пусто\",'Информация о пользователе'!A346))","v":"Пусто"},{"$f":"TRIM(IF('Информация о пользователе'!B346=\"\",\" \",'Информация о пользователе'!B346&\" \"&'Информация о пользователе'!C346))","v":""},{"$f":"TRIM(IF(AD!A345=\"\",\"\",AD!B345&\" \"&A345))","v":"Пусто"},{"$f":"TRIM(IF('Информация о пользователе'!D346=\"\",F345&\"@edu54.ru\",'Информация о пользователе'!D346))","v":"pusto@edu54.ru"},{"$f":"TRIM(IF('Информация о пользователе'!E346=\"\",\"\",'Информация о пользователе'!E346))","v":""},{"$f":"IF('Информация о пользователе'!F346=\"\",TRIM(Translit.Translit(A345)&TRIM(LEFT(Translit.Translit(Service!E344),1))&TRIM(LEFT(Translit.Translit(Service!F344),1))),TRIM('Информация о пользователе'!F346))","v":"pusto"},{"$f":"IF('Информация о пользователе'!G346=\"\",TRIM(LEFT(Translit.Translit(Service!E344),2))&INDEX(Service!H344:H362,RANDBETWEEN(1,19),1)&RANDBETWEEN(1,9)&IF(Service!F344=\"\",TRIM(LEFT(Translit.Translit(Service!E344),3))&INDEX(Service!A344:A369,RANDBETWEEN(1,26),1),TRIM(LEFT(Translit.Translit(Service!F344),2))&INDEX(Service!H344:H362,RANDBETWEEN(1,19),1)&INDEX(Service!A344:A369,RANDBETWEEN(1,26),1)),'Информация о пользователе'!G346)","v":{"$error":"#NAME?"}}]
[{"$f":"TRIM(IF('Информация о пользователе'!A347=\"\",\"Пусто\",'Информация о пользователе'!A347))","v":"Пусто"},{"$f":"TRIM(IF('Информация о пользователе'!B347=\"\",\" \",'Информация о пользователе'!B347&\" \"&'Информация о пользователе'!C347))","v":""},{"$f":"TRIM(IF(AD!A346=\"\",\"\",AD!B346&\" \"&A346))","v":"Пусто"},{"$f":"TRIM(IF('Информация о пользователе'!D347=\"\",F346&\"@edu54.ru\",'Информация о пользователе'!D347))","v":"pusto@edu54.ru"},{"$f":"TRIM(IF('Информация о пользователе'!E347=\"\",\"\",'Информация о пользователе'!E347))","v":""},{"$f":"IF('Информация о пользователе'!F347=\"\",TRIM(Translit.Translit(A346)&TRIM(LEFT(Translit.Translit(Service!E345),1))&TRIM(LEFT(Translit.Translit(Service!F345),1))),TRIM('Информация о пользователе'!F347))","v":"pusto"},{"$f":"IF('Информация о пользователе'!G347=\"\",TRIM(LEFT(Translit.Translit(Service!E345),2))&INDEX(Service!H345:H363,RANDBETWEEN(1,19),1)&RANDBETWEEN(1,9)&IF(Service!F345=\"\",TRIM(LEFT(Translit.Translit(Service!E345),3))&INDEX(Service!A345:A370,RANDBETWEEN(1,26),1),TRIM(LEFT(Translit.Translit(Service!F345),2))&INDEX(Service!H345:H363,RANDBETWEEN(1,19),1)&INDEX(Service!A345:A370,RANDBETWEEN(1,26),1)),'Информация о пользователе'!G347)","v":{"$error":"#NAME?"}}]
[{"$f":"TRIM(IF('Информация о пользователе'!A348=\"\",\"Пусто\",'Информация о пользователе'!A348))","v":"Пусто"},{"$f":"TRIM(IF('Информация о пользователе'!B348=\"\",\" \",'Информация о пользователе'!B348&\" \"&'Информация о пользователе'!C348))","v":""},{"$f":"TRIM(IF(AD!A347=\"\",\"\",AD!B347&\" \"&A347))","v":"Пусто"},{"$f":"TRIM(IF('Информация о пользователе'!D348=\"\",F347&\"@edu54.ru\",'Информация о пользователе'!D348))","v":"pusto@edu54.ru"},{"$f":"TRIM(IF('Информация о пользователе'!E348=\"\",\"\",'Информация о пользователе'!E348))","v":""},{"$f":"IF('Информация о пользователе'!F348=\"\",TRIM(Translit.Translit(A347)&TRIM(LEFT(Translit.Translit(Service!E346),1))&TRIM(LEFT(Translit.Translit(Service!F346),1))),TRIM('Информация о пользователе'!F348))","v":"pusto"},{"$f":"IF('Информация о пользователе'!G348=\"\",TRIM(LEFT(Translit.Translit(Service!E346),2))&INDEX(Service!H346:H364,RANDBETWEEN(1,19),1)&RANDBETWEEN(1,9)&IF(Service!F346=\"\",TRIM(LEFT(Translit.Translit(Service!E346),3))&INDEX(Service!A346:A371,RANDBETWEEN(1,26),1),TRIM(LEFT(Translit.Translit(Service!F346),2))&INDEX(Service!H346:H364,RANDBETWEEN(1,19),1)&INDEX(Service!A346:A371,RANDBETWEEN(1,26),1)),'Информация о пользователе'!G348)","v":{"$error":"#NAME?"}}]
[{"$f":"TRIM(IF('Информация о пользователе'!A349=\"\",\"Пусто\",'Информация о пользователе'!A349))","v":"Пусто"},{"$f":"TRIM(IF('Информация о пользователе'!B349=\"\",\" \",'Информация о пользователе'!B349&\" \"&'Информация о пользователе'!C349))","v":""},{"$f":"TRIM(IF(AD!A348=\"\",\"\",AD!B348&\" \"&A348))","v":"Пусто"},{"$f":"TRIM(IF('Информация о пользователе'!D349=\"\",F348&\"@edu54.ru\",'Информация о пользователе'!D349))","v":"pusto@edu54.ru"},{"$f":"TRIM(IF('Информация о пользователе'!E349=\"\",\"\",'Информация о пользователе'!E349))","v":""},{"$f":"IF('Информация о пользователе'!F349=\"\",TRIM(Translit.Translit(A348)&TRIM(LEFT(Translit.Translit(Service!E347),1))&TRIM(LEFT(Translit.Translit(Service!F347),1))),TRIM('Информация о пользователе'!F349))","v":"pusto"},{"$f":"IF('Информация о пользователе'!G349=\"\",TRIM(LEFT(Translit.Translit(Service!E347),2))&INDEX(Service!H347:H365,RANDBETWEEN(1,19),1)&RANDBETWEEN(1,9)&IF(Service!F347=\"\",TRIM(LEFT(Translit.Translit(Service!E347),3))&INDEX(Service!A347:A372,RANDBETWEEN(1,26),1),TRIM(LEFT(Translit.Translit(Service!F347),2))&INDEX(Service!H347:H365,RANDBETWEEN(1,19),1)&INDEX(Service!A347:A372,RANDBETWEEN(1,26),1)),'Информация о пользователе'!G349)","v":{"$error":"#NAME?"}}]
[{"$f":"TRIM(IF('Информация о пользователе'!A350=\"\",\"Пусто\",'Информация о пользователе'!A350))","v":"Пусто"},{"$f":"TRIM(IF('Информация о пользователе'!B350=\"\",\" \",'Информация о пользователе'!B350&\" \"&'Информация о пользователе'!C350))","v":""},{"$f":"TRIM(IF(AD!A349=\"\",\"\",AD!B349&\" \"&A349))","v":"Пусто"},{"$f":"TRIM(IF('Информация о пользователе'!D350=\"\",F349&\"@edu54.ru\",'Информация о пользователе'!D350))","v":"pusto@edu54.ru"},{"$f":"TRIM(IF('Информация о пользователе'!E350=\"\",\"\",'Информация о пользователе'!E350))","v":""},{"$f":"IF('Информация о пользователе'!F350=\"\",TRIM(Translit.Translit(A349)&TRIM(LEFT(Translit.Translit(Service!E348),1))&TRIM(LEFT(Translit.Translit(Service!F348),1))),TRIM('Информация о пользователе'!F350))","v":"pusto"},{"$f":"IF('Информация о пользователе'!G350=\"\",TRIM(LEFT(Translit.Translit(Service!E348),2))&INDEX(Service!H348:H366,RANDBETWEEN(1,19),1)&RANDBETWEEN(1,9)&IF(Service!F348=\"\",TRIM(LEFT(Translit.Translit(Service!E348),3))&INDEX(Service!A348:A373,RANDBETWEEN(1,26),1),TRIM(LEFT(Translit.Translit(Service!F348),2))&INDEX(Service!H348:H366,RANDBETWEEN(1,19),1)&INDEX(Service!A348:A373,RANDBETWEEN(1,26),1)),'Информация о пользователе'!G350)","v":{"$error":"#NAME?"}}]
[{"$f":"TRIM(IF('Информация о пользователе'!A351=\"\",\"Пусто\",'Информация о пользователе'!A351))","v":"Пусто"},{"$f":"TRIM(IF('Информация о пользователе'!B351=\"\",\" \",'Информация о пользователе'!B351&\" \"&'Информация о пользователе'!C351))","v":""},{"$f":"TRIM(IF(AD!A350=\"\",\"\",AD!B350&\" \"&A350))","v":"Пусто"},{"$f":"TRIM(IF('Информация о пользователе'!D351=\"\",F350&\"@edu54.ru\",'Информация о пользователе'!D351))","v":"pusto@edu54.ru"},{"$f":"TRIM(IF('Информация о пользователе'!E351=\"\",\"\",'Информация о пользователе'!E351))","v":""},{"$f":"IF('Информация о пользователе'!F351=\"\",TRIM(Translit.Translit(A350)&TRIM(LEFT(Translit.Translit(Service!E349),1))&TRIM(LEFT(Translit.Translit(Service!F349),1))),TRIM('Информация о пользователе'!F351))","v":"pusto"},{"$f":"IF('Информация о пользователе'!G351=\"\",TRIM(LEFT(Translit.Translit(Service!E349),2))&INDEX(Service!H349:H367,RANDBETWEEN(1,19),1)&RANDBETWEEN(1,9)&IF(Service!F349=\"\",TRIM(LEFT(Translit.Translit(Service!E349),3))&INDEX(Service!A349:A374,RANDBETWEEN(1,26),1),TRIM(LEFT(Translit.Translit(Service!F349),2))&INDEX(Service!H349:H367,RANDBETWEEN(1,19),1)&INDEX(Service!A349:A374,RANDBETWEEN(1,26),1)),'Информация о пользователе'!G351)","v":{"$error":"#NAME?"}}]
[{"$f":"TRIM(IF('Информация о пользователе'!A352=\"\",\"Пусто\",'Информация о пользователе'!A352))","v":"Пусто"},{"$f":"TRIM(IF('Информация о пользователе'!B352=\"\",\" \",'Информация о пользователе'!B352&\" \"&'Информация о пользователе'!C352))","v":""},{"$f":"TRIM(IF(AD!A351=\"\",\"\",AD!B351&\" \"&A351))","v":"Пусто"},{"$f":"TRIM(IF('Информация о пользователе'!D352=\"\",F351&\"@edu54.ru\",'Информация о пользователе'!D352))","v":"pusto@edu54.ru"},{"$f":"TRIM(IF('Информация о пользователе'!E352=\"\",\"\",'Информация о пользователе'!E352))","v":""},{"$f":"IF('Информация о пользователе'!F352=\"\",TRIM(Translit.Translit(A351)&TRIM(LEFT(Translit.Translit(Service!E350),1))&TRIM(LEFT(Translit.Translit(Service!F350),1))),TRIM('Информация о пользователе'!F352))","v":"pusto"},{"$f":"IF('Информация о пользователе'!G352=\"\",TRIM(LEFT(Translit.Translit(Service!E350),2))&INDEX(Service!H350:H368,RANDBETWEEN(1,19),1)&RANDBETWEEN(1,9)&IF(Service!F350=\"\",TRIM(LEFT(Translit.Translit(Service!E350),3))&INDEX(Service!A350:A375,RANDBETWEEN(1,26),1),TRIM(LEFT(Translit.Translit(Service!F350),2))&INDEX(Service!H350:H368,RANDBETWEEN(1,19),1)&INDEX(Service!A350:A375,RANDBETWEEN(1,26),1)),'Информация о пользователе'!G352)","v":{"$error":"#NAME?"}}]
[{"$f":"TRIM(IF('Информация о пользователе'!A353=\"\",\"Пусто\",'Информация о пользователе'!A353))","v":"Пусто"},{"$f":"TRIM(IF('Информация о пользователе'!B353=\"\",\" \",'Информация о пользователе'!B353&\" \"&'Информация о пользователе'!C353))","v":""},{"$f":"TRIM(IF(AD!A352=\"\",\"\",AD!B352&\" \"&A352))","v":"Пусто"},{"$f":"TRIM(IF('Информация о пользователе'!D353=\"\",F352&\"@edu54.ru\",'Информация о пользователе'!D353))","v":"pusto@edu54.ru"},{"$f":"TRIM(IF('Информация о пользователе'!E353=\"\",\"\",'Информация о пользователе'!E353))","v":""},{"$f":"IF('Информация о пользователе'!F353=\"\",TRIM(Translit.Translit(A352)&TRIM(LEFT(Translit.Translit(Service!E351),1))&TRIM(LEFT(Translit.Translit(Service!F351),1))),TRIM('Информация о пользователе'!F353))","v":"pusto"},{"$f":"IF('Информация о пользователе'!G353=\"\",TRIM(LEFT(Translit.Translit(Service!E351),2))&INDEX(Service!H351:H369,RANDBETWEEN(1,19),1)&RANDBETWEEN(1,9)&IF(Service!F351=\"\",TRIM(LEFT(Translit.Translit(Service!E351),3))&INDEX(Service!A351:A376,RANDBETWEEN(1,26),1),TRIM(LEFT(Translit.Translit(Service!F351),2))&INDEX(Service!H351:H369,RANDBETWEEN(1,19),1)&INDEX(Service!A351:A376,RANDBETWEEN(1,26),1)),'Информация о пользователе'!G353)","v":{"$error":"#NAME?"}}]
[{"$f":"TRIM(IF('Информация о пользователе'!A354=\"\",\"Пусто\",'Информация о пользователе'!A354))","v":"Пусто"},{"$f":"TRIM(IF('Информация о пользователе'!B354=\"\",\" \",'Информация о пользователе'!B354&\" \"&'Информация о пользователе'!C354))","v":""},{"$f":"TRIM(IF(AD!A353=\"\",\"\",AD!B353&\" \"&A353))","v":"Пусто"},{"$f":"TRIM(IF('Информация о пользователе'!D354=\"\",F353&\"@edu54.ru\",'Информация о пользователе'!D354))","v":"pusto@edu54.ru"},{"$f":"TRIM(IF('Информация о пользователе'!E354=\"\",\"\",'Информация о пользователе'!E354))","v":""},{"$f":"IF('Информация о пользователе'!F354=\"\",TRIM(Translit.Translit(A353)&TRIM(LEFT(Translit.Translit(Service!E352),1))&TRIM(LEFT(Translit.Translit(Service!F352),1))),TRIM('Информация о пользователе'!F354))","v":"pusto"},{"$f":"IF('Информация о пользователе'!G354=\"\",TRIM(LEFT(Translit.Translit(Service!E352),2))&INDEX(Service!H352:H370,RANDBETWEEN(1,19),1)&RANDBETWEEN(1,9)&IF(Service!F352=\"\",TRIM(LEFT(Translit.Translit(Service!E352),3))&INDEX(Service!A352:A377,RANDBETWEEN(1,26),1),TRIM(LEFT(Translit.Translit(Service!F352),2))&INDEX(Service!H352:H370,RANDBETWEEN(1,19),1)&INDEX(Service!A352:A377,RANDBETWEEN(1,26),1)),'Информация о пользователе'!G354)","v":{"$error":"#NAME?"}}]
[{"$f":"TRIM(IF('Информация о пользователе'!A355=\"\",\"Пусто\",'Информация о пользователе'!A355))","v":"Пусто"},{"$f":"TRIM(IF('Информация о пользователе'!B355=\"\",\" \",'Информация о пользователе'!B355&\" \"&'Информация о пользователе'!C355))","v":""},{"$f":"TRIM(IF(AD!A354=\"\",\"\",AD!B354&\" \"&A354))","v":"Пусто"},{"$f":"TRIM(IF('Информация о пользователе'!D355=\"\",F354&\"@edu54.ru\",'Информация о пользователе'!D355))","v":"pusto@edu54.ru"},{"$f":"TRIM(IF('Информация о пользователе'!E355=\"\",\"\",'Информация о пользователе'!E355))","v":""},{"$f":"IF('Информация о пользователе'!F355=\"\",TRIM(Translit.Translit(A354)&TRIM(LEFT(Translit.Translit(Service!E353),1))&TRIM(LEFT(Translit.Translit(Service!F353),1))),TRIM('Информация о пользователе'!F355))","v":"pusto"},{"$f":"IF('Информация о пользователе'!G355=\"\",TRIM(LEFT(Translit.Translit(Service!E353),2))&INDEX(Service!H353:H371,RANDBETWEEN(1,19),1)&RANDBETWEEN(1,9)&IF(Service!F353=\"\",TRIM(LEFT(Translit.Translit(Service!E353),3))&INDEX(Service!A353:A378,RANDBETWEEN(1,26),1),TRIM(LEFT(Translit.Translit(Service!F353),2))&INDEX(Service!H353:H371,RANDBETWEEN(1,19),1)&INDEX(Service!A353:A378,RANDBETWEEN(1,26),1)),'Информация о пользователе'!G355)","v":{"$error":"#NAME?"}}]
[{"$f":"TRIM(IF('Информация о пользователе'!A356=\"\",\"Пусто\",'Информация о пользователе'!A356))","v":"Пусто"},{"$f":"TRIM(IF('Информация о пользователе'!B356=\"\",\" \",'Информация о пользователе'!B356&\" \"&'Информация о пользователе'!C356))","v":""},{"$f":"TRIM(IF(AD!A355=\"\",\"\",AD!B355&\" \"&A355))","v":"Пусто"},{"$f":"TRIM(IF('Информация о пользователе'!D356=\"\",F355&\"@edu54.ru\",'Информация о пользователе'!D356))","v":"pusto@edu54.ru"},{"$f":"TRIM(IF('Информация о пользователе'!E356=\"\",\"\",'Информация о пользователе'!E356))","v":""},{"$f":"IF('Информация о пользователе'!F356=\"\",TRIM(Translit.Translit(A355)&TRIM(LEFT(Translit.Translit(Service!E354),1))&TRIM(LEFT(Translit.Translit(Service!F354),1))),TRIM('Информация о пользователе'!F356))","v":"pusto"},{"$f":"IF('Информация о пользователе'!G356=\"\",TRIM(LEFT(Translit.Translit(Service!E354),2))&INDEX(Service!H354:H372,RANDBETWEEN(1,19),1)&RANDBETWEEN(1,9)&IF(Service!F354=\"\",TRIM(LEFT(Translit.Translit(Service!E354),3))&INDEX(Service!A354:A379,RANDBETWEEN(1,26),1),TRIM(LEFT(Translit.Translit(Service!F354),2))&INDEX(Service!H354:H372,RANDBETWEEN(1,19),1)&INDEX(Service!A354:A379,RANDBETWEEN(1,26),1)),'Информация о пользователе'!G356)","v":{"$error":"#NAME?"}}]
[{"$f":"TRIM(IF('Информация о пользователе'!A357=\"\",\"Пусто\",'Информация о пользователе'!A357))","v":"Пусто"},{"$f":"TRIM(IF('Информация о пользователе'!B357=\"\",\" \",'Информация о пользователе'!B357&\" \"&'Информация о пользователе'!C357))","v":""},{"$f":"TRIM(IF(AD!A356=\"\",\"\",AD!B356&\" \"&A356))","v":"Пусто"},{"$f":"TRIM(IF('Информация о пользователе'!D357=\"\",F356&\"@edu54.ru\",'Информация о пользователе'!D357))","v":"pusto@edu54.ru"},{"$f":"TRIM(IF('Информация о пользователе'!E357=\"\",\"\",'Информация о пользователе'!E357))","v":""},{"$f":"IF('Информация о пользователе'!F357=\"\",TRIM(Translit.Translit(A356)&TRIM(LEFT(Translit.Translit(Service!E355),1))&TRIM(LEFT(Translit.Translit(Service!F355),1))),TRIM('Информация о пользователе'!F357))","v":"pusto"},{"$f":"IF('Информация о пользователе'!G357=\"\",TRIM(LEFT(Translit.Translit(Service!E355),2))&INDEX(Service!H355:H373,RANDBETWEEN(1,19),1)&RANDBETWEEN(1,9)&IF(Service!F355=\"\",TRIM(LEFT(Translit.Translit(Service!E355),3))&INDEX(Service!A355:A380,RANDBETWEEN(1,26),1),TRIM(LEFT(Translit.Translit(Service!F355),2))&INDEX(Service!H355:H373,RANDBETWEEN(1,19),1)&INDEX(Service!A355:A380,RANDBETWEEN(1,26),1)),'Информация о пользователе'!G357)","v":{"$error":"#NAME?"}}]
[{"$f":"TRIM(IF('Информация о пользователе'!A358=\"\",\"Пусто\",'Информация о пользователе'!A358))","v":"Пусто"},{"$f":"TRIM(IF('Информация о пользователе'!B358=\"\",\" \",'Информация о пользователе'!B358&\" \"&'Информация о пользователе'!C358))","v":""},{"$f":"TRIM(IF(AD!A357=\"\",\"\",AD!B357&\" \"&A357))","v":"Пусто"},{"$f":"TRIM(IF('Информация о пользователе'!D358=\"\",F357&\"@edu54.ru\",'Информация о пользователе'!D358))","v":"pusto@edu54.ru"},{"$f":"TRIM(IF('Информация о пользователе'!E358=\"\",\"\",'Информация о пользователе'!E358))","v":""},{"$f":"IF('Информация о пользователе'!F358=\"\",TRIM(Translit.Translit(A357)&TRIM(LEFT(Translit.Translit(Service!E356),1))&TRIM(LEFT(Translit.Translit(Service!F356),1))),TRIM('Информация о пользователе'!F358))","v":"pusto"},{"$f":"IF('Информация о пользователе'!G358=\"\",TRIM(LEFT(Translit.Translit(Service!E356),2))&INDEX(Service!H356:H374,RANDBETWEEN(1,19),1)&RANDBETWEEN(1,9)&IF(Service!F356=\"\",TRIM(LEFT(Translit.Translit(Service!E356),3))&INDEX(Service!A356:A381,RANDBETWEEN(1,26),1),TRIM(LEFT(Translit.Translit(Service!F356),2))&INDEX(Service!H356:H374,RANDBETWEEN(1,19),1)&INDEX(Service!A356:A381,RANDBETWEEN(1,26),1)),'Информация о пользователе'!G358)","v":{"$error":"#NAME?"}}]
[{"$f":"TRIM(IF('Информация о пользователе'!A359=\"\",\"Пусто\",'Информация о пользователе'!A359))","v":"Пусто"},{"$f":"TRIM(IF('Информация о пользователе'!B359=\"\",\" \",'Информация о пользователе'!B359&\" \"&'Информация о пользователе'!C359))","v":""},{"$f":"TRIM(IF(AD!A358=\"\",\"\",AD!B358&\" \"&A358))","v":"Пусто"},{"$f":"TRIM(IF('Информация о пользователе'!D359=\"\",F358&\"@edu54.ru\",'Информация о пользователе'!D359))","v":"pusto@edu54.ru"},{"$f":"TRIM(IF('Информация о пользователе'!E359=\"\",\"\",'Информация о пользователе'!E359))","v":""},{"$f":"IF('Информация о пользователе'!F359=\"\",TRIM(Translit.Translit(A358)&TRIM(LEFT(Translit.Translit(Service!E357),1))&TRIM(LEFT(Translit.Translit(Service!F357),1))),TRIM('Информация о пользователе'!F359))","v":"pusto"},{"$f":"IF('Информация о пользователе'!G359=\"\",TRIM(LEFT(Translit.Translit(Service!E357),2))&INDEX(Service!H357:H375,RANDBETWEEN(1,19),1)&RANDBETWEEN(1,9)&IF(Service!F357=\"\",TRIM(LEFT(Translit.Translit(Service!E357),3))&INDEX(Service!A357:A382,RANDBETWEEN(1,26),1),TRIM(LEFT(Translit.Translit(Service!F357),2))&INDEX(Service!H357:H375,RANDBETWEEN(1,19),1)&INDEX(Service!A357:A382,RANDBETWEEN(1,26),1)),'Информация о пользователе'!G359)","v":{"$error":"#NAME?"}}]
[{"$f":"TRIM(IF('Информация о пользователе'!A360=\"\",\"Пусто\",'Информация о пользователе'!A360))","v":"Пусто"},{"$f":"TRIM(IF('Информация о пользователе'!B360=\"\",\" \",'Информация о пользователе'!B360&\" \"&'Информация о пользователе'!C360))","v":""},{"$f":"TRIM(IF(AD!A359=\"\",\"\",AD!B359&\" \"&A359))","v":"Пусто"},{"$f":"TRIM(IF('Информация о пользователе'!D360=\"\",F359&\"@edu54.ru\",'Информация о пользователе'!D360))","v":"pusto@edu54.ru"},{"$f":"TRIM(IF('Информация о пользователе'!E360=\"\",\"\",'Информация о пользователе'!E360))","v":""},{"$f":"IF('Информация о пользователе'!F360=\"\",TRIM(Translit.Translit(A359)&TRIM(LEFT(Translit.Translit(Service!E358),1))&TRIM(LEFT(Translit.Translit(Service!F358),1))),TRIM('Информация о пользователе'!F360))","v":"pusto"},{"$f":"IF('Информация о пользователе'!G360=\"\",TRIM(LEFT(Translit.Translit(Service!E358),2))&INDEX(Service!H358:H376,RANDBETWEEN(1,19),1)&RANDBETWEEN(1,9)&IF(Service!F358=\"\",TRIM(LEFT(Translit.Translit(Service!E358),3))&INDEX(Service!A358:A383,RANDBETWEEN(1,26),1),TRIM(LEFT(Translit.Translit(Service!F358),2))&INDEX(Service!H358:H376,RANDBETWEEN(1,19),1)&INDEX(Service!A358:A383,RANDBETWEEN(1,26),1)),'Информация о пользователе'!G360)","v":{"$error":"#NAME?"}}]
[{"$f":"TRIM(IF('Информация о пользователе'!A361=\"\",\"Пусто\",'Информация о пользователе'!A361))","v":"Пусто"},{"$f":"TRIM(IF('Информация о пользователе'!B361=\"\",\" \",'Информация о пользователе'!B361&\" \"&'Информация о пользователе'!C361))","v":""},{"$f":"TRIM(IF(AD!A360=\"\",\"\",AD!B360&\" \"&A360))","v":"Пусто"},{"$f":"TRIM(IF('Информация о пользователе'!D361=\"\",F360&\"@edu54.ru\",'Информация о пользователе'!D361))","v":"pusto@edu54.ru"},{"$f":"TRIM(IF('Информация о пользователе'!E361=\"\",\"\",'Информация о пользователе'!E361))","v":""},{"$f":"IF('Информация о пользователе'!F361=\"\",TRIM(Translit.Translit(A360)&TRIM(LEFT(Translit.Translit(Service!E359),1))&TRIM(LEFT(Translit.Translit(Service!F359),1))),TRIM('Информация о пользователе'!F361))","v":"pusto"},{"$f":"IF('Информация о пользователе'!G361=\"\",TRIM(LEFT(Translit.Translit(Service!E359),2))&INDEX(Service!H359:H377,RANDBETWEEN(1,19),1)&RANDBETWEEN(1,9)&IF(Service!F359=\"\",TRIM(LEFT(Translit.Translit(Service!E359),3))&INDEX(Service!A359:A384,RANDBETWEEN(1,26),1),TRIM(LEFT(Translit.Translit(Service!F359),2))&INDEX(Service!H359:H377,RANDBETWEEN(1,19),1)&INDEX(Service!A359:A384,RANDBETWEEN(1,26),1)),'Информация о пользователе'!G361)","v":{"$error":"#NAME?"}}]
[{"$f":"TRIM(IF('Информация о пользователе'!A362=\"\",\"Пусто\",'Информация о пользователе'!A362))","v":"Пусто"},{"$f":"TRIM(IF('Информация о пользователе'!B362=\"\",\" \",'Информация о пользователе'!B362&\" \"&'Информация о пользователе'!C362))","v":""},{"$f":"TRIM(IF(AD!A361=\"\",\"\",AD!B361&\" \"&A361))","v":"Пусто"},{"$f":"TRIM(IF('Информация о пользователе'!D362=\"\",F361&\"@edu54.ru\",'Информация о пользователе'!D362))","v":"pusto@edu54.ru"},{"$f":"TRIM(IF('Информация о пользователе'!E362=\"\",\"\",'Информация о пользователе'!E362))","v":""},{"$f":"IF('Информация о пользователе'!F362=\"\",TRIM(Translit.Translit(A361)&TRIM(LEFT(Translit.Translit(Service!E360),1))&TRIM(LEFT(Translit.Translit(Service!F360),1))),TRIM('Информация о пользователе'!F362))","v":"pusto"},{"$f":"IF('Информация о пользователе'!G362=\"\",TRIM(LEFT(Translit.Translit(Service!E360),2))&INDEX(Service!H360:H378,RANDBETWEEN(1,19),1)&RANDBETWEEN(1,9)&IF(Service!F360=\"\",TRIM(LEFT(Translit.Translit(Service!E360),3))&INDEX(Service!A360:A385,RANDBETWEEN(1,26),1),TRIM(LEFT(Translit.Translit(Service!F360),2))&INDEX(Service!H360:H378,RANDBETWEEN(1,19),1)&INDEX(Service!A360:A385,RANDBETWEEN(1,26),1)),'Информация о пользователе'!G362)","v":{"$error":"#NAME?"}}]
[{"$f":"TRIM(IF('Информация о пользователе'!A363=\"\",\"Пусто\",'Информация о пользователе'!A363))","v":"Пусто"},{"$f":"TRIM(IF('Информация о пользователе'!B363=\"\",\" \",'Информация о пользователе'!B363&\" \"&'Информация о пользователе'!C363))","v":""},{"$f":"TRIM(IF(AD!A362=\"\",\"\",AD!B362&\" \"&A362))","v":"Пусто"},{"$f":"TRIM(IF('Информация о пользователе'!D363=\"\",F362&\"@edu54.ru\",'Информация о пользователе'!D363))","v":"pusto@edu54.ru"},{"$f":"TRIM(IF('Информация о пользователе'!E363=\"\",\"\",'Информация о пользователе'!E363))","v":""},{"$f":"IF('Информация о пользователе'!F363=\"\",TRIM(Translit.Translit(A362)&TRIM(LEFT(Translit.Translit(Service!E361),1))&TRIM(LEFT(Translit.Translit(Service!F361),1))),TRIM('Информация о пользователе'!F363))","v":"pusto"},{"$f":"IF('Информация о пользователе'!G363=\"\",TRIM(LEFT(Translit.Translit(Service!E361),2))&INDEX(Service!H361:H379,RANDBETWEEN(1,19),1)&RANDBETWEEN(1,9)&IF(Service!F361=\"\",TRIM(LEFT(Translit.Translit(Service!E361),3))&INDEX(Service!A361:A386,RANDBETWEEN(1,26),1),TRIM(LEFT(Translit.Translit(Service!F361),2))&INDEX(Service!H361:H379,RANDBETWEEN(1,19),1)&INDEX(Service!A361:A386,RANDBETWEEN(1,26),1)),'Информация о пользователе'!G363)","v":{"$error":"#NAME?"}}]
[{"$f":"TRIM(IF('Информация о пользователе'!A364=\"\",\"Пусто\",'Информация о пользователе'!A364))","v":"Пусто"},{"$f":"TRIM(IF('Информация о пользователе'!B364=\"\",\" \",'Информация о пользователе'!B364&\" \"&'Информация о пользователе'!C364))","v":""},{"$f":"TRIM(IF(AD!A363=\"\",\"\",AD!B363&\" \"&A363))","v":"Пусто"},{"$f":"TRIM(IF('Информация о пользователе'!D364=\"\",F363&\"@edu54.ru\",'Информация о пользователе'!D364))","v":"pusto@edu54.ru"},{"$f":"TRIM(IF('Информация о пользователе'!E364=\"\",\"\",'Информация о пользователе'!E364))","v":""},{"$f":"IF('Информация о пользователе'!F364=\"\",TRIM(Translit.Translit(A363)&TRIM(LEFT(Translit.Translit(Service!E362),1))&TRIM(LEFT(Translit.Translit(Service!F362),1))),TRIM('Информация о пользователе'!F364))","v":"pusto"},{"$f":"IF('Информация о пользователе'!G364=\"\",TRIM(LEFT(Translit.Translit(Service!E362),2))&INDEX(Service!H362:H380,RANDBETWEEN(1,19),1)&RANDBETWEEN(1,9)&IF(Service!F362=\"\",TRIM(LEFT(Translit.Translit(Service!E362),3))&INDEX(Service!A362:A387,RANDBETWEEN(1,26),1),TRIM(LEFT(Translit.Translit(Service!F362),2))&INDEX(Service!H362:H380,RANDBETWEEN(1,19),1)&INDEX(Service!A362:A387,RANDBETWEEN(1,26),1)),'Информация о пользователе'!G364)","v":{"$error":"#NAME?"}}]
[{"$f":"TRIM(IF('Информация о пользователе'!A365=\"\",\"Пусто\",'Информация о пользователе'!A365))","v":"Пусто"},{"$f":"TRIM(IF('Информация о пользователе'!B365=\"\",\" \",'Информация о пользователе'!B365&\" \"&'Информация о пользователе'!C365))","v":""},{"$f":"TRIM(IF(AD!A364=\"\",\"\",AD!B364&\" \"&A364))","v":"Пусто"},{"$f":"TRIM(IF('Информация о пользователе'!D365=\"\",F364&\"@edu54.ru\",'Информация о пользователе'!D365))","v":"pusto@edu54.ru"},{"$f":"TRIM(IF('Информация о пользователе'!E365=\"\",\"\",'Информация о пользователе'!E365))","v":""},{"$f":"IF('Информация о пользователе'!F365=\"\",TRIM(Translit.Translit(A364)&TRIM(LEFT(Translit.Translit(Service!E363),1))&TRIM(LEFT(Translit.Translit(Service!F363),1))),TRIM('Информация о пользователе'!F365))","v":"pusto"},{"$f":"IF('Информация о пользователе'!G365=\"\",TRIM(LEFT(Translit.Translit(Service!E363),2))&INDEX(Service!H363:H381,RANDBETWEEN(1,19),1)&RANDBETWEEN(1,9)&IF(Service!F363=\"\",TRIM(LEFT(Translit.Translit(Service!E363),3))&INDEX(Service!A363:A388,RANDBETWEEN(1,26),1),TRIM(LEFT(Translit.Translit(Service!F363),2))&INDEX(Service!H363:H381,RANDBETWEEN(1,19),1)&INDEX(Service!A363:A388,RANDBETWEEN(1,26),1)),'Информация о пользователе'!G365)","v":{"$error":"#NAME?"}}]
[{"$f":"TRIM(IF('Информация о пользователе'!A366=\"\",\"Пусто\",'Информация о пользователе'!A366))","v":"Пусто"},{"$f":"TRIM(IF('Информация о пользователе'!B366=\"\",\" \",'Информация о пользователе'!B366&\" \"&'Информация о пользователе'!C366))","v":""},{"$f":"TRIM(IF(AD!A365=\"\",\"\",AD!B365&\" \"&A365))","v":"Пусто"},{"$f":"TRIM(IF('Информация о пользователе'!D366=\"\",F365&\"@edu54.ru\",'Информация о пользователе'!D366))","v":"pusto@edu54.ru"},{"$f":"TRIM(IF('Информация о пользователе'!E366=\"\",\"\",'Информация о пользователе'!E366))","v":""},{"$f":"IF('Информация о пользователе'!F366=\"\",TRIM(Translit.Translit(A365)&TRIM(LEFT(Translit.Translit(Service!E364),1))&TRIM(LEFT(Translit.Translit(Service!F364),1))),TRIM('Информация о пользователе'!F366))","v":"pusto"},{"$f":"IF('Информация о пользователе'!G366=\"\",TRIM(LEFT(Translit.Translit(Service!E364),2))&INDEX(Service!H364:H382,RANDBETWEEN(1,19),1)&RANDBETWEEN(1,9)&IF(Service!F364=\"\",TRIM(LEFT(Translit.Translit(Service!E364),3))&INDEX(Service!A364:A389,RANDBETWEEN(1,26),1),TRIM(LEFT(Translit.Translit(Service!F364),2))&INDEX(Service!H364:H382,RANDBETWEEN(1,19),1)&INDEX(Service!A364:A389,RANDBETWEEN(1,26),1)),'Информация о пользователе'!G366)","v":{"$error":"#NAME?"}}]
[{"$f":"TRIM(IF('Информация о пользователе'!A367=\"\",\"Пусто\",'Информация о пользователе'!A367))","v":"Пусто"},{"$f":"TRIM(IF('Информация о пользователе'!B367=\"\",\" \",'Информация о пользователе'!B367&\" \"&'Информация о пользователе'!C367))","v":""},{"$f":"TRIM(IF(AD!A366=\"\",\"\",AD!B366&\" \"&A366))","v":"Пусто"},{"$f":"TRIM(IF('Информация о пользователе'!D367=\"\",F366&\"@edu54.ru\",'Информация о пользователе'!D367))","v":"pusto@edu54.ru"},{"$f":"TRIM(IF('Информация о пользователе'!E367=\"\",\"\",'Информация о пользователе'!E367))","v":""},{"$f":"IF('Информация о пользователе'!F367=\"\",TRIM(Translit.Translit(A366)&TRIM(LEFT(Translit.Translit(Service!E365),1))&TRIM(LEFT(Translit.Translit(Service!F365),1))),TRIM('Информация о пользователе'!F367))","v":"pusto"},{"$f":"IF('Информация о пользователе'!G367=\"\",TRIM(LEFT(Translit.Translit(Service!E365),2))&INDEX(Service!H365:H383,RANDBETWEEN(1,19),1)&RANDBETWEEN(1,9)&IF(Service!F365=\"\",TRIM(LEFT(Translit.Translit(Service!E365),3))&INDEX(Service!A365:A390,RANDBETWEEN(1,26),1),TRIM(LEFT(Translit.Translit(Service!F365),2))&INDEX(Service!H365:H383,RANDBETWEEN(1,19),1)&INDEX(Service!A365:A390,RANDBETWEEN(1,26),1)),'Информация о пользователе'!G367)","v":{"$error":"#NAME?"}}]
[{"$f":"TRIM(IF('Информация о пользователе'!A368=\"\",\"Пусто\",'Информация о пользователе'!A368))","v":"Пусто"},{"$f":"TRIM(IF('Информация о пользователе'!B368=\"\",\" \",'Информация о пользователе'!B368&\" \"&'Информация о пользователе'!C368))","v":""},{"$f":"TRIM(IF(AD!A367=\"\",\"\",AD!B367&\" \"&A367))","v":"Пусто"},{"$f":"TRIM(IF('Информация о пользователе'!D368=\"\",F367&\"@edu54.ru\",'Информация о пользователе'!D368))","v":"pusto@edu54.ru"},{"$f":"TRIM(IF('Информация о пользователе'!E368=\"\",\"\",'Информация о пользователе'!E368))","v":""},{"$f":"IF('Информация о пользователе'!F368=\"\",TRIM(Translit.Translit(A367)&TRIM(LEFT(Translit.Translit(Service!E366),1))&TRIM(LEFT(Translit.Translit(Service!F366),1))),TRIM('Информация о пользователе'!F368))","v":"pusto"},{"$f":"IF('Информация о пользователе'!G368=\"\",TRIM(LEFT(Translit.Translit(Service!E366),2))&INDEX(Service!H366:H384,RANDBETWEEN(1,19),1)&RANDBETWEEN(1,9)&IF(Service!F366=\"\",TRIM(LEFT(Translit.Translit(Service!E366),3))&INDEX(Service!A366:A391,RANDBETWEEN(1,26),1),TRIM(LEFT(Translit.Translit(Service!F366),2))&INDEX(Service!H366:H384,RANDBETWEEN(1,19),1)&INDEX(Service!A366:A391,RANDBETWEEN(1,26),1)),'Информация о пользователе'!G368)","v":{"$error":"#NAME?"}}]
[{"$f":"TRIM(IF('Информация о пользователе'!A369=\"\",\"Пусто\",'Информация о пользователе'!A369))","v":"Пусто"},{"$f":"TRIM(IF('Информация о пользователе'!B369=\"\",\" \",'Информация о пользователе'!B369&\" \"&'Информация о пользователе'!C369))","v":""},{"$f":"TRIM(IF(AD!A368=\"\",\"\",AD!B368&\" \"&A368))","v":"Пусто"},{"$f":"TRIM(IF('Информация о пользователе'!D369=\"\",F368&\"@edu54.ru\",'Информация о пользователе'!D369))","v":"pusto@edu54.ru"},{"$f":"TRIM(IF('Информация о пользователе'!E369=\"\",\"\",'Информация о пользователе'!E369))","v":""},{"$f":"IF('Информация о пользователе'!F369=\"\",TRIM(Translit.Translit(A368)&TRIM(LEFT(Translit.Translit(Service!E367),1))&TRIM(LEFT(Translit.Translit(Service!F367),1))),TRIM('Информация о пользователе'!F369))","v":"pusto"},{"$f":"IF('Информация о пользователе'!G369=\"\",TRIM(LEFT(Translit.Translit(Service!E367),2))&INDEX(Service!H367:H385,RANDBETWEEN(1,19),1)&RANDBETWEEN(1,9)&IF(Service!F367=\"\",TRIM(LEFT(Translit.Translit(Service!E367),3))&INDEX(Service!A367:A392,RANDBETWEEN(1,26),1),TRIM(LEFT(Translit.Translit(Service!F367),2))&INDEX(Service!H367:H385,RANDBETWEEN(1,19),1)&INDEX(Service!A367:A392,RANDBETWEEN(1,26),1)),'Информация о пользователе'!G369)","v":{"$error":"#NAME?"}}]
[{"$f":"TRIM(IF('Информация о пользователе'!A370=\"\",\"Пусто\",'Информация о пользователе'!A370))","v":"Пусто"},{"$f":"TRIM(IF('Информация о пользователе'!B370=\"\",\" \",'Информация о пользователе'!B370&\" \"&'Информация о пользователе'!C370))","v":""},{"$f":"TRIM(IF(AD!A369=\"\",\"\",AD!B369&\" \"&A369))","v":"Пусто"},{"$f":"TRIM(IF('Информация о пользователе'!D370=\"\",F369&\"@edu54.ru\",'Информация о пользователе'!D370))","v":"pusto@edu54.ru"},{"$f":"TRIM(IF('Информация о пользователе'!E370=\"\",\"\",'Информация о пользователе'!E370))","v":""},{"$f":"IF('Информация о пользователе'!F370=\"\",TRIM(Translit.Translit(A369)&TRIM(LEFT(Translit.Translit(Service!E368),1))&TRIM(LEFT(Translit.Translit(Service!F368),1))),TRIM('Информация о пользователе'!F370))","v":"pusto"},{"$f":"IF('Информация о пользователе'!G370=\"\",TRIM(LEFT(Translit.Translit(Service!E368),2))&INDEX(Service!H368:H386,RANDBETWEEN(1,19),1)&RANDBETWEEN(1,9)&IF(Service!F368=\"\",TRIM(LEFT(Translit.Translit(Service!E368),3))&INDEX(Service!A368:A393,RANDBETWEEN(1,26),1),TRIM(LEFT(Translit.Translit(Service!F368),2))&INDEX(Service!H368:H386,RANDBETWEEN(1,19),1)&INDEX(Service!A368:A393,RANDBETWEEN(1,26),1)),'Информация о пользователе'!G370)","v":{"$error":"#NAME?"}}]
[{"$f":"TRIM(IF('Информация о пользователе'!A371=\"\",\"Пусто\",'Информация о пользователе'!A371))","v":"Пусто"},{"$f":"TRIM(IF('Информация о пользователе'!B371=\"\",\" \",'Информация о пользователе'!B371&\" \"&'Информация о пользователе'!C371))","v":""},{"$f":"TRIM(IF(AD!A370=\"\",\"\",AD!B370&\" \"&A370))","v":"Пусто"},{"$f":"TRIM(IF('Информация о пользователе'!D371=\"\",F370&\"@edu54.ru\",'Информация о пользователе'!D371))","v":"pusto@edu54.ru"},{"$f":"TRIM(IF('Информация о пользователе'!E371=\"\",\"\",'Информация о пользователе'!E371))","v":""},{"$f":"IF('Информация о пользователе'!F371=\"\",TRIM(Translit.Translit(A370)&TRIM(LEFT(Translit.Translit(Service!E369),1))&TRIM(LEFT(Translit.Translit(Service!F369),1))),TRIM('Информация о пользователе'!F371))","v":"pusto"},{"$f":"IF('Информация о пользователе'!G371=\"\",TRIM(LEFT(Translit.Translit(Service!E369),2))&INDEX(Service!H369:H387,RANDBETWEEN(1,19),1)&RANDBETWEEN(1,9)&IF(Service!F369=\"\",TRIM(LEFT(Translit.Translit(Service!E369),3))&INDEX(Service!A369:A394,RANDBETWEEN(1,26),1),TRIM(LEFT(Translit.Translit(Service!F369),2))&INDEX(Service!H369:H387,RANDBETWEEN(1,19),1)&INDEX(Service!A369:A394,RANDBETWEEN(1,26),1)),'Информация о пользователе'!G371)","v":{"$error":"#NAME?"}}]
[{"$f":"TRIM(IF('Информация о пользователе'!A372=\"\",\"Пусто\",'Информация о пользователе'!A372))","v":"Пусто"},{"$f":"TRIM(IF('Информация о пользователе'!B372=\"\",\" \",'Информация о пользователе'!B372&\" \"&'Информация о пользователе'!C372))","v":""},{"$f":"TRIM(IF(AD!A371=\"\",\"\",AD!B371&\" \"&A371))","v":"Пусто"},{"$f":"TRIM(IF('Информация о пользователе'!D372=\"\",F371&\"@edu54.ru\",'Информация о пользователе'!D372))","v":"pusto@edu54.ru"},{"$f":"TRIM(IF('Информация о пользователе'!E372=\"\",\"\",'Информация о пользователе'!E372))","v":""},{"$f":"IF('Информация о пользователе'!F372=\"\",TRIM(Translit.Translit(A371)&TRIM(LEFT(Translit.Translit(Service!E370),1))&TRIM(LEFT(Translit.Translit(Service!F370),1))),TRIM('Информация о пользователе'!F372))","v":"pusto"},{"$f":"IF('Информация о пользователе'!G372=\"\",TRIM(LEFT(Translit.Translit(Service!E370),2))&INDEX(Service!H370:H388,RANDBETWEEN(1,19),1)&RANDBETWEEN(1,9)&IF(Service!F370=\"\",TRIM(LEFT(Translit.Translit(Service!E370),3))&INDEX(Service!A370:A395,RANDBETWEEN(1,26),1),TRIM(LEFT(Translit.Translit(Service!F370),2))&INDEX(Service!H370:H388,RANDBETWEEN(1,19),1)&INDEX(Service!A370:A395,RANDBETWEEN(1,26),1)),'Информация о пользователе'!G372)","v":{"$error":"#NAME?"}}]
[{"$f":"TRIM(IF('Информация о пользователе'!A373=\"\",\"Пусто\",'Информация о пользователе'!A373))","v":"Пусто"},{"$f":"TRIM(IF('Информация о пользователе'!B373=\"\",\" \",'Информация о пользователе'!B373&\" \"&'Информация о пользователе'!C373))","v":""},{"$f":"TRIM(IF(AD!A372=\"\",\"\",AD!B372&\" \"&A372))","v":"Пусто"},{"$f":"TRIM(IF('Информация о пользователе'!D373=\"\",F372&\"@edu54.ru\",'Информация о пользователе'!D373))","v":"pusto@edu54.ru"},{"$f":"TRIM(IF('Информация о пользователе'!E373=\"\",\"\",'Информация о пользователе'!E373))","v":""},{"$f":"IF('Информация о пользователе'!F373=\"\",TRIM(Translit.Translit(A372)&TRIM(LEFT(Translit.Translit(Service!E371),1))&TRIM(LEFT(Translit.Translit(Service!F371),1))),TRIM('Информация о пользователе'!F373))","v":"pusto"},{"$f":"IF('Информация о пользователе'!G373=\"\",TRIM(LEFT(Translit.Translit(Service!E371),2))&INDEX(Service!H371:H389,RANDBETWEEN(1,19),1)&RANDBETWEEN(1,9)&IF(Service!F371=\"\",TRIM(LEFT(Translit.Translit(Service!E371),3))&INDEX(Service!A371:A396,RANDBETWEEN(1,26),1),TRIM(LEFT(Translit.Translit(Service!F371),2))&INDEX(Service!H371:H389,RANDBETWEEN(1,19),1)&INDEX(Service!A371:A396,RANDBETWEEN(1,26),1)),'Информация о пользователе'!G373)","v":{"$error":"#NAME?"}}]
[{"$f":"TRIM(IF('Информация о пользователе'!A374=\"\",\"Пусто\",'Информация о пользователе'!A374))","v":"Пусто"},{"$f":"TRIM(IF('Информация о пользователе'!B374=\"\",\" \",'Информация о пользователе'!B374&\" \"&'Информация о пользователе'!C374))","v":""},{"$f":"TRIM(IF(AD!A373=\"\",\"\",AD!B373&\" \"&A373))","v":"Пусто"},{"$f":"TRIM(IF('Информация о пользователе'!D374=\"\",F373&\"@edu54.ru\",'Информация о пользователе'!D374))","v":"pusto@edu54.ru"},{"$f":"TRIM(IF('Информация о пользователе'!E374=\"\",\"\",'Информация о пользователе'!E374))","v":""},{"$f":"IF('Информация о пользователе'!F374=\"\",TRIM(Translit.Translit(A373)&TRIM(LEFT(Translit.Translit(Service!E372),1))&TRIM(LEFT(Translit.Translit(Service!F372),1))),TRIM('Информация о пользователе'!F374))","v":"pusto"},{"$f":"IF('Информация о пользователе'!G374=\"\",TRIM(LEFT(Translit.Translit(Service!E372),2))&INDEX(Service!H372:H390,RANDBETWEEN(1,19),1)&RANDBETWEEN(1,9)&IF(Service!F372=\"\",TRIM(LEFT(Translit.Translit(Service!E372),3))&INDEX(Service!A372:A397,RANDBETWEEN(1,26),1),TRIM(LEFT(Translit.Translit(Service!F372),2))&INDEX(Service!H372:H390,RANDBETWEEN(1,19),1)&INDEX(Service!A372:A397,RANDBETWEEN(1,26),1)),'Информация о пользователе'!G374)","v":{"$error":"#NAME?"}}]
[{"$f":"TRIM(IF('Информация о пользователе'!A375=\"\",\"Пусто\",'Информация о пользователе'!A375))","v":"Пусто"},{"$f":"TRIM(IF('Информация о пользователе'!B375=\"\",\" \",'Информация о пользователе'!B375&\" \"&'Информация о пользователе'!C375))","v":""},{"$f":"TRIM(IF(AD!A374=\"\",\"\",AD!B374&\" \"&A374))","v":"Пусто"},{"$f":"TRIM(IF('Информация о пользователе'!D375=\"\",F374&\"@edu54.ru\",'Информация о пользователе'!D375))","v":"pusto@edu54.ru"},{"$f":"TRIM(IF('Информация о пользователе'!E375=\"\",\"\",'Информация о пользователе'!E375))","v":""},{"$f":"IF('Информация о пользователе'!F375=\"\",TRIM(Translit.Translit(A374)&TRIM(LEFT(Translit.Translit(Service!E373),1))&TRIM(LEFT(Translit.Translit(Service!F373),1))),TRIM('Информация о пользователе'!F375))","v":"pusto"},{"$f":"IF('Информация о пользователе'!G375=\"\",TRIM(LEFT(Translit.Translit(Service!E373),2))&INDEX(Service!H373:H391,RANDBETWEEN(1,19),1)&RANDBETWEEN(1,9)&IF(Service!F373=\"\",TRIM(LEFT(Translit.Translit(Service!E373),3))&INDEX(Service!A373:A398,RANDBETWEEN(1,26),1),TRIM(LEFT(Translit.Translit(Service!F373),2))&INDEX(Service!H373:H391,RANDBETWEEN(1,19),1)&INDEX(Service!A373:A398,RANDBETWEEN(1,26),1)),'Информация о пользователе'!G375)","v":{"$error":"#NAME?"}}]
[{"$f":"TRIM(IF('Информация о пользователе'!A376=\"\",\"Пусто\",'Информация о пользователе'!A376))","v":"Пусто"},{"$f":"TRIM(IF('Информация о пользователе'!B376=\"\",\" \",'Информация о пользователе'!B376&\" \"&'Информация о пользователе'!C376))","v":""},{"$f":"TRIM(IF(AD!A375=\"\",\"\",AD!B375&\" \"&A375))","v":"Пусто"},{"$f":"TRIM(IF('Информация о пользователе'!D376=\"\",F375&\"@edu54.ru\",'Информация о пользователе'!D376))","v":"pusto@edu54.ru"},{"$f":"TRIM(IF('Информация о пользователе'!E376=\"\",\"\",'Информация о пользователе'!E376))","v":""},{"$f":"IF('Информация о пользователе'!F376=\"\",TRIM(Translit.Translit(A375)&TRIM(LEFT(Translit.Translit(Service!E374),1))&TRIM(LEFT(Translit.Translit(Service!F374),1))),TRIM('Информация о пользователе'!F376))","v":"pusto"},{"$f":"IF('Информация о пользователе'!G376=\"\",TRIM(LEFT(Translit.Translit(Service!E374),2))&INDEX(Service!H374:H392,RANDBETWEEN(1,19),1)&RANDBETWEEN(1,9)&IF(Service!F374=\"\",TRIM(LEFT(Translit.Translit(Service!E374),3))&INDEX(Service!A374:A399,RANDBETWEEN(1,26),1),TRIM(LEFT(Translit.Translit(Service!F374),2))&INDEX(Service!H374:H392,RANDBETWEEN(1,19),1)&INDEX(Service!A374:A399,RANDBETWEEN(1,26),1)),'Информация о пользователе'!G376)","v":{"$error":"#NAME?"}}]
[{"$f":"TRIM(IF('Информация о пользователе'!A377=\"\",\"Пусто\",'Информация о пользователе'!A377))","v":"Пусто"},{"$f":"TRIM(IF('Информация о пользователе'!B377=\"\",\" \",'Информация о пользователе'!B377&\" \"&'Информация о пользователе'!C377))","v":""},{"$f":"TRIM(IF(AD!A376=\"\",\"\",AD!B376&\" \"&A376))","v":"Пусто"},{"$f":"TRIM(IF('Информация о пользователе'!D377=\"\",F376&\"@edu54.ru\",'Информация о пользователе'!D377))","v":"pusto@edu54.ru"},{"$f":"TRIM(IF('Информация о пользователе'!E377=\"\",\"\",'Информация о пользователе'!E377))","v":""},{"$f":"IF('Информация о пользователе'!F377=\"\",TRIM(Translit.Translit(A376)&TRIM(LEFT(Translit.Translit(Service!E375),1))&TRIM(LEFT(Translit.Translit(Service!F375),1))),TRIM('Информация о пользователе'!F377))","v":"pusto"},{"$f":"IF('Информация о пользователе'!G377=\"\",TRIM(LEFT(Translit.Translit(Service!E375),2))&INDEX(Service!H375:H393,RANDBETWEEN(1,19),1)&RANDBETWEEN(1,9)&IF(Service!F375=\"\",TRIM(LEFT(Translit.Translit(Service!E375),3))&INDEX(Service!A375:A400,RANDBETWEEN(1,26),1),TRIM(LEFT(Translit.Translit(Service!F375),2))&INDEX(Service!H375:H393,RANDBETWEEN(1,19),1)&INDEX(Service!A375:A400,RANDBETWEEN(1,26),1)),'Информация о пользователе'!G377)","v":{"$error":"#NAME?"}}]
[{"$f":"TRIM(IF('Информация о пользователе'!A378=\"\",\"Пусто\",'Информация о пользователе'!A378))","v":"Пусто"},{"$f":"TRIM(IF('Информация о пользователе'!B378=\"\",\" \",'Информация о пользователе'!B378&\" \"&'Информация о пользователе'!C378))","v":""},{"$f":"TRIM(IF(AD!A377=\"\",\"\",AD!B377&\" \"&A377))","v":"Пусто"},{"$f":"TRIM(IF('Информация о пользователе'!D378=\"\",F377&\"@edu54.ru\",'Информация о пользователе'!D378))","v":"pusto@edu54.ru"},{"$f":"TRIM(IF('Информация о пользователе'!E378=\"\",\"\",'Информация о пользователе'!E378))","v":""},{"$f":"IF('Информация о пользователе'!F378=\"\",TRIM(Translit.Translit(A377)&TRIM(LEFT(Translit.Translit(Service!E376),1))&TRIM(LEFT(Translit.Translit(Service!F376),1))),TRIM('Информация о пользователе'!F378))","v":"pusto"},{"$f":"IF('Информация о пользователе'!G378=\"\",TRIM(LEFT(Translit.Translit(Service!E376),2))&INDEX(Service!H376:H394,RANDBETWEEN(1,19),1)&RANDBETWEEN(1,9)&IF(Service!F376=\"\",TRIM(LEFT(Translit.Translit(Service!E376),3))&INDEX(Service!A376:A401,RANDBETWEEN(1,26),1),TRIM(LEFT(Translit.Translit(Service!F376),2))&INDEX(Service!H376:H394,RANDBETWEEN(1,19),1)&INDEX(Service!A376:A401,RANDBETWEEN(1,26),1)),'Информация о пользователе'!G378)","v":{"$error":"#NAME?"}}]
[{"$f":"TRIM(IF('Информация о пользователе'!A379=\"\",\"Пусто\",'Информация о пользователе'!A379))","v":"Пусто"},{"$f":"TRIM(IF('Информация о пользователе'!B379=\"\",\" \",'Информация о пользователе'!B379&\" \"&'Информация о пользователе'!C379))","v":""},{"$f":"TRIM(IF(AD!A378=\"\",\"\",AD!B378&\" \"&A378))","v":"Пусто"},{"$f":"TRIM(IF('Информация о пользователе'!D379=\"\",F378&\"@edu54.ru\",'Информация о пользователе'!D379))","v":"pusto@edu54.ru"},{"$f":"TRIM(IF('Информация о пользователе'!E379=\"\",\"\",'Информация о пользователе'!E379))","v":""},{"$f":"IF('Информация о пользователе'!F379=\"\",TRIM(Translit.Translit(A378)&TRIM(LEFT(Translit.Translit(Service!E377),1))&TRIM(LEFT(Translit.Translit(Service!F377),1))),TRIM('Информация о пользователе'!F379))","v":"pusto"},{"$f":"IF('Информация о пользователе'!G379=\"\",TRIM(LEFT(Translit.Translit(Service!E377),2))&INDEX(Service!H377:H395,RANDBETWEEN(1,19),1)&RANDBETWEEN(1,9)&IF(Service!F377=\"\",TRIM(LEFT(Translit.Translit(Service!E377),3))&INDEX(Service!A377:A402,RANDBETWEEN(1,26),1),TRIM(LEFT(Translit.Translit(Service!F377),2))&INDEX(Service!H377:H395,RANDBETWEEN(1,19),1)&INDEX(Service!A377:A402,RANDBETWEEN(1,26),1)),'Информация о пользователе'!G379)","v":{"$error":"#NAME?"}}]
[{"$f":"TRIM(IF('Информация о пользователе'!A380=\"\",\"Пусто\",'Информация о пользователе'!A380))","v":"Пусто"},{"$f":"TRIM(IF('Информация о пользователе'!B380=\"\",\" \",'Информация о пользователе'!B380&\" \"&'Информация о пользователе'!C380))","v":""},{"$f":"TRIM(IF(AD!A379=\"\",\"\",AD!B379&\" \"&A379))","v":"Пусто"},{"$f":"TRIM(IF('Информация о пользователе'!D380=\"\",F379&\"@edu54.ru\",'Информация о пользователе'!D380))","v":"pusto@edu54.ru"},{"$f":"TRIM(IF('Информация о пользователе'!E380=\"\",\"\",'Информация о пользователе'!E380))","v":""},{"$f":"IF('Информация о пользователе'!F380=\"\",TRIM(Translit.Translit(A379)&TRIM(LEFT(Translit.Translit(Service!E378),1))&TRIM(LEFT(Translit.Translit(Service!F378),1))),TRIM('Информация о пользователе'!F380))","v":"pusto"},{"$f":"IF('Информация о пользователе'!G380=\"\",TRIM(LEFT(Translit.Translit(Service!E378),2))&INDEX(Service!H378:H396,RANDBETWEEN(1,19),1)&RANDBETWEEN(1,9)&IF(Service!F378=\"\",TRIM(LEFT(Translit.Translit(Service!E378),3))&INDEX(Service!A378:A403,RANDBETWEEN(1,26),1),TRIM(LEFT(Translit.Translit(Service!F378),2))&INDEX(Service!H378:H396,RANDBETWEEN(1,19),1)&INDEX(Service!A378:A403,RANDBETWEEN(1,26),1)),'Информация о пользователе'!G380)","v":{"$error":"#NAME?"}}]
[{"$f":"TRIM(IF('Информация о пользователе'!A381=\"\",\"Пусто\",'Информация о пользователе'!A381))","v":"Пусто"},{"$f":"TRIM(IF('Информация о пользователе'!B381=\"\",\" \",'Информация о пользователе'!B381&\" \"&'Информация о пользователе'!C381))","v":""},{"$f":"TRIM(IF(AD!A380=\"\",\"\",AD!B380&\" \"&A380))","v":"Пусто"},{"$f":"TRIM(IF('Информация о пользователе'!D381=\"\",F380&\"@edu54.ru\",'Информация о пользователе'!D381))","v":"pusto@edu54.ru"},{"$f":"TRIM(IF('Информация о пользователе'!E381=\"\",\"\",'Информация о пользователе'!E381))","v":""},{"$f":"IF('Информация о пользователе'!F381=\"\",TRIM(Translit.Translit(A380)&TRIM(LEFT(Translit.Translit(Service!E379),1))&TRIM(LEFT(Translit.Translit(Service!F379),1))),TRIM('Информация о пользователе'!F381))","v":"pusto"},{"$f":"IF('Информация о пользователе'!G381=\"\",TRIM(LEFT(Translit.Translit(Service!E379),2))&INDEX(Service!H379:H397,RANDBETWEEN(1,19),1)&RANDBETWEEN(1,9)&IF(Service!F379=\"\",TRIM(LEFT(Translit.Translit(Service!E379),3))&INDEX(Service!A379:A404,RANDBETWEEN(1,26),1),TRIM(LEFT(Translit.Translit(Service!F379),2))&INDEX(Service!H379:H397,RANDBETWEEN(1,19),1)&INDEX(Service!A379:A404,RANDBETWEEN(1,26),1)),'Информация о пользователе'!G381)","v":{"$error":"#NAME?"}}]
[{"$f":"TRIM(IF('Информация о пользователе'!A382=\"\",\"Пусто\",'Информация о пользователе'!A382))","v":"Пусто"},{"$f":"TRIM(IF('Информация о пользователе'!B382=\"\",\" \",'Информация о пользователе'!B382&\" \"&'Информация о пользователе'!C382))","v":""},{"$f":"TRIM(IF(AD!A381=\"\",\"\",AD!B381&\" \"&A381))","v":"Пусто"},{"$f":"TRIM(IF('Информация о пользователе'!D382=\"\",F381&\"@edu54.ru\",'Информация о пользователе'!D382))","v":"pusto@edu54.ru"},{"$f":"TRIM(IF('Информация о пользователе'!E382=\"\",\"\",'Информация о пользователе'!E382))","v":""},{"$f":"IF('Информация о пользователе'!F382=\"\",TRIM(Translit.Translit(A381)&TRIM(LEFT(Translit.Translit(Service!E380),1))&TRIM(LEFT(Translit.Translit(Service!F380),1))),TRIM('Информация о пользователе'!F382))","v":"pusto"},{"$f":"IF('Информация о пользователе'!G382=\"\",TRIM(LEFT(Translit.Translit(Service!E380),2))&INDEX(Service!H380:H398,RANDBETWEEN(1,19),1)&RANDBETWEEN(1,9)&IF(Service!F380=\"\",TRIM(LEFT(Translit.Translit(Service!E380),3))&INDEX(Service!A380:A405,RANDBETWEEN(1,26),1),TRIM(LEFT(Translit.Translit(Service!F380),2))&INDEX(Service!H380:H398,RANDBETWEEN(1,19),1)&INDEX(Service!A380:A405,RANDBETWEEN(1,26),1)),'Информация о пользователе'!G382)","v":{"$error":"#NAME?"}}]
[{"$f":"TRIM(IF('Информация о пользователе'!A383=\"\",\"Пусто\",'Информация о пользователе'!A383))","v":"Пусто"},{"$f":"TRIM(IF('Информация о пользователе'!B383=\"\",\" \",'Информация о пользователе'!B383&\" \"&'Информация о пользователе'!C383))","v":""},{"$f":"TRIM(IF(AD!A382=\"\",\"\",AD!B382&\" \"&A382))","v":"Пусто"},{"$f":"TRIM(IF('Информация о пользователе'!D383=\"\",F382&\"@edu54.ru\",'Информация о пользователе'!D383))","v":"pusto@edu54.ru"},{"$f":"TRIM(IF('Информация о пользователе'!E383=\"\",\"\",'Информация о пользователе'!E383))","v":""},{"$f":"IF('Информация о пользователе'!F383=\"\",TRIM(Translit.Translit(A382)&TRIM(LEFT(Translit.Translit(Service!E381),1))&TRIM(LEFT(Translit.Translit(Service!F381),1))),TRIM('Информация о пользователе'!F383))","v":"pusto"},{"$f":"IF('Информация о пользователе'!G383=\"\",TRIM(LEFT(Translit.Translit(Service!E381),2))&INDEX(Service!H381:H399,RANDBETWEEN(1,19),1)&RANDBETWEEN(1,9)&IF(Service!F381=\"\",TRIM(LEFT(Translit.Translit(Service!E381),3))&INDEX(Service!A381:A406,RANDBETWEEN(1,26),1),TRIM(LEFT(Translit.Translit(Service!F381),2))&INDEX(Service!H381:H399,RANDBETWEEN(1,19),1)&INDEX(Service!A381:A406,RANDBETWEEN(1,26),1)),'Информация о пользователе'!G383)","v":{"$error":"#NAME?"}}]
[{"$f":"TRIM(IF('Информация о пользователе'!A384=\"\",\"Пусто\",'Информация о пользователе'!A384))","v":"Пусто"},{"$f":"TRIM(IF('Информация о пользователе'!B384=\"\",\" \",'Информация о пользователе'!B384&\" \"&'Информация о пользователе'!C384))","v":""},{"$f":"TRIM(IF(AD!A383=\"\",\"\",AD!B383&\" \"&A383))","v":"Пусто"},{"$f":"TRIM(IF('Информация о пользователе'!D384=\"\",F383&\"@edu54.ru\",'Информация о пользователе'!D384))","v":"pusto@edu54.ru"},{"$f":"TRIM(IF('Информация о пользователе'!E384=\"\",\"\",'Информация о пользователе'!E384))","v":""},{"$f":"IF('Информация о пользователе'!F384=\"\",TRIM(Translit.Translit(A383)&TRIM(LEFT(Translit.Translit(Service!E382),1))&TRIM(LEFT(Translit.Translit(Service!F382),1))),TRIM('Информация о пользователе'!F384))","v":"pusto"},{"$f":"IF('Информация о пользователе'!G384=\"\",TRIM(LEFT(Translit.Translit(Service!E382),2))&INDEX(Service!H382:H400,RANDBETWEEN(1,19),1)&RANDBETWEEN(1,9)&IF(Service!F382=\"\",TRIM(LEFT(Translit.Translit(Service!E382),3))&INDEX(Service!A382:A407,RANDBETWEEN(1,26),1),TRIM(LEFT(Translit.Translit(Service!F382),2))&INDEX(Service!H382:H400,RANDBETWEEN(1,19),1)&INDEX(Service!A382:A407,RANDBETWEEN(1,26),1)),'Информация о пользователе'!G384)","v":{"$error":"#NAME?"}}]
[{"$f":"TRIM(IF('Информация о пользователе'!A385=\"\",\"Пусто\",'Информация о пользователе'!A385))","v":"Пусто"},{"$f":"TRIM(IF('Информация о пользователе'!B385=\"\",\" \",'Информация о пользователе'!B385&\" \"&'Информация о пользователе'!C385))","v":""},{"$f":"TRIM(IF(AD!A384=\"\",\"\",AD!B384&\" \"&A384))","v":"Пусто"},{"$f":"TRIM(IF('Информация о пользователе'!D385=\"\",F384&\"@edu54.ru\",'Информация о пользователе'!D385))","v":"pusto@edu54.ru"},{"$f":"TRIM(IF('Информация о пользователе'!E385=\"\",\"\",'Информация о пользователе'!E385))","v":""},{"$f":"IF('Информация о пользователе'!F385=\"\",TRIM(Translit.Translit(A384)&TRIM(LEFT(Translit.Translit(Service!E383),1))&TRIM(LEFT(Translit.Translit(Service!F383),1))),TRIM('Информация о пользователе'!F385))","v":"pusto"},{"$f":"IF('Информация о пользователе'!G385=\"\",TRIM(LEFT(Translit.Translit(Service!E383),2))&INDEX(Service!H383:H401,RANDBETWEEN(1,19),1)&RANDBETWEEN(1,9)&IF(Service!F383=\"\",TRIM(LEFT(Translit.Translit(Service!E383),3))&INDEX(Service!A383:A408,RANDBETWEEN(1,26),1),TRIM(LEFT(Translit.Translit(Service!F383),2))&INDEX(Service!H383:H401,RANDBETWEEN(1,19),1)&INDEX(Service!A383:A408,RANDBETWEEN(1,26),1)),'Информация о пользователе'!G385)","v":{"$error":"#NAME?"}}]
[{"$f":"TRIM(IF('Информация о пользователе'!A386=\"\",\"Пусто\",'Информация о пользователе'!A386))","v":"Пусто"},{"$f":"TRIM(IF('Информация о пользователе'!B386=\"\",\" \",'Информация о пользователе'!B386&\" \"&'Информация о пользователе'!C386))","v":""},{"$f":"TRIM(IF(AD!A385=\"\",\"\",AD!B385&\" \"&A385))","v":"Пусто"},{"$f":"TRIM(IF('Информация о пользователе'!D386=\"\",F385&\"@edu54.ru\",'Информация о пользователе'!D386))","v":"pusto@edu54.ru"},{"$f":"TRIM(IF('Информация о пользователе'!E386=\"\",\"\",'Информация о пользователе'!E386))","v":""},{"$f":"IF('Информация о пользователе'!F386=\"\",TRIM(Translit.Translit(A385)&TRIM(LEFT(Translit.Translit(Service!E384),1))&TRIM(LEFT(Translit.Translit(Service!F384),1))),TRIM('Информация о пользователе'!F386))","v":"pusto"},{"$f":"IF('Информация о пользователе'!G386=\"\",TRIM(LEFT(Translit.Translit(Service!E384),2))&INDEX(Service!H384:H402,RANDBETWEEN(1,19),1)&RANDBETWEEN(1,9)&IF(Service!F384=\"\",TRIM(LEFT(Translit.Translit(Service!E384),3))&INDEX(Service!A384:A409,RANDBETWEEN(1,26),1),TRIM(LEFT(Translit.Translit(Service!F384),2))&INDEX(Service!H384:H402,RANDBETWEEN(1,19),1)&INDEX(Service!A384:A409,RANDBETWEEN(1,26),1)),'Информация о пользователе'!G386)","v":{"$error":"#NAME?"}}]
[{"$f":"TRIM(IF('Информация о пользователе'!A387=\"\",\"Пусто\",'Информация о пользователе'!A387))","v":"Пусто"},{"$f":"TRIM(IF('Информация о пользователе'!B387=\"\",\" \",'Информация о пользователе'!B387&\" \"&'Информация о пользователе'!C387))","v":""},{"$f":"TRIM(IF(AD!A386=\"\",\"\",AD!B386&\" \"&A386))","v":"Пусто"},{"$f":"TRIM(IF('Информация о пользователе'!D387=\"\",F386&\"@edu54.ru\",'Информация о пользователе'!D387))","v":"pusto@edu54.ru"},{"$f":"TRIM(IF('Информация о пользователе'!E387=\"\",\"\",'Информация о пользователе'!E387))","v":""},{"$f":"IF('Информация о пользователе'!F387=\"\",TRIM(Translit.Translit(A386)&TRIM(LEFT(Translit.Translit(Service!E385),1))&TRIM(LEFT(Translit.Translit(Service!F385),1))),TRIM('Информация о пользователе'!F387))","v":"pusto"},{"$f":"IF('Информация о пользователе'!G387=\"\",TRIM(LEFT(Translit.Translit(Service!E385),2))&INDEX(Service!H385:H403,RANDBETWEEN(1,19),1)&RANDBETWEEN(1,9)&IF(Service!F385=\"\",TRIM(LEFT(Translit.Translit(Service!E385),3))&INDEX(Service!A385:A410,RANDBETWEEN(1,26),1),TRIM(LEFT(Translit.Translit(Service!F385),2))&INDEX(Service!H385:H403,RANDBETWEEN(1,19),1)&INDEX(Service!A385:A410,RANDBETWEEN(1,26),1)),'Информация о пользователе'!G387)","v":{"$error":"#NAME?"}}]
[{"$f":"TRIM(IF('Информация о пользователе'!A388=\"\",\"Пусто\",'Информация о пользователе'!A388))","v":"Пусто"},{"$f":"TRIM(IF('Информация о пользователе'!B388=\"\",\" \",'Информация о пользователе'!B388&\" \"&'Информация о пользователе'!C388))","v":""},{"$f":"TRIM(IF(AD!A387=\"\",\"\",AD!B387&\" \"&A387))","v":"Пусто"},{"$f":"TRIM(IF('Информация о пользователе'!D388=\"\",F387&\"@edu54.ru\",'Информация о пользователе'!D388))","v":"pusto@edu54.ru"},{"$f":"TRIM(IF('Информация о пользователе'!E388=\"\",\"\",'Информация о пользователе'!E388))","v":""},{"$f":"IF('Информация о пользователе'!F388=\"\",TRIM(Translit.Translit(A387)&TRIM(LEFT(Translit.Translit(Service!E386),1))&TRIM(LEFT(Translit.Translit(Service!F386),1))),TRIM('Информация о пользователе'!F388))","v":"pusto"},{"$f":"IF('Информация о пользователе'!G388=\"\",TRIM(LEFT(Translit.Translit(Service!E386),2))&INDEX(Service!H386:H404,RANDBETWEEN(1,19),1)&RANDBETWEEN(1,9)&IF(Service!F386=\"\",TRIM(LEFT(Translit.Translit(Service!E386),3))&INDEX(Service!A386:A411,RANDBETWEEN(1,26),1),TRIM(LEFT(Translit.Translit(Service!F386),2))&INDEX(Service!H386:H404,RANDBETWEEN(1,19),1)&INDEX(Service!A386:A411,RANDBETWEEN(1,26),1)),'Информация о пользователе'!G388)","v":{"$error":"#NAME?"}}]
[{"$f":"TRIM(IF('Информация о пользователе'!A389=\"\",\"Пусто\",'Информация о пользователе'!A389))","v":"Пусто"},{"$f":"TRIM(IF('Информация о пользователе'!B389=\"\",\" \",'Информация о пользователе'!B389&\" \"&'Информация о пользователе'!C389))","v":""},{"$f":"TRIM(IF(AD!A388=\"\",\"\",AD!B388&\" \"&A388))","v":"Пусто"},{"$f":"TRIM(IF('Информация о пользователе'!D389=\"\",F388&\"@edu54.ru\",'Информация о пользователе'!D389))","v":"pusto@edu54.ru"},{"$f":"TRIM(IF('Информация о пользователе'!E389=\"\",\"\",'Информация о пользователе'!E389))","v":""},{"$f":"IF('Информация о пользователе'!F389=\"\",TRIM(Translit.Translit(A388)&TRIM(LEFT(Translit.Translit(Service!E387),1))&TRIM(LEFT(Translit.Translit(Service!F387),1))),TRIM('Информация о пользователе'!F389))","v":"pusto"},{"$f":"IF('Информация о пользователе'!G389=\"\",TRIM(LEFT(Translit.Translit(Service!E387),2))&INDEX(Service!H387:H405,RANDBETWEEN(1,19),1)&RANDBETWEEN(1,9)&IF(Service!F387=\"\",TRIM(LEFT(Translit.Translit(Service!E387),3))&INDEX(Service!A387:A412,RANDBETWEEN(1,26),1),TRIM(LEFT(Translit.Translit(Service!F387),2))&INDEX(Service!H387:H405,RANDBETWEEN(1,19),1)&INDEX(Service!A387:A412,RANDBETWEEN(1,26),1)),'Информация о пользователе'!G389)","v":{"$error":"#NAME?"}}]
[{"$f":"TRIM(IF('Информация о пользователе'!A390=\"\",\"Пусто\",'Информация о пользователе'!A390))","v":"Пусто"},{"$f":"TRIM(IF('Информация о пользователе'!B390=\"\",\" \",'Информация о пользователе'!B390&\" \"&'Информация о пользователе'!C390))","v":""},{"$f":"TRIM(IF(AD!A389=\"\",\"\",AD!B389&\" \"&A389))","v":"Пусто"},{"$f":"TRIM(IF('Информация о пользователе'!D390=\"\",F389&\"@edu54.ru\",'Информация о пользователе'!D390))","v":"pusto@edu54.ru"},{"$f":"TRIM(IF('Информация о пользователе'!E390=\"\",\"\",'Информация о пользователе'!E390))","v":""},{"$f":"IF('Информация о пользователе'!F390=\"\",TRIM(Translit.Translit(A389)&TRIM(LEFT(Translit.Translit(Service!E388),1))&TRIM(LEFT(Translit.Translit(Service!F388),1))),TRIM('Информация о пользователе'!F390))","v":"pusto"},{"$f":"IF('Информация о пользователе'!G390=\"\",TRIM(LEFT(Translit.Translit(Service!E388),2))&INDEX(Service!H388:H406,RANDBETWEEN(1,19),1)&RANDBETWEEN(1,9)&IF(Service!F388=\"\",TRIM(LEFT(Translit.Translit(Service!E388),3))&INDEX(Service!A388:A413,RANDBETWEEN(1,26),1),TRIM(LEFT(Translit.Translit(Service!F388),2))&INDEX(Service!H388:H406,RANDBETWEEN(1,19),1)&INDEX(Service!A388:A413,RANDBETWEEN(1,26),1)),'Информация о пользователе'!G390)","v":{"$error":"#NAME?"}}]
[{"$f":"TRIM(IF('Информация о пользователе'!A391=\"\",\"Пусто\",'Информация о пользователе'!A391))","v":"Пусто"},{"$f":"TRIM(IF('Информация о пользователе'!B391=\"\",\" \",'Информация о пользователе'!B391&\" \"&'Информация о пользователе'!C391))","v":""},{"$f":"TRIM(IF(AD!A390=\"\",\"\",AD!B390&\" \"&A390))","v":"Пусто"},{"$f":"TRIM(IF('Информация о пользователе'!D391=\"\",F390&\"@edu54.ru\",'Информация о пользователе'!D391))","v":"pusto@edu54.ru"},{"$f":"TRIM(IF('Информация о пользователе'!E391=\"\",\"\",'Информация о пользователе'!E391))","v":""},{"$f":"IF('Информация о пользователе'!F391=\"\",TRIM(Translit.Translit(A390)&TRIM(LEFT(Translit.Translit(Service!E389),1))&TRIM(LEFT(Translit.Translit(Service!F389),1))),TRIM('Информация о пользователе'!F391))","v":"pusto"},{"$f":"IF('Информация о пользователе'!G391=\"\",TRIM(LEFT(Translit.Translit(Service!E389),2))&INDEX(Service!H389:H407,RANDBETWEEN(1,19),1)&RANDBETWEEN(1,9)&IF(Service!F389=\"\",TRIM(LEFT(Translit.Translit(Service!E389),3))&INDEX(Service!A389:A414,RANDBETWEEN(1,26),1),TRIM(LEFT(Translit.Translit(Service!F389),2))&INDEX(Service!H389:H407,RANDBETWEEN(1,19),1)&INDEX(Service!A389:A414,RANDBETWEEN(1,26),1)),'Информация о пользователе'!G391)","v":{"$error":"#NAME?"}}]
[{"$f":"TRIM(IF('Информация о пользователе'!A392=\"\",\"Пусто\",'Информация о пользователе'!A392))","v":"Пусто"},{"$f":"TRIM(IF('Информация о пользователе'!B392=\"\",\" \",'Информация о пользователе'!B392&\" \"&'Информация о пользователе'!C392))","v":""},{"$f":"TRIM(IF(AD!A391=\"\",\"\",AD!B391&\" \"&A391))","v":"Пусто"},{"$f":"TRIM(IF('Информация о пользователе'!D392=\"\",F391&\"@edu54.ru\",'Информация о пользователе'!D392))","v":"pusto@edu54.ru"},{"$f":"TRIM(IF('Информация о пользователе'!E392=\"\",\"\",'Информация о пользователе'!E392))","v":""},{"$f":"IF('Информация о пользователе'!F392=\"\",TRIM(Translit.Translit(A391)&TRIM(LEFT(Translit.Translit(Service!E390),1))&TRIM(LEFT(Translit.Translit(Service!F390),1))),TRIM('Информация о пользователе'!F392))","v":"pusto"},{"$f":"IF('Информация о пользователе'!G392=\"\",TRIM(LEFT(Translit.Translit(Service!E390),2))&INDEX(Service!H390:H408,RANDBETWEEN(1,19),1)&RANDBETWEEN(1,9)&IF(Service!F390=\"\",TRIM(LEFT(Translit.Translit(Service!E390),3))&INDEX(Service!A390:A415,RANDBETWEEN(1,26),1),TRIM(LEFT(Translit.Translit(Service!F390),2))&INDEX(Service!H390:H408,RANDBETWEEN(1,19),1)&INDEX(Service!A390:A415,RANDBETWEEN(1,26),1)),'Информация о пользователе'!G392)","v":{"$error":"#NAME?"}}]
[{"$f":"TRIM(IF('Информация о пользователе'!A393=\"\",\"Пусто\",'Информация о пользователе'!A393))","v":"Пусто"},{"$f":"TRIM(IF('Информация о пользователе'!B393=\"\",\" \",'Информация о пользователе'!B393&\" \"&'Информация о пользователе'!C393))","v":""},{"$f":"TRIM(IF(AD!A392=\"\",\"\",AD!B392&\" \"&A392))","v":"Пусто"},{"$f":"TRIM(IF('Информация о пользователе'!D393=\"\",F392&\"@edu54.ru\",'Информация о пользователе'!D393))","v":"pusto@edu54.ru"},{"$f":"TRIM(IF('Информация о пользователе'!E393=\"\",\"\",'Информация о пользователе'!E393))","v":""},{"$f":"IF('Информация о пользователе'!F393=\"\",TRIM(Translit.Translit(A392)&TRIM(LEFT(Translit.Translit(Service!E391),1))&TRIM(LEFT(Translit.Translit(Service!F391),1))),TRIM('Информация о пользователе'!F393))","v":"pusto"},{"$f":"IF('Информация о пользователе'!G393=\"\",TRIM(LEFT(Translit.Translit(Service!E391),2))&INDEX(Service!H391:H409,RANDBETWEEN(1,19),1)&RANDBETWEEN(1,9)&IF(Service!F391=\"\",TRIM(LEFT(Translit.Translit(Service!E391),3))&INDEX(Service!A391:A416,RANDBETWEEN(1,26),1),TRIM(LEFT(Translit.Translit(Service!F391),2))&INDEX(Service!H391:H409,RANDBETWEEN(1,19),1)&INDEX(Service!A391:A416,RANDBETWEEN(1,26),1)),'Информация о пользователе'!G393)","v":{"$error":"#NAME?"}}]
[{"$f":"TRIM(IF('Информация о пользователе'!A394=\"\",\"Пусто\",'Информация о пользователе'!A394))","v":"Пусто"},{"$f":"TRIM(IF('Информация о пользователе'!B394=\"\",\" \",'Информация о пользователе'!B394&\" \"&'Информация о пользователе'!C394))","v":""},{"$f":"TRIM(IF(AD!A393=\"\",\"\",AD!B393&\" \"&A393))","v":"Пусто"},{"$f":"TRIM(IF('Информация о пользователе'!D394=\"\",F393&\"@edu54.ru\",'Информация о пользователе'!D394))","v":"pusto@edu54.ru"},{"$f":"TRIM(IF('Информация о пользователе'!E394=\"\",\"\",'Информация о пользователе'!E394))","v":""},{"$f":"IF('Информация о пользователе'!F394=\"\",TRIM(Translit.Translit(A393)&TRIM(LEFT(Translit.Translit(Service!E392),1))&TRIM(LEFT(Translit.Translit(Service!F392),1))),TRIM('Информация о пользователе'!F394))","v":"pusto"},{"$f":"IF('Информация о пользователе'!G394=\"\",TRIM(LEFT(Translit.Translit(Service!E392),2))&INDEX(Service!H392:H410,RANDBETWEEN(1,19),1)&RANDBETWEEN(1,9)&IF(Service!F392=\"\",TRIM(LEFT(Translit.Translit(Service!E392),3))&INDEX(Service!A392:A417,RANDBETWEEN(1,26),1),TRIM(LEFT(Translit.Translit(Service!F392),2))&INDEX(Service!H392:H410,RANDBETWEEN(1,19),1)&INDEX(Service!A392:A417,RANDBETWEEN(1,26),1)),'Информация о пользователе'!G394)","v":{"$error":"#NAME?"}}]
[{"$f":"TRIM(IF('Информация о пользователе'!A395=\"\",\"Пусто\",'Информация о пользователе'!A395))","v":"Пусто"},{"$f":"TRIM(IF('Информация о пользователе'!B395=\"\",\" \",'Информация о пользователе'!B395&\" \"&'Информация о пользователе'!C395))","v":""},{"$f":"TRIM(IF(AD!A394=\"\",\"\",AD!B394&\" \"&A394))","v":"Пусто"},{"$f":"TRIM(IF('Информация о пользователе'!D395=\"\",F394&\"@edu54.ru\",'Информация о пользователе'!D395))","v":"pusto@edu54.ru"},{"$f":"TRIM(IF('Информация о пользователе'!E395=\"\",\"\",'Информация о пользователе'!E395))","v":""},{"$f":"IF('Информация о пользователе'!F395=\"\",TRIM(Translit.Translit(A394)&TRIM(LEFT(Translit.Translit(Service!E393),1))&TRIM(LEFT(Translit.Translit(Service!F393),1))),TRIM('Информация о пользователе'!F395))","v":"pusto"},{"$f":"IF('Информация о пользователе'!G395=\"\",TRIM(LEFT(Translit.Translit(Service!E393),2))&INDEX(Service!H393:H411,RANDBETWEEN(1,19),1)&RANDBETWEEN(1,9)&IF(Service!F393=\"\",TRIM(LEFT(Translit.Translit(Service!E393),3))&INDEX(Service!A393:A418,RANDBETWEEN(1,26),1),TRIM(LEFT(Translit.Translit(Service!F393),2))&INDEX(Service!H393:H411,RANDBETWEEN(1,19),1)&INDEX(Service!A393:A418,RANDBETWEEN(1,26),1)),'Информация о пользователе'!G395)","v":{"$error":"#NAME?"}}]
[{"$f":"TRIM(IF('Информация о пользователе'!A396=\"\",\"Пусто\",'Информация о пользователе'!A396))","v":"Пусто"},{"$f":"TRIM(IF('Информация о пользователе'!B396=\"\",\" \",'Информация о пользователе'!B396&\" \"&'Информация о пользователе'!C396))","v":""},{"$f":"TRIM(IF(AD!A395=\"\",\"\",AD!B395&\" \"&A395))","v":"Пусто"},{"$f":"TRIM(IF('Информация о пользователе'!D396=\"\",F395&\"@edu54.ru\",'Информация о пользователе'!D396))","v":"pusto@edu54.ru"},{"$f":"TRIM(IF('Информация о пользователе'!E396=\"\",\"\",'Информация о пользователе'!E396))","v":""},{"$f":"IF('Информация о пользователе'!F396=\"\",TRIM(Translit.Translit(A395)&TRIM(LEFT(Translit.Translit(Service!E394),1))&TRIM(LEFT(Translit.Translit(Service!F394),1))),TRIM('Информация о пользователе'!F396))","v":"pusto"},{"$f":"IF('Информация о пользователе'!G396=\"\",TRIM(LEFT(Translit.Translit(Service!E394),2))&INDEX(Service!H394:H412,RANDBETWEEN(1,19),1)&RANDBETWEEN(1,9)&IF(Service!F394=\"\",TRIM(LEFT(Translit.Translit(Service!E394),3))&INDEX(Service!A394:A419,RANDBETWEEN(1,26),1),TRIM(LEFT(Translit.Translit(Service!F394),2))&INDEX(Service!H394:H412,RANDBETWEEN(1,19),1)&INDEX(Service!A394:A419,RANDBETWEEN(1,26),1)),'Информация о пользователе'!G396)","v":{"$error":"#NAME?"}}]
[{"$f":"TRIM(IF('Информация о пользователе'!A397=\"\",\"Пусто\",'Информация о пользователе'!A397))","v":"Пусто"},{"$f":"TRIM(IF('Информация о пользователе'!B397=\"\",\" \",'Информация о пользователе'!B397&\" \"&'Информация о пользователе'!C397))","v":""},{"$f":"TRIM(IF(AD!A396=\"\",\"\",AD!B396&\" \"&A396))","v":"Пусто"},{"$f":"TRIM(IF('Информация о пользователе'!D397=\"\",F396&\"@edu54.ru\",'Информация о пользователе'!D397))","v":"pusto@edu54.ru"},{"$f":"TRIM(IF('Информация о пользователе'!E397=\"\",\"\",'Информация о пользователе'!E397))","v":""},{"$f":"IF('Информация о пользователе'!F397=\"\",TRIM(Translit.Translit(A396)&TRIM(LEFT(Translit.Translit(Service!E395),1))&TRIM(LEFT(Translit.Translit(Service!F395),1))),TRIM('Информация о пользователе'!F397))","v":"pusto"},{"$f":"IF('Информация о пользователе'!G397=\"\",TRIM(LEFT(Translit.Translit(Service!E395),2))&INDEX(Service!H395:H413,RANDBETWEEN(1,19),1)&RANDBETWEEN(1,9)&IF(Service!F395=\"\",TRIM(LEFT(Translit.Translit(Service!E395),3))&INDEX(Service!A395:A420,RANDBETWEEN(1,26),1),TRIM(LEFT(Translit.Translit(Service!F395),2))&INDEX(Service!H395:H413,RANDBETWEEN(1,19),1)&INDEX(Service!A395:A420,RANDBETWEEN(1,26),1)),'Информация о пользователе'!G397)","v":{"$error":"#NAME?"}}]
[{"$f":"TRIM(IF('Информация о пользователе'!A398=\"\",\"Пусто\",'Информация о пользователе'!A398))","v":"Пусто"},{"$f":"TRIM(IF('Информация о пользователе'!B398=\"\",\" \",'Информация о пользователе'!B398&\" \"&'Информация о пользователе'!C398))","v":""},{"$f":"TRIM(IF(AD!A397=\"\",\"\",AD!B397&\" \"&A397))","v":"Пусто"},{"$f":"TRIM(IF('Информация о пользователе'!D398=\"\",F397&\"@edu54.ru\",'Информация о пользователе'!D398))","v":"pusto@edu54.ru"},{"$f":"TRIM(IF('Информация о пользователе'!E398=\"\",\"\",'Информация о пользователе'!E398))","v":""},{"$f":"IF('Информация о пользователе'!F398=\"\",TRIM(Translit.Translit(A397)&TRIM(LEFT(Translit.Translit(Service!E396),1))&TRIM(LEFT(Translit.Translit(Service!F396),1))),TRIM('Информация о пользователе'!F398))","v":"pusto"},{"$f":"IF('Информация о пользователе'!G398=\"\",TRIM(LEFT(Translit.Translit(Service!E396),2))&INDEX(Service!H396:H414,RANDBETWEEN(1,19),1)&RANDBETWEEN(1,9)&IF(Service!F396=\"\",TRIM(LEFT(Translit.Translit(Service!E396),3))&INDEX(Service!A396:A421,RANDBETWEEN(1,26),1),TRIM(LEFT(Translit.Translit(Service!F396),2))&INDEX(Service!H396:H414,RANDBETWEEN(1,19),1)&INDEX(Service!A396:A421,RANDBETWEEN(1,26),1)),'Информация о пользователе'!G398)","v":{"$error":"#NAME?"}}]
[{"$f":"TRIM(IF('Информация о пользователе'!A399=\"\",\"Пусто\",'Информация о пользователе'!A399))","v":"Пусто"},{"$f":"TRIM(IF('Информация о пользователе'!B399=\"\",\" \",'Информация о пользователе'!B399&\" \"&'Информация о пользователе'!C399))","v":""},{"$f":"TRIM(IF(AD!A398=\"\",\"\",AD!B398&\" \"&A398))","v":"Пусто"},{"$f":"TRIM(IF('Информация о пользователе'!D399=\"\",F398&\"@edu54.ru\",'Информация о пользователе'!D399))","v":"pusto@edu54.ru"},{"$f":"TRIM(IF('Информация о пользователе'!E399=\"\",\"\",'Информация о пользователе'!E399))","v":""},{"$f":"IF('Информация о пользователе'!F399=\"\",TRIM(Translit.Translit(A398)&TRIM(LEFT(Translit.Translit(Service!E397),1))&TRIM(LEFT(Translit.Translit(Service!F397),1))),TRIM('Информация о пользователе'!F399))","v":"pusto"},{"$f":"IF('Информация о пользователе'!G399=\"\",TRIM(LEFT(Translit.Translit(Service!E397),2))&INDEX(Service!H397:H415,RANDBETWEEN(1,19),1)&RANDBETWEEN(1,9)&IF(Service!F397=\"\",TRIM(LEFT(Translit.Translit(Service!E397),3))&INDEX(Service!A397:A422,RANDBETWEEN(1,26),1),TRIM(LEFT(Translit.Translit(Service!F397),2))&INDEX(Service!H397:H415,RANDBETWEEN(1,19),1)&INDEX(Service!A397:A422,RANDBETWEEN(1,26),1)),'Информация о пользователе'!G399)","v":{"$error":"#NAME?"}}]
[{"$f":"TRIM(IF('Информация о пользователе'!A400=\"\",\"Пусто\",'Информация о пользователе'!A400))","v":"Пусто"},{"$f":"TRIM(IF('Информация о пользователе'!B400=\"\",\" \",'Информация о пользователе'!B400&\" \"&'Информация о пользователе'!C400))","v":""},{"$f":"TRIM(IF(AD!A399=\"\",\"\",AD!B399&\" \"&A399))","v":"Пусто"},{"$f":"TRIM(IF('Информация о пользователе'!D400=\"\",F399&\"@edu54.ru\",'Информация о пользователе'!D400))","v":"pusto@edu54.ru"},{"$f":"TRIM(IF('Информация о пользователе'!E400=\"\",\"\",'Информация о пользователе'!E400))","v":""},{"$f":"IF('Информация о пользователе'!F400=\"\",TRIM(Translit.Translit(A399)&TRIM(LEFT(Translit.Translit(Service!E398),1))&TRIM(LEFT(Translit.Translit(Service!F398),1))),TRIM('Информация о пользователе'!F400))","v":"pusto"},{"$f":"IF('Информация о пользователе'!G400=\"\",TRIM(LEFT(Translit.Translit(Service!E398),2))&INDEX(Service!H398:H416,RANDBETWEEN(1,19),1)&RANDBETWEEN(1,9)&IF(Service!F398=\"\",TRIM(LEFT(Translit.Translit(Service!E398),3))&INDEX(Service!A398:A423,RANDBETWEEN(1,26),1),TRIM(LEFT(Translit.Translit(Service!F398),2))&INDEX(Service!H398:H416,RANDBETWEEN(1,19),1)&INDEX(Service!A398:A423,RANDBETWEEN(1,26),1)),'Информация о пользователе'!G400)","v":{"$error":"#NAME?"}}]
[{"$f":"TRIM(IF('Информация о пользователе'!A401=\"\",\"Пусто\",'Информация о пользователе'!A401))","v":"Пусто"},{"$f":"TRIM(IF('Информация о пользователе'!B401=\"\",\" \",'Информация о пользователе'!B401&\" \"&'Информация о пользователе'!C401))","v":""},{"$f":"TRIM(IF(AD!A400=\"\",\"\",AD!B400&\" \"&A400))","v":"Пусто"},{"$f":"TRIM(IF('Информация о пользователе'!D401=\"\",F400&\"@edu54.ru\",'Информация о пользователе'!D401))","v":"pusto@edu54.ru"},{"$f":"TRIM(IF('Информация о пользователе'!E401=\"\",\"\",'Информация о пользователе'!E401))","v":""},{"$f":"IF('Информация о пользователе'!F401=\"\",TRIM(Translit.Translit(A400)&TRIM(LEFT(Translit.Translit(Service!E399),1))&TRIM(LEFT(Translit.Translit(Service!F399),1))),TRIM('Информация о пользователе'!F401))","v":"pusto"},{"$f":"IF('Информация о пользователе'!G401=\"\",TRIM(LEFT(Translit.Translit(Service!E399),2))&INDEX(Service!H399:H417,RANDBETWEEN(1,19),1)&RANDBETWEEN(1,9)&IF(Service!F399=\"\",TRIM(LEFT(Translit.Translit(Service!E399),3))&INDEX(Service!A399:A424,RANDBETWEEN(1,26),1),TRIM(LEFT(Translit.Translit(Service!F399),2))&INDEX(Service!H399:H417,RANDBETWEEN(1,19),1)&INDEX(Service!A399:A424,RANDBETWEEN(1,26),1)),'Информация о пользователе'!G401)","v":{"$error":"#NAME?"}}]
[{"$f":"TRIM(IF('Информация о пользователе'!A402=\"\",\"Пусто\",'Информация о пользователе'!A402))","v":"Пусто"},{"$f":"TRIM(IF('Информация о пользователе'!B402=\"\",\" \",'Информация о пользователе'!B402&\" \"&'Информация о пользователе'!C402))","v":""},{"$f":"TRIM(IF(AD!A401=\"\",\"\",AD!B401&\" \"&A401))","v":"Пусто"},{"$f":"TRIM(IF('Информация о пользователе'!D402=\"\",F401&\"@edu54.ru\",'Информация о пользователе'!D402))","v":"pusto@edu54.ru"},{"$f":"TRIM(IF('Информация о пользователе'!E402=\"\",\"\",'Информация о пользователе'!E402))","v":""},{"$f":"IF('Информация о пользователе'!F402=\"\",TRIM(Translit.Translit(A401)&TRIM(LEFT(Translit.Translit(Service!E400),1))&TRIM(LEFT(Translit.Translit(Service!F400),1))),TRIM('Информация о пользователе'!F402))","v":"pusto"},{"$f":"IF('Информация о пользователе'!G402=\"\",TRIM(LEFT(Translit.Translit(Service!E400),2))&INDEX(Service!H400:H418,RANDBETWEEN(1,19),1)&RANDBETWEEN(1,9)&IF(Service!F400=\"\",TRIM(LEFT(Translit.Translit(Service!E400),3))&INDEX(Service!A400:A425,RANDBETWEEN(1,26),1),TRIM(LEFT(Translit.Translit(Service!F400),2))&INDEX(Service!H400:H418,RANDBETWEEN(1,19),1)&INDEX(Service!A400:A425,RANDBETWEEN(1,26),1)),'Информация о пользователе'!G402)","v":{"$error":"#NAME?"}}]
[{"$f":"TRIM(IF('Информация о пользователе'!A403=\"\",\"Пусто\",'Информация о пользователе'!A403))","v":"Пусто"},{"$f":"TRIM(IF('Информация о пользователе'!B403=\"\",\" \",'Информация о пользователе'!B403&\" \"&'Информация о пользователе'!C403))","v":""},{"$f":"TRIM(IF(AD!A402=\"\",\"\",AD!B402&\" \"&A402))","v":"Пусто"},{"$f":"TRIM(IF('Информация о пользователе'!D403=\"\",F402&\"@edu54.ru\",'Информация о пользователе'!D403))","v":"pusto@edu54.ru"},{"$f":"TRIM(IF('Информация о пользователе'!E403=\"\",\"\",'Информация о пользователе'!E403))","v":""},{"$f":"IF('Информация о пользователе'!F403=\"\",TRIM(Translit.Translit(A402)&TRIM(LEFT(Translit.Translit(Service!E401),1))&TRIM(LEFT(Translit.Translit(Service!F401),1))),TRIM('Информация о пользователе'!F403))","v":"pusto"},{"$f":"IF('Информация о пользователе'!G403=\"\",TRIM(LEFT(Translit.Translit(Service!E401),2))&INDEX(Service!H401:H419,RANDBETWEEN(1,19),1)&RANDBETWEEN(1,9)&IF(Service!F401=\"\",TRIM(LEFT(Translit.Translit(Service!E401),3))&INDEX(Service!A401:A426,RANDBETWEEN(1,26),1),TRIM(LEFT(Translit.Translit(Service!F401),2))&INDEX(Service!H401:H419,RANDBETWEEN(1,19),1)&INDEX(Service!A401:A426,RANDBETWEEN(1,26),1)),'Информация о пользователе'!G403)","v":{"$error":"#NAME?"}}]
[{"$f":"TRIM(IF('Информация о пользователе'!A404=\"\",\"Пусто\",'Информация о пользователе'!A404))","v":"Пусто"},{"$f":"TRIM(IF('Информация о пользователе'!B404=\"\",\" \",'Информация о пользователе'!B404&\" \"&'Информация о пользователе'!C404))","v":""},{"$f":"TRIM(IF(AD!A403=\"\",\"\",AD!B403&\" \"&A403))","v":"Пусто"},{"$f":"TRIM(IF('Информация о пользователе'!D404=\"\",F403&\"@edu54.ru\",'Информация о пользователе'!D404))","v":"pusto@edu54.ru"},{"$f":"TRIM(IF('Информация о пользователе'!E404=\"\",\"\",'Информация о пользователе'!E404))","v":""},{"$f":"IF('Информация о пользователе'!F404=\"\",TRIM(Translit.Translit(A403)&TRIM(LEFT(Translit.Translit(Service!E402),1))&TRIM(LEFT(Translit.Translit(Service!F402),1))),TRIM('Информация о пользователе'!F404))","v":"pusto"},{"$f":"IF('Информация о пользователе'!G404=\"\",TRIM(LEFT(Translit.Translit(Service!E402),2))&INDEX(Service!H402:H420,RANDBETWEEN(1,19),1)&RANDBETWEEN(1,9)&IF(Service!F402=\"\",TRIM(LEFT(Translit.Translit(Service!E402),3))&INDEX(Service!A402:A427,RANDBETWEEN(1,26),1),TRIM(LEFT(Translit.Translit(Service!F402),2))&INDEX(Service!H402:H420,RANDBETWEEN(1,19),1)&INDEX(Service!A402:A427,RANDBETWEEN(1,26),1)),'Информация о пользователе'!G404)","v":{"$error":"#NAME?"}}]
[{"$f":"TRIM(IF('Информация о пользователе'!A405=\"\",\"Пусто\",'Информация о пользователе'!A405))","v":"Пусто"},{"$f":"TRIM(IF('Информация о пользователе'!B405=\"\",\" \",'Информация о пользователе'!B405&\" \"&'Информация о пользователе'!C405))","v":""},{"$f":"TRIM(IF(AD!A404=\"\",\"\",AD!B404&\" \"&A404))","v":"Пусто"},{"$f":"TRIM(IF('Информация о пользователе'!D405=\"\",F404&\"@edu54.ru\",'Информация о пользователе'!D405))","v":"pusto@edu54.ru"},{"$f":"TRIM(IF('Информация о пользователе'!E405=\"\",\"\",'Информация о пользователе'!E405))","v":""},{"$f":"IF('Информация о пользователе'!F405=\"\",TRIM(Translit.Translit(A404)&TRIM(LEFT(Translit.Translit(Service!E403),1))&TRIM(LEFT(Translit.Translit(Service!F403),1))),TRIM('Информация о пользователе'!F405))","v":"pusto"},{"$f":"IF('Информация о пользователе'!G405=\"\",TRIM(LEFT(Translit.Translit(Service!E403),2))&INDEX(Service!H403:H421,RANDBETWEEN(1,19),1)&RANDBETWEEN(1,9)&IF(Service!F403=\"\",TRIM(LEFT(Translit.Translit(Service!E403),3))&INDEX(Service!A403:A428,RANDBETWEEN(1,26),1),TRIM(LEFT(Translit.Translit(Service!F403),2))&INDEX(Service!H403:H421,RANDBETWEEN(1,19),1)&INDEX(Service!A403:A428,RANDBETWEEN(1,26),1)),'Информация о пользователе'!G405)","v":{"$error":"#NAME?"}}]
[{"$f":"TRIM(IF('Информация о пользователе'!A406=\"\",\"Пусто\",'Информация о пользователе'!A406))","v":"Пусто"},{"$f":"TRIM(IF('Информация о пользователе'!B406=\"\",\" \",'Информация о пользователе'!B406&\" \"&'Информация о пользователе'!C406))","v":""},{"$f":"TRIM(IF(AD!A405=\"\",\"\",AD!B405&\" \"&A405))","v":"Пусто"},{"$f":"TRIM(IF('Информация о пользователе'!D406=\"\",F405&\"@edu54.ru\",'Информация о пользователе'!D406))","v":"pusto@edu54.ru"},{"$f":"TRIM(IF('Информация о пользователе'!E406=\"\",\"\",'Информация о пользователе'!E406))","v":""},{"$f":"IF('Информация о пользователе'!F406=\"\",TRIM(Translit.Translit(A405)&TRIM(LEFT(Translit.Translit(Service!E404),1))&TRIM(LEFT(Translit.Translit(Service!F404),1))),TRIM('Информация о пользователе'!F406))","v":"pusto"},{"$f":"IF('Информация о пользователе'!G406=\"\",TRIM(LEFT(Translit.Translit(Service!E404),2))&INDEX(Service!H404:H422,RANDBETWEEN(1,19),1)&RANDBETWEEN(1,9)&IF(Service!F404=\"\",TRIM(LEFT(Translit.Translit(Service!E404),3))&INDEX(Service!A404:A429,RANDBETWEEN(1,26),1),TRIM(LEFT(Translit.Translit(Service!F404),2))&INDEX(Service!H404:H422,RANDBETWEEN(1,19),1)&INDEX(Service!A404:A429,RANDBETWEEN(1,26),1)),'Информация о пользователе'!G406)","v":{"$error":"#NAME?"}}]
[{"$f":"TRIM(IF('Информация о пользователе'!A407=\"\",\"Пусто\",'Информация о пользователе'!A407))","v":"Пусто"},{"$f":"TRIM(IF('Информация о пользователе'!B407=\"\",\" \",'Информация о пользователе'!B407&\" \"&'Информация о пользователе'!C407))","v":""},{"$f":"TRIM(IF(AD!A406=\"\",\"\",AD!B406&\" \"&A406))","v":"Пусто"},{"$f":"TRIM(IF('Информация о пользователе'!D407=\"\",F406&\"@edu54.ru\",'Информация о пользователе'!D407))","v":"pusto@edu54.ru"},{"$f":"TRIM(IF('Информация о пользователе'!E407=\"\",\"\",'Информация о пользователе'!E407))","v":""},{"$f":"IF('Информация о пользователе'!F407=\"\",TRIM(Translit.Translit(A406)&TRIM(LEFT(Translit.Translit(Service!E405),1))&TRIM(LEFT(Translit.Translit(Service!F405),1))),TRIM('Информация о пользователе'!F407))","v":"pusto"},{"$f":"IF('Информация о пользователе'!G407=\"\",TRIM(LEFT(Translit.Translit(Service!E405),2))&INDEX(Service!H405:H423,RANDBETWEEN(1,19),1)&RANDBETWEEN(1,9)&IF(Service!F405=\"\",TRIM(LEFT(Translit.Translit(Service!E405),3))&INDEX(Service!A405:A430,RANDBETWEEN(1,26),1),TRIM(LEFT(Translit.Translit(Service!F405),2))&INDEX(Service!H405:H423,RANDBETWEEN(1,19),1)&INDEX(Service!A405:A430,RANDBETWEEN(1,26),1)),'Информация о пользователе'!G407)","v":{"$error":"#NAME?"}}]
[{"$f":"TRIM(IF('Информация о пользователе'!A408=\"\",\"Пусто\",'Информация о пользователе'!A408))","v":"Пусто"},{"$f":"TRIM(IF('Информация о пользователе'!B408=\"\",\" \",'Информация о пользователе'!B408&\" \"&'Информация о пользователе'!C408))","v":""},{"$f":"TRIM(IF(AD!A407=\"\",\"\",AD!B407&\" \"&A407))","v":"Пусто"},{"$f":"TRIM(IF('Информация о пользователе'!D408=\"\",F407&\"@edu54.ru\",'Информация о пользователе'!D408))","v":"pusto@edu54.ru"},{"$f":"TRIM(IF('Информация о пользователе'!E408=\"\",\"\",'Информация о пользователе'!E408))","v":""},{"$f":"IF('Информация о пользователе'!F408=\"\",TRIM(Translit.Translit(A407)&TRIM(LEFT(Translit.Translit(Service!E406),1))&TRIM(LEFT(Translit.Translit(Service!F406),1))),TRIM('Информация о пользователе'!F408))","v":"pusto"},{"$f":"IF('Информация о пользователе'!G408=\"\",TRIM(LEFT(Translit.Translit(Service!E406),2))&INDEX(Service!H406:H424,RANDBETWEEN(1,19),1)&RANDBETWEEN(1,9)&IF(Service!F406=\"\",TRIM(LEFT(Translit.Translit(Service!E406),3))&INDEX(Service!A406:A431,RANDBETWEEN(1,26),1),TRIM(LEFT(Translit.Translit(Service!F406),2))&INDEX(Service!H406:H424,RANDBETWEEN(1,19),1)&INDEX(Service!A406:A431,RANDBETWEEN(1,26),1)),'Информация о пользователе'!G408)","v":{"$error":"#NAME?"}}]
[{"$f":"TRIM(IF('Информация о пользователе'!A409=\"\",\"Пусто\",'Информация о пользователе'!A409))","v":"Пусто"},{"$f":"TRIM(IF('Информация о пользователе'!B409=\"\",\" \",'Информация о пользователе'!B409&\" \"&'Информация о пользователе'!C409))","v":""},{"$f":"TRIM(IF(AD!A408=\"\",\"\",AD!B408&\" \"&A408))","v":"Пусто"},{"$f":"TRIM(IF('Информация о пользователе'!D409=\"\",F408&\"@edu54.ru\",'Информация о пользователе'!D409))","v":"pusto@edu54.ru"},{"$f":"TRIM(IF('Информация о пользователе'!E409=\"\",\"\",'Информация о пользователе'!E409))","v":""},{"$f":"IF('Информация о пользователе'!F409=\"\",TRIM(Translit.Translit(A408)&TRIM(LEFT(Translit.Translit(Service!E407),1))&TRIM(LEFT(Translit.Translit(Service!F407),1))),TRIM('Информация о пользователе'!F409))","v":"pusto"},{"$f":"IF('Информация о пользователе'!G409=\"\",TRIM(LEFT(Translit.Translit(Service!E407),2))&INDEX(Service!H407:H425,RANDBETWEEN(1,19),1)&RANDBETWEEN(1,9)&IF(Service!F407=\"\",TRIM(LEFT(Translit.Translit(Service!E407),3))&INDEX(Service!A407:A432,RANDBETWEEN(1,26),1),TRIM(LEFT(Translit.Translit(Service!F407),2))&INDEX(Service!H407:H425,RANDBETWEEN(1,19),1)&INDEX(Service!A407:A432,RANDBETWEEN(1,26),1)),'Информация о пользователе'!G409)","v":{"$error":"#NAME?"}}]
[{"$f":"TRIM(IF('Информация о пользователе'!A410=\"\",\"Пусто\",'Информация о пользователе'!A410))","v":"Пусто"},{"$f":"TRIM(IF('Информация о пользователе'!B410=\"\",\" \",'Информация о пользователе'!B410&\" \"&'Информация о пользователе'!C410))","v":""},{"$f":"TRIM(IF(AD!A409=\"\",\"\",AD!B409&\" \"&A409))","v":"Пусто"},{"$f":"TRIM(IF('Информация о пользователе'!D410=\"\",F409&\"@edu54.ru\",'Информация о пользователе'!D410))","v":"pusto@edu54.ru"},{"$f":"TRIM(IF('Информация о пользователе'!E410=\"\",\"\",'Информация о пользователе'!E410))","v":""},{"$f":"IF('Информация о пользователе'!F410=\"\",TRIM(Translit.Translit(A409)&TRIM(LEFT(Translit.Translit(Service!E408),1))&TRIM(LEFT(Translit.Translit(Service!F408),1))),TRIM('Информация о пользователе'!F410))","v":"pusto"},{"$f":"IF('Информация о пользователе'!G410=\"\",TRIM(LEFT(Translit.Translit(Service!E408),2))&INDEX(Service!H408:H426,RANDBETWEEN(1,19),1)&RANDBETWEEN(1,9)&IF(Service!F408=\"\",TRIM(LEFT(Translit.Translit(Service!E408),3))&INDEX(Service!A408:A433,RANDBETWEEN(1,26),1),TRIM(LEFT(Translit.Translit(Service!F408),2))&INDEX(Service!H408:H426,RANDBETWEEN(1,19),1)&INDEX(Service!A408:A433,RANDBETWEEN(1,26),1)),'Информация о пользователе'!G410)","v":{"$error":"#NAME?"}}]
[{"$f":"TRIM(IF('Информация о пользователе'!A411=\"\",\"Пусто\",'Информация о пользователе'!A411))","v":"Пусто"},{"$f":"TRIM(IF('Информация о пользователе'!B411=\"\",\" \",'Информация о пользователе'!B411&\" \"&'Информация о пользователе'!C411))","v":""},{"$f":"TRIM(IF(AD!A410=\"\",\"\",AD!B410&\" \"&A410))","v":"Пусто"},{"$f":"TRIM(IF('Информация о пользователе'!D411=\"\",F410&\"@edu54.ru\",'Информация о пользователе'!D411))","v":"pusto@edu54.ru"},{"$f":"TRIM(IF('Информация о пользователе'!E411=\"\",\"\",'Информация о пользователе'!E411))","v":""},{"$f":"IF('Информация о пользователе'!F411=\"\",TRIM(Translit.Translit(A410)&TRIM(LEFT(Translit.Translit(Service!E409),1))&TRIM(LEFT(Translit.Translit(Service!F409),1))),TRIM('Информация о пользователе'!F411))","v":"pusto"},{"$f":"IF('Информация о пользователе'!G411=\"\",TRIM(LEFT(Translit.Translit(Service!E409),2))&INDEX(Service!H409:H427,RANDBETWEEN(1,19),1)&RANDBETWEEN(1,9)&IF(Service!F409=\"\",TRIM(LEFT(Translit.Translit(Service!E409),3))&INDEX(Service!A409:A434,RANDBETWEEN(1,26),1),TRIM(LEFT(Translit.Translit(Service!F409),2))&INDEX(Service!H409:H427,RANDBETWEEN(1,19),1)&INDEX(Service!A409:A434,RANDBETWEEN(1,26),1)),'Информация о пользователе'!G411)","v":{"$error":"#NAME?"}}]
[{"$f":"TRIM(IF('Информация о пользователе'!A412=\"\",\"Пусто\",'Информация о пользователе'!A412))","v":"Пусто"},{"$f":"TRIM(IF('Информация о пользователе'!B412=\"\",\" \",'Информация о пользователе'!B412&\" \"&'Информация о пользователе'!C412))","v":""},{"$f":"TRIM(IF(AD!A411=\"\",\"\",AD!B411&\" \"&A411))","v":"Пусто"},{"$f":"TRIM(IF('Информация о пользователе'!D412=\"\",F411&\"@edu54.ru\",'Информация о пользователе'!D412))","v":"pusto@edu54.ru"},{"$f":"TRIM(IF('Информация о пользователе'!E412=\"\",\"\",'Информация о пользователе'!E412))","v":""},{"$f":"IF('Информация о пользователе'!F412=\"\",TRIM(Translit.Translit(A411)&TRIM(LEFT(Translit.Translit(Service!E410),1))&TRIM(LEFT(Translit.Translit(Service!F410),1))),TRIM('Информация о пользователе'!F412))","v":"pusto"},{"$f":"IF('Информация о пользователе'!G412=\"\",TRIM(LEFT(Translit.Translit(Service!E410),2))&INDEX(Service!H410:H428,RANDBETWEEN(1,19),1)&RANDBETWEEN(1,9)&IF(Service!F410=\"\",TRIM(LEFT(Translit.Translit(Service!E410),3))&INDEX(Service!A410:A435,RANDBETWEEN(1,26),1),TRIM(LEFT(Translit.Translit(Service!F410),2))&INDEX(Service!H410:H428,RANDBETWEEN(1,19),1)&INDEX(Service!A410:A435,RANDBETWEEN(1,26),1)),'Информация о пользователе'!G412)","v":{"$error":"#NAME?"}}]
[{"$f":"TRIM(IF('Информация о пользователе'!A413=\"\",\"Пусто\",'Информация о пользователе'!A413))","v":"Пусто"},{"$f":"TRIM(IF('Информация о пользователе'!B413=\"\",\" \",'Информация о пользователе'!B413&\" \"&'Информация о пользователе'!C413))","v":""},{"$f":"TRIM(IF(AD!A412=\"\",\"\",AD!B412&\" \"&A412))","v":"Пусто"},{"$f":"TRIM(IF('Информация о пользователе'!D413=\"\",F412&\"@edu54.ru\",'Информация о пользователе'!D413))","v":"pusto@edu54.ru"},{"$f":"TRIM(IF('Информация о пользователе'!E413=\"\",\"\",'Информация о пользователе'!E413))","v":""},{"$f":"IF('Информация о пользователе'!F413=\"\",TRIM(Translit.Translit(A412)&TRIM(LEFT(Translit.Translit(Service!E411),1))&TRIM(LEFT(Translit.Translit(Service!F411),1))),TRIM('Информация о пользователе'!F413))","v":"pusto"},{"$f":"IF('Информация о пользователе'!G413=\"\",TRIM(LEFT(Translit.Translit(Service!E411),2))&INDEX(Service!H411:H429,RANDBETWEEN(1,19),1)&RANDBETWEEN(1,9)&IF(Service!F411=\"\",TRIM(LEFT(Translit.Translit(Service!E411),3))&INDEX(Service!A411:A436,RANDBETWEEN(1,26),1),TRIM(LEFT(Translit.Translit(Service!F411),2))&INDEX(Service!H411:H429,RANDBETWEEN(1,19),1)&INDEX(Service!A411:A436,RANDBETWEEN(1,26),1)),'Информация о пользователе'!G413)","v":{"$error":"#NAME?"}}]
[{"$f":"TRIM(IF('Информация о пользователе'!A414=\"\",\"Пусто\",'Информация о пользователе'!A414))","v":"Пусто"},{"$f":"TRIM(IF('Информация о пользователе'!B414=\"\",\" \",'Информация о пользователе'!B414&\" \"&'Информация о пользователе'!C414))","v":""},{"$f":"TRIM(IF(AD!A413=\"\",\"\",AD!B413&\" \"&A413))","v":"Пусто"},{"$f":"TRIM(IF('Информация о пользователе'!D414=\"\",F413&\"@edu54.ru\",'Информация о пользователе'!D414))","v":"pusto@edu54.ru"},{"$f":"TRIM(IF('Информация о пользователе'!E414=\"\",\"\",'Информация о пользователе'!E414))","v":""},{"$f":"IF('Информация о пользователе'!F414=\"\",TRIM(Translit.Translit(A413)&TRIM(LEFT(Translit.Translit(Service!E412),1))&TRIM(LEFT(Translit.Translit(Service!F412),1))),TRIM('Информация о пользователе'!F414))","v":"pusto"},{"$f":"IF('Информация о пользователе'!G414=\"\",TRIM(LEFT(Translit.Translit(Service!E412),2))&INDEX(Service!H412:H430,RANDBETWEEN(1,19),1)&RANDBETWEEN(1,9)&IF(Service!F412=\"\",TRIM(LEFT(Translit.Translit(Service!E412),3))&INDEX(Service!A412:A437,RANDBETWEEN(1,26),1),TRIM(LEFT(Translit.Translit(Service!F412),2))&INDEX(Service!H412:H430,RANDBETWEEN(1,19),1)&INDEX(Service!A412:A437,RANDBETWEEN(1,26),1)),'Информация о пользователе'!G414)","v":{"$error":"#NAME?"}}]
[{"$f":"TRIM(IF('Информация о пользователе'!A415=\"\",\"Пусто\",'Информация о пользователе'!A415))","v":"Пусто"},{"$f":"TRIM(IF('Информация о пользователе'!B415=\"\",\" \",'Информация о пользователе'!B415&\" \"&'Информация о пользователе'!C415))","v":""},{"$f":"TRIM(IF(AD!A414=\"\",\"\",AD!B414&\" \"&A414))","v":"Пусто"},{"$f":"TRIM(IF('Информация о пользователе'!D415=\"\",F414&\"@edu54.ru\",'Информация о пользователе'!D415))","v":"pusto@edu54.ru"},{"$f":"TRIM(IF('Информация о пользователе'!E415=\"\",\"\",'Информация о пользователе'!E415))","v":""},{"$f":"IF('Информация о пользователе'!F415=\"\",TRIM(Translit.Translit(A414)&TRIM(LEFT(Translit.Translit(Service!E413),1))&TRIM(LEFT(Translit.Translit(Service!F413),1))),TRIM('Информация о пользователе'!F415))","v":"pusto"},{"$f":"IF('Информация о пользователе'!G415=\"\",TRIM(LEFT(Translit.Translit(Service!E413),2))&INDEX(Service!H413:H431,RANDBETWEEN(1,19),1)&RANDBETWEEN(1,9)&IF(Service!F413=\"\",TRIM(LEFT(Translit.Translit(Service!E413),3))&INDEX(Service!A413:A438,RANDBETWEEN(1,26),1),TRIM(LEFT(Translit.Translit(Service!F413),2))&INDEX(Service!H413:H431,RANDBETWEEN(1,19),1)&INDEX(Service!A413:A438,RANDBETWEEN(1,26),1)),'Информация о пользователе'!G415)","v":{"$error":"#NAME?"}}]
[{"$f":"TRIM(IF('Информация о пользователе'!A416=\"\",\"Пусто\",'Информация о пользователе'!A416))","v":"Пусто"},{"$f":"TRIM(IF('Информация о пользователе'!B416=\"\",\" \",'Информация о пользователе'!B416&\" \"&'Информация о пользователе'!C416))","v":""},{"$f":"TRIM(IF(AD!A415=\"\",\"\",AD!B415&\" \"&A415))","v":"Пусто"},{"$f":"TRIM(IF('Информация о пользователе'!D416=\"\",F415&\"@edu54.ru\",'Информация о пользователе'!D416))","v":"pusto@edu54.ru"},{"$f":"TRIM(IF('Информация о пользователе'!E416=\"\",\"\",'Информация о пользователе'!E416))","v":""},{"$f":"IF('Информация о пользователе'!F416=\"\",TRIM(Translit.Translit(A415)&TRIM(LEFT(Translit.Translit(Service!E414),1))&TRIM(LEFT(Translit.Translit(Service!F414),1))),TRIM('Информация о пользователе'!F416))","v":"pusto"},{"$f":"IF('Информация о пользователе'!G416=\"\",TRIM(LEFT(Translit.Translit(Service!E414),2))&INDEX(Service!H414:H432,RANDBETWEEN(1,19),1)&RANDBETWEEN(1,9)&IF(Service!F414=\"\",TRIM(LEFT(Translit.Translit(Service!E414),3))&INDEX(Service!A414:A439,RANDBETWEEN(1,26),1),TRIM(LEFT(Translit.Translit(Service!F414),2))&INDEX(Service!H414:H432,RANDBETWEEN(1,19),1)&INDEX(Service!A414:A439,RANDBETWEEN(1,26),1)),'Информация о пользователе'!G416)","v":{"$error":"#NAME?"}}]
[{"$f":"TRIM(IF('Информация о пользователе'!A417=\"\",\"Пусто\",'Информация о пользователе'!A417))","v":"Пусто"},{"$f":"TRIM(IF('Информация о пользователе'!B417=\"\",\" \",'Информация о пользователе'!B417&\" \"&'Информация о пользователе'!C417))","v":""},{"$f":"TRIM(IF(AD!A416=\"\",\"\",AD!B416&\" \"&A416))","v":"Пусто"},{"$f":"TRIM(IF('Информация о пользователе'!D417=\"\",F416&\"@edu54.ru\",'Информация о пользователе'!D417))","v":"pusto@edu54.ru"},{"$f":"TRIM(IF('Информация о пользователе'!E417=\"\",\"\",'Информация о пользователе'!E417))","v":""},{"$f":"IF('Информация о пользователе'!F417=\"\",TRIM(Translit.Translit(A416)&TRIM(LEFT(Translit.Translit(Service!E415),1))&TRIM(LEFT(Translit.Translit(Service!F415),1))),TRIM('Информация о пользователе'!F417))","v":"pusto"},{"$f":"IF('Информация о пользователе'!G417=\"\",TRIM(LEFT(Translit.Translit(Service!E415),2))&INDEX(Service!H415:H433,RANDBETWEEN(1,19),1)&RANDBETWEEN(1,9)&IF(Service!F415=\"\",TRIM(LEFT(Translit.Translit(Service!E415),3))&INDEX(Service!A415:A440,RANDBETWEEN(1,26),1),TRIM(LEFT(Translit.Translit(Service!F415),2))&INDEX(Service!H415:H433,RANDBETWEEN(1,19),1)&INDEX(Service!A415:A440,RANDBETWEEN(1,26),1)),'Информация о пользователе'!G417)","v":{"$error":"#NAME?"}}]
[{"$f":"TRIM(IF('Информация о пользователе'!A418=\"\",\"Пусто\",'Информация о пользователе'!A418))","v":"Пусто"},{"$f":"TRIM(IF('Информация о пользователе'!B418=\"\",\" \",'Информация о пользователе'!B418&\" \"&'Информация о пользователе'!C418))","v":""},{"$f":"TRIM(IF(AD!A417=\"\",\"\",AD!B417&\" \"&A417))","v":"Пусто"},{"$f":"TRIM(IF('Информация о пользователе'!D418=\"\",F417&\"@edu54.ru\",'Информация о пользователе'!D418))","v":"pusto@edu54.ru"},{"$f":"TRIM(IF('Информация о пользователе'!E418=\"\",\"\",'Информация о пользователе'!E418))","v":""},{"$f":"IF('Информация о пользователе'!F418=\"\",TRIM(Translit.Translit(A417)&TRIM(LEFT(Translit.Translit(Service!E416),1))&TRIM(LEFT(Translit.Translit(Service!F416),1))),TRIM('Информация о пользователе'!F418))","v":"pusto"},{"$f":"IF('Информация о пользователе'!G418=\"\",TRIM(LEFT(Translit.Translit(Service!E416),2))&INDEX(Service!H416:H434,RANDBETWEEN(1,19),1)&RANDBETWEEN(1,9)&IF(Service!F416=\"\",TRIM(LEFT(Translit.Translit(Service!E416),3))&INDEX(Service!A416:A441,RANDBETWEEN(1,26),1),TRIM(LEFT(Translit.Translit(Service!F416),2))&INDEX(Service!H416:H434,RANDBETWEEN(1,19),1)&INDEX(Service!A416:A441,RANDBETWEEN(1,26),1)),'Информация о пользователе'!G418)","v":{"$error":"#NAME?"}}]
[{"$f":"TRIM(IF('Информация о пользователе'!A419=\"\",\"Пусто\",'Информация о пользователе'!A419))","v":"Пусто"},{"$f":"TRIM(IF('Информация о пользователе'!B419=\"\",\" \",'Информация о пользователе'!B419&\" \"&'Информация о пользователе'!C419))","v":""},{"$f":"TRIM(IF(AD!A418=\"\",\"\",AD!B418&\" \"&A418))","v":"Пусто"},{"$f":"TRIM(IF('Информация о пользователе'!D419=\"\",F418&\"@edu54.ru\",'Информация о пользователе'!D419))","v":"pusto@edu54.ru"},{"$f":"TRIM(IF('Информация о пользователе'!E419=\"\",\"\",'Информация о пользователе'!E419))","v":""},{"$f":"IF('Информация о пользователе'!F419=\"\",TRIM(Translit.Translit(A418)&TRIM(LEFT(Translit.Translit(Service!E417),1))&TRIM(LEFT(Translit.Translit(Service!F417),1))),TRIM('Информация о пользователе'!F419))","v":"pusto"},{"$f":"IF('Информация о пользователе'!G419=\"\",TRIM(LEFT(Translit.Translit(Service!E417),2))&INDEX(Service!H417:H435,RANDBETWEEN(1,19),1)&RANDBETWEEN(1,9)&IF(Service!F417=\"\",TRIM(LEFT(Translit.Translit(Service!E417),3))&INDEX(Service!A417:A442,RANDBETWEEN(1,26),1),TRIM(LEFT(Translit.Translit(Service!F417),2))&INDEX(Service!H417:H435,RANDBETWEEN(1,19),1)&INDEX(Service!A417:A442,RANDBETWEEN(1,26),1)),'Информация о пользователе'!G419)","v":{"$error":"#NAME?"}}]
[{"$f":"TRIM(IF('Информация о пользователе'!A420=\"\",\"Пусто\",'Информация о пользователе'!A420))","v":"Пусто"},{"$f":"TRIM(IF('Информация о пользователе'!B420=\"\",\" \",'Информация о пользователе'!B420&\" \"&'Информация о пользователе'!C420))","v":""},{"$f":"TRIM(IF(AD!A419=\"\",\"\",AD!B419&\" \"&A419))","v":"Пусто"},{"$f":"TRIM(IF('Информация о пользователе'!D420=\"\",F419&\"@edu54.ru\",'Информация о пользователе'!D420))","v":"pusto@edu54.ru"},{"$f":"TRIM(IF('Информация о пользователе'!E420=\"\",\"\",'Информация о пользователе'!E420))","v":""},{"$f":"IF('Информация о пользователе'!F420=\"\",TRIM(Translit.Translit(A419)&TRIM(LEFT(Translit.Translit(Service!E418),1))&TRIM(LEFT(Translit.Translit(Service!F418),1))),TRIM('Информация о пользователе'!F420))","v":"pusto"},{"$f":"IF('Информация о пользователе'!G420=\"\",TRIM(LEFT(Translit.Translit(Service!E418),2))&INDEX(Service!H418:H436,RANDBETWEEN(1,19),1)&RANDBETWEEN(1,9)&IF(Service!F418=\"\",TRIM(LEFT(Translit.Translit(Service!E418),3))&INDEX(Service!A418:A443,RANDBETWEEN(1,26),1),TRIM(LEFT(Translit.Translit(Service!F418),2))&INDEX(Service!H418:H436,RANDBETWEEN(1,19),1)&INDEX(Service!A418:A443,RANDBETWEEN(1,26),1)),'Информация о пользователе'!G420)","v":{"$error":"#NAME?"}}]
[{"$f":"TRIM(IF('Информация о пользователе'!A421=\"\",\"Пусто\",'Информация о пользователе'!A421))","v":"Пусто"},{"$f":"TRIM(IF('Информация о пользователе'!B421=\"\",\" \",'Информация о пользователе'!B421&\" \"&'Информация о пользователе'!C421))","v":""},{"$f":"TRIM(IF(AD!A420=\"\",\"\",AD!B420&\" \"&A420))","v":"Пусто"},{"$f":"TRIM(IF('Информация о пользователе'!D421=\"\",F420&\"@edu54.ru\",'Информация о пользователе'!D421))","v":"pusto@edu54.ru"},{"$f":"TRIM(IF('Информация о пользователе'!E421=\"\",\"\",'Информация о пользователе'!E421))","v":""},{"$f":"IF('Информация о пользователе'!F421=\"\",TRIM(Translit.Translit(A420)&TRIM(LEFT(Translit.Translit(Service!E419),1))&TRIM(LEFT(Translit.Translit(Service!F419),1))),TRIM('Информация о пользователе'!F421))","v":"pusto"},{"$f":"IF('Информация о пользователе'!G421=\"\",TRIM(LEFT(Translit.Translit(Service!E419),2))&INDEX(Service!H419:H437,RANDBETWEEN(1,19),1)&RANDBETWEEN(1,9)&IF(Service!F419=\"\",TRIM(LEFT(Translit.Translit(Service!E419),3))&INDEX(Service!A419:A444,RANDBETWEEN(1,26),1),TRIM(LEFT(Translit.Translit(Service!F419),2))&INDEX(Service!H419:H437,RANDBETWEEN(1,19),1)&INDEX(Service!A419:A444,RANDBETWEEN(1,26),1)),'Информация о пользователе'!G421)","v":{"$error":"#NAME?"}}]
[{"$f":"TRIM(IF('Информация о пользователе'!A422=\"\",\"Пусто\",'Информация о пользователе'!A422))","v":"Пусто"},{"$f":"TRIM(IF('Информация о пользователе'!B422=\"\",\" \",'Информация о пользователе'!B422&\" \"&'Информация о пользователе'!C422))","v":""},{"$f":"TRIM(IF(AD!A421=\"\",\"\",AD!B421&\" \"&A421))","v":"Пусто"},{"$f":"TRIM(IF('Информация о пользователе'!D422=\"\",F421&\"@edu54.ru\",'Информация о пользователе'!D422))","v":"pusto@edu54.ru"},{"$f":"TRIM(IF('Информация о пользователе'!E422=\"\",\"\",'Информация о пользователе'!E422))","v":""},{"$f":"IF('Информация о пользователе'!F422=\"\",TRIM(Translit.Translit(A421)&TRIM(LEFT(Translit.Translit(Service!E420),1))&TRIM(LEFT(Translit.Translit(Service!F420),1))),TRIM('Информация о пользователе'!F422))","v":"pusto"},{"$f":"IF('Информация о пользователе'!G422=\"\",TRIM(LEFT(Translit.Translit(Service!E420),2))&INDEX(Service!H420:H438,RANDBETWEEN(1,19),1)&RANDBETWEEN(1,9)&IF(Service!F420=\"\",TRIM(LEFT(Translit.Translit(Service!E420),3))&INDEX(Service!A420:A445,RANDBETWEEN(1,26),1),TRIM(LEFT(Translit.Translit(Service!F420),2))&INDEX(Service!H420:H438,RANDBETWEEN(1,19),1)&INDEX(Service!A420:A445,RANDBETWEEN(1,26),1)),'Информация о пользователе'!G422)","v":{"$error":"#NAME?"}}]
[{"$f":"TRIM(IF('Информация о пользователе'!A423=\"\",\"Пусто\",'Информация о пользователе'!A423))","v":"Пусто"},{"$f":"TRIM(IF('Информация о пользователе'!B423=\"\",\" \",'Информация о пользователе'!B423&\" \"&'Информация о пользователе'!C423))","v":""},{"$f":"TRIM(IF(AD!A422=\"\",\"\",AD!B422&\" \"&A422))","v":"Пусто"},{"$f":"TRIM(IF('Информация о пользователе'!D423=\"\",F422&\"@edu54.ru\",'Информация о пользователе'!D423))","v":"pusto@edu54.ru"},{"$f":"TRIM(IF('Информация о пользователе'!E423=\"\",\"\",'Информация о пользователе'!E423))","v":""},{"$f":"IF('Информация о пользователе'!F423=\"\",TRIM(Translit.Translit(A422)&TRIM(LEFT(Translit.Translit(Service!E421),1))&TRIM(LEFT(Translit.Translit(Service!F421),1))),TRIM('Информация о пользователе'!F423))","v":"pusto"},{"$f":"IF('Информация о пользователе'!G423=\"\",TRIM(LEFT(Translit.Translit(Service!E421),2))&INDEX(Service!H421:H439,RANDBETWEEN(1,19),1)&RANDBETWEEN(1,9)&IF(Service!F421=\"\",TRIM(LEFT(Translit.Translit(Service!E421),3))&INDEX(Service!A421:A446,RANDBETWEEN(1,26),1),TRIM(LEFT(Translit.Translit(Service!F421),2))&INDEX(Service!H421:H439,RANDBETWEEN(1,19),1)&INDEX(Service!A421:A446,RANDBETWEEN(1,26),1)),'Информация о пользователе'!G423)","v":{"$error":"#NAME?"}}]
[{"$f":"TRIM(IF('Информация о пользователе'!A424=\"\",\"Пусто\",'Информация о пользователе'!A424))","v":"Пусто"},{"$f":"TRIM(IF('Информация о пользователе'!B424=\"\",\" \",'Информация о пользователе'!B424&\" \"&'Информация о пользователе'!C424))","v":""},{"$f":"TRIM(IF(AD!A423=\"\",\"\",AD!B423&\" \"&A423))","v":"Пусто"},{"$f":"TRIM(IF('Информация о пользователе'!D424=\"\",F423&\"@edu54.ru\",'Информация о пользователе'!D424))","v":"pusto@edu54.ru"},{"$f":"TRIM(IF('Информация о пользователе'!E424=\"\",\"\",'Информация о пользователе'!E424))","v":""},{"$f":"IF('Информация о пользователе'!F424=\"\",TRIM(Translit.Translit(A423)&TRIM(LEFT(Translit.Translit(Service!E422),1))&TRIM(LEFT(Translit.Translit(Service!F422),1))),TRIM('Информация о пользователе'!F424))","v":"pusto"},{"$f":"IF('Информация о пользователе'!G424=\"\",TRIM(LEFT(Translit.Translit(Service!E422),2))&INDEX(Service!H422:H440,RANDBETWEEN(1,19),1)&RANDBETWEEN(1,9)&IF(Service!F422=\"\",TRIM(LEFT(Translit.Translit(Service!E422),3))&INDEX(Service!A422:A447,RANDBETWEEN(1,26),1),TRIM(LEFT(Translit.Translit(Service!F422),2))&INDEX(Service!H422:H440,RANDBETWEEN(1,19),1)&INDEX(Service!A422:A447,RANDBETWEEN(1,26),1)),'Информация о пользователе'!G424)","v":{"$error":"#NAME?"}}]
[{"$f":"TRIM(IF('Информация о пользователе'!A425=\"\",\"Пусто\",'Информация о пользователе'!A425))","v":"Пусто"},{"$f":"TRIM(IF('Информация о пользователе'!B425=\"\",\" \",'Информация о пользователе'!B425&\" \"&'Информация о пользователе'!C425))","v":""},{"$f":"TRIM(IF(AD!A424=\"\",\"\",AD!B424&\" \"&A424))","v":"Пусто"},{"$f":"TRIM(IF('Информация о пользователе'!D425=\"\",F424&\"@edu54.ru\",'Информация о пользователе'!D425))","v":"pusto@edu54.ru"},{"$f":"TRIM(IF('Информация о пользователе'!E425=\"\",\"\",'Информация о пользователе'!E425))","v":""},{"$f":"IF('Информация о пользователе'!F425=\"\",TRIM(Translit.Translit(A424)&TRIM(LEFT(Translit.Translit(Service!E423),1))&TRIM(LEFT(Translit.Translit(Service!F423),1))),TRIM('Информация о пользователе'!F425))","v":"pusto"},{"$f":"IF('Информация о пользователе'!G425=\"\",TRIM(LEFT(Translit.Translit(Service!E423),2))&INDEX(Service!H423:H441,RANDBETWEEN(1,19),1)&RANDBETWEEN(1,9)&IF(Service!F423=\"\",TRIM(LEFT(Translit.Translit(Service!E423),3))&INDEX(Service!A423:A448,RANDBETWEEN(1,26),1),TRIM(LEFT(Translit.Translit(Service!F423),2))&INDEX(Service!H423:H441,RANDBETWEEN(1,19),1)&INDEX(Service!A423:A448,RANDBETWEEN(1,26),1)),'Информация о пользователе'!G425)","v":{"$error":"#NAME?"}}]
[{"$f":"TRIM(IF('Информация о пользователе'!A426=\"\",\"Пусто\",'Информация о пользователе'!A426))","v":"Пусто"},{"$f":"TRIM(IF('Информация о пользователе'!B426=\"\",\" \",'Информация о пользователе'!B426&\" \"&'Информация о пользователе'!C426))","v":""},{"$f":"TRIM(IF(AD!A425=\"\",\"\",AD!B425&\" \"&A425))","v":"Пусто"},{"$f":"TRIM(IF('Информация о пользователе'!D426=\"\",F425&\"@edu54.ru\",'Информация о пользователе'!D426))","v":"pusto@edu54.ru"},{"$f":"TRIM(IF('Информация о пользователе'!E426=\"\",\"\",'Информация о пользователе'!E426))","v":""},{"$f":"IF('Информация о пользователе'!F426=\"\",TRIM(Translit.Translit(A425)&TRIM(LEFT(Translit.Translit(Service!E424),1))&TRIM(LEFT(Translit.Translit(Service!F424),1))),TRIM('Информация о пользователе'!F426))","v":"pusto"},{"$f":"IF('Информация о пользователе'!G426=\"\",TRIM(LEFT(Translit.Translit(Service!E424),2))&INDEX(Service!H424:H442,RANDBETWEEN(1,19),1)&RANDBETWEEN(1,9)&IF(Service!F424=\"\",TRIM(LEFT(Translit.Translit(Service!E424),3))&INDEX(Service!A424:A449,RANDBETWEEN(1,26),1),TRIM(LEFT(Translit.Translit(Service!F424),2))&INDEX(Service!H424:H442,RANDBETWEEN(1,19),1)&INDEX(Service!A424:A449,RANDBETWEEN(1,26),1)),'Информация о пользователе'!G426)","v":{"$error":"#NAME?"}}]
[{"$f":"TRIM(IF('Информация о пользователе'!A427=\"\",\"Пусто\",'Информация о пользователе'!A427))","v":"Пусто"},{"$f":"TRIM(IF('Информация о пользователе'!B427=\"\",\" \",'Информация о пользователе'!B427&\" \"&'Информация о пользователе'!C427))","v":""},{"$f":"TRIM(IF(AD!A426=\"\",\"\",AD!B426&\" \"&A426))","v":"Пусто"},{"$f":"TRIM(IF('Информация о пользователе'!D427=\"\",F426&\"@edu54.ru\",'Информация о пользователе'!D427))","v":"pusto@edu54.ru"},{"$f":"TRIM(IF('Информация о пользователе'!E427=\"\",\"\",'Информация о пользователе'!E427))","v":""},{"$f":"IF('Информация о пользователе'!F427=\"\",TRIM(Translit.Translit(A426)&TRIM(LEFT(Translit.Translit(Service!E425),1))&TRIM(LEFT(Translit.Translit(Service!F425),1))),TRIM('Информация о пользователе'!F427))","v":"pusto"},{"$f":"IF('Информация о пользователе'!G427=\"\",TRIM(LEFT(Translit.Translit(Service!E425),2))&INDEX(Service!H425:H443,RANDBETWEEN(1,19),1)&RANDBETWEEN(1,9)&IF(Service!F425=\"\",TRIM(LEFT(Translit.Translit(Service!E425),3))&INDEX(Service!A425:A450,RANDBETWEEN(1,26),1),TRIM(LEFT(Translit.Translit(Service!F425),2))&INDEX(Service!H425:H443,RANDBETWEEN(1,19),1)&INDEX(Service!A425:A450,RANDBETWEEN(1,26),1)),'Информация о пользователе'!G427)","v":{"$error":"#NAME?"}}]
[{"$f":"TRIM(IF('Информация о пользователе'!A428=\"\",\"Пусто\",'Информация о пользователе'!A428))","v":"Пусто"},{"$f":"TRIM(IF('Информация о пользователе'!B428=\"\",\" \",'Информация о пользователе'!B428&\" \"&'Информация о пользователе'!C428))","v":""},{"$f":"TRIM(IF(AD!A427=\"\",\"\",AD!B427&\" \"&A427))","v":"Пусто"},{"$f":"TRIM(IF('Информация о пользователе'!D428=\"\",F427&\"@edu54.ru\",'Информация о пользователе'!D428))","v":"pusto@edu54.ru"},{"$f":"TRIM(IF('Информация о пользователе'!E428=\"\",\"\",'Информация о пользователе'!E428))","v":""},{"$f":"IF('Информация о пользователе'!F428=\"\",TRIM(Translit.Translit(A427)&TRIM(LEFT(Translit.Translit(Service!E426),1))&TRIM(LEFT(Translit.Translit(Service!F426),1))),TRIM('Информация о пользователе'!F428))","v":"pusto"},{"$f":"IF('Информация о пользователе'!G428=\"\",TRIM(LEFT(Translit.Translit(Service!E426),2))&INDEX(Service!H426:H444,RANDBETWEEN(1,19),1)&RANDBETWEEN(1,9)&IF(Service!F426=\"\",TRIM(LEFT(Translit.Translit(Service!E426),3))&INDEX(Service!A426:A451,RANDBETWEEN(1,26),1),TRIM(LEFT(Translit.Translit(Service!F426),2))&INDEX(Service!H426:H444,RANDBETWEEN(1,19),1)&INDEX(Service!A426:A451,RANDBETWEEN(1,26),1)),'Информация о пользователе'!G428)","v":{"$error":"#NAME?"}}]
[{"$f":"TRIM(IF('Информация о пользователе'!A429=\"\",\"Пусто\",'Информация о пользователе'!A429))","v":"Пусто"},{"$f":"TRIM(IF('Информация о пользователе'!B429=\"\",\" \",'Информация о пользователе'!B429&\" \"&'Информация о пользователе'!C429))","v":""},{"$f":"TRIM(IF(AD!A428=\"\",\"\",AD!B428&\" \"&A428))","v":"Пусто"},{"$f":"TRIM(IF('Информация о пользователе'!D429=\"\",F428&\"@edu54.ru\",'Информация о пользователе'!D429))","v":"pusto@edu54.ru"},{"$f":"TRIM(IF('Информация о пользователе'!E429=\"\",\"\",'Информация о пользователе'!E429))","v":""},{"$f":"IF('Информация о пользователе'!F429=\"\",TRIM(Translit.Translit(A428)&TRIM(LEFT(Translit.Translit(Service!E427),1))&TRIM(LEFT(Translit.Translit(Service!F427),1))),TRIM('Информация о пользователе'!F429))","v":"pusto"},{"$f":"IF('Информация о пользователе'!G429=\"\",TRIM(LEFT(Translit.Translit(Service!E427),2))&INDEX(Service!H427:H445,RANDBETWEEN(1,19),1)&RANDBETWEEN(1,9)&IF(Service!F427=\"\",TRIM(LEFT(Translit.Translit(Service!E427),3))&INDEX(Service!A427:A452,RANDBETWEEN(1,26),1),TRIM(LEFT(Translit.Translit(Service!F427),2))&INDEX(Service!H427:H445,RANDBETWEEN(1,19),1)&INDEX(Service!A427:A452,RANDBETWEEN(1,26),1)),'Информация о пользователе'!G429)","v":{"$error":"#NAME?"}}]
[{"$f":"TRIM(IF('Информация о пользователе'!A430=\"\",\"Пусто\",'Информация о пользователе'!A430))","v":"Пусто"},{"$f":"TRIM(IF('Информация о пользователе'!B430=\"\",\" \",'Информация о пользователе'!B430&\" \"&'Информация о пользователе'!C430))","v":""},{"$f":"TRIM(IF(AD!A429=\"\",\"\",AD!B429&\" \"&A429))","v":"Пусто"},{"$f":"TRIM(IF('Информация о пользователе'!D430=\"\",F429&\"@edu54.ru\",'Информация о пользователе'!D430))","v":"pusto@edu54.ru"},{"$f":"TRIM(IF('Информация о пользователе'!E430=\"\",\"\",'Информация о пользователе'!E430))","v":""},{"$f":"IF('Информация о пользователе'!F430=\"\",TRIM(Translit.Translit(A429)&TRIM(LEFT(Translit.Translit(Service!E428),1))&TRIM(LEFT(Translit.Translit(Service!F428),1))),TRIM('Информация о пользователе'!F430))","v":"pusto"},{"$f":"IF('Информация о пользователе'!G430=\"\",TRIM(LEFT(Translit.Translit(Service!E428),2))&INDEX(Service!H428:H446,RANDBETWEEN(1,19),1)&RANDBETWEEN(1,9)&IF(Service!F428=\"\",TRIM(LEFT(Translit.Translit(Service!E428),3))&INDEX(Service!A428:A453,RANDBETWEEN(1,26),1),TRIM(LEFT(Translit.Translit(Service!F428),2))&INDEX(Service!H428:H446,RANDBETWEEN(1,19),1)&INDEX(Service!A428:A453,RANDBETWEEN(1,26),1)),'Информация о пользователе'!G430)","v":{"$error":"#NAME?"}}]
[{"$f":"TRIM(IF('Информация о пользователе'!A431=\"\",\"Пусто\",'Информация о пользователе'!A431))","v":"Пусто"},{"$f":"TRIM(IF('Информация о пользователе'!B431=\"\",\" \",'Информация о пользователе'!B431&\" \"&'Информация о пользователе'!C431))","v":""},{"$f":"TRIM(IF(AD!A430=\"\",\"\",AD!B430&\" \"&A430))","v":"Пусто"},{"$f":"TRIM(IF('Информация о пользователе'!D431=\"\",F430&\"@edu54.ru\",'Информация о пользователе'!D431))","v":"pusto@edu54.ru"},{"$f":"TRIM(IF('Информация о пользователе'!E431=\"\",\"\",'Информация о пользователе'!E431))","v":""},{"$f":"IF('Информация о пользователе'!F431=\"\",TRIM(Translit.Translit(A430)&TRIM(LEFT(Translit.Translit(Service!E429),1))&TRIM(LEFT(Translit.Translit(Service!F429),1))),TRIM('Информация о пользователе'!F431))","v":"pusto"},{"$f":"IF('Информация о пользователе'!G431=\"\",TRIM(LEFT(Translit.Translit(Service!E429),2))&INDEX(Service!H429:H447,RANDBETWEEN(1,19),1)&RANDBETWEEN(1,9)&IF(Service!F429=\"\",TRIM(LEFT(Translit.Translit(Service!E429),3))&INDEX(Service!A429:A454,RANDBETWEEN(1,26),1),TRIM(LEFT(Translit.Translit(Service!F429),2))&INDEX(Service!H429:H447,RANDBETWEEN(1,19),1)&INDEX(Service!A429:A454,RANDBETWEEN(1,26),1)),'Информация о пользователе'!G431)","v":{"$error":"#NAME?"}}]
[{"$f":"TRIM(IF('Информация о пользователе'!A432=\"\",\"Пусто\",'Информация о пользователе'!A432))","v":"Пусто"},{"$f":"TRIM(IF('Информация о пользователе'!B432=\"\",\" \",'Информация о пользователе'!B432&\" \"&'Информация о пользователе'!C432))","v":""},{"$f":"TRIM(IF(AD!A431=\"\",\"\",AD!B431&\" \"&A431))","v":"Пусто"},{"$f":"TRIM(IF('Информация о пользователе'!D432=\"\",F431&\"@edu54.ru\",'Информация о пользователе'!D432))","v":"pusto@edu54.ru"},{"$f":"TRIM(IF('Информация о пользователе'!E432=\"\",\"\",'Информация о пользователе'!E432))","v":""},{"$f":"IF('Информация о пользователе'!F432=\"\",TRIM(Translit.Translit(A431)&TRIM(LEFT(Translit.Translit(Service!E430),1))&TRIM(LEFT(Translit.Translit(Service!F430),1))),TRIM('Информация о пользователе'!F432))","v":"pusto"},{"$f":"IF('Информация о пользователе'!G432=\"\",TRIM(LEFT(Translit.Translit(Service!E430),2))&INDEX(Service!H430:H448,RANDBETWEEN(1,19),1)&RANDBETWEEN(1,9)&IF(Service!F430=\"\",TRIM(LEFT(Translit.Translit(Service!E430),3))&INDEX(Service!A430:A455,RANDBETWEEN(1,26),1),TRIM(LEFT(Translit.Translit(Service!F430),2))&INDEX(Service!H430:H448,RANDBETWEEN(1,19),1)&INDEX(Service!A430:A455,RANDBETWEEN(1,26),1)),'Информация о пользователе'!G432)","v":{"$error":"#NAME?"}}]
[{"$f":"TRIM(IF('Информация о пользователе'!A433=\"\",\"Пусто\",'Информация о пользователе'!A433))","v":"Пусто"},{"$f":"TRIM(IF('Информация о пользователе'!B433=\"\",\" \",'Информация о пользователе'!B433&\" \"&'Информация о пользователе'!C433))","v":""},{"$f":"TRIM(IF(AD!A432=\"\",\"\",AD!B432&\" \"&A432))","v":"Пусто"},{"$f":"TRIM(IF('Информация о пользователе'!D433=\"\",F432&\"@edu54.ru\",'Информация о пользователе'!D433))","v":"pusto@edu54.ru"},{"$f":"TRIM(IF('Информация о пользователе'!E433=\"\",\"\",'Информация о пользователе'!E433))","v":""},{"$f":"IF('Информация о пользователе'!F433=\"\",TRIM(Translit.Translit(A432)&TRIM(LEFT(Translit.Translit(Service!E431),1))&TRIM(LEFT(Translit.Translit(Service!F431),1))),TRIM('Информация о пользователе'!F433))","v":"pusto"},{"$f":"IF('Информация о пользователе'!G433=\"\",TRIM(LEFT(Translit.Translit(Service!E431),2))&INDEX(Service!H431:H449,RANDBETWEEN(1,19),1)&RANDBETWEEN(1,9)&IF(Service!F431=\"\",TRIM(LEFT(Translit.Translit(Service!E431),3))&INDEX(Service!A431:A456,RANDBETWEEN(1,26),1),TRIM(LEFT(Translit.Translit(Service!F431),2))&INDEX(Service!H431:H449,RANDBETWEEN(1,19),1)&INDEX(Service!A431:A456,RANDBETWEEN(1,26),1)),'Информация о пользователе'!G433)","v":{"$error":"#NAME?"}}]
[{"$f":"TRIM(IF('Информация о пользователе'!A434=\"\",\"Пусто\",'Информация о пользователе'!A434))","v":"Пусто"},{"$f":"TRIM(IF('Информация о пользователе'!B434=\"\",\" \",'Информация о пользователе'!B434&\" \"&'Информация о пользователе'!C434))","v":""},{"$f":"TRIM(IF(AD!A433=\"\",\"\",AD!B433&\" \"&A433))","v":"Пусто"},{"$f":"TRIM(IF('Информация о пользователе'!D434=\"\",F433&\"@edu54.ru\",'Информация о пользователе'!D434))","v":"pusto@edu54.ru"},{"$f":"TRIM(IF('Информация о пользователе'!E434=\"\",\"\",'Информация о пользователе'!E434))","v":""},{"$f":"IF('Информация о пользователе'!F434=\"\",TRIM(Translit.Translit(A433)&TRIM(LEFT(Translit.Translit(Service!E432),1))&TRIM(LEFT(Translit.Translit(Service!F432),1))),TRIM('Информация о пользователе'!F434))","v":"pusto"},{"$f":"IF('Информация о пользователе'!G434=\"\",TRIM(LEFT(Translit.Translit(Service!E432),2))&INDEX(Service!H432:H450,RANDBETWEEN(1,19),1)&RANDBETWEEN(1,9)&IF(Service!F432=\"\",TRIM(LEFT(Translit.Translit(Service!E432),3))&INDEX(Service!A432:A457,RANDBETWEEN(1,26),1),TRIM(LEFT(Translit.Translit(Service!F432),2))&INDEX(Service!H432:H450,RANDBETWEEN(1,19),1)&INDEX(Service!A432:A457,RANDBETWEEN(1,26),1)),'Информация о пользователе'!G434)","v":{"$error":"#NAME?"}}]
[{"$f":"TRIM(IF('Информация о пользователе'!A435=\"\",\"Пусто\",'Информация о пользователе'!A435))","v":"Пусто"},{"$f":"TRIM(IF('Информация о пользователе'!B435=\"\",\" \",'Информация о пользователе'!B435&\" \"&'Информация о пользователе'!C435))","v":""},{"$f":"TRIM(IF(AD!A434=\"\",\"\",AD!B434&\" \"&A434))","v":"Пусто"},{"$f":"TRIM(IF('Информация о пользователе'!D435=\"\",F434&\"@edu54.ru\",'Информация о пользователе'!D435))","v":"pusto@edu54.ru"},{"$f":"TRIM(IF('Информация о пользователе'!E435=\"\",\"\",'Информация о пользователе'!E435))","v":""},{"$f":"IF('Информация о пользователе'!F435=\"\",TRIM(Translit.Translit(A434)&TRIM(LEFT(Translit.Translit(Service!E433),1))&TRIM(LEFT(Translit.Translit(Service!F433),1))),TRIM('Информация о пользователе'!F435))","v":"pusto"},{"$f":"IF('Информация о пользователе'!G435=\"\",TRIM(LEFT(Translit.Translit(Service!E433),2))&INDEX(Service!H433:H451,RANDBETWEEN(1,19),1)&RANDBETWEEN(1,9)&IF(Service!F433=\"\",TRIM(LEFT(Translit.Translit(Service!E433),3))&INDEX(Service!A433:A458,RANDBETWEEN(1,26),1),TRIM(LEFT(Translit.Translit(Service!F433),2))&INDEX(Service!H433:H451,RANDBETWEEN(1,19),1)&INDEX(Service!A433:A458,RANDBETWEEN(1,26),1)),'Информация о пользователе'!G435)","v":{"$error":"#NAME?"}}]
[{"$f":"TRIM(IF('Информация о пользователе'!A436=\"\",\"Пусто\",'Информация о пользователе'!A436))","v":"Пусто"},{"$f":"TRIM(IF('Информация о пользователе'!B436=\"\",\" \",'Информация о пользователе'!B436&\" \"&'Информация о пользователе'!C436))","v":""},{"$f":"TRIM(IF(AD!A435=\"\",\"\",AD!B435&\" \"&A435))","v":"Пусто"},{"$f":"TRIM(IF('Информация о пользователе'!D436=\"\",F435&\"@edu54.ru\",'Информация о пользователе'!D436))","v":"pusto@edu54.ru"},{"$f":"TRIM(IF('Информация о пользователе'!E436=\"\",\"\",'Информация о пользователе'!E436))","v":""},{"$f":"IF('Информация о пользователе'!F436=\"\",TRIM(Translit.Translit(A435)&TRIM(LEFT(Translit.Translit(Service!E434),1))&TRIM(LEFT(Translit.Translit(Service!F434),1))),TRIM('Информация о пользователе'!F436))","v":"pusto"},{"$f":"IF('Информация о пользователе'!G436=\"\",TRIM(LEFT(Translit.Translit(Service!E434),2))&INDEX(Service!H434:H452,RANDBETWEEN(1,19),1)&RANDBETWEEN(1,9)&IF(Service!F434=\"\",TRIM(LEFT(Translit.Translit(Service!E434),3))&INDEX(Service!A434:A459,RANDBETWEEN(1,26),1),TRIM(LEFT(Translit.Translit(Service!F434),2))&INDEX(Service!H434:H452,RANDBETWEEN(1,19),1)&INDEX(Service!A434:A459,RANDBETWEEN(1,26),1)),'Информация о пользователе'!G436)","v":{"$error":"#NAME?"}}]
[{"$f":"TRIM(IF('Информация о пользователе'!A437=\"\",\"Пусто\",'Информация о пользователе'!A437))","v":"Пусто"},{"$f":"TRIM(IF('Информация о пользователе'!B437=\"\",\" \",'Информация о пользователе'!B437&\" \"&'Информация о пользователе'!C437))","v":""},{"$f":"TRIM(IF(AD!A436=\"\",\"\",AD!B436&\" \"&A436))","v":"Пусто"},{"$f":"TRIM(IF('Информация о пользователе'!D437=\"\",F436&\"@edu54.ru\",'Информация о пользователе'!D437))","v":"pusto@edu54.ru"},{"$f":"TRIM(IF('Информация о пользователе'!E437=\"\",\"\",'Информация о пользователе'!E437))","v":""},{"$f":"IF('Информация о пользователе'!F437=\"\",TRIM(Translit.Translit(A436)&TRIM(LEFT(Translit.Translit(Service!E435),1))&TRIM(LEFT(Translit.Translit(Service!F435),1))),TRIM('Информация о пользователе'!F437))","v":"pusto"},{"$f":"IF('Информация о пользователе'!G437=\"\",TRIM(LEFT(Translit.Translit(Service!E435),2))&INDEX(Service!H435:H453,RANDBETWEEN(1,19),1)&RANDBETWEEN(1,9)&IF(Service!F435=\"\",TRIM(LEFT(Translit.Translit(Service!E435),3))&INDEX(Service!A435:A460,RANDBETWEEN(1,26),1),TRIM(LEFT(Translit.Translit(Service!F435),2))&INDEX(Service!H435:H453,RANDBETWEEN(1,19),1)&INDEX(Service!A435:A460,RANDBETWEEN(1,26),1)),'Информация о пользователе'!G437)","v":{"$error":"#NAME?"}}]
[{"$f":"TRIM(IF('Информация о пользователе'!A438=\"\",\"Пусто\",'Информация о пользователе'!A438))","v":"Пусто"},{"$f":"TRIM(IF('Информация о пользователе'!B438=\"\",\" \",'Информация о пользователе'!B438&\" \"&'Информация о пользователе'!C438))","v":""},{"$f":"TRIM(IF(AD!A437=\"\",\"\",AD!B437&\" \"&A437))","v":"Пусто"},{"$f":"TRIM(IF('Информация о пользователе'!D438=\"\",F437&\"@edu54.ru\",'Информация о пользователе'!D438))","v":"pusto@edu54.ru"},{"$f":"TRIM(IF('Информация о пользователе'!E438=\"\",\"\",'Информация о пользователе'!E438))","v":""},{"$f":"IF('Информация о пользователе'!F438=\"\",TRIM(Translit.Translit(A437)&TRIM(LEFT(Translit.Translit(Service!E436),1))&TRIM(LEFT(Translit.Translit(Service!F436),1))),TRIM('Информация о пользователе'!F438))","v":"pusto"},{"$f":"IF('Информация о пользователе'!G438=\"\",TRIM(LEFT(Translit.Translit(Service!E436),2))&INDEX(Service!H436:H454,RANDBETWEEN(1,19),1)&RANDBETWEEN(1,9)&IF(Service!F436=\"\",TRIM(LEFT(Translit.Translit(Service!E436),3))&INDEX(Service!A436:A461,RANDBETWEEN(1,26),1),TRIM(LEFT(Translit.Translit(Service!F436),2))&INDEX(Service!H436:H454,RANDBETWEEN(1,19),1)&INDEX(Service!A436:A461,RANDBETWEEN(1,26),1)),'Информация о пользователе'!G438)","v":{"$error":"#NAME?"}}]
[{"$f":"TRIM(IF('Информация о пользователе'!A439=\"\",\"Пусто\",'Информация о пользователе'!A439))","v":"Пусто"},{"$f":"TRIM(IF('Информация о пользователе'!B439=\"\",\" \",'Информация о пользователе'!B439&\" \"&'Информация о пользователе'!C439))","v":""},{"$f":"TRIM(IF(AD!A438=\"\",\"\",AD!B438&\" \"&A438))","v":"Пусто"},{"$f":"TRIM(IF('Информация о пользователе'!D439=\"\",F438&\"@edu54.ru\",'Информация о пользователе'!D439))","v":"pusto@edu54.ru"},{"$f":"TRIM(IF('Информация о пользователе'!E439=\"\",\"\",'Информация о пользователе'!E439))","v":""},{"$f":"IF('Информация о пользователе'!F439=\"\",TRIM(Translit.Translit(A438)&TRIM(LEFT(Translit.Translit(Service!E437),1))&TRIM(LEFT(Translit.Translit(Service!F437),1))),TRIM('Информация о пользователе'!F439))","v":"pusto"},{"$f":"IF('Информация о пользователе'!G439=\"\",TRIM(LEFT(Translit.Translit(Service!E437),2))&INDEX(Service!H437:H455,RANDBETWEEN(1,19),1)&RANDBETWEEN(1,9)&IF(Service!F437=\"\",TRIM(LEFT(Translit.Translit(Service!E437),3))&INDEX(Service!A437:A462,RANDBETWEEN(1,26),1),TRIM(LEFT(Translit.Translit(Service!F437),2))&INDEX(Service!H437:H455,RANDBETWEEN(1,19),1)&INDEX(Service!A437:A462,RANDBETWEEN(1,26),1)),'Информация о пользователе'!G439)","v":{"$error":"#NAME?"}}]
[{"$f":"TRIM(IF('Информация о пользователе'!A440=\"\",\"Пусто\",'Информация о пользователе'!A440))","v":"Пусто"},{"$f":"TRIM(IF('Информация о пользователе'!B440=\"\",\" \",'Информация о пользователе'!B440&\" \"&'Информация о пользователе'!C440))","v":""},{"$f":"TRIM(IF(AD!A439=\"\",\"\",AD!B439&\" \"&A439))","v":"Пусто"},{"$f":"TRIM(IF('Информация о пользователе'!D440=\"\",F439&\"@edu54.ru\",'Информация о пользователе'!D440))","v":"pusto@edu54.ru"},{"$f":"TRIM(IF('Информация о пользователе'!E440=\"\",\"\",'Информация о пользователе'!E440))","v":""},{"$f":"IF('Информация о пользователе'!F440=\"\",TRIM(Translit.Translit(A439)&TRIM(LEFT(Translit.Translit(Service!E438),1))&TRIM(LEFT(Translit.Translit(Service!F438),1))),TRIM('Информация о пользователе'!F440))","v":"pusto"},{"$f":"IF('Информация о пользователе'!G440=\"\",TRIM(LEFT(Translit.Translit(Service!E438),2))&INDEX(Service!H438:H456,RANDBETWEEN(1,19),1)&RANDBETWEEN(1,9)&IF(Service!F438=\"\",TRIM(LEFT(Translit.Translit(Service!E438),3))&INDEX(Service!A438:A463,RANDBETWEEN(1,26),1),TRIM(LEFT(Translit.Translit(Service!F438),2))&INDEX(Service!H438:H456,RANDBETWEEN(1,19),1)&INDEX(Service!A438:A463,RANDBETWEEN(1,26),1)),'Информация о пользователе'!G440)","v":{"$error":"#NAME?"}}]
[{"$f":"TRIM(IF('Информация о пользователе'!A441=\"\",\"Пусто\",'Информация о пользователе'!A441))","v":"Пусто"},{"$f":"TRIM(IF('Информация о пользователе'!B441=\"\",\" \",'Информация о пользователе'!B441&\" \"&'Информация о пользователе'!C441))","v":""},{"$f":"TRIM(IF(AD!A440=\"\",\"\",AD!B440&\" \"&A440))","v":"Пусто"},{"$f":"TRIM(IF('Информация о пользователе'!D441=\"\",F440&\"@edu54.ru\",'Информация о пользователе'!D441))","v":"pusto@edu54.ru"},{"$f":"TRIM(IF('Информация о пользователе'!E441=\"\",\"\",'Информация о пользователе'!E441))","v":""},{"$f":"IF('Информация о пользователе'!F441=\"\",TRIM(Translit.Translit(A440)&TRIM(LEFT(Translit.Translit(Service!E439),1))&TRIM(LEFT(Translit.Translit(Service!F439),1))),TRIM('Информация о пользователе'!F441))","v":"pusto"},{"$f":"IF('Информация о пользователе'!G441=\"\",TRIM(LEFT(Translit.Translit(Service!E439),2))&INDEX(Service!H439:H457,RANDBETWEEN(1,19),1)&RANDBETWEEN(1,9)&IF(Service!F439=\"\",TRIM(LEFT(Translit.Translit(Service!E439),3))&INDEX(Service!A439:A464,RANDBETWEEN(1,26),1),TRIM(LEFT(Translit.Translit(Service!F439),2))&INDEX(Service!H439:H457,RANDBETWEEN(1,19),1)&INDEX(Service!A439:A464,RANDBETWEEN(1,26),1)),'Информация о пользователе'!G441)","v":{"$error":"#NAME?"}}]
[{"$f":"TRIM(IF('Информация о пользователе'!A442=\"\",\"Пусто\",'Информация о пользователе'!A442))","v":"Пусто"},{"$f":"TRIM(IF('Информация о пользователе'!B442=\"\",\" \",'Информация о пользователе'!B442&\" \"&'Информация о пользователе'!C442))","v":""},{"$f":"TRIM(IF(AD!A441=\"\",\"\",AD!B441&\" \"&A441))","v":"Пусто"},{"$f":"TRIM(IF('Информация о пользователе'!D442=\"\",F441&\"@edu54.ru\",'Информация о пользователе'!D442))","v":"pusto@edu54.ru"},{"$f":"TRIM(IF('Информация о пользователе'!E442=\"\",\"\",'Информация о пользователе'!E442))","v":""},{"$f":"IF('Информация о пользователе'!F442=\"\",TRIM(Translit.Translit(A441)&TRIM(LEFT(Translit.Translit(Service!E440),1))&TRIM(LEFT(Translit.Translit(Service!F440),1))),TRIM('Информация о пользователе'!F442))","v":"pusto"},{"$f":"IF('Информация о пользователе'!G442=\"\",TRIM(LEFT(Translit.Translit(Service!E440),2))&INDEX(Service!H440:H458,RANDBETWEEN(1,19),1)&RANDBETWEEN(1,9)&IF(Service!F440=\"\",TRIM(LEFT(Translit.Translit(Service!E440),3))&INDEX(Service!A440:A465,RANDBETWEEN(1,26),1),TRIM(LEFT(Translit.Translit(Service!F440),2))&INDEX(Service!H440:H458,RANDBETWEEN(1,19),1)&INDEX(Service!A440:A465,RANDBETWEEN(1,26),1)),'Информация о пользователе'!G442)","v":{"$error":"#NAME?"}}]
[{"$f":"TRIM(IF('Информация о пользователе'!A443=\"\",\"Пусто\",'Информация о пользователе'!A443))","v":"Пусто"},{"$f":"TRIM(IF('Информация о пользователе'!B443=\"\",\" \",'Информация о пользователе'!B443&\" \"&'Информация о пользователе'!C443))","v":""},{"$f":"TRIM(IF(AD!A442=\"\",\"\",AD!B442&\" \"&A442))","v":"Пусто"},{"$f":"TRIM(IF('Информация о пользователе'!D443=\"\",F442&\"@edu54.ru\",'Информация о пользователе'!D443))","v":"pusto@edu54.ru"},{"$f":"TRIM(IF('Информация о пользователе'!E443=\"\",\"\",'Информация о пользователе'!E443))","v":""},{"$f":"IF('Информация о пользователе'!F443=\"\",TRIM(Translit.Translit(A442)&TRIM(LEFT(Translit.Translit(Service!E441),1))&TRIM(LEFT(Translit.Translit(Service!F441),1))),TRIM('Информация о пользователе'!F443))","v":"pusto"},{"$f":"IF('Информация о пользователе'!G443=\"\",TRIM(LEFT(Translit.Translit(Service!E441),2))&INDEX(Service!H441:H459,RANDBETWEEN(1,19),1)&RANDBETWEEN(1,9)&IF(Service!F441=\"\",TRIM(LEFT(Translit.Translit(Service!E441),3))&INDEX(Service!A441:A466,RANDBETWEEN(1,26),1),TRIM(LEFT(Translit.Translit(Service!F441),2))&INDEX(Service!H441:H459,RANDBETWEEN(1,19),1)&INDEX(Service!A441:A466,RANDBETWEEN(1,26),1)),'Информация о пользователе'!G443)","v":{"$error":"#NAME?"}}]
[{"$f":"TRIM(IF('Информация о пользователе'!A444=\"\",\"Пусто\",'Информация о пользователе'!A444))","v":"Пусто"},{"$f":"TRIM(IF('Информация о пользователе'!B444=\"\",\" \",'Информация о пользователе'!B444&\" \"&'Информация о пользователе'!C444))","v":""},{"$f":"TRIM(IF(AD!A443=\"\",\"\",AD!B443&\" \"&A443))","v":"Пусто"},{"$f":"TRIM(IF('Информация о пользователе'!D444=\"\",F443&\"@edu54.ru\",'Информация о пользователе'!D444))","v":"pusto@edu54.ru"},{"$f":"TRIM(IF('Информация о пользователе'!E444=\"\",\"\",'Информация о пользователе'!E444))","v":""},{"$f":"IF('Информация о пользователе'!F444=\"\",TRIM(Translit.Translit(A443)&TRIM(LEFT(Translit.Translit(Service!E442),1))&TRIM(LEFT(Translit.Translit(Service!F442),1))),TRIM('Информация о пользователе'!F444))","v":"pusto"},{"$f":"IF('Информация о пользователе'!G444=\"\",TRIM(LEFT(Translit.Translit(Service!E442),2))&INDEX(Service!H442:H460,RANDBETWEEN(1,19),1)&RANDBETWEEN(1,9)&IF(Service!F442=\"\",TRIM(LEFT(Translit.Translit(Service!E442),3))&INDEX(Service!A442:A467,RANDBETWEEN(1,26),1),TRIM(LEFT(Translit.Translit(Service!F442),2))&INDEX(Service!H442:H460,RANDBETWEEN(1,19),1)&INDEX(Service!A442:A467,RANDBETWEEN(1,26),1)),'Информация о пользователе'!G444)","v":{"$error":"#NAME?"}}]
[{"$f":"TRIM(IF('Информация о пользователе'!A445=\"\",\"Пусто\",'Информация о пользователе'!A445))","v":"Пусто"},{"$f":"TRIM(IF('Информация о пользователе'!B445=\"\",\" \",'Информация о пользователе'!B445&\" \"&'Информация о пользователе'!C445))","v":""},{"$f":"TRIM(IF(AD!A444=\"\",\"\",AD!B444&\" \"&A444))","v":"Пусто"},{"$f":"TRIM(IF('Информация о пользователе'!D445=\"\",F444&\"@edu54.ru\",'Информация о пользователе'!D445))","v":"pusto@edu54.ru"},{"$f":"TRIM(IF('Информация о пользователе'!E445=\"\",\"\",'Информация о пользователе'!E445))","v":""},{"$f":"IF('Информация о пользователе'!F445=\"\",TRIM(Translit.Translit(A444)&TRIM(LEFT(Translit.Translit(Service!E443),1))&TRIM(LEFT(Translit.Translit(Service!F443),1))),TRIM('Информация о пользователе'!F445))","v":"pusto"},{"$f":"IF('Информация о пользователе'!G445=\"\",TRIM(LEFT(Translit.Translit(Service!E443),2))&INDEX(Service!H443:H461,RANDBETWEEN(1,19),1)&RANDBETWEEN(1,9)&IF(Service!F443=\"\",TRIM(LEFT(Translit.Translit(Service!E443),3))&INDEX(Service!A443:A468,RANDBETWEEN(1,26),1),TRIM(LEFT(Translit.Translit(Service!F443),2))&INDEX(Service!H443:H461,RANDBETWEEN(1,19),1)&INDEX(Service!A443:A468,RANDBETWEEN(1,26),1)),'Информация о пользователе'!G445)","v":{"$error":"#NAME?"}}]
[{"$f":"TRIM(IF('Информация о пользователе'!A446=\"\",\"Пусто\",'Информация о пользователе'!A446))","v":"Пусто"},{"$f":"TRIM(IF('Информация о пользователе'!B446=\"\",\" \",'Информация о пользователе'!B446&\" \"&'Информация о пользователе'!C446))","v":""},{"$f":"TRIM(IF(AD!A445=\"\",\"\",AD!B445&\" \"&A445))","v":"Пусто"},{"$f":"TRIM(IF('Информация о пользователе'!D446=\"\",F445&\"@edu54.ru\",'Информация о пользователе'!D446))","v":"pusto@edu54.ru"},{"$f":"TRIM(IF('Информация о пользователе'!E446=\"\",\"\",'Информация о пользователе'!E446))","v":""},{"$f":"IF('Информация о пользователе'!F446=\"\",TRIM(Translit.Translit(A445)&TRIM(LEFT(Translit.Translit(Service!E444),1))&TRIM(LEFT(Translit.Translit(Service!F444),1))),TRIM('Информация о пользователе'!F446))","v":"pusto"},{"$f":"IF('Информация о пользователе'!G446=\"\",TRIM(LEFT(Translit.Translit(Service!E444),2))&INDEX(Service!H444:H462,RANDBETWEEN(1,19),1)&RANDBETWEEN(1,9)&IF(Service!F444=\"\",TRIM(LEFT(Translit.Translit(Service!E444),3))&INDEX(Service!A444:A469,RANDBETWEEN(1,26),1),TRIM(LEFT(Translit.Translit(Service!F444),2))&INDEX(Service!H444:H462,RANDBETWEEN(1,19),1)&INDEX(Service!A444:A469,RANDBETWEEN(1,26),1)),'Информация о пользователе'!G446)","v":{"$error":"#NAME?"}}]
[{"$f":"TRIM(IF('Информация о пользователе'!A447=\"\",\"Пусто\",'Информация о пользователе'!A447))","v":"Пусто"},{"$f":"TRIM(IF('Информация о пользователе'!B447=\"\",\" \",'Информация о пользователе'!B447&\" \"&'Информация о пользователе'!C447))","v":""},{"$f":"TRIM(IF(AD!A446=\"\",\"\",AD!B446&\" \"&A446))","v":"Пусто"},{"$f":"TRIM(IF('Информация о пользователе'!D447=\"\",F446&\"@edu54.ru\",'Информация о пользователе'!D447))","v":"pusto@edu54.ru"},{"$f":"TRIM(IF('Информация о пользователе'!E447=\"\",\"\",'Информация о пользователе'!E447))","v":""},{"$f":"IF('Информация о пользователе'!F447=\"\",TRIM(Translit.Translit(A446)&TRIM(LEFT(Translit.Translit(Service!E445),1))&TRIM(LEFT(Translit.Translit(Service!F445),1))),TRIM('Информация о пользователе'!F447))","v":"pusto"},{"$f":"IF('Информация о пользователе'!G447=\"\",TRIM(LEFT(Translit.Translit(Service!E445),2))&INDEX(Service!H445:H463,RANDBETWEEN(1,19),1)&RANDBETWEEN(1,9)&IF(Service!F445=\"\",TRIM(LEFT(Translit.Translit(Service!E445),3))&INDEX(Service!A445:A470,RANDBETWEEN(1,26),1),TRIM(LEFT(Translit.Translit(Service!F445),2))&INDEX(Service!H445:H463,RANDBETWEEN(1,19),1)&INDEX(Service!A445:A470,RANDBETWEEN(1,26),1)),'Информация о пользователе'!G447)","v":{"$error":"#NAME?"}}]
[{"$f":"TRIM(IF('Информация о пользователе'!A448=\"\",\"Пусто\",'Информация о пользователе'!A448))","v":"Пусто"},{"$f":"TRIM(IF('Информация о пользователе'!B448=\"\",\" \",'Информация о пользователе'!B448&\" \"&'Информация о пользователе'!C448))","v":""},{"$f":"TRIM(IF(AD!A447=\"\",\"\",AD!B447&\" \"&A447))","v":"Пусто"},{"$f":"TRIM(IF('Информация о пользователе'!D448=\"\",F447&\"@edu54.ru\",'Информация о пользователе'!D448))","v":"pusto@edu54.ru"},{"$f":"TRIM(IF('Информация о пользователе'!E448=\"\",\"\",'Информация о пользователе'!E448))","v":""},{"$f":"IF('Информация о пользователе'!F448=\"\",TRIM(Translit.Translit(A447)&TRIM(LEFT(Translit.Translit(Service!E446),1))&TRIM(LEFT(Translit.Translit(Service!F446),1))),TRIM('Информация о пользователе'!F448))","v":"pusto"},{"$f":"IF('Информация о пользователе'!G448=\"\",TRIM(LEFT(Translit.Translit(Service!E446),2))&INDEX(Service!H446:H464,RANDBETWEEN(1,19),1)&RANDBETWEEN(1,9)&IF(Service!F446=\"\",TRIM(LEFT(Translit.Translit(Service!E446),3))&INDEX(Service!A446:A471,RANDBETWEEN(1,26),1),TRIM(LEFT(Translit.Translit(Service!F446),2))&INDEX(Service!H446:H464,RANDBETWEEN(1,19),1)&INDEX(Service!A446:A471,RANDBETWEEN(1,26),1)),'Информация о пользователе'!G448)","v":{"$error":"#NAME?"}}]
[{"$f":"TRIM(IF('Информация о пользователе'!A449=\"\",\"Пусто\",'Информация о пользователе'!A449))","v":"Пусто"},{"$f":"TRIM(IF('Информация о пользователе'!B449=\"\",\" \",'Информация о пользователе'!B449&\" \"&'Информация о пользователе'!C449))","v":""},{"$f":"TRIM(IF(AD!A448=\"\",\"\",AD!B448&\" \"&A448))","v":"Пусто"},{"$f":"TRIM(IF('Информация о пользователе'!D449=\"\",F448&\"@edu54.ru\",'Информация о пользователе'!D449))","v":"pusto@edu54.ru"},{"$f":"TRIM(IF('Информация о пользователе'!E449=\"\",\"\",'Информация о пользователе'!E449))","v":""},{"$f":"IF('Информация о пользователе'!F449=\"\",TRIM(Translit.Translit(A448)&TRIM(LEFT(Translit.Translit(Service!E447),1))&TRIM(LEFT(Translit.Translit(Service!F447),1))),TRIM('Информация о пользователе'!F449))","v":"pusto"},{"$f":"IF('Информация о пользователе'!G449=\"\",TRIM(LEFT(Translit.Translit(Service!E447),2))&INDEX(Service!H447:H465,RANDBETWEEN(1,19),1)&RANDBETWEEN(1,9)&IF(Service!F447=\"\",TRIM(LEFT(Translit.Translit(Service!E447),3))&INDEX(Service!A447:A472,RANDBETWEEN(1,26),1),TRIM(LEFT(Translit.Translit(Service!F447),2))&INDEX(Service!H447:H465,RANDBETWEEN(1,19),1)&INDEX(Service!A447:A472,RANDBETWEEN(1,26),1)),'Информация о пользователе'!G449)","v":{"$error":"#NAME?"}}]
[{"$f":"TRIM(IF('Информация о пользователе'!A450=\"\",\"Пусто\",'Информация о пользователе'!A450))","v":"Пусто"},{"$f":"TRIM(IF('Информация о пользователе'!B450=\"\",\" \",'Информация о пользователе'!B450&\" \"&'Информация о пользователе'!C450))","v":""},{"$f":"TRIM(IF(AD!A449=\"\",\"\",AD!B449&\" \"&A449))","v":"Пусто"},{"$f":"TRIM(IF('Информация о пользователе'!D450=\"\",F449&\"@edu54.ru\",'Информация о пользователе'!D450))","v":"pusto@edu54.ru"},{"$f":"TRIM(IF('Информация о пользователе'!E450=\"\",\"\",'Информация о пользователе'!E450))","v":""},{"$f":"IF('Информация о пользователе'!F450=\"\",TRIM(Translit.Translit(A449)&TRIM(LEFT(Translit.Translit(Service!E448),1))&TRIM(LEFT(Translit.Translit(Service!F448),1))),TRIM('Информация о пользователе'!F450))","v":"pusto"},{"$f":"IF('Информация о пользователе'!G450=\"\",TRIM(LEFT(Translit.Translit(Service!E448),2))&INDEX(Service!H448:H466,RANDBETWEEN(1,19),1)&RANDBETWEEN(1,9)&IF(Service!F448=\"\",TRIM(LEFT(Translit.Translit(Service!E448),3))&INDEX(Service!A448:A473,RANDBETWEEN(1,26),1),TRIM(LEFT(Translit.Translit(Service!F448),2))&INDEX(Service!H448:H466,RANDBETWEEN(1,19),1)&INDEX(Service!A448:A473,RANDBETWEEN(1,26),1)),'Информация о пользователе'!G450)","v":{"$error":"#NAME?"}}]
[{"$f":"TRIM(IF('Информация о пользователе'!A451=\"\",\"Пусто\",'Информация о пользователе'!A451))","v":"Пусто"},{"$f":"TRIM(IF('Информация о пользователе'!B451=\"\",\" \",'Информация о пользователе'!B451&\" \"&'Информация о пользователе'!C451))","v":""},{"$f":"TRIM(IF(AD!A450=\"\",\"\",AD!B450&\" \"&A450))","v":"Пусто"},{"$f":"TRIM(IF('Информация о пользователе'!D451=\"\",F450&\"@edu54.ru\",'Информация о пользователе'!D451))","v":"pusto@edu54.ru"},{"$f":"TRIM(IF('Информация о пользователе'!E451=\"\",\"\",'Информация о пользователе'!E451))","v":""},{"$f":"IF('Информация о пользователе'!F451=\"\",TRIM(Translit.Translit(A450)&TRIM(LEFT(Translit.Translit(Service!E449),1))&TRIM(LEFT(Translit.Translit(Service!F449),1))),TRIM('Информация о пользователе'!F451))","v":"pusto"},{"$f":"IF('Информация о пользователе'!G451=\"\",TRIM(LEFT(Translit.Translit(Service!E449),2))&INDEX(Service!H449:H467,RANDBETWEEN(1,19),1)&RANDBETWEEN(1,9)&IF(Service!F449=\"\",TRIM(LEFT(Translit.Translit(Service!E449),3))&INDEX(Service!A449:A474,RANDBETWEEN(1,26),1),TRIM(LEFT(Translit.Translit(Service!F449),2))&INDEX(Service!H449:H467,RANDBETWEEN(1,19),1)&INDEX(Service!A449:A474,RANDBETWEEN(1,26),1)),'Информация о пользователе'!G451)","v":{"$error":"#NAME?"}}]
[{"$f":"TRIM(IF('Информация о пользователе'!A452=\"\",\"Пусто\",'Информация о пользователе'!A452))","v":"Пусто"},{"$f":"TRIM(IF('Информация о пользователе'!B452=\"\",\" \",'Информация о пользователе'!B452&\" \"&'Информация о пользователе'!C452))","v":""},{"$f":"TRIM(IF(AD!A451=\"\",\"\",AD!B451&\" \"&A451))","v":"Пусто"},{"$f":"TRIM(IF('Информация о пользователе'!D452=\"\",F451&\"@edu54.ru\",'Информация о пользователе'!D452))","v":"pusto@edu54.ru"},{"$f":"TRIM(IF('Информация о пользователе'!E452=\"\",\"\",'Информация о пользователе'!E452))","v":""},{"$f":"IF('Информация о пользователе'!F452=\"\",TRIM(Translit.Translit(A451)&TRIM(LEFT(Translit.Translit(Service!E450),1))&TRIM(LEFT(Translit.Translit(Service!F450),1))),TRIM('Информация о пользователе'!F452))","v":"pusto"},{"$f":"IF('Информация о пользователе'!G452=\"\",TRIM(LEFT(Translit.Translit(Service!E450),2))&INDEX(Service!H450:H468,RANDBETWEEN(1,19),1)&RANDBETWEEN(1,9)&IF(Service!F450=\"\",TRIM(LEFT(Translit.Translit(Service!E450),3))&INDEX(Service!A450:A475,RANDBETWEEN(1,26),1),TRIM(LEFT(Translit.Translit(Service!F450),2))&INDEX(Service!H450:H468,RANDBETWEEN(1,19),1)&INDEX(Service!A450:A475,RANDBETWEEN(1,26),1)),'Информация о пользователе'!G452)","v":{"$error":"#NAME?"}}]
[{"$f":"TRIM(IF('Информация о пользователе'!A453=\"\",\"Пусто\",'Информация о пользователе'!A453))","v":"Пусто"},{"$f":"TRIM(IF('Информация о пользователе'!B453=\"\",\" \",'Информация о пользователе'!B453&\" \"&'Информация о пользователе'!C453))","v":""},{"$f":"TRIM(IF(AD!A452=\"\",\"\",AD!B452&\" \"&A452))","v":"Пусто"},{"$f":"TRIM(IF('Информация о пользователе'!D453=\"\",F452&\"@edu54.ru\",'Информация о пользователе'!D453))","v":"pusto@edu54.ru"},{"$f":"TRIM(IF('Информация о пользователе'!E453=\"\",\"\",'Информация о пользователе'!E453))","v":""},{"$f":"IF('Информация о пользователе'!F453=\"\",TRIM(Translit.Translit(A452)&TRIM(LEFT(Translit.Translit(Service!E451),1))&TRIM(LEFT(Translit.Translit(Service!F451),1))),TRIM('Информация о пользователе'!F453))","v":"pusto"},{"$f":"IF('Информация о пользователе'!G453=\"\",TRIM(LEFT(Translit.Translit(Service!E451),2))&INDEX(Service!H451:H469,RANDBETWEEN(1,19),1)&RANDBETWEEN(1,9)&IF(Service!F451=\"\",TRIM(LEFT(Translit.Translit(Service!E451),3))&INDEX(Service!A451:A476,RANDBETWEEN(1,26),1),TRIM(LEFT(Translit.Translit(Service!F451),2))&INDEX(Service!H451:H469,RANDBETWEEN(1,19),1)&INDEX(Service!A451:A476,RANDBETWEEN(1,26),1)),'Информация о пользователе'!G453)","v":{"$error":"#NAME?"}}]
[{"$f":"TRIM(IF('Информация о пользователе'!A454=\"\",\"Пусто\",'Информация о пользователе'!A454))","v":"Пусто"},{"$f":"TRIM(IF('Информация о пользователе'!B454=\"\",\" \",'Информация о пользователе'!B454&\" \"&'Информация о пользователе'!C454))","v":""},{"$f":"TRIM(IF(AD!A453=\"\",\"\",AD!B453&\" \"&A453))","v":"Пусто"},{"$f":"TRIM(IF('Информация о пользователе'!D454=\"\",F453&\"@edu54.ru\",'Информация о пользователе'!D454))","v":"pusto@edu54.ru"},{"$f":"TRIM(IF('Информация о пользователе'!E454=\"\",\"\",'Информация о пользователе'!E454))","v":""},{"$f":"IF('Информация о пользователе'!F454=\"\",TRIM(Translit.Translit(A453)&TRIM(LEFT(Translit.Translit(Service!E452),1))&TRIM(LEFT(Translit.Translit(Service!F452),1))),TRIM('Информация о пользователе'!F454))","v":"pusto"},{"$f":"IF('Информация о пользователе'!G454=\"\",TRIM(LEFT(Translit.Translit(Service!E452),2))&INDEX(Service!H452:H470,RANDBETWEEN(1,19),1)&RANDBETWEEN(1,9)&IF(Service!F452=\"\",TRIM(LEFT(Translit.Translit(Service!E452),3))&INDEX(Service!A452:A477,RANDBETWEEN(1,26),1),TRIM(LEFT(Translit.Translit(Service!F452),2))&INDEX(Service!H452:H470,RANDBETWEEN(1,19),1)&INDEX(Service!A452:A477,RANDBETWEEN(1,26),1)),'Информация о пользователе'!G454)","v":{"$error":"#NAME?"}}]
[{"$f":"TRIM(IF('Информация о пользователе'!A455=\"\",\"Пусто\",'Информация о пользователе'!A455))","v":"Пусто"},{"$f":"TRIM(IF('Информация о пользователе'!B455=\"\",\" \",'Информация о пользователе'!B455&\" \"&'Информация о пользователе'!C455))","v":""},{"$f":"TRIM(IF(AD!A454=\"\",\"\",AD!B454&\" \"&A454))","v":"Пусто"},{"$f":"TRIM(IF('Информация о пользователе'!D455=\"\",F454&\"@edu54.ru\",'Информация о пользователе'!D455))","v":"pusto@edu54.ru"},{"$f":"TRIM(IF('Информация о пользователе'!E455=\"\",\"\",'Информация о пользователе'!E455))","v":""},{"$f":"IF('Информация о пользователе'!F455=\"\",TRIM(Translit.Translit(A454)&TRIM(LEFT(Translit.Translit(Service!E453),1))&TRIM(LEFT(Translit.Translit(Service!F453),1))),TRIM('Информация о пользователе'!F455))","v":"pusto"},{"$f":"IF('Информация о пользователе'!G455=\"\",TRIM(LEFT(Translit.Translit(Service!E453),2))&INDEX(Service!H453:H471,RANDBETWEEN(1,19),1)&RANDBETWEEN(1,9)&IF(Service!F453=\"\",TRIM(LEFT(Translit.Translit(Service!E453),3))&INDEX(Service!A453:A478,RANDBETWEEN(1,26),1),TRIM(LEFT(Translit.Translit(Service!F453),2))&INDEX(Service!H453:H471,RANDBETWEEN(1,19),1)&INDEX(Service!A453:A478,RANDBETWEEN(1,26),1)),'Информация о пользователе'!G455)","v":{"$error":"#NAME?"}}]
[{"$f":"TRIM(IF('Информация о пользователе'!A456=\"\",\"Пусто\",'Информация о пользователе'!A456))","v":"Пусто"},{"$f":"TRIM(IF('Информация о пользователе'!B456=\"\",\" \",'Информация о пользователе'!B456&\" \"&'Информация о пользователе'!C456))","v":""},{"$f":"TRIM(IF(AD!A455=\"\",\"\",AD!B455&\" \"&A455))","v":"Пусто"},{"$f":"TRIM(IF('Информация о пользователе'!D456=\"\",F455&\"@edu54.ru\",'Информация о пользователе'!D456))","v":"pusto@edu54.ru"},{"$f":"TRIM(IF('Информация о пользователе'!E456=\"\",\"\",'Информация о пользователе'!E456))","v":""},{"$f":"IF('Информация о пользователе'!F456=\"\",TRIM(Translit.Translit(A455)&TRIM(LEFT(Translit.Translit(Service!E454),1))&TRIM(LEFT(Translit.Translit(Service!F454),1))),TRIM('Информация о пользователе'!F456))","v":"pusto"},{"$f":"IF('Информация о пользователе'!G456=\"\",TRIM(LEFT(Translit.Translit(Service!E454),2))&INDEX(Service!H454:H472,RANDBETWEEN(1,19),1)&RANDBETWEEN(1,9)&IF(Service!F454=\"\",TRIM(LEFT(Translit.Translit(Service!E454),3))&INDEX(Service!A454:A479,RANDBETWEEN(1,26),1),TRIM(LEFT(Translit.Translit(Service!F454),2))&INDEX(Service!H454:H472,RANDBETWEEN(1,19),1)&INDEX(Service!A454:A479,RANDBETWEEN(1,26),1)),'Информация о пользователе'!G456)","v":{"$error":"#NAME?"}}]
[{"$f":"TRIM(IF('Информация о пользователе'!A457=\"\",\"Пусто\",'Информация о пользователе'!A457))","v":"Пусто"},{"$f":"TRIM(IF('Информация о пользователе'!B457=\"\",\" \",'Информация о пользователе'!B457&\" \"&'Информация о пользователе'!C457))","v":""},{"$f":"TRIM(IF(AD!A456=\"\",\"\",AD!B456&\" \"&A456))","v":"Пусто"},{"$f":"TRIM(IF('Информация о пользователе'!D457=\"\",F456&\"@edu54.ru\",'Информация о пользователе'!D457))","v":"pusto@edu54.ru"},{"$f":"TRIM(IF('Информация о пользователе'!E457=\"\",\"\",'Информация о пользователе'!E457))","v":""},{"$f":"IF('Информация о пользователе'!F457=\"\",TRIM(Translit.Translit(A456)&TRIM(LEFT(Translit.Translit(Service!E455),1))&TRIM(LEFT(Translit.Translit(Service!F455),1))),TRIM('Информация о пользователе'!F457))","v":"pusto"},{"$f":"IF('Информация о пользователе'!G457=\"\",TRIM(LEFT(Translit.Translit(Service!E455),2))&INDEX(Service!H455:H473,RANDBETWEEN(1,19),1)&RANDBETWEEN(1,9)&IF(Service!F455=\"\",TRIM(LEFT(Translit.Translit(Service!E455),3))&INDEX(Service!A455:A480,RANDBETWEEN(1,26),1),TRIM(LEFT(Translit.Translit(Service!F455),2))&INDEX(Service!H455:H473,RANDBETWEEN(1,19),1)&INDEX(Service!A455:A480,RANDBETWEEN(1,26),1)),'Информация о пользователе'!G457)","v":{"$error":"#NAME?"}}]
[{"$f":"TRIM(IF('Информация о пользователе'!A458=\"\",\"Пусто\",'Информация о пользователе'!A458))","v":"Пусто"},{"$f":"TRIM(IF('Информация о пользователе'!B458=\"\",\" \",'Информация о пользователе'!B458&\" \"&'Информация о пользователе'!C458))","v":""},{"$f":"TRIM(IF(AD!A457=\"\",\"\",AD!B457&\" \"&A457))","v":"Пусто"},{"$f":"TRIM(IF('Информация о пользователе'!D458=\"\",F457&\"@edu54.ru\",'Информация о пользователе'!D458))","v":"pusto@edu54.ru"},{"$f":"TRIM(IF('Информация о пользователе'!E458=\"\",\"\",'Информация о пользователе'!E458))","v":""},{"$f":"IF('Информация о пользователе'!F458=\"\",TRIM(Translit.Translit(A457)&TRIM(LEFT(Translit.Translit(Service!E456),1))&TRIM(LEFT(Translit.Translit(Service!F456),1))),TRIM('Информация о пользователе'!F458))","v":"pusto"},{"$f":"IF('Информация о пользователе'!G458=\"\",TRIM(LEFT(Translit.Translit(Service!E456),2))&INDEX(Service!H456:H474,RANDBETWEEN(1,19),1)&RANDBETWEEN(1,9)&IF(Service!F456=\"\",TRIM(LEFT(Translit.Translit(Service!E456),3))&INDEX(Service!A456:A481,RANDBETWEEN(1,26),1),TRIM(LEFT(Translit.Translit(Service!F456),2))&INDEX(Service!H456:H474,RANDBETWEEN(1,19),1)&INDEX(Service!A456:A481,RANDBETWEEN(1,26),1)),'Информация о пользователе'!G458)","v":{"$error":"#NAME?"}}]
[{"$f":"TRIM(IF('Информация о пользователе'!A459=\"\",\"Пусто\",'Информация о пользователе'!A459))","v":"Пусто"},{"$f":"TRIM(IF('Информация о пользователе'!B459=\"\",\" \",'Информация о пользователе'!B459&\" \"&'Информация о пользователе'!C459))","v":""},{"$f":"TRIM(IF(AD!A458=\"\",\"\",AD!B458&\" \"&A458))","v":"Пусто"},{"$f":"TRIM(IF('Информация о пользователе'!D459=\"\",F458&\"@edu54.ru\",'Информация о пользователе'!D459))","v":"pusto@edu54.ru"},{"$f":"TRIM(IF('Информация о пользователе'!E459=\"\",\"\",'Информация о пользователе'!E459))","v":""},{"$f":"IF('Информация о пользователе'!F459=\"\",TRIM(Translit.Translit(A458)&TRIM(LEFT(Translit.Translit(Service!E457),1))&TRIM(LEFT(Translit.Translit(Service!F457),1))),TRIM('Информация о пользователе'!F459))","v":"pusto"},{"$f":"IF('Информация о пользователе'!G459=\"\",TRIM(LEFT(Translit.Translit(Service!E457),2))&INDEX(Service!H457:H475,RANDBETWEEN(1,19),1)&RANDBETWEEN(1,9)&IF(Service!F457=\"\",TRIM(LEFT(Translit.Translit(Service!E457),3))&INDEX(Service!A457:A482,RANDBETWEEN(1,26),1),TRIM(LEFT(Translit.Translit(Service!F457),2))&INDEX(Service!H457:H475,RANDBETWEEN(1,19),1)&INDEX(Service!A457:A482,RANDBETWEEN(1,26),1)),'Информация о пользователе'!G459)","v":{"$error":"#NAME?"}}]
[{"$f":"TRIM(IF('Информация о пользователе'!A460=\"\",\"Пусто\",'Информация о пользователе'!A460))","v":"Пусто"},{"$f":"TRIM(IF('Информация о пользователе'!B460=\"\",\" \",'Информация о пользователе'!B460&\" \"&'Информация о пользователе'!C460))","v":""},{"$f":"TRIM(IF(AD!A459=\"\",\"\",AD!B459&\" \"&A459))","v":"Пусто"},{"$f":"TRIM(IF('Информация о пользователе'!D460=\"\",F459&\"@edu54.ru\",'Информация о пользователе'!D460))","v":"pusto@edu54.ru"},{"$f":"TRIM(IF('Информация о пользователе'!E460=\"\",\"\",'Информация о пользователе'!E460))","v":""},{"$f":"IF('Информация о пользователе'!F460=\"\",TRIM(Translit.Translit(A459)&TRIM(LEFT(Translit.Translit(Service!E458),1))&TRIM(LEFT(Translit.Translit(Service!F458),1))),TRIM('Информация о пользователе'!F460))","v":"pusto"},{"$f":"IF('Информация о пользователе'!G460=\"\",TRIM(LEFT(Translit.Translit(Service!E458),2))&INDEX(Service!H458:H476,RANDBETWEEN(1,19),1)&RANDBETWEEN(1,9)&IF(Service!F458=\"\",TRIM(LEFT(Translit.Translit(Service!E458),3))&INDEX(Service!A458:A483,RANDBETWEEN(1,26),1),TRIM(LEFT(Translit.Translit(Service!F458),2))&INDEX(Service!H458:H476,RANDBETWEEN(1,19),1)&INDEX(Service!A458:A483,RANDBETWEEN(1,26),1)),'Информация о пользователе'!G460)","v":{"$error":"#NAME?"}}]
[{"$f":"TRIM(IF('Информация о пользователе'!A461=\"\",\"Пусто\",'Информация о пользователе'!A461))","v":"Пусто"},{"$f":"TRIM(IF('Информация о пользователе'!B461=\"\",\" \",'Информация о пользователе'!B461&\" \"&'Информация о пользователе'!C461))","v":""},{"$f":"TRIM(IF(AD!A460=\"\",\"\",AD!B460&\" \"&A460))","v":"Пусто"},{"$f":"TRIM(IF('Информация о пользователе'!D461=\"\",F460&\"@edu54.ru\",'Информация о пользователе'!D461))","v":"pusto@edu54.ru"},{"$f":"TRIM(IF('Информация о пользователе'!E461=\"\",\"\",'Информация о пользователе'!E461))","v":""},{"$f":"IF('Информация о пользователе'!F461=\"\",TRIM(Translit.Translit(A460)&TRIM(LEFT(Translit.Translit(Service!E459),1))&TRIM(LEFT(Translit.Translit(Service!F459),1))),TRIM('Информация о пользователе'!F461))","v":"pusto"},{"$f":"IF('Информация о пользователе'!G461=\"\",TRIM(LEFT(Translit.Translit(Service!E459),2))&INDEX(Service!H459:H477,RANDBETWEEN(1,19),1)&RANDBETWEEN(1,9)&IF(Service!F459=\"\",TRIM(LEFT(Translit.Translit(Service!E459),3))&INDEX(Service!A459:A484,RANDBETWEEN(1,26),1),TRIM(LEFT(Translit.Translit(Service!F459),2))&INDEX(Service!H459:H477,RANDBETWEEN(1,19),1)&INDEX(Service!A459:A484,RANDBETWEEN(1,26),1)),'Информация о пользователе'!G461)","v":{"$error":"#NAME?"}}]
[{"$f":"TRIM(IF('Информация о пользователе'!A462=\"\",\"Пусто\",'Информация о пользователе'!A462))","v":"Пусто"},{"$f":"TRIM(IF('Информация о пользователе'!B462=\"\",\" \",'Информация о пользователе'!B462&\" \"&'Информация о пользователе'!C462))","v":""},{"$f":"TRIM(IF(AD!A461=\"\",\"\",AD!B461&\" \"&A461))","v":"Пусто"},{"$f":"TRIM(IF('Информация о пользователе'!D462=\"\",F461&\"@edu54.ru\",'Информация о пользователе'!D462))","v":"pusto@edu54.ru"},{"$f":"TRIM(IF('Информация о пользователе'!E462=\"\",\"\",'Информация о пользователе'!E462))","v":""},{"$f":"IF('Информация о пользователе'!F462=\"\",TRIM(Translit.Translit(A461)&TRIM(LEFT(Translit.Translit(Service!E460),1))&TRIM(LEFT(Translit.Translit(Service!F460),1))),TRIM('Информация о пользователе'!F462))","v":"pusto"},{"$f":"IF('Информация о пользователе'!G462=\"\",TRIM(LEFT(Translit.Translit(Service!E460),2))&INDEX(Service!H460:H478,RANDBETWEEN(1,19),1)&RANDBETWEEN(1,9)&IF(Service!F460=\"\",TRIM(LEFT(Translit.Translit(Service!E460),3))&INDEX(Service!A460:A485,RANDBETWEEN(1,26),1),TRIM(LEFT(Translit.Translit(Service!F460),2))&INDEX(Service!H460:H478,RANDBETWEEN(1,19),1)&INDEX(Service!A460:A485,RANDBETWEEN(1,26),1)),'Информация о пользователе'!G462)","v":{"$error":"#NAME?"}}]
[{"$f":"TRIM(IF('Информация о пользователе'!A463=\"\",\"Пусто\",'Информация о пользователе'!A463))","v":"Пусто"},{"$f":"TRIM(IF('Информация о пользователе'!B463=\"\",\" \",'Информация о пользователе'!B463&\" \"&'Информация о пользователе'!C463))","v":""},{"$f":"TRIM(IF(AD!A462=\"\",\"\",AD!B462&\" \"&A462))","v":"Пусто"},{"$f":"TRIM(IF('Информация о пользователе'!D463=\"\",F462&\"@edu54.ru\",'Информация о пользователе'!D463))","v":"pusto@edu54.ru"},{"$f":"TRIM(IF('Информация о пользователе'!E463=\"\",\"\",'Информация о пользователе'!E463))","v":""},{"$f":"IF('Информация о пользователе'!F463=\"\",TRIM(Translit.Translit(A462)&TRIM(LEFT(Translit.Translit(Service!E461),1))&TRIM(LEFT(Translit.Translit(Service!F461),1))),TRIM('Информация о пользователе'!F463))","v":"pusto"},{"$f":"IF('Информация о пользователе'!G463=\"\",TRIM(LEFT(Translit.Translit(Service!E461),2))&INDEX(Service!H461:H479,RANDBETWEEN(1,19),1)&RANDBETWEEN(1,9)&IF(Service!F461=\"\",TRIM(LEFT(Translit.Translit(Service!E461),3))&INDEX(Service!A461:A486,RANDBETWEEN(1,26),1),TRIM(LEFT(Translit.Translit(Service!F461),2))&INDEX(Service!H461:H479,RANDBETWEEN(1,19),1)&INDEX(Service!A461:A486,RANDBETWEEN(1,26),1)),'Информация о пользователе'!G463)","v":{"$error":"#NAME?"}}]
[{"$f":"TRIM(IF('Информация о пользователе'!A464=\"\",\"Пусто\",'Информация о пользователе'!A464))","v":"Пусто"},{"$f":"TRIM(IF('Информация о пользователе'!B464=\"\",\" \",'Информация о пользователе'!B464&\" \"&'Информация о пользователе'!C464))","v":""},{"$f":"TRIM(IF(AD!A463=\"\",\"\",AD!B463&\" \"&A463))","v":"Пусто"},{"$f":"TRIM(IF('Информация о пользователе'!D464=\"\",F463&\"@edu54.ru\",'Информация о пользователе'!D464))","v":"pusto@edu54.ru"},{"$f":"TRIM(IF('Информация о пользователе'!E464=\"\",\"\",'Информация о пользователе'!E464))","v":""},{"$f":"IF('Информация о пользователе'!F464=\"\",TRIM(Translit.Translit(A463)&TRIM(LEFT(Translit.Translit(Service!E462),1))&TRIM(LEFT(Translit.Translit(Service!F462),1))),TRIM('Информация о пользователе'!F464))","v":"pusto"},{"$f":"IF('Информация о пользователе'!G464=\"\",TRIM(LEFT(Translit.Translit(Service!E462),2))&INDEX(Service!H462:H480,RANDBETWEEN(1,19),1)&RANDBETWEEN(1,9)&IF(Service!F462=\"\",TRIM(LEFT(Translit.Translit(Service!E462),3))&INDEX(Service!A462:A487,RANDBETWEEN(1,26),1),TRIM(LEFT(Translit.Translit(Service!F462),2))&INDEX(Service!H462:H480,RANDBETWEEN(1,19),1)&INDEX(Service!A462:A487,RANDBETWEEN(1,26),1)),'Информация о пользователе'!G464)","v":{"$error":"#NAME?"}}]
[{"$f":"TRIM(IF('Информация о пользователе'!A465=\"\",\"Пусто\",'Информация о пользователе'!A465))","v":"Пусто"},{"$f":"TRIM(IF('Информация о пользователе'!B465=\"\",\" \",'Информация о пользователе'!B465&\" \"&'Информация о пользователе'!C465))","v":""},{"$f":"TRIM(IF(AD!A464=\"\",\"\",AD!B464&\" \"&A464))","v":"Пусто"},{"$f":"TRIM(IF('Информация о пользователе'!D465=\"\",F464&\"@edu54.ru\",'Информация о пользователе'!D465))","v":"pusto@edu54.ru"},{"$f":"TRIM(IF('Информация о пользователе'!E465=\"\",\"\",'Информация о пользователе'!E465))","v":""},{"$f":"IF('Информация о пользователе'!F465=\"\",TRIM(Translit.Translit(A464)&TRIM(LEFT(Translit.Translit(Service!E463),1))&TRIM(LEFT(Translit.Translit(Service!F463),1))),TRIM('Информация о пользователе'!F465))","v":"pusto"},{"$f":"IF('Информация о пользователе'!G465=\"\",TRIM(LEFT(Translit.Translit(Service!E463),2))&INDEX(Service!H463:H481,RANDBETWEEN(1,19),1)&RANDBETWEEN(1,9)&IF(Service!F463=\"\",TRIM(LEFT(Translit.Translit(Service!E463),3))&INDEX(Service!A463:A488,RANDBETWEEN(1,26),1),TRIM(LEFT(Translit.Translit(Service!F463),2))&INDEX(Service!H463:H481,RANDBETWEEN(1,19),1)&INDEX(Service!A463:A488,RANDBETWEEN(1,26),1)),'Информация о пользователе'!G465)","v":{"$error":"#NAME?"}}]
[{"$f":"TRIM(IF('Информация о пользователе'!A466=\"\",\"Пусто\",'Информация о пользователе'!A466))","v":"Пусто"},{"$f":"TRIM(IF('Информация о пользователе'!B466=\"\",\" \",'Информация о пользователе'!B466&\" \"&'Информация о пользователе'!C466))","v":""},{"$f":"TRIM(IF(AD!A465=\"\",\"\",AD!B465&\" \"&A465))","v":"Пусто"},{"$f":"TRIM(IF('Информация о пользователе'!D466=\"\",F465&\"@edu54.ru\",'Информация о пользователе'!D466))","v":"pusto@edu54.ru"},{"$f":"TRIM(IF('Информация о пользователе'!E466=\"\",\"\",'Информация о пользователе'!E466))","v":""},{"$f":"IF('Информация о пользователе'!F466=\"\",TRIM(Translit.Translit(A465)&TRIM(LEFT(Translit.Translit(Service!E464),1))&TRIM(LEFT(Translit.Translit(Service!F464),1))),TRIM('Информация о пользователе'!F466))","v":"pusto"},{"$f":"IF('Информация о пользователе'!G466=\"\",TRIM(LEFT(Translit.Translit(Service!E464),2))&INDEX(Service!H464:H482,RANDBETWEEN(1,19),1)&RANDBETWEEN(1,9)&IF(Service!F464=\"\",TRIM(LEFT(Translit.Translit(Service!E464),3))&INDEX(Service!A464:A489,RANDBETWEEN(1,26),1),TRIM(LEFT(Translit.Translit(Service!F464),2))&INDEX(Service!H464:H482,RANDBETWEEN(1,19),1)&INDEX(Service!A464:A489,RANDBETWEEN(1,26),1)),'Информация о пользователе'!G466)","v":{"$error":"#NAME?"}}]
[{"$f":"TRIM(IF('Информация о пользователе'!A467=\"\",\"Пусто\",'Информация о пользователе'!A467))","v":"Пусто"},{"$f":"TRIM(IF('Информация о пользователе'!B467=\"\",\" \",'Информация о пользователе'!B467&\" \"&'Информация о пользователе'!C467))","v":""},{"$f":"TRIM(IF(AD!A466=\"\",\"\",AD!B466&\" \"&A466))","v":"Пусто"},{"$f":"TRIM(IF('Информация о пользователе'!D467=\"\",F466&\"@edu54.ru\",'Информация о пользователе'!D467))","v":"pusto@edu54.ru"},{"$f":"TRIM(IF('Информация о пользователе'!E467=\"\",\"\",'Информация о пользователе'!E467))","v":""},{"$f":"IF('Информация о пользователе'!F467=\"\",TRIM(Translit.Translit(A466)&TRIM(LEFT(Translit.Translit(Service!E465),1))&TRIM(LEFT(Translit.Translit(Service!F465),1))),TRIM('Информация о пользователе'!F467))","v":"pusto"},{"$f":"IF('Информация о пользователе'!G467=\"\",TRIM(LEFT(Translit.Translit(Service!E465),2))&INDEX(Service!H465:H483,RANDBETWEEN(1,19),1)&RANDBETWEEN(1,9)&IF(Service!F465=\"\",TRIM(LEFT(Translit.Translit(Service!E465),3))&INDEX(Service!A465:A490,RANDBETWEEN(1,26),1),TRIM(LEFT(Translit.Translit(Service!F465),2))&INDEX(Service!H465:H483,RANDBETWEEN(1,19),1)&INDEX(Service!A465:A490,RANDBETWEEN(1,26),1)),'Информация о пользователе'!G467)","v":{"$error":"#NAME?"}}]
[{"$f":"TRIM(IF('Информация о пользователе'!A468=\"\",\"Пусто\",'Информация о пользователе'!A468))","v":"Пусто"},{"$f":"TRIM(IF('Информация о пользователе'!B468=\"\",\" \",'Информация о пользователе'!B468&\" \"&'Информация о пользователе'!C468))","v":""},{"$f":"TRIM(IF(AD!A467=\"\",\"\",AD!B467&\" \"&A467))","v":"Пусто"},{"$f":"TRIM(IF('Информация о пользователе'!D468=\"\",F467&\"@edu54.ru\",'Информация о пользователе'!D468))","v":"pusto@edu54.ru"},{"$f":"TRIM(IF('Информация о пользователе'!E468=\"\",\"\",'Информация о пользователе'!E468))","v":""},{"$f":"IF('Информация о пользователе'!F468=\"\",TRIM(Translit.Translit(A467)&TRIM(LEFT(Translit.Translit(Service!E466),1))&TRIM(LEFT(Translit.Translit(Service!F466),1))),TRIM('Информация о пользователе'!F468))","v":"pusto"},{"$f":"IF('Информация о пользователе'!G468=\"\",TRIM(LEFT(Translit.Translit(Service!E466),2))&INDEX(Service!H466:H484,RANDBETWEEN(1,19),1)&RANDBETWEEN(1,9)&IF(Service!F466=\"\",TRIM(LEFT(Translit.Translit(Service!E466),3))&INDEX(Service!A466:A491,RANDBETWEEN(1,26),1),TRIM(LEFT(Translit.Translit(Service!F466),2))&INDEX(Service!H466:H484,RANDBETWEEN(1,19),1)&INDEX(Service!A466:A491,RANDBETWEEN(1,26),1)),'Информация о пользователе'!G468)","v":{"$error":"#NAME?"}}]
[{"$f":"TRIM(IF('Информация о пользователе'!A469=\"\",\"Пусто\",'Информация о пользователе'!A469))","v":"Пусто"},{"$f":"TRIM(IF('Информация о пользователе'!B469=\"\",\" \",'Информация о пользователе'!B469&\" \"&'Информация о пользователе'!C469))","v":""},{"$f":"TRIM(IF(AD!A468=\"\",\"\",AD!B468&\" \"&A468))","v":"Пусто"},{"$f":"TRIM(IF('Информация о пользователе'!D469=\"\",F468&\"@edu54.ru\",'Информация о пользователе'!D469))","v":"pusto@edu54.ru"},{"$f":"TRIM(IF('Информация о пользователе'!E469=\"\",\"\",'Информация о пользователе'!E469))","v":""},{"$f":"IF('Информация о пользователе'!F469=\"\",TRIM(Translit.Translit(A468)&TRIM(LEFT(Translit.Translit(Service!E467),1))&TRIM(LEFT(Translit.Translit(Service!F467),1))),TRIM('Информация о пользователе'!F469))","v":"pusto"},{"$f":"IF('Информация о пользователе'!G469=\"\",TRIM(LEFT(Translit.Translit(Service!E467),2))&INDEX(Service!H467:H485,RANDBETWEEN(1,19),1)&RANDBETWEEN(1,9)&IF(Service!F467=\"\",TRIM(LEFT(Translit.Translit(Service!E467),3))&INDEX(Service!A467:A492,RANDBETWEEN(1,26),1),TRIM(LEFT(Translit.Translit(Service!F467),2))&INDEX(Service!H467:H485,RANDBETWEEN(1,19),1)&INDEX(Service!A467:A492,RANDBETWEEN(1,26),1)),'Информация о пользователе'!G469)","v":{"$error":"#NAME?"}}]
[{"$f":"TRIM(IF('Информация о пользователе'!A470=\"\",\"Пусто\",'Информация о пользователе'!A470))","v":"Пусто"},{"$f":"TRIM(IF('Информация о пользователе'!B470=\"\",\" \",'Информация о пользователе'!B470&\" \"&'Информация о пользователе'!C470))","v":""},{"$f":"TRIM(IF(AD!A469=\"\",\"\",AD!B469&\" \"&A469))","v":"Пусто"},{"$f":"TRIM(IF('Информация о пользователе'!D470=\"\",F469&\"@edu54.ru\",'Информация о пользователе'!D470))","v":"pusto@edu54.ru"},{"$f":"TRIM(IF('Информация о пользователе'!E470=\"\",\"\",'Информация о пользователе'!E470))","v":""},{"$f":"IF('Информация о пользователе'!F470=\"\",TRIM(Translit.Translit(A469)&TRIM(LEFT(Translit.Translit(Service!E468),1))&TRIM(LEFT(Translit.Translit(Service!F468),1))),TRIM('Информация о пользователе'!F470))","v":"pusto"},{"$f":"IF('Информация о пользователе'!G470=\"\",TRIM(LEFT(Translit.Translit(Service!E468),2))&INDEX(Service!H468:H486,RANDBETWEEN(1,19),1)&RANDBETWEEN(1,9)&IF(Service!F468=\"\",TRIM(LEFT(Translit.Translit(Service!E468),3))&INDEX(Service!A468:A493,RANDBETWEEN(1,26),1),TRIM(LEFT(Translit.Translit(Service!F468),2))&INDEX(Service!H468:H486,RANDBETWEEN(1,19),1)&INDEX(Service!A468:A493,RANDBETWEEN(1,26),1)),'Информация о пользователе'!G470)","v":{"$error":"#NAME?"}}]
[{"$f":"TRIM(IF('Информация о пользователе'!A471=\"\",\"Пусто\",'Информация о пользователе'!A471))","v":"Пусто"},{"$f":"TRIM(IF('Информация о пользователе'!B471=\"\",\" \",'Информация о пользователе'!B471&\" \"&'Информация о пользователе'!C471))","v":""},{"$f":"TRIM(IF(AD!A470=\"\",\"\",AD!B470&\" \"&A470))","v":"Пусто"},{"$f":"TRIM(IF('Информация о пользователе'!D471=\"\",F470&\"@edu54.ru\",'Информация о пользователе'!D471))","v":"pusto@edu54.ru"},{"$f":"TRIM(IF('Информация о пользователе'!E471=\"\",\"\",'Информация о пользователе'!E471))","v":""},{"$f":"IF('Информация о пользователе'!F471=\"\",TRIM(Translit.Translit(A470)&TRIM(LEFT(Translit.Translit(Service!E469),1))&TRIM(LEFT(Translit.Translit(Service!F469),1))),TRIM('Информация о пользователе'!F471))","v":"pusto"},{"$f":"IF('Информация о пользователе'!G471=\"\",TRIM(LEFT(Translit.Translit(Service!E469),2))&INDEX(Service!H469:H487,RANDBETWEEN(1,19),1)&RANDBETWEEN(1,9)&IF(Service!F469=\"\",TRIM(LEFT(Translit.Translit(Service!E469),3))&INDEX(Service!A469:A494,RANDBETWEEN(1,26),1),TRIM(LEFT(Translit.Translit(Service!F469),2))&INDEX(Service!H469:H487,RANDBETWEEN(1,19),1)&INDEX(Service!A469:A494,RANDBETWEEN(1,26),1)),'Информация о пользователе'!G471)","v":{"$error":"#NAME?"}}]
[{"$f":"TRIM(IF('Информация о пользователе'!A472=\"\",\"Пусто\",'Информация о пользователе'!A472))","v":"Пусто"},{"$f":"TRIM(IF('Информация о пользователе'!B472=\"\",\" \",'Информация о пользователе'!B472&\" \"&'Информация о пользователе'!C472))","v":""},{"$f":"TRIM(IF(AD!A471=\"\",\"\",AD!B471&\" \"&A471))","v":"Пусто"},{"$f":"TRIM(IF('Информация о пользователе'!D472=\"\",F471&\"@edu54.ru\",'Информация о пользователе'!D472))","v":"pusto@edu54.ru"},{"$f":"TRIM(IF('Информация о пользователе'!E472=\"\",\"\",'Информация о пользователе'!E472))","v":""},{"$f":"IF('Информация о пользователе'!F472=\"\",TRIM(Translit.Translit(A471)&TRIM(LEFT(Translit.Translit(Service!E470),1))&TRIM(LEFT(Translit.Translit(Service!F470),1))),TRIM('Информация о пользователе'!F472))","v":"pusto"},{"$f":"IF('Информация о пользователе'!G472=\"\",TRIM(LEFT(Translit.Translit(Service!E470),2))&INDEX(Service!H470:H488,RANDBETWEEN(1,19),1)&RANDBETWEEN(1,9)&IF(Service!F470=\"\",TRIM(LEFT(Translit.Translit(Service!E470),3))&INDEX(Service!A470:A495,RANDBETWEEN(1,26),1),TRIM(LEFT(Translit.Translit(Service!F470),2))&INDEX(Service!H470:H488,RANDBETWEEN(1,19),1)&INDEX(Service!A470:A495,RANDBETWEEN(1,26),1)),'Информация о пользователе'!G472)","v":{"$error":"#NAME?"}}]
[{"$f":"TRIM(IF('Информация о пользователе'!A473=\"\",\"Пусто\",'Информация о пользователе'!A473))","v":"Пусто"},{"$f":"TRIM(IF('Информация о пользователе'!B473=\"\",\" \",'Информация о пользователе'!B473&\" \"&'Информация о пользователе'!C473))","v":""},{"$f":"TRIM(IF(AD!A472=\"\",\"\",AD!B472&\" \"&A472))","v":"Пусто"},{"$f":"TRIM(IF('Информация о пользователе'!D473=\"\",F472&\"@edu54.ru\",'Информация о пользователе'!D473))","v":"pusto@edu54.ru"},{"$f":"TRIM(IF('Информация о пользователе'!E473=\"\",\"\",'Информация о пользователе'!E473))","v":""},{"$f":"IF('Информация о пользователе'!F473=\"\",TRIM(Translit.Translit(A472)&TRIM(LEFT(Translit.Translit(Service!E471),1))&TRIM(LEFT(Translit.Translit(Service!F471),1))),TRIM('Информация о пользователе'!F473))","v":"pusto"},{"$f":"IF('Информация о пользователе'!G473=\"\",TRIM(LEFT(Translit.Translit(Service!E471),2))&INDEX(Service!H471:H489,RANDBETWEEN(1,19),1)&RANDBETWEEN(1,9)&IF(Service!F471=\"\",TRIM(LEFT(Translit.Translit(Service!E471),3))&INDEX(Service!A471:A496,RANDBETWEEN(1,26),1),TRIM(LEFT(Translit.Translit(Service!F471),2))&INDEX(Service!H471:H489,RANDBETWEEN(1,19),1)&INDEX(Service!A471:A496,RANDBETWEEN(1,26),1)),'Информация о пользователе'!G473)","v":{"$error":"#NAME?"}}]
[{"$f":"TRIM(IF('Информация о пользователе'!A474=\"\",\"Пусто\",'Информация о пользователе'!A474))","v":"Пусто"},{"$f":"TRIM(IF('Информация о пользователе'!B474=\"\",\" \",'Информация о пользователе'!B474&\" \"&'Информация о пользователе'!C474))","v":""},{"$f":"TRIM(IF(AD!A473=\"\",\"\",AD!B473&\" \"&A473))","v":"Пусто"},{"$f":"TRIM(IF('Информация о пользователе'!D474=\"\",F473&\"@edu54.ru\",'Информация о пользователе'!D474))","v":"pusto@edu54.ru"},{"$f":"TRIM(IF('Информация о пользователе'!E474=\"\",\"\",'Информация о пользователе'!E474))","v":""},{"$f":"IF('Информация о пользователе'!F474=\"\",TRIM(Translit.Translit(A473)&TRIM(LEFT(Translit.Translit(Service!E472),1))&TRIM(LEFT(Translit.Translit(Service!F472),1))),TRIM('Информация о пользователе'!F474))","v":"pusto"},{"$f":"IF('Информация о пользователе'!G474=\"\",TRIM(LEFT(Translit.Translit(Service!E472),2))&INDEX(Service!H472:H490,RANDBETWEEN(1,19),1)&RANDBETWEEN(1,9)&IF(Service!F472=\"\",TRIM(LEFT(Translit.Translit(Service!E472),3))&INDEX(Service!A472:A497,RANDBETWEEN(1,26),1),TRIM(LEFT(Translit.Translit(Service!F472),2))&INDEX(Service!H472:H490,RANDBETWEEN(1,19),1)&INDEX(Service!A472:A497,RANDBETWEEN(1,26),1)),'Информация о пользователе'!G474)","v":{"$error":"#NAME?"}}]
[{"$f":"TRIM(IF('Информация о пользователе'!A475=\"\",\"Пусто\",'Информация о пользователе'!A475))","v":"Пусто"},{"$f":"TRIM(IF('Информация о пользователе'!B475=\"\",\" \",'Информация о пользователе'!B475&\" \"&'Информация о пользователе'!C475))","v":""},{"$f":"TRIM(IF(AD!A474=\"\",\"\",AD!B474&\" \"&A474))","v":"Пусто"},{"$f":"TRIM(IF('Информация о пользователе'!D475=\"\",F474&\"@edu54.ru\",'Информация о пользователе'!D475))","v":"pusto@edu54.ru"},{"$f":"TRIM(IF('Информация о пользователе'!E475=\"\",\"\",'Информация о пользователе'!E475))","v":""},{"$f":"IF('Информация о пользователе'!F475=\"\",TRIM(Translit.Translit(A474)&TRIM(LEFT(Translit.Translit(Service!E473),1))&TRIM(LEFT(Translit.Translit(Service!F473),1))),TRIM('Информация о пользователе'!F475))","v":"pusto"},{"$f":"IF('Информация о пользователе'!G475=\"\",TRIM(LEFT(Translit.Translit(Service!E473),2))&INDEX(Service!H473:H491,RANDBETWEEN(1,19),1)&RANDBETWEEN(1,9)&IF(Service!F473=\"\",TRIM(LEFT(Translit.Translit(Service!E473),3))&INDEX(Service!A473:A498,RANDBETWEEN(1,26),1),TRIM(LEFT(Translit.Translit(Service!F473),2))&INDEX(Service!H473:H491,RANDBETWEEN(1,19),1)&INDEX(Service!A473:A498,RANDBETWEEN(1,26),1)),'Информация о пользователе'!G475)","v":{"$error":"#NAME?"}}]
[{"$f":"TRIM(IF('Информация о пользователе'!A476=\"\",\"Пусто\",'Информация о пользователе'!A476))","v":"Пусто"},{"$f":"TRIM(IF('Информация о пользователе'!B476=\"\",\" \",'Информация о пользователе'!B476&\" \"&'Информация о пользователе'!C476))","v":""},{"$f":"TRIM(IF(AD!A475=\"\",\"\",AD!B475&\" \"&A475))","v":"Пусто"},{"$f":"TRIM(IF('Информация о пользователе'!D476=\"\",F475&\"@edu54.ru\",'Информация о пользователе'!D476))","v":"pusto@edu54.ru"},{"$f":"TRIM(IF('Информация о пользователе'!E476=\"\",\"\",'Информация о пользователе'!E476))","v":""},{"$f":"IF('Информация о пользователе'!F476=\"\",TRIM(Translit.Translit(A475)&TRIM(LEFT(Translit.Translit(Service!E474),1))&TRIM(LEFT(Translit.Translit(Service!F474),1))),TRIM('Информация о пользователе'!F476))","v":"pusto"},{"$f":"IF('Информация о пользователе'!G476=\"\",TRIM(LEFT(Translit.Translit(Service!E474),2))&INDEX(Service!H474:H492,RANDBETWEEN(1,19),1)&RANDBETWEEN(1,9)&IF(Service!F474=\"\",TRIM(LEFT(Translit.Translit(Service!E474),3))&INDEX(Service!A474:A499,RANDBETWEEN(1,26),1),TRIM(LEFT(Translit.Translit(Service!F474),2))&INDEX(Service!H474:H492,RANDBETWEEN(1,19),1)&INDEX(Service!A474:A499,RANDBETWEEN(1,26),1)),'Информация о пользователе'!G476)","v":{"$error":"#NAME?"}}]
[{"$f":"TRIM(IF('Информация о пользователе'!A477=\"\",\"Пусто\",'Информация о пользователе'!A477))","v":"Пусто"},{"$f":"TRIM(IF('Информация о пользователе'!B477=\"\",\" \",'Информация о пользователе'!B477&\" \"&'Информация о пользователе'!C477))","v":""},{"$f":"TRIM(IF(AD!A476=\"\",\"\",AD!B476&\" \"&A476))","v":"Пусто"},{"$f":"TRIM(IF('Информация о пользователе'!D477=\"\",F476&\"@edu54.ru\",'Информация о пользователе'!D477))","v":"pusto@edu54.ru"},{"$f":"TRIM(IF('Информация о пользователе'!E477=\"\",\"\",'Информация о пользователе'!E477))","v":""},{"$f":"IF('Информация о пользователе'!F477=\"\",TRIM(Translit.Translit(A476)&TRIM(LEFT(Translit.Translit(Service!E475),1))&TRIM(LEFT(Translit.Translit(Service!F475),1))),TRIM('Информация о пользователе'!F477))","v":"pusto"},{"$f":"IF('Информация о пользователе'!G477=\"\",TRIM(LEFT(Translit.Translit(Service!E475),2))&INDEX(Service!H475:H493,RANDBETWEEN(1,19),1)&RANDBETWEEN(1,9)&IF(Service!F475=\"\",TRIM(LEFT(Translit.Translit(Service!E475),3))&INDEX(Service!A475:A500,RANDBETWEEN(1,26),1),TRIM(LEFT(Translit.Translit(Service!F475),2))&INDEX(Service!H475:H493,RANDBETWEEN(1,19),1)&INDEX(Service!A475:A500,RANDBETWEEN(1,26),1)),'Информация о пользователе'!G477)","v":{"$error":"#NAME?"}}]
[{"$f":"TRIM(IF('Информация о пользователе'!A478=\"\",\"Пусто\",'Информация о пользователе'!A478))","v":"Пусто"},{"$f":"TRIM(IF('Информация о пользователе'!B478=\"\",\" \",'Информация о пользователе'!B478&\" \"&'Информация о пользователе'!C478))","v":""},{"$f":"TRIM(IF(AD!A477=\"\",\"\",AD!B477&\" \"&A477))","v":"Пусто"},{"$f":"TRIM(IF('Информация о пользователе'!D478=\"\",F477&\"@edu54.ru\",'Информация о пользователе'!D478))","v":"pusto@edu54.ru"},{"$f":"TRIM(IF('Информация о пользователе'!E478=\"\",\"\",'Информация о пользователе'!E478))","v":""},{"$f":"IF('Информация о пользователе'!F478=\"\",TRIM(Translit.Translit(A477)&TRIM(LEFT(Translit.Translit(Service!E476),1))&TRIM(LEFT(Translit.Translit(Service!F476),1))),TRIM('Информация о пользователе'!F478))","v":"pusto"},{"$f":"IF('Информация о пользователе'!G478=\"\",TRIM(LEFT(Translit.Translit(Service!E476),2))&INDEX(Service!H476:H494,RANDBETWEEN(1,19),1)&RANDBETWEEN(1,9)&IF(Service!F476=\"\",TRIM(LEFT(Translit.Translit(Service!E476),3))&INDEX(Service!A476:A501,RANDBETWEEN(1,26),1),TRIM(LEFT(Translit.Translit(Service!F476),2))&INDEX(Service!H476:H494,RANDBETWEEN(1,19),1)&INDEX(Service!A476:A501,RANDBETWEEN(1,26),1)),'Информация о пользователе'!G478)","v":{"$error":"#NAME?"}}]
[{"$f":"TRIM(IF('Информация о пользователе'!A479=\"\",\"Пусто\",'Информация о пользователе'!A479))","v":"Пусто"},{"$f":"TRIM(IF('Информация о пользователе'!B479=\"\",\" \",'Информация о пользователе'!B479&\" \"&'Информация о пользователе'!C479))","v":""},{"$f":"TRIM(IF(AD!A478=\"\",\"\",AD!B478&\" \"&A478))","v":"Пусто"},{"$f":"TRIM(IF('Информация о пользователе'!D479=\"\",F478&\"@edu54.ru\",'Информация о пользователе'!D479))","v":"pusto@edu54.ru"},{"$f":"TRIM(IF('Информация о пользователе'!E479=\"\",\"\",'Информация о пользователе'!E479))","v":""},{"$f":"IF('Информация о пользователе'!F479=\"\",TRIM(Translit.Translit(A478)&TRIM(LEFT(Translit.Translit(Service!E477),1))&TRIM(LEFT(Translit.Translit(Service!F477),1))),TRIM('Информация о пользователе'!F479))","v":"pusto"},{"$f":"IF('Информация о пользователе'!G479=\"\",TRIM(LEFT(Translit.Translit(Service!E477),2))&INDEX(Service!H477:H495,RANDBETWEEN(1,19),1)&RANDBETWEEN(1,9)&IF(Service!F477=\"\",TRIM(LEFT(Translit.Translit(Service!E477),3))&INDEX(Service!A477:A502,RANDBETWEEN(1,26),1),TRIM(LEFT(Translit.Translit(Service!F477),2))&INDEX(Service!H477:H495,RANDBETWEEN(1,19),1)&INDEX(Service!A477:A502,RANDBETWEEN(1,26),1)),'Информация о пользователе'!G479)","v":{"$error":"#NAME?"}}]
[{"$f":"TRIM(IF('Информация о пользователе'!A480=\"\",\"Пусто\",'Информация о пользователе'!A480))","v":"Пусто"},{"$f":"TRIM(IF('Информация о пользователе'!B480=\"\",\" \",'Информация о пользователе'!B480&\" \"&'Информация о пользователе'!C480))","v":""},{"$f":"TRIM(IF(AD!A479=\"\",\"\",AD!B479&\" \"&A479))","v":"Пусто"},{"$f":"TRIM(IF('Информация о пользователе'!D480=\"\",F479&\"@edu54.ru\",'Информация о пользователе'!D480))","v":"pusto@edu54.ru"},{"$f":"TRIM(IF('Информация о пользователе'!E480=\"\",\"\",'Информация о пользователе'!E480))","v":""},{"$f":"IF('Информация о пользователе'!F480=\"\",TRIM(Translit.Translit(A479)&TRIM(LEFT(Translit.Translit(Service!E478),1))&TRIM(LEFT(Translit.Translit(Service!F478),1))),TRIM('Информация о пользователе'!F480))","v":"pusto"},{"$f":"IF('Информация о пользователе'!G480=\"\",TRIM(LEFT(Translit.Translit(Service!E478),2))&INDEX(Service!H478:H496,RANDBETWEEN(1,19),1)&RANDBETWEEN(1,9)&IF(Service!F478=\"\",TRIM(LEFT(Translit.Translit(Service!E478),3))&INDEX(Service!A478:A503,RANDBETWEEN(1,26),1),TRIM(LEFT(Translit.Translit(Service!F478),2))&INDEX(Service!H478:H496,RANDBETWEEN(1,19),1)&INDEX(Service!A478:A503,RANDBETWEEN(1,26),1)),'Информация о пользователе'!G480)","v":{"$error":"#NAME?"}}]
[{"$f":"TRIM(IF('Информация о пользователе'!A481=\"\",\"Пусто\",'Информация о пользователе'!A481))","v":"Пусто"},{"$f":"TRIM(IF('Информация о пользователе'!B481=\"\",\" \",'Информация о пользователе'!B481&\" \"&'Информация о пользователе'!C481))","v":""},{"$f":"TRIM(IF(AD!A480=\"\",\"\",AD!B480&\" \"&A480))","v":"Пусто"},{"$f":"TRIM(IF('Информация о пользователе'!D481=\"\",F480&\"@edu54.ru\",'Информация о пользователе'!D481))","v":"pusto@edu54.ru"},{"$f":"TRIM(IF('Информация о пользователе'!E481=\"\",\"\",'Информация о пользователе'!E481))","v":""},{"$f":"IF('Информация о пользователе'!F481=\"\",TRIM(Translit.Translit(A480)&TRIM(LEFT(Translit.Translit(Service!E479),1))&TRIM(LEFT(Translit.Translit(Service!F479),1))),TRIM('Информация о пользователе'!F481))","v":"pusto"},{"$f":"IF('Информация о пользователе'!G481=\"\",TRIM(LEFT(Translit.Translit(Service!E479),2))&INDEX(Service!H479:H497,RANDBETWEEN(1,19),1)&RANDBETWEEN(1,9)&IF(Service!F479=\"\",TRIM(LEFT(Translit.Translit(Service!E479),3))&INDEX(Service!A479:A504,RANDBETWEEN(1,26),1),TRIM(LEFT(Translit.Translit(Service!F479),2))&INDEX(Service!H479:H497,RANDBETWEEN(1,19),1)&INDEX(Service!A479:A504,RANDBETWEEN(1,26),1)),'Информация о пользователе'!G481)","v":{"$error":"#NAME?"}}]
[{"$f":"TRIM(IF('Информация о пользователе'!A482=\"\",\"Пусто\",'Информация о пользователе'!A482))","v":"Пусто"},{"$f":"TRIM(IF('Информация о пользователе'!B482=\"\",\" \",'Информация о пользователе'!B482&\" \"&'Информация о пользователе'!C482))","v":""},{"$f":"TRIM(IF(AD!A481=\"\",\"\",AD!B481&\" \"&A481))","v":"Пусто"},{"$f":"TRIM(IF('Информация о пользователе'!D482=\"\",F481&\"@edu54.ru\",'Информация о пользователе'!D482))","v":"pusto@edu54.ru"},{"$f":"TRIM(IF('Информация о пользователе'!E482=\"\",\"\",'Информация о пользователе'!E482))","v":""},{"$f":"IF('Информация о пользователе'!F482=\"\",TRIM(Translit.Translit(A481)&TRIM(LEFT(Translit.Translit(Service!E480),1))&TRIM(LEFT(Translit.Translit(Service!F480),1))),TRIM('Информация о пользователе'!F482))","v":"pusto"},{"$f":"IF('Информация о пользователе'!G482=\"\",TRIM(LEFT(Translit.Translit(Service!E480),2))&INDEX(Service!H480:H498,RANDBETWEEN(1,19),1)&RANDBETWEEN(1,9)&IF(Service!F480=\"\",TRIM(LEFT(Translit.Translit(Service!E480),3))&INDEX(Service!A480:A505,RANDBETWEEN(1,26),1),TRIM(LEFT(Translit.Translit(Service!F480),2))&INDEX(Service!H480:H498,RANDBETWEEN(1,19),1)&INDEX(Service!A480:A505,RANDBETWEEN(1,26),1)),'Информация о пользователе'!G482)","v":{"$error":"#NAME?"}}]
[{"$f":"TRIM(IF('Информация о пользователе'!A483=\"\",\"Пусто\",'Информация о пользователе'!A483))","v":"Пусто"},{"$f":"TRIM(IF('Информация о пользователе'!B483=\"\",\" \",'Информация о пользователе'!B483&\" \"&'Информация о пользователе'!C483))","v":""},{"$f":"TRIM(IF(AD!A482=\"\",\"\",AD!B482&\" \"&A482))","v":"Пусто"},{"$f":"TRIM(IF('Информация о пользователе'!D483=\"\",F482&\"@edu54.ru\",'Информация о пользователе'!D483))","v":"pusto@edu54.ru"},{"$f":"TRIM(IF('Информация о пользователе'!E483=\"\",\"\",'Информация о пользователе'!E483))","v":""},{"$f":"IF('Информация о пользователе'!F483=\"\",TRIM(Translit.Translit(A482)&TRIM(LEFT(Translit.Translit(Service!E481),1))&TRIM(LEFT(Translit.Translit(Service!F481),1))),TRIM('Информация о пользователе'!F483))","v":"pusto"},{"$f":"IF('Информация о пользователе'!G483=\"\",TRIM(LEFT(Translit.Translit(Service!E481),2))&INDEX(Service!H481:H499,RANDBETWEEN(1,19),1)&RANDBETWEEN(1,9)&IF(Service!F481=\"\",TRIM(LEFT(Translit.Translit(Service!E481),3))&INDEX(Service!A481:A506,RANDBETWEEN(1,26),1),TRIM(LEFT(Translit.Translit(Service!F481),2))&INDEX(Service!H481:H499,RANDBETWEEN(1,19),1)&INDEX(Service!A481:A506,RANDBETWEEN(1,26),1)),'Информация о пользователе'!G483)","v":{"$error":"#NAME?"}}]
[{"$f":"TRIM(IF('Информация о пользователе'!A484=\"\",\"Пусто\",'Информация о пользователе'!A484))","v":"Пусто"},{"$f":"TRIM(IF('Информация о пользователе'!B484=\"\",\" \",'Информация о пользователе'!B484&\" \"&'Информация о пользователе'!C484))","v":""},{"$f":"TRIM(IF(AD!A483=\"\",\"\",AD!B483&\" \"&A483))","v":"Пусто"},{"$f":"TRIM(IF('Информация о пользователе'!D484=\"\",F483&\"@edu54.ru\",'Информация о пользователе'!D484))","v":"pusto@edu54.ru"},{"$f":"TRIM(IF('Информация о пользователе'!E484=\"\",\"\",'Информация о пользователе'!E484))","v":""},{"$f":"IF('Информация о пользователе'!F484=\"\",TRIM(Translit.Translit(A483)&TRIM(LEFT(Translit.Translit(Service!E482),1))&TRIM(LEFT(Translit.Translit(Service!F482),1))),TRIM('Информация о пользователе'!F484))","v":"pusto"},{"$f":"IF('Информация о пользователе'!G484=\"\",TRIM(LEFT(Translit.Translit(Service!E482),2))&INDEX(Service!H482:H500,RANDBETWEEN(1,19),1)&RANDBETWEEN(1,9)&IF(Service!F482=\"\",TRIM(LEFT(Translit.Translit(Service!E482),3))&INDEX(Service!A482:A507,RANDBETWEEN(1,26),1),TRIM(LEFT(Translit.Translit(Service!F482),2))&INDEX(Service!H482:H500,RANDBETWEEN(1,19),1)&INDEX(Service!A482:A507,RANDBETWEEN(1,26),1)),'Информация о пользователе'!G484)","v":{"$error":"#NAME?"}}]
[{"$f":"TRIM(IF('Информация о пользователе'!A485=\"\",\"Пусто\",'Информация о пользователе'!A485))","v":"Пусто"},{"$f":"TRIM(IF('Информация о пользователе'!B485=\"\",\" \",'Информация о пользователе'!B485&\" \"&'Информация о пользователе'!C485))","v":""},{"$f":"TRIM(IF(AD!A484=\"\",\"\",AD!B484&\" \"&A484))","v":"Пусто"},{"$f":"TRIM(IF('Информация о пользователе'!D485=\"\",F484&\"@edu54.ru\",'Информация о пользователе'!D485))","v":"pusto@edu54.ru"},{"$f":"TRIM(IF('Информация о пользователе'!E485=\"\",\"\",'Информация о пользователе'!E485))","v":""},{"$f":"IF('Информация о пользователе'!F485=\"\",TRIM(Translit.Translit(A484)&TRIM(LEFT(Translit.Translit(Service!E483),1))&TRIM(LEFT(Translit.Translit(Service!F483),1))),TRIM('Информация о пользователе'!F485))","v":"pusto"},{"$f":"IF('Информация о пользователе'!G485=\"\",TRIM(LEFT(Translit.Translit(Service!E483),2))&INDEX(Service!H483:H501,RANDBETWEEN(1,19),1)&RANDBETWEEN(1,9)&IF(Service!F483=\"\",TRIM(LEFT(Translit.Translit(Service!E483),3))&INDEX(Service!A483:A508,RANDBETWEEN(1,26),1),TRIM(LEFT(Translit.Translit(Service!F483),2))&INDEX(Service!H483:H501,RANDBETWEEN(1,19),1)&INDEX(Service!A483:A508,RANDBETWEEN(1,26),1)),'Информация о пользователе'!G485)","v":{"$error":"#NAME?"}}]
[{"$f":"TRIM(IF('Информация о пользователе'!A486=\"\",\"Пусто\",'Информация о пользователе'!A486))","v":"Пусто"},{"$f":"TRIM(IF('Информация о пользователе'!B486=\"\",\" \",'Информация о пользователе'!B486&\" \"&'Информация о пользователе'!C486))","v":""},{"$f":"TRIM(IF(AD!A485=\"\",\"\",AD!B485&\" \"&A485))","v":"Пусто"},{"$f":"TRIM(IF('Информация о пользователе'!D486=\"\",F485&\"@edu54.ru\",'Информация о пользователе'!D486))","v":"pusto@edu54.ru"},{"$f":"TRIM(IF('Информация о пользователе'!E486=\"\",\"\",'Информация о пользователе'!E486))","v":""},{"$f":"IF('Информация о пользователе'!F486=\"\",TRIM(Translit.Translit(A485)&TRIM(LEFT(Translit.Translit(Service!E484),1))&TRIM(LEFT(Translit.Translit(Service!F484),1))),TRIM('Информация о пользователе'!F486))","v":"pusto"},{"$f":"IF('Информация о пользователе'!G486=\"\",TRIM(LEFT(Translit.Translit(Service!E484),2))&INDEX(Service!H484:H502,RANDBETWEEN(1,19),1)&RANDBETWEEN(1,9)&IF(Service!F484=\"\",TRIM(LEFT(Translit.Translit(Service!E484),3))&INDEX(Service!A484:A509,RANDBETWEEN(1,26),1),TRIM(LEFT(Translit.Translit(Service!F484),2))&INDEX(Service!H484:H502,RANDBETWEEN(1,19),1)&INDEX(Service!A484:A509,RANDBETWEEN(1,26),1)),'Информация о пользователе'!G486)","v":{"$error":"#NAME?"}}]
[{"$f":"TRIM(IF('Информация о пользователе'!A487=\"\",\"Пусто\",'Информация о пользователе'!A487))","v":"Пусто"},{"$f":"TRIM(IF('Информация о пользователе'!B487=\"\",\" \",'Информация о пользователе'!B487&\" \"&'Информация о пользователе'!C487))","v":""},{"$f":"TRIM(IF(AD!A486=\"\",\"\",AD!B486&\" \"&A486))","v":"Пусто"},{"$f":"TRIM(IF('Информация о пользователе'!D487=\"\",F486&\"@edu54.ru\",'Информация о пользователе'!D487))","v":"pusto@edu54.ru"},{"$f":"TRIM(IF('Информация о пользователе'!E487=\"\",\"\",'Информация о пользователе'!E487))","v":""},{"$f":"IF('Информация о пользователе'!F487=\"\",TRIM(Translit.Translit(A486)&TRIM(LEFT(Translit.Translit(Service!E485),1))&TRIM(LEFT(Translit.Translit(Service!F485),1))),TRIM('Информация о пользователе'!F487))","v":"pusto"},{"$f":"IF('Информация о пользователе'!G487=\"\",TRIM(LEFT(Translit.Translit(Service!E485),2))&INDEX(Service!H485:H503,RANDBETWEEN(1,19),1)&RANDBETWEEN(1,9)&IF(Service!F485=\"\",TRIM(LEFT(Translit.Translit(Service!E485),3))&INDEX(Service!A485:A510,RANDBETWEEN(1,26),1),TRIM(LEFT(Translit.Translit(Service!F485),2))&INDEX(Service!H485:H503,RANDBETWEEN(1,19),1)&INDEX(Service!A485:A510,RANDBETWEEN(1,26),1)),'Информация о пользователе'!G487)","v":{"$error":"#NAME?"}}]
[{"$f":"TRIM(IF('Информация о пользователе'!A488=\"\",\"Пусто\",'Информация о пользователе'!A488))","v":"Пусто"},{"$f":"TRIM(IF('Информация о пользователе'!B488=\"\",\" \",'Информация о пользователе'!B488&\" \"&'Информация о пользователе'!C488))","v":""},{"$f":"TRIM(IF(AD!A487=\"\",\"\",AD!B487&\" \"&A487))","v":"Пусто"},{"$f":"TRIM(IF('Информация о пользователе'!D488=\"\",F487&\"@edu54.ru\",'Информация о пользователе'!D488))","v":"pusto@edu54.ru"},{"$f":"TRIM(IF('Информация о пользователе'!E488=\"\",\"\",'Информация о пользователе'!E488))","v":""},{"$f":"IF('Информация о пользователе'!F488=\"\",TRIM(Translit.Translit(A487)&TRIM(LEFT(Translit.Translit(Service!E486),1))&TRIM(LEFT(Translit.Translit(Service!F486),1))),TRIM('Информация о пользователе'!F488))","v":"pusto"},{"$f":"IF('Информация о пользователе'!G488=\"\",TRIM(LEFT(Translit.Translit(Service!E486),2))&INDEX(Service!H486:H504,RANDBETWEEN(1,19),1)&RANDBETWEEN(1,9)&IF(Service!F486=\"\",TRIM(LEFT(Translit.Translit(Service!E486),3))&INDEX(Service!A486:A511,RANDBETWEEN(1,26),1),TRIM(LEFT(Translit.Translit(Service!F486),2))&INDEX(Service!H486:H504,RANDBETWEEN(1,19),1)&INDEX(Service!A486:A511,RANDBETWEEN(1,26),1)),'Информация о пользователе'!G488)","v":{"$error":"#NAME?"}}]
[{"$f":"TRIM(IF('Информация о пользователе'!A489=\"\",\"Пусто\",'Информация о пользователе'!A489))","v":"Пусто"},{"$f":"TRIM(IF('Информация о пользователе'!B489=\"\",\" \",'Информация о пользователе'!B489&\" \"&'Информация о пользователе'!C489))","v":""},{"$f":"TRIM(IF(AD!A488=\"\",\"\",AD!B488&\" \"&A488))","v":"Пусто"},{"$f":"TRIM(IF('Информация о пользователе'!D489=\"\",F488&\"@edu54.ru\",'Информация о пользователе'!D489))","v":"pusto@edu54.ru"},{"$f":"TRIM(IF('Информация о пользователе'!E489=\"\",\"\",'Информация о пользователе'!E489))","v":""},{"$f":"IF('Информация о пользователе'!F489=\"\",TRIM(Translit.Translit(A488)&TRIM(LEFT(Translit.Translit(Service!E487),1))&TRIM(LEFT(Translit.Translit(Service!F487),1))),TRIM('Информация о пользователе'!F489))","v":"pusto"},{"$f":"IF('Информация о пользователе'!G489=\"\",TRIM(LEFT(Translit.Translit(Service!E487),2))&INDEX(Service!H487:H505,RANDBETWEEN(1,19),1)&RANDBETWEEN(1,9)&IF(Service!F487=\"\",TRIM(LEFT(Translit.Translit(Service!E487),3))&INDEX(Service!A487:A512,RANDBETWEEN(1,26),1),TRIM(LEFT(Translit.Translit(Service!F487),2))&INDEX(Service!H487:H505,RANDBETWEEN(1,19),1)&INDEX(Service!A487:A512,RANDBETWEEN(1,26),1)),'Информация о пользователе'!G489)","v":{"$error":"#NAME?"}}]
[{"$f":"TRIM(IF('Информация о пользователе'!A490=\"\",\"Пусто\",'Информация о пользователе'!A490))","v":"Пусто"},{"$f":"TRIM(IF('Информация о пользователе'!B490=\"\",\" \",'Информация о пользователе'!B490&\" \"&'Информация о пользователе'!C490))","v":""},{"$f":"TRIM(IF(AD!A489=\"\",\"\",AD!B489&\" \"&A489))","v":"Пусто"},{"$f":"TRIM(IF('Информация о пользователе'!D490=\"\",F489&\"@edu54.ru\",'Информация о пользователе'!D490))","v":"pusto@edu54.ru"},{"$f":"TRIM(IF('Информация о пользователе'!E490=\"\",\"\",'Информация о пользователе'!E490))","v":""},{"$f":"IF('Информация о пользователе'!F490=\"\",TRIM(Translit.Translit(A489)&TRIM(LEFT(Translit.Translit(Service!E488),1))&TRIM(LEFT(Translit.Translit(Service!F488),1))),TRIM('Информация о пользователе'!F490))","v":"pusto"},{"$f":"IF('Информация о пользователе'!G490=\"\",TRIM(LEFT(Translit.Translit(Service!E488),2))&INDEX(Service!H488:H506,RANDBETWEEN(1,19),1)&RANDBETWEEN(1,9)&IF(Service!F488=\"\",TRIM(LEFT(Translit.Translit(Service!E488),3))&INDEX(Service!A488:A513,RANDBETWEEN(1,26),1),TRIM(LEFT(Translit.Translit(Service!F488),2))&INDEX(Service!H488:H506,RANDBETWEEN(1,19),1)&INDEX(Service!A488:A513,RANDBETWEEN(1,26),1)),'Информация о пользователе'!G490)","v":{"$error":"#NAME?"}}]
[{"$f":"TRIM(IF('Информация о пользователе'!A491=\"\",\"Пусто\",'Информация о пользователе'!A491))","v":"Пусто"},{"$f":"TRIM(IF('Информация о пользователе'!B491=\"\",\" \",'Информация о пользователе'!B491&\" \"&'Информация о пользователе'!C491))","v":""},{"$f":"TRIM(IF(AD!A490=\"\",\"\",AD!B490&\" \"&A490))","v":"Пусто"},{"$f":"TRIM(IF('Информация о пользователе'!D491=\"\",F490&\"@edu54.ru\",'Информация о пользователе'!D491))","v":"pusto@edu54.ru"},{"$f":"TRIM(IF('Информация о пользователе'!E491=\"\",\"\",'Информация о пользователе'!E491))","v":""},{"$f":"IF('Информация о пользователе'!F491=\"\",TRIM(Translit.Translit(A490)&TRIM(LEFT(Translit.Translit(Service!E489),1))&TRIM(LEFT(Translit.Translit(Service!F489),1))),TRIM('Информация о пользователе'!F491))","v":"pusto"},{"$f":"IF('Информация о пользователе'!G491=\"\",TRIM(LEFT(Translit.Translit(Service!E489),2))&INDEX(Service!H489:H507,RANDBETWEEN(1,19),1)&RANDBETWEEN(1,9)&IF(Service!F489=\"\",TRIM(LEFT(Translit.Translit(Service!E489),3))&INDEX(Service!A489:A514,RANDBETWEEN(1,26),1),TRIM(LEFT(Translit.Translit(Service!F489),2))&INDEX(Service!H489:H507,RANDBETWEEN(1,19),1)&INDEX(Service!A489:A514,RANDBETWEEN(1,26),1)),'Информация о пользователе'!G491)","v":{"$error":"#NAME?"}}]
[{"$f":"TRIM(IF('Информация о пользователе'!A492=\"\",\"Пусто\",'Информация о пользователе'!A492))","v":"Пусто"},{"$f":"TRIM(IF('Информация о пользователе'!B492=\"\",\" \",'Информация о пользователе'!B492&\" \"&'Информация о пользователе'!C492))","v":""},{"$f":"TRIM(IF(AD!A491=\"\",\"\",AD!B491&\" \"&A491))","v":"Пусто"},{"$f":"TRIM(IF('Информация о пользователе'!D492=\"\",F491&\"@edu54.ru\",'Информация о пользователе'!D492))","v":"pusto@edu54.ru"},{"$f":"TRIM(IF('Информация о пользователе'!E492=\"\",\"\",'Информация о пользователе'!E492))","v":""},{"$f":"IF('Информация о пользователе'!F492=\"\",TRIM(Translit.Translit(A491)&TRIM(LEFT(Translit.Translit(Service!E490),1))&TRIM(LEFT(Translit.Translit(Service!F490),1))),TRIM('Информация о пользователе'!F492))","v":"pusto"},{"$f":"IF('Информация о пользователе'!G492=\"\",TRIM(LEFT(Translit.Translit(Service!E490),2))&INDEX(Service!H490:H508,RANDBETWEEN(1,19),1)&RANDBETWEEN(1,9)&IF(Service!F490=\"\",TRIM(LEFT(Translit.Translit(Service!E490),3))&INDEX(Service!A490:A515,RANDBETWEEN(1,26),1),TRIM(LEFT(Translit.Translit(Service!F490),2))&INDEX(Service!H490:H508,RANDBETWEEN(1,19),1)&INDEX(Service!A490:A515,RANDBETWEEN(1,26),1)),'Информация о пользователе'!G492)","v":{"$error":"#NAME?"}}]
[{"$f":"TRIM(IF('Информация о пользователе'!A493=\"\",\"Пусто\",'Информация о пользователе'!A493))","v":"Пусто"},{"$f":"TRIM(IF('Информация о пользователе'!B493=\"\",\" \",'Информация о пользователе'!B493&\" \"&'Информация о пользователе'!C493))","v":""},{"$f":"TRIM(IF(AD!A492=\"\",\"\",AD!B492&\" \"&A492))","v":"Пусто"},{"$f":"TRIM(IF('Информация о пользователе'!D493=\"\",F492&\"@edu54.ru\",'Информация о пользователе'!D493))","v":"pusto@edu54.ru"},{"$f":"TRIM(IF('Информация о пользователе'!E493=\"\",\"\",'Информация о пользователе'!E493))","v":""},{"$f":"IF('Информация о пользователе'!F493=\"\",TRIM(Translit.Translit(A492)&TRIM(LEFT(Translit.Translit(Service!E491),1))&TRIM(LEFT(Translit.Translit(Service!F491),1))),TRIM('Информация о пользователе'!F493))","v":"pusto"},{"$f":"IF('Информация о пользователе'!G493=\"\",TRIM(LEFT(Translit.Translit(Service!E491),2))&INDEX(Service!H491:H509,RANDBETWEEN(1,19),1)&RANDBETWEEN(1,9)&IF(Service!F491=\"\",TRIM(LEFT(Translit.Translit(Service!E491),3))&INDEX(Service!A491:A516,RANDBETWEEN(1,26),1),TRIM(LEFT(Translit.Translit(Service!F491),2))&INDEX(Service!H491:H509,RANDBETWEEN(1,19),1)&INDEX(Service!A491:A516,RANDBETWEEN(1,26),1)),'Информация о пользователе'!G493)","v":{"$error":"#NAME?"}}]
[{"$f":"TRIM(IF('Информация о пользователе'!A494=\"\",\"Пусто\",'Информация о пользователе'!A494))","v":"Пусто"},{"$f":"TRIM(IF('Информация о пользователе'!B494=\"\",\" \",'Информация о пользователе'!B494&\" \"&'Информация о пользователе'!C494))","v":""},{"$f":"TRIM(IF(AD!A493=\"\",\"\",AD!B493&\" \"&A493))","v":"Пусто"},{"$f":"TRIM(IF('Информация о пользователе'!D494=\"\",F493&\"@edu54.ru\",'Информация о пользователе'!D494))","v":"pusto@edu54.ru"},{"$f":"TRIM(IF('Информация о пользователе'!E494=\"\",\"\",'Информация о пользователе'!E494))","v":""},{"$f":"IF('Информация о пользователе'!F494=\"\",TRIM(Translit.Translit(A493)&TRIM(LEFT(Translit.Translit(Service!E492),1))&TRIM(LEFT(Translit.Translit(Service!F492),1))),TRIM('Информация о пользователе'!F494))","v":"pusto"},{"$f":"IF('Информация о пользователе'!G494=\"\",TRIM(LEFT(Translit.Translit(Service!E492),2))&INDEX(Service!H492:H510,RANDBETWEEN(1,19),1)&RANDBETWEEN(1,9)&IF(Service!F492=\"\",TRIM(LEFT(Translit.Translit(Service!E492),3))&INDEX(Service!A492:A517,RANDBETWEEN(1,26),1),TRIM(LEFT(Translit.Translit(Service!F492),2))&INDEX(Service!H492:H510,RANDBETWEEN(1,19),1)&INDEX(Service!A492:A517,RANDBETWEEN(1,26),1)),'Информация о пользователе'!G494)","v":{"$error":"#NAME?"}}]
[{"$f":"TRIM(IF('Информация о пользователе'!A495=\"\",\"Пусто\",'Информация о пользователе'!A495))","v":"Пусто"},{"$f":"TRIM(IF('Информация о пользователе'!B495=\"\",\" \",'Информация о пользователе'!B495&\" \"&'Информация о пользователе'!C495))","v":""},{"$f":"TRIM(IF(AD!A494=\"\",\"\",AD!B494&\" \"&A494))","v":"Пусто"},{"$f":"TRIM(IF('Информация о пользователе'!D495=\"\",F494&\"@edu54.ru\",'Информация о пользователе'!D495))","v":"pusto@edu54.ru"},{"$f":"TRIM(IF('Информация о пользователе'!E495=\"\",\"\",'Информация о пользователе'!E495))","v":""},{"$f":"IF('Информация о пользователе'!F495=\"\",TRIM(Translit.Translit(A494)&TRIM(LEFT(Translit.Translit(Service!E493),1))&TRIM(LEFT(Translit.Translit(Service!F493),1))),TRIM('Информация о пользователе'!F495))","v":"pusto"},{"$f":"IF('Информация о пользователе'!G495=\"\",TRIM(LEFT(Translit.Translit(Service!E493),2))&INDEX(Service!H493:H511,RANDBETWEEN(1,19),1)&RANDBETWEEN(1,9)&IF(Service!F493=\"\",TRIM(LEFT(Translit.Translit(Service!E493),3))&INDEX(Service!A493:A518,RANDBETWEEN(1,26),1),TRIM(LEFT(Translit.Translit(Service!F493),2))&INDEX(Service!H493:H511,RANDBETWEEN(1,19),1)&INDEX(Service!A493:A518,RANDBETWEEN(1,26),1)),'Информация о пользователе'!G495)","v":{"$error":"#NAME?"}}]
[{"$f":"TRIM(IF('Информация о пользователе'!A496=\"\",\"Пусто\",'Информация о пользователе'!A496))","v":"Пусто"},{"$f":"TRIM(IF('Информация о пользователе'!B496=\"\",\" \",'Информация о пользователе'!B496&\" \"&'Информация о пользователе'!C496))","v":""},{"$f":"TRIM(IF(AD!A495=\"\",\"\",AD!B495&\" \"&A495))","v":"Пусто"},{"$f":"TRIM(IF('Информация о пользователе'!D496=\"\",F495&\"@edu54.ru\",'Информация о пользователе'!D496))","v":"pusto@edu54.ru"},{"$f":"TRIM(IF('Информация о пользователе'!E496=\"\",\"\",'Информация о пользователе'!E496))","v":""},{"$f":"IF('Информация о пользователе'!F496=\"\",TRIM(Translit.Translit(A495)&TRIM(LEFT(Translit.Translit(Service!E494),1))&TRIM(LEFT(Translit.Translit(Service!F494),1))),TRIM('Информация о пользователе'!F496))","v":"pusto"},{"$f":"IF('Информация о пользователе'!G496=\"\",TRIM(LEFT(Translit.Translit(Service!E494),2))&INDEX(Service!H494:H512,RANDBETWEEN(1,19),1)&RANDBETWEEN(1,9)&IF(Service!F494=\"\",TRIM(LEFT(Translit.Translit(Service!E494),3))&INDEX(Service!A494:A519,RANDBETWEEN(1,26),1),TRIM(LEFT(Translit.Translit(Service!F494),2))&INDEX(Service!H494:H512,RANDBETWEEN(1,19),1)&INDEX(Service!A494:A519,RANDBETWEEN(1,26),1)),'Информация о пользователе'!G496)","v":{"$error":"#NAME?"}}]
[{"$f":"TRIM(IF('Информация о пользователе'!A497=\"\",\"Пусто\",'Информация о пользователе'!A497))","v":"Пусто"},{"$f":"TRIM(IF('Информация о пользователе'!B497=\"\",\" \",'Информация о пользователе'!B497&\" \"&'Информация о пользователе'!C497))","v":""},{"$f":"TRIM(IF(AD!A496=\"\",\"\",AD!B496&\" \"&A496))","v":"Пусто"},{"$f":"TRIM(IF('Информация о пользователе'!D497=\"\",F496&\"@edu54.ru\",'Информация о пользователе'!D497))","v":"pusto@edu54.ru"},{"$f":"TRIM(IF('Информация о пользователе'!E497=\"\",\"\",'Информация о пользователе'!E497))","v":""},{"$f":"IF('Информация о пользователе'!F497=\"\",TRIM(Translit.Translit(A496)&TRIM(LEFT(Translit.Translit(Service!E495),1))&TRIM(LEFT(Translit.Translit(Service!F495),1))),TRIM('Информация о пользователе'!F497))","v":"pusto"},{"$f":"IF('Информация о пользователе'!G497=\"\",TRIM(LEFT(Translit.Translit(Service!E495),2))&INDEX(Service!H495:H513,RANDBETWEEN(1,19),1)&RANDBETWEEN(1,9)&IF(Service!F495=\"\",TRIM(LEFT(Translit.Translit(Service!E495),3))&INDEX(Service!A495:A520,RANDBETWEEN(1,26),1),TRIM(LEFT(Translit.Translit(Service!F495),2))&INDEX(Service!H495:H513,RANDBETWEEN(1,19),1)&INDEX(Service!A495:A520,RANDBETWEEN(1,26),1)),'Информация о пользователе'!G497)","v":{"$error":"#NAME?"}}]
[{"$f":"TRIM(IF('Информация о пользователе'!A498=\"\",\"Пусто\",'Информация о пользователе'!A498))","v":"Пусто"},{"$f":"TRIM(IF('Информация о пользователе'!B498=\"\",\" \",'Информация о пользователе'!B498&\" \"&'Информация о пользователе'!C498))","v":""},{"$f":"TRIM(IF(AD!A497=\"\",\"\",AD!B497&\" \"&A497))","v":"Пусто"},{"$f":"TRIM(IF('Информация о пользователе'!D498=\"\",F497&\"@edu54.ru\",'Информация о пользователе'!D498))","v":"pusto@edu54.ru"},{"$f":"TRIM(IF('Информация о пользователе'!E498=\"\",\"\",'Информация о пользователе'!E498))","v":""},{"$f":"IF('Информация о пользователе'!F498=\"\",TRIM(Translit.Translit(A497)&TRIM(LEFT(Translit.Translit(Service!E496),1))&TRIM(LEFT(Translit.Translit(Service!F496),1))),TRIM('Информация о пользователе'!F498))","v":"pusto"},{"$f":"IF('Информация о пользователе'!G498=\"\",TRIM(LEFT(Translit.Translit(Service!E496),2))&INDEX(Service!H496:H514,RANDBETWEEN(1,19),1)&RANDBETWEEN(1,9)&IF(Service!F496=\"\",TRIM(LEFT(Translit.Translit(Service!E496),3))&INDEX(Service!A496:A521,RANDBETWEEN(1,26),1),TRIM(LEFT(Translit.Translit(Service!F496),2))&INDEX(Service!H496:H514,RANDBETWEEN(1,19),1)&INDEX(Service!A496:A521,RANDBETWEEN(1,26),1)),'Информация о пользователе'!G498)","v":{"$error":"#NAME?"}}]
[{"$f":"TRIM(IF('Информация о пользователе'!A499=\"\",\"Пусто\",'Информация о пользователе'!A499))","v":"Пусто"},{"$f":"TRIM(IF('Информация о пользователе'!B499=\"\",\" \",'Информация о пользователе'!B499&\" \"&'Информация о пользователе'!C499))","v":""},{"$f":"TRIM(IF(AD!A498=\"\",\"\",AD!B498&\" \"&A498))","v":"Пусто"},{"$f":"TRIM(IF('Информация о пользователе'!D499=\"\",F498&\"@edu54.ru\",'Информация о пользователе'!D499))","v":"pusto@edu54.ru"},{"$f":"TRIM(IF('Информация о пользователе'!E499=\"\",\"\",'Информация о пользователе'!E499))","v":""},{"$f":"IF('Информация о пользователе'!F499=\"\",TRIM(Translit.Translit(A498)&TRIM(LEFT(Translit.Translit(Service!E497),1))&TRIM(LEFT(Translit.Translit(Service!F497),1))),TRIM('Информация о пользователе'!F499))","v":"pusto"},{"$f":"IF('Информация о пользователе'!G499=\"\",TRIM(LEFT(Translit.Translit(Service!E497),2))&INDEX(Service!H497:H515,RANDBETWEEN(1,19),1)&RANDBETWEEN(1,9)&IF(Service!F497=\"\",TRIM(LEFT(Translit.Translit(Service!E497),3))&INDEX(Service!A497:A522,RANDBETWEEN(1,26),1),TRIM(LEFT(Translit.Translit(Service!F497),2))&INDEX(Service!H497:H515,RANDBETWEEN(1,19),1)&INDEX(Service!A497:A522,RANDBETWEEN(1,26),1)),'Информация о пользователе'!G499)","v":{"$error":"#NAME?"}}]
[{"$f":"TRIM(IF('Информация о пользователе'!A500=\"\",\"Пусто\",'Информация о пользователе'!A500))","v":"Пусто"},{"$f":"TRIM(IF('Информация о пользователе'!B500=\"\",\" \",'Информация о пользователе'!B500&\" \"&'Информация о пользователе'!C500))","v":""},{"$f":"TRIM(IF(AD!A499=\"\",\"\",AD!B499&\" \"&A499))","v":"Пусто"},{"$f":"TRIM(IF('Информация о пользователе'!D500=\"\",F499&\"@edu54.ru\",'Информация о пользователе'!D500))","v":"pusto@edu54.ru"},{"$f":"TRIM(IF('Информация о пользователе'!E500=\"\",\"\",'Информация о пользователе'!E500))","v":""},{"$f":"IF('Информация о пользователе'!F500=\"\",TRIM(Translit.Translit(A499)&TRIM(LEFT(Translit.Translit(Service!E498),1))&TRIM(LEFT(Translit.Translit(Service!F498),1))),TRIM('Информация о пользователе'!F500))","v":"pusto"},{"$f":"IF('Информация о пользователе'!G500=\"\",TRIM(LEFT(Translit.Translit(Service!E498),2))&INDEX(Service!H498:H516,RANDBETWEEN(1,19),1)&RANDBETWEEN(1,9)&IF(Service!F498=\"\",TRIM(LEFT(Translit.Translit(Service!E498),3))&INDEX(Service!A498:A523,RANDBETWEEN(1,26),1),TRIM(LEFT(Translit.Translit(Service!F498),2))&INDEX(Service!H498:H516,RANDBETWEEN(1,19),1)&INDEX(Service!A498:A523,RANDBETWEEN(1,26),1)),'Информация о пользователе'!G500)","v":{"$error":"#NAME?"}}]
[{"$f":"TRIM(IF('Информация о пользователе'!A501=\"\",\"Пусто\",'Информация о пользователе'!A501))","v":"Пусто"},{"$f":"TRIM(IF('Информация о пользователе'!B501=\"\",\" \",'Информация о пользователе'!B501&\" \"&'Информация о пользователе'!C501))","v":""},{"$f":"TRIM(IF(AD!A500=\"\",\"\",AD!B500&\" \"&A500))","v":"Пусто"},{"$f":"TRIM(IF('Информация о пользователе'!D501=\"\",F500&\"@edu54.ru\",'Информация о пользователе'!D501))","v":"pusto@edu54.ru"},{"$f":"TRIM(IF('Информация о пользователе'!E501=\"\",\"\",'Информация о пользователе'!E501))","v":""},{"$f":"IF('Информация о пользователе'!F501=\"\",TRIM(Translit.Translit(A500)&TRIM(LEFT(Translit.Translit(Service!E499),1))&TRIM(LEFT(Translit.Translit(Service!F499),1))),TRIM('Информация о пользователе'!F501))","v":"pusto"},{"$f":"IF('Информация о пользователе'!G501=\"\",TRIM(LEFT(Translit.Translit(Service!E499),2))&INDEX(Service!H499:H517,RANDBETWEEN(1,19),1)&RANDBETWEEN(1,9)&IF(Service!F499=\"\",TRIM(LEFT(Translit.Translit(Service!E499),3))&INDEX(Service!A499:A524,RANDBETWEEN(1,26),1),TRIM(LEFT(Translit.Translit(Service!F499),2))&INDEX(Service!H499:H517,RANDBETWEEN(1,19),1)&INDEX(Service!A499:A524,RANDBETWEEN(1,26),1)),'Информация о пользователе'!G501)","v":{"$error":"#NAME?"}}]
[{"$f":"TRIM(IF('Информация о пользователе'!A502=\"\",\"Пусто\",'Информация о пользователе'!A502))","v":"Пусто"},{"$f":"TRIM(IF('Информация о пользователе'!B502=\"\",\" \",'Информация о пользователе'!B502&\" \"&'Информация о пользователе'!C502))","v":""},{"$f":"TRIM(IF(AD!A501=\"\",\"\",AD!B501&\" \"&A501))","v":"Пусто"},{"$f":"TRIM(IF('Информация о пользователе'!D502=\"\",F501&\"@edu54.ru\",'Информация о пользователе'!D502))","v":"pusto@edu54.ru"},{"$f":"TRIM(IF('Информация о пользователе'!E502=\"\",\"\",'Информация о пользователе'!E502))","v":""},{"$f":"IF('Информация о пользователе'!F502=\"\",TRIM(Translit.Translit(A501)&TRIM(LEFT(Translit.Translit(Service!E500),1))&TRIM(LEFT(Translit.Translit(Service!F500),1))),TRIM('Информация о пользователе'!F502))","v":"pusto"},{"$f":"IF('Информация о пользователе'!G502=\"\",TRIM(LEFT(Translit.Translit(Service!E500),2))&INDEX(Service!H500:H518,RANDBETWEEN(1,19),1)&RANDBETWEEN(1,9)&IF(Service!F500=\"\",TRIM(LEFT(Translit.Translit(Service!E500),3))&INDEX(Service!A500:A525,RANDBETWEEN(1,26),1),TRIM(LEFT(Translit.Translit(Service!F500),2))&INDEX(Service!H500:H518,RANDBETWEEN(1,19),1)&INDEX(Service!A500:A525,RANDBETWEEN(1,26),1)),'Информация о пользователе'!G502)","v":{"$error":"#NAME?"}}]
[{"$f":"TRIM(IF('Информация о пользователе'!A503=\"\",\"Пусто\",'Информация о пользователе'!A503))","v":"Пусто"},{"$f":"TRIM(IF('Информация о пользователе'!B503=\"\",\" \",'Информация о пользователе'!B503&\" \"&'Информация о пользователе'!C503))","v":""},{"$f":"TRIM(IF(AD!A502=\"\",\"\",AD!B502&\" \"&A502))","v":"Пусто"},{"$f":"TRIM(IF('Информация о пользователе'!D503=\"\",F502&\"@edu54.ru\",'Информация о пользователе'!D503))","v":"pusto@edu54.ru"},{"$f":"TRIM(IF('Информация о пользователе'!E503=\"\",\"\",'Информация о пользователе'!E503))","v":""},{"$f":"IF('Информация о пользователе'!F503=\"\",TRIM(Translit.Translit(A502)&TRIM(LEFT(Translit.Translit(Service!E501),1))&TRIM(LEFT(Translit.Translit(Service!F501),1))),TRIM('Информация о пользователе'!F503))","v":"pusto"},{"$f":"IF('Информация о пользователе'!G503=\"\",TRIM(LEFT(Translit.Translit(Service!E501),2))&INDEX(Service!H501:H519,RANDBETWEEN(1,19),1)&RANDBETWEEN(1,9)&IF(Service!F501=\"\",TRIM(LEFT(Translit.Translit(Service!E501),3))&INDEX(Service!A501:A526,RANDBETWEEN(1,26),1),TRIM(LEFT(Translit.Translit(Service!F501),2))&INDEX(Service!H501:H519,RANDBETWEEN(1,19),1)&INDEX(Service!A501:A526,RANDBETWEEN(1,26),1)),'Информация о пользователе'!G503)","v":{"$error":"#NAME?"}}]
[{"$f":"TRIM(IF('Информация о пользователе'!A504=\"\",\"Пусто\",'Информация о пользователе'!A504))","v":"Пусто"},{"$f":"TRIM(IF('Информация о пользователе'!B504=\"\",\" \",'Информация о пользователе'!B504&\" \"&'Информация о пользователе'!C504))","v":""},{"$f":"TRIM(IF(AD!A503=\"\",\"\",AD!B503&\" \"&A503))","v":"Пусто"},{"$f":"TRIM(IF('Информация о пользователе'!D504=\"\",F503&\"@edu54.ru\",'Информация о пользователе'!D504))","v":"pusto@edu54.ru"},{"$f":"TRIM(IF('Информация о пользователе'!E504=\"\",\"\",'Информация о пользователе'!E504))","v":""},{"$f":"IF('Информация о пользователе'!F504=\"\",TRIM(Translit.Translit(A503)&TRIM(LEFT(Translit.Translit(Service!E502),1))&TRIM(LEFT(Translit.Translit(Service!F502),1))),TRIM('Информация о пользователе'!F504))","v":"pusto"},{"$f":"IF('Информация о пользователе'!G504=\"\",TRIM(LEFT(Translit.Translit(Service!E502),2))&INDEX(Service!H502:H520,RANDBETWEEN(1,19),1)&RANDBETWEEN(1,9)&IF(Service!F502=\"\",TRIM(LEFT(Translit.Translit(Service!E502),3))&INDEX(Service!A502:A527,RANDBETWEEN(1,26),1),TRIM(LEFT(Translit.Translit(Service!F502),2))&INDEX(Service!H502:H520,RANDBETWEEN(1,19),1)&INDEX(Service!A502:A527,RANDBETWEEN(1,26),1)),'Информация о пользователе'!G504)","v":{"$error":"#NAME?"}}]
[{"$f":"TRIM(IF('Информация о пользователе'!A505=\"\",\"Пусто\",'Информация о пользователе'!A505))","v":"Пусто"},{"$f":"TRIM(IF('Информация о пользователе'!B505=\"\",\" \",'Информация о пользователе'!B505&\" \"&'Информация о пользователе'!C505))","v":""},{"$f":"TRIM(IF(AD!A504=\"\",\"\",AD!B504&\" \"&A504))","v":"Пусто"},{"$f":"TRIM(IF('Информация о пользователе'!D505=\"\",F504&\"@edu54.ru\",'Информация о пользователе'!D505))","v":"pusto@edu54.ru"},{"$f":"TRIM(IF('Информация о пользователе'!E505=\"\",\"\",'Информация о пользователе'!E505))","v":""},{"$f":"IF('Информация о пользователе'!F505=\"\",TRIM(Translit.Translit(A504)&TRIM(LEFT(Translit.Translit(Service!E503),1))&TRIM(LEFT(Translit.Translit(Service!F503),1))),TRIM('Информация о пользователе'!F505))","v":"pusto"},{"$f":"IF('Информация о пользователе'!G505=\"\",TRIM(LEFT(Translit.Translit(Service!E503),2))&INDEX(Service!H503:H521,RANDBETWEEN(1,19),1)&RANDBETWEEN(1,9)&IF(Service!F503=\"\",TRIM(LEFT(Translit.Translit(Service!E503),3))&INDEX(Service!A503:A528,RANDBETWEEN(1,26),1),TRIM(LEFT(Translit.Translit(Service!F503),2))&INDEX(Service!H503:H521,RANDBETWEEN(1,19),1)&INDEX(Service!A503:A528,RANDBETWEEN(1,26),1)),'Информация о пользователе'!G505)","v":{"$error":"#NAME?"}}]
[{"$f":"TRIM(IF('Информация о пользователе'!A506=\"\",\"Пусто\",'Информация о пользователе'!A506))","v":"Пусто"},{"$f":"TRIM(IF('Информация о пользователе'!B506=\"\",\" \",'Информация о пользователе'!B506&\" \"&'Информация о пользователе'!C506))","v":""},{"$f":"TRIM(IF(AD!A505=\"\",\"\",AD!B505&\" \"&A505))","v":"Пусто"},{"$f":"TRIM(IF('Информация о пользователе'!D506=\"\",F505&\"@edu54.ru\",'Информация о пользователе'!D506))","v":"pusto@edu54.ru"},{"$f":"TRIM(IF('Информация о пользователе'!E506=\"\",\"\",'Информация о пользователе'!E506))","v":""},{"$f":"IF('Информация о пользователе'!F506=\"\",TRIM(Translit.Translit(A505)&TRIM(LEFT(Translit.Translit(Service!E504),1))&TRIM(LEFT(Translit.Translit(Service!F504),1))),TRIM('Информация о пользователе'!F506))","v":"pusto"},{"$f":"IF('Информация о пользователе'!G506=\"\",TRIM(LEFT(Translit.Translit(Service!E504),2))&INDEX(Service!H504:H522,RANDBETWEEN(1,19),1)&RANDBETWEEN(1,9)&IF(Service!F504=\"\",TRIM(LEFT(Translit.Translit(Service!E504),3))&INDEX(Service!A504:A529,RANDBETWEEN(1,26),1),TRIM(LEFT(Translit.Translit(Service!F504),2))&INDEX(Service!H504:H522,RANDBETWEEN(1,19),1)&INDEX(Service!A504:A529,RANDBETWEEN(1,26),1)),'Информация о пользователе'!G506)","v":{"$error":"#NAME?"}}]
[{"$f":"TRIM(IF('Информация о пользователе'!A507=\"\",\"Пусто\",'Информация о пользователе'!A507))","v":"Пусто"},{"$f":"TRIM(IF('Информация о пользователе'!B507=\"\",\" \",'Информация о пользователе'!B507&\" \"&'Информация о пользователе'!C507))","v":""},{"$f":"TRIM(IF(AD!A506=\"\",\"\",AD!B506&\" \"&A506))","v":"Пусто"},{"$f":"TRIM(IF('Информация о пользователе'!D507=\"\",F506&\"@edu54.ru\",'Информация о пользователе'!D507))","v":"pusto@edu54.ru"},{"$f":"TRIM(IF('Информация о пользователе'!E507=\"\",\"\",'Информация о пользователе'!E507))","v":""},{"$f":"IF('Информация о пользователе'!F507=\"\",TRIM(Translit.Translit(A506)&TRIM(LEFT(Translit.Translit(Service!E505),1))&TRIM(LEFT(Translit.Translit(Service!F505),1))),TRIM('Информация о пользователе'!F507))","v":"pusto"},{"$f":"IF('Информация о пользователе'!G507=\"\",TRIM(LEFT(Translit.Translit(Service!E505),2))&INDEX(Service!H505:H523,RANDBETWEEN(1,19),1)&RANDBETWEEN(1,9)&IF(Service!F505=\"\",TRIM(LEFT(Translit.Translit(Service!E505),3))&INDEX(Service!A505:A530,RANDBETWEEN(1,26),1),TRIM(LEFT(Translit.Translit(Service!F505),2))&INDEX(Service!H505:H523,RANDBETWEEN(1,19),1)&INDEX(Service!A505:A530,RANDBETWEEN(1,26),1)),'Информация о пользователе'!G507)","v":{"$error":"#NAME?"}}]
[{"$f":"TRIM(IF('Информация о пользователе'!A508=\"\",\"Пусто\",'Информация о пользователе'!A508))","v":"Пусто"},{"$f":"TRIM(IF('Информация о пользователе'!B508=\"\",\" \",'Информация о пользователе'!B508&\" \"&'Информация о пользователе'!C508))","v":""},{"$f":"TRIM(IF(AD!A507=\"\",\"\",AD!B507&\" \"&A507))","v":"Пусто"},{"$f":"TRIM(IF('Информация о пользователе'!D508=\"\",F507&\"@edu54.ru\",'Информация о пользователе'!D508))","v":"pusto@edu54.ru"},{"$f":"TRIM(IF('Информация о пользователе'!E508=\"\",\"\",'Информация о пользователе'!E508))","v":""},{"$f":"IF('Информация о пользователе'!F508=\"\",TRIM(Translit.Translit(A507)&TRIM(LEFT(Translit.Translit(Service!E506),1))&TRIM(LEFT(Translit.Translit(Service!F506),1))),TRIM('Информация о пользователе'!F508))","v":"pusto"},{"$f":"IF('Информация о пользователе'!G508=\"\",TRIM(LEFT(Translit.Translit(Service!E506),2))&INDEX(Service!H506:H524,RANDBETWEEN(1,19),1)&RANDBETWEEN(1,9)&IF(Service!F506=\"\",TRIM(LEFT(Translit.Translit(Service!E506),3))&INDEX(Service!A506:A531,RANDBETWEEN(1,26),1),TRIM(LEFT(Translit.Translit(Service!F506),2))&INDEX(Service!H506:H524,RANDBETWEEN(1,19),1)&INDEX(Service!A506:A531,RANDBETWEEN(1,26),1)),'Информация о пользователе'!G508)","v":{"$error":"#NAME?"}}]
[{"$f":"TRIM(IF('Информация о пользователе'!A509=\"\",\"Пусто\",'Информация о пользователе'!A509))","v":"Пусто"},{"$f":"TRIM(IF('Информация о пользователе'!B509=\"\",\" \",'Информация о пользователе'!B509&\" \"&'Информация о пользователе'!C509))","v":""},{"$f":"TRIM(IF(AD!A508=\"\",\"\",AD!B508&\" \"&A508))","v":"Пусто"},{"$f":"TRIM(IF('Информация о пользователе'!D509=\"\",F508&\"@edu54.ru\",'Информация о пользователе'!D509))","v":"pusto@edu54.ru"},{"$f":"TRIM(IF('Информация о пользователе'!E509=\"\",\"\",'Информация о пользователе'!E509))","v":""},{"$f":"IF('Информация о пользователе'!F509=\"\",TRIM(Translit.Translit(A508)&TRIM(LEFT(Translit.Translit(Service!E507),1))&TRIM(LEFT(Translit.Translit(Service!F507),1))),TRIM('Информация о пользователе'!F509))","v":"pusto"},{"$f":"IF('Информация о пользователе'!G509=\"\",TRIM(LEFT(Translit.Translit(Service!E507),2))&INDEX(Service!H507:H525,RANDBETWEEN(1,19),1)&RANDBETWEEN(1,9)&IF(Service!F507=\"\",TRIM(LEFT(Translit.Translit(Service!E507),3))&INDEX(Service!A507:A532,RANDBETWEEN(1,26),1),TRIM(LEFT(Translit.Translit(Service!F507),2))&INDEX(Service!H507:H525,RANDBETWEEN(1,19),1)&INDEX(Service!A507:A532,RANDBETWEEN(1,26),1)),'Информация о пользователе'!G509)","v":{"$error":"#NAME?"}}]
[{"$f":"TRIM(IF('Информация о пользователе'!A510=\"\",\"Пусто\",'Информация о пользователе'!A510))","v":"Пусто"},{"$f":"TRIM(IF('Информация о пользователе'!B510=\"\",\" \",'Информация о пользователе'!B510&\" \"&'Информация о пользователе'!C510))","v":""},{"$f":"TRIM(IF(AD!A509=\"\",\"\",AD!B509&\" \"&A509))","v":"Пусто"},{"$f":"TRIM(IF('Информация о пользователе'!D510=\"\",F509&\"@edu54.ru\",'Информация о пользователе'!D510))","v":"pusto@edu54.ru"},{"$f":"TRIM(IF('Информация о пользователе'!E510=\"\",\"\",'Информация о пользователе'!E510))","v":""},{"$f":"IF('Информация о пользователе'!F510=\"\",TRIM(Translit.Translit(A509)&TRIM(LEFT(Translit.Translit(Service!E508),1))&TRIM(LEFT(Translit.Translit(Service!F508),1))),TRIM('Информация о пользователе'!F510))","v":"pusto"},{"$f":"IF('Информация о пользователе'!G510=\"\",TRIM(LEFT(Translit.Translit(Service!E508),2))&INDEX(Service!H508:H526,RANDBETWEEN(1,19),1)&RANDBETWEEN(1,9)&IF(Service!F508=\"\",TRIM(LEFT(Translit.Translit(Service!E508),3))&INDEX(Service!A508:A533,RANDBETWEEN(1,26),1),TRIM(LEFT(Translit.Translit(Service!F508),2))&INDEX(Service!H508:H526,RANDBETWEEN(1,19),1)&INDEX(Service!A508:A533,RANDBETWEEN(1,26),1)),'Информация о пользователе'!G510)","v":{"$error":"#NAME?"}}]
[{"$f":"TRIM(IF('Информация о пользователе'!A511=\"\",\"Пусто\",'Информация о пользователе'!A511))","v":"Пусто"},{"$f":"TRIM(IF('Информация о пользователе'!B511=\"\",\" \",'Информация о пользователе'!B511&\" \"&'Информация о пользователе'!C511))","v":""},{"$f":"TRIM(IF(AD!A510=\"\",\"\",AD!B510&\" \"&A510))","v":"Пусто"},{"$f":"TRIM(IF('Информация о пользователе'!D511=\"\",F510&\"@edu54.ru\",'Информация о пользователе'!D511))","v":"pusto@edu54.ru"},{"$f":"TRIM(IF('Информация о пользователе'!E511=\"\",\"\",'Информация о пользователе'!E511))","v":""},{"$f":"IF('Информация о пользователе'!F511=\"\",TRIM(Translit.Translit(A510)&TRIM(LEFT(Translit.Translit(Service!E509),1))&TRIM(LEFT(Translit.Translit(Service!F509),1))),TRIM('Информация о пользователе'!F511))","v":"pusto"},{"$f":"IF('Информация о пользователе'!G511=\"\",TRIM(LEFT(Translit.Translit(Service!E509),2))&INDEX(Service!H509:H527,RANDBETWEEN(1,19),1)&RANDBETWEEN(1,9)&IF(Service!F509=\"\",TRIM(LEFT(Translit.Translit(Service!E509),3))&INDEX(Service!A509:A534,RANDBETWEEN(1,26),1),TRIM(LEFT(Translit.Translit(Service!F509),2))&INDEX(Service!H509:H527,RANDBETWEEN(1,19),1)&INDEX(Service!A509:A534,RANDBETWEEN(1,26),1)),'Информация о пользователе'!G511)","v":{"$error":"#NAME?"}}]
[{"$f":"TRIM(IF('Информация о пользователе'!A512=\"\",\"Пусто\",'Информация о пользователе'!A512))","v":"Пусто"},{"$f":"TRIM(IF('Информация о пользователе'!B512=\"\",\" \",'Информация о пользователе'!B512&\" \"&'Информация о пользователе'!C512))","v":""},{"$f":"TRIM(IF(AD!A511=\"\",\"\",AD!B511&\" \"&A511))","v":"Пусто"},{"$f":"TRIM(IF('Информация о пользователе'!D512=\"\",F511&\"@edu54.ru\",'Информация о пользователе'!D512))","v":"pusto@edu54.ru"},{"$f":"TRIM(IF('Информация о пользователе'!E512=\"\",\"\",'Информация о пользователе'!E512))","v":""},{"$f":"IF('Информация о пользователе'!F512=\"\",TRIM(Translit.Translit(A511)&TRIM(LEFT(Translit.Translit(Service!E510),1))&TRIM(LEFT(Translit.Translit(Service!F510),1))),TRIM('Информация о пользователе'!F512))","v":"pusto"},{"$f":"IF('Информация о пользователе'!G512=\"\",TRIM(LEFT(Translit.Translit(Service!E510),2))&INDEX(Service!H510:H528,RANDBETWEEN(1,19),1)&RANDBETWEEN(1,9)&IF(Service!F510=\"\",TRIM(LEFT(Translit.Translit(Service!E510),3))&INDEX(Service!A510:A535,RANDBETWEEN(1,26),1),TRIM(LEFT(Translit.Translit(Service!F510),2))&INDEX(Service!H510:H528,RANDBETWEEN(1,19),1)&INDEX(Service!A510:A535,RANDBETWEEN(1,26),1)),'Информация о пользователе'!G512)","v":{"$error":"#NAME?"}}]
[{"$f":"TRIM(IF('Информация о пользователе'!A513=\"\",\"Пусто\",'Информация о пользователе'!A513))","v":"Пусто"},{"$f":"TRIM(IF('Информация о пользователе'!B513=\"\",\" \",'Информация о пользователе'!B513&\" \"&'Информация о пользователе'!C513))","v":""},{"$f":"TRIM(IF(AD!A512=\"\",\"\",AD!B512&\" \"&A512))","v":"Пусто"},{"$f":"TRIM(IF('Информация о пользователе'!D513=\"\",F512&\"@edu54.ru\",'Информация о пользователе'!D513))","v":"pusto@edu54.ru"},{"$f":"TRIM(IF('Информация о пользователе'!E513=\"\",\"\",'Информация о пользователе'!E513))","v":""},{"$f":"IF('Информация о пользователе'!F513=\"\",TRIM(Translit.Translit(A512)&TRIM(LEFT(Translit.Translit(Service!E511),1))&TRIM(LEFT(Translit.Translit(Service!F511),1))),TRIM('Информация о пользователе'!F513))","v":"pusto"},{"$f":"IF('Информация о пользователе'!G513=\"\",TRIM(LEFT(Translit.Translit(Service!E511),2))&INDEX(Service!H511:H529,RANDBETWEEN(1,19),1)&RANDBETWEEN(1,9)&IF(Service!F511=\"\",TRIM(LEFT(Translit.Translit(Service!E511),3))&INDEX(Service!A511:A536,RANDBETWEEN(1,26),1),TRIM(LEFT(Translit.Translit(Service!F511),2))&INDEX(Service!H511:H529,RANDBETWEEN(1,19),1)&INDEX(Service!A511:A536,RANDBETWEEN(1,26),1)),'Информация о пользователе'!G513)","v":{"$error":"#NAME?"}}]
[{"$f":"TRIM(IF('Информация о пользователе'!A514=\"\",\"Пусто\",'Информация о пользователе'!A514))","v":"Пусто"},{"$f":"TRIM(IF('Информация о пользователе'!B514=\"\",\" \",'Информация о пользователе'!B514&\" \"&'Информация о пользователе'!C514))","v":""},{"$f":"TRIM(IF(AD!A513=\"\",\"\",AD!B513&\" \"&A513))","v":"Пусто"},{"$f":"TRIM(IF('Информация о пользователе'!D514=\"\",F513&\"@edu54.ru\",'Информация о пользователе'!D514))","v":"pusto@edu54.ru"},{"$f":"TRIM(IF('Информация о пользователе'!E514=\"\",\"\",'Информация о пользователе'!E514))","v":""},{"$f":"IF('Информация о пользователе'!F514=\"\",TRIM(Translit.Translit(A513)&TRIM(LEFT(Translit.Translit(Service!E512),1))&TRIM(LEFT(Translit.Translit(Service!F512),1))),TRIM('Информация о пользователе'!F514))","v":"pusto"},{"$f":"IF('Информация о пользователе'!G514=\"\",TRIM(LEFT(Translit.Translit(Service!E512),2))&INDEX(Service!H512:H530,RANDBETWEEN(1,19),1)&RANDBETWEEN(1,9)&IF(Service!F512=\"\",TRIM(LEFT(Translit.Translit(Service!E512),3))&INDEX(Service!A512:A537,RANDBETWEEN(1,26),1),TRIM(LEFT(Translit.Translit(Service!F512),2))&INDEX(Service!H512:H530,RANDBETWEEN(1,19),1)&INDEX(Service!A512:A537,RANDBETWEEN(1,26),1)),'Информация о пользователе'!G514)","v":{"$error":"#NAME?"}}]
[{"$f":"TRIM(IF('Информация о пользователе'!A515=\"\",\"Пусто\",'Информация о пользователе'!A515))","v":"Пусто"},{"$f":"TRIM(IF('Информация о пользователе'!B515=\"\",\" \",'Информация о пользователе'!B515&\" \"&'Информация о пользователе'!C515))","v":""},{"$f":"TRIM(IF(AD!A514=\"\",\"\",AD!B514&\" \"&A514))","v":"Пусто"},{"$f":"TRIM(IF('Информация о пользователе'!D515=\"\",F514&\"@edu54.ru\",'Информация о пользователе'!D515))","v":"pusto@edu54.ru"},{"$f":"TRIM(IF('Информация о пользователе'!E515=\"\",\"\",'Информация о пользователе'!E515))","v":""},{"$f":"IF('Информация о пользователе'!F515=\"\",TRIM(Translit.Translit(A514)&TRIM(LEFT(Translit.Translit(Service!E513),1))&TRIM(LEFT(Translit.Translit(Service!F513),1))),TRIM('Информация о пользователе'!F515))","v":"pusto"},{"$f":"IF('Информация о пользователе'!G515=\"\",TRIM(LEFT(Translit.Translit(Service!E513),2))&INDEX(Service!H513:H531,RANDBETWEEN(1,19),1)&RANDBETWEEN(1,9)&IF(Service!F513=\"\",TRIM(LEFT(Translit.Translit(Service!E513),3))&INDEX(Service!A513:A538,RANDBETWEEN(1,26),1),TRIM(LEFT(Translit.Translit(Service!F513),2))&INDEX(Service!H513:H531,RANDBETWEEN(1,19),1)&INDEX(Service!A513:A538,RANDBETWEEN(1,26),1)),'Информация о пользователе'!G515)","v":{"$error":"#NAME?"}}]
[{"$f":"TRIM(IF('Информация о пользователе'!A516=\"\",\"Пусто\",'Информация о пользователе'!A516))","v":"Пусто"},{"$f":"TRIM(IF('Информация о пользователе'!B516=\"\",\" \",'Информация о пользователе'!B516&\" \"&'Информация о пользователе'!C516))","v":""},{"$f":"TRIM(IF(AD!A515=\"\",\"\",AD!B515&\" \"&A515))","v":"Пусто"},{"$f":"TRIM(IF('Информация о пользователе'!D516=\"\",F515&\"@edu54.ru\",'Информация о пользователе'!D516))","v":"pusto@edu54.ru"},{"$f":"TRIM(IF('Информация о пользователе'!E516=\"\",\"\",'Информация о пользователе'!E516))","v":""},{"$f":"IF('Информация о пользователе'!F516=\"\",TRIM(Translit.Translit(A515)&TRIM(LEFT(Translit.Translit(Service!E514),1))&TRIM(LEFT(Translit.Translit(Service!F514),1))),TRIM('Информация о пользователе'!F516))","v":"pusto"},{"$f":"IF('Информация о пользователе'!G516=\"\",TRIM(LEFT(Translit.Translit(Service!E514),2))&INDEX(Service!H514:H532,RANDBETWEEN(1,19),1)&RANDBETWEEN(1,9)&IF(Service!F514=\"\",TRIM(LEFT(Translit.Translit(Service!E514),3))&INDEX(Service!A514:A539,RANDBETWEEN(1,26),1),TRIM(LEFT(Translit.Translit(Service!F514),2))&INDEX(Service!H514:H532,RANDBETWEEN(1,19),1)&INDEX(Service!A514:A539,RANDBETWEEN(1,26),1)),'Информация о пользователе'!G516)","v":{"$error":"#NAME?"}}]
[{"$f":"TRIM(IF('Информация о пользователе'!A517=\"\",\"Пусто\",'Информация о пользователе'!A517))","v":"Пусто"},{"$f":"TRIM(IF('Информация о пользователе'!B517=\"\",\" \",'Информация о пользователе'!B517&\" \"&'Информация о пользователе'!C517))","v":""},{"$f":"TRIM(IF(AD!A516=\"\",\"\",AD!B516&\" \"&A516))","v":"Пусто"},{"$f":"TRIM(IF('Информация о пользователе'!D517=\"\",F516&\"@edu54.ru\",'Информация о пользователе'!D517))","v":"pusto@edu54.ru"},{"$f":"TRIM(IF('Информация о пользователе'!E517=\"\",\"\",'Информация о пользователе'!E517))","v":""},{"$f":"IF('Информация о пользователе'!F517=\"\",TRIM(Translit.Translit(A516)&TRIM(LEFT(Translit.Translit(Service!E515),1))&TRIM(LEFT(Translit.Translit(Service!F515),1))),TRIM('Информация о пользователе'!F517))","v":"pusto"},{"$f":"IF('Информация о пользователе'!G517=\"\",TRIM(LEFT(Translit.Translit(Service!E515),2))&INDEX(Service!H515:H533,RANDBETWEEN(1,19),1)&RANDBETWEEN(1,9)&IF(Service!F515=\"\",TRIM(LEFT(Translit.Translit(Service!E515),3))&INDEX(Service!A515:A540,RANDBETWEEN(1,26),1),TRIM(LEFT(Translit.Translit(Service!F515),2))&INDEX(Service!H515:H533,RANDBETWEEN(1,19),1)&INDEX(Service!A515:A540,RANDBETWEEN(1,26),1)),'Информация о пользователе'!G517)","v":{"$error":"#NAME?"}}]
[{"$f":"TRIM(IF('Информация о пользователе'!A518=\"\",\"Пусто\",'Информация о пользователе'!A518))","v":"Пусто"},{"$f":"TRIM(IF('Информация о пользователе'!B518=\"\",\" \",'Информация о пользователе'!B518&\" \"&'Информация о пользователе'!C518))","v":""},{"$f":"TRIM(IF(AD!A517=\"\",\"\",AD!B517&\" \"&A517))","v":"Пусто"},{"$f":"TRIM(IF('Информация о пользователе'!D518=\"\",F517&\"@edu54.ru\",'Информация о пользователе'!D518))","v":"pusto@edu54.ru"},{"$f":"TRIM(IF('Информация о пользователе'!E518=\"\",\"\",'Информация о пользователе'!E518))","v":""},{"$f":"IF('Информация о пользователе'!F518=\"\",TRIM(Translit.Translit(A517)&TRIM(LEFT(Translit.Translit(Service!E516),1))&TRIM(LEFT(Translit.Translit(Service!F516),1))),TRIM('Информация о пользователе'!F518))","v":"pusto"},{"$f":"IF('Информация о пользователе'!G518=\"\",TRIM(LEFT(Translit.Translit(Service!E516),2))&INDEX(Service!H516:H534,RANDBETWEEN(1,19),1)&RANDBETWEEN(1,9)&IF(Service!F516=\"\",TRIM(LEFT(Translit.Translit(Service!E516),3))&INDEX(Service!A516:A541,RANDBETWEEN(1,26),1),TRIM(LEFT(Translit.Translit(Service!F516),2))&INDEX(Service!H516:H534,RANDBETWEEN(1,19),1)&INDEX(Service!A516:A541,RANDBETWEEN(1,26),1)),'Информация о пользователе'!G518)","v":{"$error":"#NAME?"}}]
[{"$f":"TRIM(IF('Информация о пользователе'!A519=\"\",\"Пусто\",'Информация о пользователе'!A519))","v":"Пусто"},{"$f":"TRIM(IF('Информация о пользователе'!B519=\"\",\" \",'Информация о пользователе'!B519&\" \"&'Информация о пользователе'!C519))","v":""},{"$f":"TRIM(IF(AD!A518=\"\",\"\",AD!B518&\" \"&A518))","v":"Пусто"},{"$f":"TRIM(IF('Информация о пользователе'!D519=\"\",F518&\"@edu54.ru\",'Информация о пользователе'!D519))","v":"pusto@edu54.ru"},{"$f":"TRIM(IF('Информация о пользователе'!E519=\"\",\"\",'Информация о пользователе'!E519))","v":""},{"$f":"IF('Информация о пользователе'!F519=\"\",TRIM(Translit.Translit(A518)&TRIM(LEFT(Translit.Translit(Service!E517),1))&TRIM(LEFT(Translit.Translit(Service!F517),1))),TRIM('Информация о пользователе'!F519))","v":"pusto"},{"$f":"IF('Информация о пользователе'!G519=\"\",TRIM(LEFT(Translit.Translit(Service!E517),2))&INDEX(Service!H517:H535,RANDBETWEEN(1,19),1)&RANDBETWEEN(1,9)&IF(Service!F517=\"\",TRIM(LEFT(Translit.Translit(Service!E517),3))&INDEX(Service!A517:A542,RANDBETWEEN(1,26),1),TRIM(LEFT(Translit.Translit(Service!F517),2))&INDEX(Service!H517:H535,RANDBETWEEN(1,19),1)&INDEX(Service!A517:A542,RANDBETWEEN(1,26),1)),'Информация о пользователе'!G519)","v":{"$error":"#NAME?"}}]
[{"$f":"TRIM(IF('Информация о пользователе'!A520=\"\",\"Пусто\",'Информация о пользователе'!A520))","v":"Пусто"},{"$f":"TRIM(IF('Информация о пользователе'!B520=\"\",\" \",'Информация о пользователе'!B520&\" \"&'Информация о пользователе'!C520))","v":""},{"$f":"TRIM(IF(AD!A519=\"\",\"\",AD!B519&\" \"&A519))","v":"Пусто"},{"$f":"TRIM(IF('Информация о пользователе'!D520=\"\",F519&\"@edu54.ru\",'Информация о пользователе'!D520))","v":"pusto@edu54.ru"},{"$f":"TRIM(IF('Информация о пользователе'!E520=\"\",\"\",'Информация о пользователе'!E520))","v":""},{"$f":"IF('Информация о пользователе'!F520=\"\",TRIM(Translit.Translit(A519)&TRIM(LEFT(Translit.Translit(Service!E518),1))&TRIM(LEFT(Translit.Translit(Service!F518),1))),TRIM('Информация о пользователе'!F520))","v":"pusto"},{"$f":"IF('Информация о пользователе'!G520=\"\",TRIM(LEFT(Translit.Translit(Service!E518),2))&INDEX(Service!H518:H536,RANDBETWEEN(1,19),1)&RANDBETWEEN(1,9)&IF(Service!F518=\"\",TRIM(LEFT(Translit.Translit(Service!E518),3))&INDEX(Service!A518:A543,RANDBETWEEN(1,26),1),TRIM(LEFT(Translit.Translit(Service!F518),2))&INDEX(Service!H518:H536,RANDBETWEEN(1,19),1)&INDEX(Service!A518:A543,RANDBETWEEN(1,26),1)),'Информация о пользователе'!G520)","v":{"$error":"#NAME?"}}]
[{"$f":"TRIM(IF('Информация о пользователе'!A521=\"\",\"Пусто\",'Информация о пользователе'!A521))","v":"Пусто"},{"$f":"TRIM(IF('Информация о пользователе'!B521=\"\",\" \",'Информация о пользователе'!B521&\" \"&'Информация о пользователе'!C521))","v":""},{"$f":"TRIM(IF(AD!A520=\"\",\"\",AD!B520&\" \"&A520))","v":"Пусто"},{"$f":"TRIM(IF('Информация о пользователе'!D521=\"\",F520&\"@edu54.ru\",'Информация о пользователе'!D521))","v":"pusto@edu54.ru"},{"$f":"TRIM(IF('Информация о пользователе'!E521=\"\",\"\",'Информация о пользователе'!E521))","v":""},{"$f":"IF('Информация о пользователе'!F521=\"\",TRIM(Translit.Translit(A520)&TRIM(LEFT(Translit.Translit(Service!E519),1))&TRIM(LEFT(Translit.Translit(Service!F519),1))),TRIM('Информация о пользователе'!F521))","v":"pusto"},{"$f":"IF('Информация о пользователе'!G521=\"\",TRIM(LEFT(Translit.Translit(Service!E519),2))&INDEX(Service!H519:H537,RANDBETWEEN(1,19),1)&RANDBETWEEN(1,9)&IF(Service!F519=\"\",TRIM(LEFT(Translit.Translit(Service!E519),3))&INDEX(Service!A519:A544,RANDBETWEEN(1,26),1),TRIM(LEFT(Translit.Translit(Service!F519),2))&INDEX(Service!H519:H537,RANDBETWEEN(1,19),1)&INDEX(Service!A519:A544,RANDBETWEEN(1,26),1)),'Информация о пользователе'!G521)","v":{"$error":"#NAME?"}}]
[{"$f":"TRIM(IF('Информация о пользователе'!A522=\"\",\"Пусто\",'Информация о пользователе'!A522))","v":"Пусто"},{"$f":"TRIM(IF('Информация о пользователе'!B522=\"\",\" \",'Информация о пользователе'!B522&\" \"&'Информация о пользователе'!C522))","v":""},{"$f":"TRIM(IF(AD!A521=\"\",\"\",AD!B521&\" \"&A521))","v":"Пусто"},{"$f":"TRIM(IF('Информация о пользователе'!D522=\"\",F521&\"@edu54.ru\",'Информация о пользователе'!D522))","v":"pusto@edu54.ru"},{"$f":"TRIM(IF('Информация о пользователе'!E522=\"\",\"\",'Информация о пользователе'!E522))","v":""},{"$f":"IF('Информация о пользователе'!F522=\"\",TRIM(Translit.Translit(A521)&TRIM(LEFT(Translit.Translit(Service!E520),1))&TRIM(LEFT(Translit.Translit(Service!F520),1))),TRIM('Информация о пользователе'!F522))","v":"pusto"},{"$f":"IF('Информация о пользователе'!G522=\"\",TRIM(LEFT(Translit.Translit(Service!E520),2))&INDEX(Service!H520:H538,RANDBETWEEN(1,19),1)&RANDBETWEEN(1,9)&IF(Service!F520=\"\",TRIM(LEFT(Translit.Translit(Service!E520),3))&INDEX(Service!A520:A545,RANDBETWEEN(1,26),1),TRIM(LEFT(Translit.Translit(Service!F520),2))&INDEX(Service!H520:H538,RANDBETWEEN(1,19),1)&INDEX(Service!A520:A545,RANDBETWEEN(1,26),1)),'Информация о пользователе'!G522)","v":{"$error":"#NAME?"}}]
[{"$f":"TRIM(IF('Информация о пользователе'!A523=\"\",\"Пусто\",'Информация о пользователе'!A523))","v":"Пусто"},{"$f":"TRIM(IF('Информация о пользователе'!B523=\"\",\" \",'Информация о пользователе'!B523&\" \"&'Информация о пользователе'!C523))","v":""},{"$f":"TRIM(IF(AD!A522=\"\",\"\",AD!B522&\" \"&A522))","v":"Пусто"},{"$f":"TRIM(IF('Информация о пользователе'!D523=\"\",F522&\"@edu54.ru\",'Информация о пользователе'!D523))","v":"pusto@edu54.ru"},{"$f":"TRIM(IF('Информация о пользователе'!E523=\"\",\"\",'Информация о пользователе'!E523))","v":""},{"$f":"IF('Информация о пользователе'!F523=\"\",TRIM(Translit.Translit(A522)&TRIM(LEFT(Translit.Translit(Service!E521),1))&TRIM(LEFT(Translit.Translit(Service!F521),1))),TRIM('Информация о пользователе'!F523))","v":"pusto"},{"$f":"IF('Информация о пользователе'!G523=\"\",TRIM(LEFT(Translit.Translit(Service!E521),2))&INDEX(Service!H521:H539,RANDBETWEEN(1,19),1)&RANDBETWEEN(1,9)&IF(Service!F521=\"\",TRIM(LEFT(Translit.Translit(Service!E521),3))&INDEX(Service!A521:A546,RANDBETWEEN(1,26),1),TRIM(LEFT(Translit.Translit(Service!F521),2))&INDEX(Service!H521:H539,RANDBETWEEN(1,19),1)&INDEX(Service!A521:A546,RANDBETWEEN(1,26),1)),'Информация о пользователе'!G523)","v":{"$error":"#NAME?"}}]
[{"$f":"TRIM(IF('Информация о пользователе'!A524=\"\",\"Пусто\",'Информация о пользователе'!A524))","v":"Пусто"},{"$f":"TRIM(IF('Информация о пользователе'!B524=\"\",\" \",'Информация о пользователе'!B524&\" \"&'Информация о пользователе'!C524))","v":""},{"$f":"TRIM(IF(AD!A523=\"\",\"\",AD!B523&\" \"&A523))","v":"Пусто"},{"$f":"TRIM(IF('Информация о пользователе'!D524=\"\",F523&\"@edu54.ru\",'Информация о пользователе'!D524))","v":"pusto@edu54.ru"},{"$f":"TRIM(IF('Информация о пользователе'!E524=\"\",\"\",'Информация о пользователе'!E524))","v":""},{"$f":"IF('Информация о пользователе'!F524=\"\",TRIM(Translit.Translit(A523)&TRIM(LEFT(Translit.Translit(Service!E522),1))&TRIM(LEFT(Translit.Translit(Service!F522),1))),TRIM('Информация о пользователе'!F524))","v":"pusto"},{"$f":"IF('Информация о пользователе'!G524=\"\",TRIM(LEFT(Translit.Translit(Service!E522),2))&INDEX(Service!H522:H540,RANDBETWEEN(1,19),1)&RANDBETWEEN(1,9)&IF(Service!F522=\"\",TRIM(LEFT(Translit.Translit(Service!E522),3))&INDEX(Service!A522:A547,RANDBETWEEN(1,26),1),TRIM(LEFT(Translit.Translit(Service!F522),2))&INDEX(Service!H522:H540,RANDBETWEEN(1,19),1)&INDEX(Service!A522:A547,RANDBETWEEN(1,26),1)),'Информация о пользователе'!G524)","v":{"$error":"#NAME?"}}]
[{"$f":"TRIM(IF('Информация о пользователе'!A525=\"\",\"Пусто\",'Информация о пользователе'!A525))","v":"Пусто"},{"$f":"TRIM(IF('Информация о пользователе'!B525=\"\",\" \",'Информация о пользователе'!B525&\" \"&'Информация о пользователе'!C525))","v":""},{"$f":"TRIM(IF(AD!A524=\"\",\"\",AD!B524&\" \"&A524))","v":"Пусто"},{"$f":"TRIM(IF('Информация о пользователе'!D525=\"\",F524&\"@edu54.ru\",'Информация о пользователе'!D525))","v":"pusto@edu54.ru"},{"$f":"TRIM(IF('Информация о пользователе'!E525=\"\",\"\",'Информация о пользователе'!E525))","v":""},{"$f":"IF('Информация о пользователе'!F525=\"\",TRIM(Translit.Translit(A524)&TRIM(LEFT(Translit.Translit(Service!E523),1))&TRIM(LEFT(Translit.Translit(Service!F523),1))),TRIM('Информация о пользователе'!F525))","v":"pusto"},{"$f":"IF('Информация о пользователе'!G525=\"\",TRIM(LEFT(Translit.Translit(Service!E523),2))&INDEX(Service!H523:H541,RANDBETWEEN(1,19),1)&RANDBETWEEN(1,9)&IF(Service!F523=\"\",TRIM(LEFT(Translit.Translit(Service!E523),3))&INDEX(Service!A523:A548,RANDBETWEEN(1,26),1),TRIM(LEFT(Translit.Translit(Service!F523),2))&INDEX(Service!H523:H541,RANDBETWEEN(1,19),1)&INDEX(Service!A523:A548,RANDBETWEEN(1,26),1)),'Информация о пользователе'!G525)","v":{"$error":"#NAME?"}}]
[{"$f":"TRIM(IF('Информация о пользователе'!A526=\"\",\"Пусто\",'Информация о пользователе'!A526))","v":"Пусто"},{"$f":"TRIM(IF('Информация о пользователе'!B526=\"\",\" \",'Информация о пользователе'!B526&\" \"&'Информация о пользователе'!C526))","v":""},{"$f":"TRIM(IF(AD!A525=\"\",\"\",AD!B525&\" \"&A525))","v":"Пусто"},{"$f":"TRIM(IF('Информация о пользователе'!D526=\"\",F525&\"@edu54.ru\",'Информация о пользователе'!D526))","v":"pusto@edu54.ru"},{"$f":"TRIM(IF('Информация о пользователе'!E526=\"\",\"\",'Информация о пользователе'!E526))","v":""},{"$f":"IF('Информация о пользователе'!F526=\"\",TRIM(Translit.Translit(A525)&TRIM(LEFT(Translit.Translit(Service!E524),1))&TRIM(LEFT(Translit.Translit(Service!F524),1))),TRIM('Информация о пользователе'!F526))","v":"pusto"},{"$f":"IF('Информация о пользователе'!G526=\"\",TRIM(LEFT(Translit.Translit(Service!E524),2))&INDEX(Service!H524:H542,RANDBETWEEN(1,19),1)&RANDBETWEEN(1,9)&IF(Service!F524=\"\",TRIM(LEFT(Translit.Translit(Service!E524),3))&INDEX(Service!A524:A549,RANDBETWEEN(1,26),1),TRIM(LEFT(Translit.Translit(Service!F524),2))&INDEX(Service!H524:H542,RANDBETWEEN(1,19),1)&INDEX(Service!A524:A549,RANDBETWEEN(1,26),1)),'Информация о пользователе'!G526)","v":{"$error":"#NAME?"}}]
[{"$f":"TRIM(IF('Информация о пользователе'!A527=\"\",\"Пусто\",'Информация о пользователе'!A527))","v":"Пусто"},{"$f":"TRIM(IF('Информация о пользователе'!B527=\"\",\" \",'Информация о пользователе'!B527&\" \"&'Информация о пользователе'!C527))","v":""},{"$f":"TRIM(IF(AD!A526=\"\",\"\",AD!B526&\" \"&A526))","v":"Пусто"},{"$f":"TRIM(IF('Информация о пользователе'!D527=\"\",F526&\"@edu54.ru\",'Информация о пользователе'!D527))","v":"pusto@edu54.ru"},{"$f":"TRIM(IF('Информация о пользователе'!E527=\"\",\"\",'Информация о пользователе'!E527))","v":""},{"$f":"IF('Информация о пользователе'!F527=\"\",TRIM(Translit.Translit(A526)&TRIM(LEFT(Translit.Translit(Service!E525),1))&TRIM(LEFT(Translit.Translit(Service!F525),1))),TRIM('Информация о пользователе'!F527))","v":"pusto"},{"$f":"IF('Информация о пользователе'!G527=\"\",TRIM(LEFT(Translit.Translit(Service!E525),2))&INDEX(Service!H525:H543,RANDBETWEEN(1,19),1)&RANDBETWEEN(1,9)&IF(Service!F525=\"\",TRIM(LEFT(Translit.Translit(Service!E525),3))&INDEX(Service!A525:A550,RANDBETWEEN(1,26),1),TRIM(LEFT(Translit.Translit(Service!F525),2))&INDEX(Service!H525:H543,RANDBETWEEN(1,19),1)&INDEX(Service!A525:A550,RANDBETWEEN(1,26),1)),'Информация о пользователе'!G527)","v":{"$error":"#NAME?"}}]
[{"$f":"TRIM(IF('Информация о пользователе'!A528=\"\",\"Пусто\",'Информация о пользователе'!A528))","v":"Пусто"},{"$f":"TRIM(IF('Информация о пользователе'!B528=\"\",\" \",'Информация о пользователе'!B528&\" \"&'Информация о пользователе'!C528))","v":""},{"$f":"TRIM(IF(AD!A527=\"\",\"\",AD!B527&\" \"&A527))","v":"Пусто"},{"$f":"TRIM(IF('Информация о пользователе'!D528=\"\",F527&\"@edu54.ru\",'Информация о пользователе'!D528))","v":"pusto@edu54.ru"},{"$f":"TRIM(IF('Информация о пользователе'!E528=\"\",\"\",'Информация о пользователе'!E528))","v":""},{"$f":"IF('Информация о пользователе'!F528=\"\",TRIM(Translit.Translit(A527)&TRIM(LEFT(Translit.Translit(Service!E526),1))&TRIM(LEFT(Translit.Translit(Service!F526),1))),TRIM('Информация о пользователе'!F528))","v":"pusto"},{"$f":"IF('Информация о пользователе'!G528=\"\",TRIM(LEFT(Translit.Translit(Service!E526),2))&INDEX(Service!H526:H544,RANDBETWEEN(1,19),1)&RANDBETWEEN(1,9)&IF(Service!F526=\"\",TRIM(LEFT(Translit.Translit(Service!E526),3))&INDEX(Service!A526:A551,RANDBETWEEN(1,26),1),TRIM(LEFT(Translit.Translit(Service!F526),2))&INDEX(Service!H526:H544,RANDBETWEEN(1,19),1)&INDEX(Service!A526:A551,RANDBETWEEN(1,26),1)),'Информация о пользователе'!G528)","v":{"$error":"#NAME?"}}]
[{"$f":"TRIM(IF('Информация о пользователе'!A529=\"\",\"Пусто\",'Информация о пользователе'!A529))","v":"Пусто"},{"$f":"TRIM(IF('Информация о пользователе'!B529=\"\",\" \",'Информация о пользователе'!B529&\" \"&'Информация о пользователе'!C529))","v":""},{"$f":"TRIM(IF(AD!A528=\"\",\"\",AD!B528&\" \"&A528))","v":"Пусто"},{"$f":"TRIM(IF('Информация о пользователе'!D529=\"\",F528&\"@edu54.ru\",'Информация о пользователе'!D529))","v":"pusto@edu54.ru"},{"$f":"TRIM(IF('Информация о пользователе'!E529=\"\",\"\",'Информация о пользователе'!E529))","v":""},{"$f":"IF('Информация о пользователе'!F529=\"\",TRIM(Translit.Translit(A528)&TRIM(LEFT(Translit.Translit(Service!E527),1))&TRIM(LEFT(Translit.Translit(Service!F527),1))),TRIM('Информация о пользователе'!F529))","v":"pusto"},{"$f":"IF('Информация о пользователе'!G529=\"\",TRIM(LEFT(Translit.Translit(Service!E527),2))&INDEX(Service!H527:H545,RANDBETWEEN(1,19),1)&RANDBETWEEN(1,9)&IF(Service!F527=\"\",TRIM(LEFT(Translit.Translit(Service!E527),3))&INDEX(Service!A527:A552,RANDBETWEEN(1,26),1),TRIM(LEFT(Translit.Translit(Service!F527),2))&INDEX(Service!H527:H545,RANDBETWEEN(1,19),1)&INDEX(Service!A527:A552,RANDBETWEEN(1,26),1)),'Информация о пользователе'!G529)","v":{"$error":"#NAME?"}}]
[{"$f":"TRIM(IF('Информация о пользователе'!A530=\"\",\"Пусто\",'Информация о пользователе'!A530))","v":"Пусто"},{"$f":"TRIM(IF('Информация о пользователе'!B530=\"\",\" \",'Информация о пользователе'!B530&\" \"&'Информация о пользователе'!C530))","v":""},{"$f":"TRIM(IF(AD!A529=\"\",\"\",AD!B529&\" \"&A529))","v":"Пусто"},{"$f":"TRIM(IF('Информация о пользователе'!D530=\"\",F529&\"@edu54.ru\",'Информация о пользователе'!D530))","v":"pusto@edu54.ru"},{"$f":"TRIM(IF('Информация о пользователе'!E530=\"\",\"\",'Информация о пользователе'!E530))","v":""},{"$f":"IF('Информация о пользователе'!F530=\"\",TRIM(Translit.Translit(A529)&TRIM(LEFT(Translit.Translit(Service!E528),1))&TRIM(LEFT(Translit.Translit(Service!F528),1))),TRIM('Информация о пользователе'!F530))","v":"pusto"},{"$f":"IF('Информация о пользователе'!G530=\"\",TRIM(LEFT(Translit.Translit(Service!E528),2))&INDEX(Service!H528:H546,RANDBETWEEN(1,19),1)&RANDBETWEEN(1,9)&IF(Service!F528=\"\",TRIM(LEFT(Translit.Translit(Service!E528),3))&INDEX(Service!A528:A553,RANDBETWEEN(1,26),1),TRIM(LEFT(Translit.Translit(Service!F528),2))&INDEX(Service!H528:H546,RANDBETWEEN(1,19),1)&INDEX(Service!A528:A553,RANDBETWEEN(1,26),1)),'Информация о пользователе'!G530)","v":{"$error":"#NAME?"}}]
[{"$f":"TRIM(IF('Информация о пользователе'!A531=\"\",\"Пусто\",'Информация о пользователе'!A531))","v":"Пусто"},{"$f":"TRIM(IF('Информация о пользователе'!B531=\"\",\" \",'Информация о пользователе'!B531&\" \"&'Информация о пользователе'!C531))","v":""},{"$f":"TRIM(IF(AD!A530=\"\",\"\",AD!B530&\" \"&A530))","v":"Пусто"},{"$f":"TRIM(IF('Информация о пользователе'!D531=\"\",F530&\"@edu54.ru\",'Информация о пользователе'!D531))","v":"pusto@edu54.ru"},{"$f":"TRIM(IF('Информация о пользователе'!E531=\"\",\"\",'Информация о пользователе'!E531))","v":""},{"$f":"IF('Информация о пользователе'!F531=\"\",TRIM(Translit.Translit(A530)&TRIM(LEFT(Translit.Translit(Service!E529),1))&TRIM(LEFT(Translit.Translit(Service!F529),1))),TRIM('Информация о пользователе'!F531))","v":"pusto"},{"$f":"IF('Информация о пользователе'!G531=\"\",TRIM(LEFT(Translit.Translit(Service!E529),2))&INDEX(Service!H529:H547,RANDBETWEEN(1,19),1)&RANDBETWEEN(1,9)&IF(Service!F529=\"\",TRIM(LEFT(Translit.Translit(Service!E529),3))&INDEX(Service!A529:A554,RANDBETWEEN(1,26),1),TRIM(LEFT(Translit.Translit(Service!F529),2))&INDEX(Service!H529:H547,RANDBETWEEN(1,19),1)&INDEX(Service!A529:A554,RANDBETWEEN(1,26),1)),'Информация о пользователе'!G531)","v":{"$error":"#NAME?"}}]
[{"$f":"TRIM(IF('Информация о пользователе'!A532=\"\",\"Пусто\",'Информация о пользователе'!A532))","v":"Пусто"},{"$f":"TRIM(IF('Информация о пользователе'!B532=\"\",\" \",'Информация о пользователе'!B532&\" \"&'Информация о пользователе'!C532))","v":""},{"$f":"TRIM(IF(AD!A531=\"\",\"\",AD!B531&\" \"&A531))","v":"Пусто"},{"$f":"TRIM(IF('Информация о пользователе'!D532=\"\",F531&\"@edu54.ru\",'Информация о пользователе'!D532))","v":"pusto@edu54.ru"},{"$f":"TRIM(IF('Информация о пользователе'!E532=\"\",\"\",'Информация о пользователе'!E532))","v":""},{"$f":"IF('Информация о пользователе'!F532=\"\",TRIM(Translit.Translit(A531)&TRIM(LEFT(Translit.Translit(Service!E530),1))&TRIM(LEFT(Translit.Translit(Service!F530),1))),TRIM('Информация о пользователе'!F532))","v":"pusto"},{"$f":"IF('Информация о пользователе'!G532=\"\",TRIM(LEFT(Translit.Translit(Service!E530),2))&INDEX(Service!H530:H548,RANDBETWEEN(1,19),1)&RANDBETWEEN(1,9)&IF(Service!F530=\"\",TRIM(LEFT(Translit.Translit(Service!E530),3))&INDEX(Service!A530:A555,RANDBETWEEN(1,26),1),TRIM(LEFT(Translit.Translit(Service!F530),2))&INDEX(Service!H530:H548,RANDBETWEEN(1,19),1)&INDEX(Service!A530:A555,RANDBETWEEN(1,26),1)),'Информация о пользователе'!G532)","v":{"$error":"#NAME?"}}]
[{"$f":"TRIM(IF('Информация о пользователе'!A533=\"\",\"Пусто\",'Информация о пользователе'!A533))","v":"Пусто"},{"$f":"TRIM(IF('Информация о пользователе'!B533=\"\",\" \",'Информация о пользователе'!B533&\" \"&'Информация о пользователе'!C533))","v":""},{"$f":"TRIM(IF(AD!A532=\"\",\"\",AD!B532&\" \"&A532))","v":"Пусто"},{"$f":"TRIM(IF('Информация о пользователе'!D533=\"\",F532&\"@edu54.ru\",'Информация о пользователе'!D533))","v":"pusto@edu54.ru"},{"$f":"TRIM(IF('Информация о пользователе'!E533=\"\",\"\",'Информация о пользователе'!E533))","v":""},{"$f":"IF('Информация о пользователе'!F533=\"\",TRIM(Translit.Translit(A532)&TRIM(LEFT(Translit.Translit(Service!E531),1))&TRIM(LEFT(Translit.Translit(Service!F531),1))),TRIM('Информация о пользователе'!F533))","v":"pusto"},{"$f":"IF('Информация о пользователе'!G533=\"\",TRIM(LEFT(Translit.Translit(Service!E531),2))&INDEX(Service!H531:H549,RANDBETWEEN(1,19),1)&RANDBETWEEN(1,9)&IF(Service!F531=\"\",TRIM(LEFT(Translit.Translit(Service!E531),3))&INDEX(Service!A531:A556,RANDBETWEEN(1,26),1),TRIM(LEFT(Translit.Translit(Service!F531),2))&INDEX(Service!H531:H549,RANDBETWEEN(1,19),1)&INDEX(Service!A531:A556,RANDBETWEEN(1,26),1)),'Информация о пользователе'!G533)","v":{"$error":"#NAME?"}}]
[{"$f":"TRIM(IF('Информация о пользователе'!A534=\"\",\"Пусто\",'Информация о пользователе'!A534))","v":"Пусто"},{"$f":"TRIM(IF('Информация о пользователе'!B534=\"\",\" \",'Информация о пользователе'!B534&\" \"&'Информация о пользователе'!C534))","v":""},{"$f":"TRIM(IF(AD!A533=\"\",\"\",AD!B533&\" \"&A533))","v":"Пусто"},{"$f":"TRIM(IF('Информация о пользователе'!D534=\"\",F533&\"@edu54.ru\",'Информация о пользователе'!D534))","v":"pusto@edu54.ru"},{"$f":"TRIM(IF('Информация о пользователе'!E534=\"\",\"\",'Информация о пользователе'!E534))","v":""},{"$f":"IF('Информация о пользователе'!F534=\"\",TRIM(Translit.Translit(A533)&TRIM(LEFT(Translit.Translit(Service!E532),1))&TRIM(LEFT(Translit.Translit(Service!F532),1))),TRIM('Информация о пользователе'!F534))","v":"pusto"},{"$f":"IF('Информация о пользователе'!G534=\"\",TRIM(LEFT(Translit.Translit(Service!E532),2))&INDEX(Service!H532:H550,RANDBETWEEN(1,19),1)&RANDBETWEEN(1,9)&IF(Service!F532=\"\",TRIM(LEFT(Translit.Translit(Service!E532),3))&INDEX(Service!A532:A557,RANDBETWEEN(1,26),1),TRIM(LEFT(Translit.Translit(Service!F532),2))&INDEX(Service!H532:H550,RANDBETWEEN(1,19),1)&INDEX(Service!A532:A557,RANDBETWEEN(1,26),1)),'Информация о пользователе'!G534)","v":{"$error":"#NAME?"}}]
[{"$f":"TRIM(IF('Информация о пользователе'!A535=\"\",\"Пусто\",'Информация о пользователе'!A535))","v":"Пусто"},{"$f":"TRIM(IF('Информация о пользователе'!B535=\"\",\" \",'Информация о пользователе'!B535&\" \"&'Информация о пользователе'!C535))","v":""},{"$f":"TRIM(IF(AD!A534=\"\",\"\",AD!B534&\" \"&A534))","v":"Пусто"},{"$f":"TRIM(IF('Информация о пользователе'!D535=\"\",F534&\"@edu54.ru\",'Информация о пользователе'!D535))","v":"pusto@edu54.ru"},{"$f":"TRIM(IF('Информация о пользователе'!E535=\"\",\"\",'Информация о пользователе'!E535))","v":""},{"$f":"IF('Информация о пользователе'!F535=\"\",TRIM(Translit.Translit(A534)&TRIM(LEFT(Translit.Translit(Service!E533),1))&TRIM(LEFT(Translit.Translit(Service!F533),1))),TRIM('Информация о пользователе'!F535))","v":"pusto"},{"$f":"IF('Информация о пользователе'!G535=\"\",TRIM(LEFT(Translit.Translit(Service!E533),2))&INDEX(Service!H533:H551,RANDBETWEEN(1,19),1)&RANDBETWEEN(1,9)&IF(Service!F533=\"\",TRIM(LEFT(Translit.Translit(Service!E533),3))&INDEX(Service!A533:A558,RANDBETWEEN(1,26),1),TRIM(LEFT(Translit.Translit(Service!F533),2))&INDEX(Service!H533:H551,RANDBETWEEN(1,19),1)&INDEX(Service!A533:A558,RANDBETWEEN(1,26),1)),'Информация о пользователе'!G535)","v":{"$error":"#NAME?"}}]
[{"$f":"TRIM(IF('Информация о пользователе'!A536=\"\",\"Пусто\",'Информация о пользователе'!A536))","v":"Пусто"},{"$f":"TRIM(IF('Информация о пользователе'!B536=\"\",\" \",'Информация о пользователе'!B536&\" \"&'Информация о пользователе'!C536))","v":""},{"$f":"TRIM(IF(AD!A535=\"\",\"\",AD!B535&\" \"&A535))","v":"Пусто"},{"$f":"TRIM(IF('Информация о пользователе'!D536=\"\",F535&\"@edu54.ru\",'Информация о пользователе'!D536))","v":"pusto@edu54.ru"},{"$f":"TRIM(IF('Информация о пользователе'!E536=\"\",\"\",'Информация о пользователе'!E536))","v":""},{"$f":"IF('Информация о пользователе'!F536=\"\",TRIM(Translit.Translit(A535)&TRIM(LEFT(Translit.Translit(Service!E534),1))&TRIM(LEFT(Translit.Translit(Service!F534),1))),TRIM('Информация о пользователе'!F536))","v":"pusto"},{"$f":"IF('Информация о пользователе'!G536=\"\",TRIM(LEFT(Translit.Translit(Service!E534),2))&INDEX(Service!H534:H552,RANDBETWEEN(1,19),1)&RANDBETWEEN(1,9)&IF(Service!F534=\"\",TRIM(LEFT(Translit.Translit(Service!E534),3))&INDEX(Service!A534:A559,RANDBETWEEN(1,26),1),TRIM(LEFT(Translit.Translit(Service!F534),2))&INDEX(Service!H534:H552,RANDBETWEEN(1,19),1)&INDEX(Service!A534:A559,RANDBETWEEN(1,26),1)),'Информация о пользователе'!G536)","v":{"$error":"#NAME?"}}]
[{"$f":"TRIM(IF('Информация о пользователе'!A537=\"\",\"Пусто\",'Информация о пользователе'!A537))","v":"Пусто"},{"$f":"TRIM(IF('Информация о пользователе'!B537=\"\",\" \",'Информация о пользователе'!B537&\" \"&'Информация о пользователе'!C537))","v":""},{"$f":"TRIM(IF(AD!A536=\"\",\"\",AD!B536&\" \"&A536))","v":"Пусто"},{"$f":"TRIM(IF('Информация о пользователе'!D537=\"\",F536&\"@edu54.ru\",'Информация о пользователе'!D537))","v":"pusto@edu54.ru"},{"$f":"TRIM(IF('Информация о пользователе'!E537=\"\",\"\",'Информация о пользователе'!E537))","v":""},{"$f":"IF('Информация о пользователе'!F537=\"\",TRIM(Translit.Translit(A536)&TRIM(LEFT(Translit.Translit(Service!E535),1))&TRIM(LEFT(Translit.Translit(Service!F535),1))),TRIM('Информация о пользователе'!F537))","v":"pusto"},{"$f":"IF('Информация о пользователе'!G537=\"\",TRIM(LEFT(Translit.Translit(Service!E535),2))&INDEX(Service!H535:H553,RANDBETWEEN(1,19),1)&RANDBETWEEN(1,9)&IF(Service!F535=\"\",TRIM(LEFT(Translit.Translit(Service!E535),3))&INDEX(Service!A535:A560,RANDBETWEEN(1,26),1),TRIM(LEFT(Translit.Translit(Service!F535),2))&INDEX(Service!H535:H553,RANDBETWEEN(1,19),1)&INDEX(Service!A535:A560,RANDBETWEEN(1,26),1)),'Информация о пользователе'!G537)","v":{"$error":"#NAME?"}}]
[{"$f":"TRIM(IF('Информация о пользователе'!A538=\"\",\"Пусто\",'Информация о пользователе'!A538))","v":"Пусто"},{"$f":"TRIM(IF('Информация о пользователе'!B538=\"\",\" \",'Информация о пользователе'!B538&\" \"&'Информация о пользователе'!C538))","v":""},{"$f":"TRIM(IF(AD!A537=\"\",\"\",AD!B537&\" \"&A537))","v":"Пусто"},{"$f":"TRIM(IF('Информация о пользователе'!D538=\"\",F537&\"@edu54.ru\",'Информация о пользователе'!D538))","v":"pusto@edu54.ru"},{"$f":"TRIM(IF('Информация о пользователе'!E538=\"\",\"\",'Информация о пользователе'!E538))","v":""},{"$f":"IF('Информация о пользователе'!F538=\"\",TRIM(Translit.Translit(A537)&TRIM(LEFT(Translit.Translit(Service!E536),1))&TRIM(LEFT(Translit.Translit(Service!F536),1))),TRIM('Информация о пользователе'!F538))","v":"pusto"},{"$f":"IF('Информация о пользователе'!G538=\"\",TRIM(LEFT(Translit.Translit(Service!E536),2))&INDEX(Service!H536:H554,RANDBETWEEN(1,19),1)&RANDBETWEEN(1,9)&IF(Service!F536=\"\",TRIM(LEFT(Translit.Translit(Service!E536),3))&INDEX(Service!A536:A561,RANDBETWEEN(1,26),1),TRIM(LEFT(Translit.Translit(Service!F536),2))&INDEX(Service!H536:H554,RANDBETWEEN(1,19),1)&INDEX(Service!A536:A561,RANDBETWEEN(1,26),1)),'Информация о пользователе'!G538)","v":{"$error":"#NAME?"}}]
[{"$f":"TRIM(IF('Информация о пользователе'!A539=\"\",\"Пусто\",'Информация о пользователе'!A539))","v":"Пусто"},{"$f":"TRIM(IF('Информация о пользователе'!B539=\"\",\" \",'Информация о пользователе'!B539&\" \"&'Информация о пользователе'!C539))","v":""},{"$f":"TRIM(IF(AD!A538=\"\",\"\",AD!B538&\" \"&A538))","v":"Пусто"},{"$f":"TRIM(IF('Информация о пользователе'!D539=\"\",F538&\"@edu54.ru\",'Информация о пользователе'!D539))","v":"pusto@edu54.ru"},{"$f":"TRIM(IF('Информация о пользователе'!E539=\"\",\"\",'Информация о пользователе'!E539))","v":""},{"$f":"IF('Информация о пользователе'!F539=\"\",TRIM(Translit.Translit(A538)&TRIM(LEFT(Translit.Translit(Service!E537),1))&TRIM(LEFT(Translit.Translit(Service!F537),1))),TRIM('Информация о пользователе'!F539))","v":"pusto"},{"$f":"IF('Информация о пользователе'!G539=\"\",TRIM(LEFT(Translit.Translit(Service!E537),2))&INDEX(Service!H537:H555,RANDBETWEEN(1,19),1)&RANDBETWEEN(1,9)&IF(Service!F537=\"\",TRIM(LEFT(Translit.Translit(Service!E537),3))&INDEX(Service!A537:A562,RANDBETWEEN(1,26),1),TRIM(LEFT(Translit.Translit(Service!F537),2))&INDEX(Service!H537:H555,RANDBETWEEN(1,19),1)&INDEX(Service!A537:A562,RANDBETWEEN(1,26),1)),'Информация о пользователе'!G539)","v":{"$error":"#NAME?"}}]
[{"$f":"TRIM(IF('Информация о пользователе'!A540=\"\",\"Пусто\",'Информация о пользователе'!A540))","v":"Пусто"},{"$f":"TRIM(IF('Информация о пользователе'!B540=\"\",\" \",'Информация о пользователе'!B540&\" \"&'Информация о пользователе'!C540))","v":""},{"$f":"TRIM(IF(AD!A539=\"\",\"\",AD!B539&\" \"&A539))","v":"Пусто"},{"$f":"TRIM(IF('Информация о пользователе'!D540=\"\",F539&\"@edu54.ru\",'Информация о пользователе'!D540))","v":"pusto@edu54.ru"},{"$f":"TRIM(IF('Информация о пользователе'!E540=\"\",\"\",'Информация о пользователе'!E540))","v":""},{"$f":"IF('Информация о пользователе'!F540=\"\",TRIM(Translit.Translit(A539)&TRIM(LEFT(Translit.Translit(Service!E538),1))&TRIM(LEFT(Translit.Translit(Service!F538),1))),TRIM('Информация о пользователе'!F540))","v":"pusto"},{"$f":"IF('Информация о пользователе'!G540=\"\",TRIM(LEFT(Translit.Translit(Service!E538),2))&INDEX(Service!H538:H556,RANDBETWEEN(1,19),1)&RANDBETWEEN(1,9)&IF(Service!F538=\"\",TRIM(LEFT(Translit.Translit(Service!E538),3))&INDEX(Service!A538:A563,RANDBETWEEN(1,26),1),TRIM(LEFT(Translit.Translit(Service!F538),2))&INDEX(Service!H538:H556,RANDBETWEEN(1,19),1)&INDEX(Service!A538:A563,RANDBETWEEN(1,26),1)),'Информация о пользователе'!G540)","v":{"$error":"#NAME?"}}]
[{"$f":"TRIM(IF('Информация о пользователе'!A541=\"\",\"Пусто\",'Информация о пользователе'!A541))","v":"Пусто"},{"$f":"TRIM(IF('Информация о пользователе'!B541=\"\",\" \",'Информация о пользователе'!B541&\" \"&'Информация о пользователе'!C541))","v":""},{"$f":"TRIM(IF(AD!A540=\"\",\"\",AD!B540&\" \"&A540))","v":"Пусто"},{"$f":"TRIM(IF('Информация о пользователе'!D541=\"\",F540&\"@edu54.ru\",'Информация о пользователе'!D541))","v":"pusto@edu54.ru"},{"$f":"TRIM(IF('Информация о пользователе'!E541=\"\",\"\",'Информация о пользователе'!E541))","v":""},{"$f":"IF('Информация о пользователе'!F541=\"\",TRIM(Translit.Translit(A540)&TRIM(LEFT(Translit.Translit(Service!E539),1))&TRIM(LEFT(Translit.Translit(Service!F539),1))),TRIM('Информация о пользователе'!F541))","v":"pusto"},{"$f":"IF('Информация о пользователе'!G541=\"\",TRIM(LEFT(Translit.Translit(Service!E539),2))&INDEX(Service!H539:H557,RANDBETWEEN(1,19),1)&RANDBETWEEN(1,9)&IF(Service!F539=\"\",TRIM(LEFT(Translit.Translit(Service!E539),3))&INDEX(Service!A539:A564,RANDBETWEEN(1,26),1),TRIM(LEFT(Translit.Translit(Service!F539),2))&INDEX(Service!H539:H557,RANDBETWEEN(1,19),1)&INDEX(Service!A539:A564,RANDBETWEEN(1,26),1)),'Информация о пользователе'!G541)","v":{"$error":"#NAME?"}}]
[{"$f":"TRIM(IF('Информация о пользователе'!A542=\"\",\"Пусто\",'Информация о пользователе'!A542))","v":"Пусто"},{"$f":"TRIM(IF('Информация о пользователе'!B542=\"\",\" \",'Информация о пользователе'!B542&\" \"&'Информация о пользователе'!C542))","v":""},{"$f":"TRIM(IF(AD!A541=\"\",\"\",AD!B541&\" \"&A541))","v":"Пусто"},{"$f":"TRIM(IF('Информация о пользователе'!D542=\"\",F541&\"@edu54.ru\",'Информация о пользователе'!D542))","v":"pusto@edu54.ru"},{"$f":"TRIM(IF('Информация о пользователе'!E542=\"\",\"\",'Информация о пользователе'!E542))","v":""},{"$f":"IF('Информация о пользователе'!F542=\"\",TRIM(Translit.Translit(A541)&TRIM(LEFT(Translit.Translit(Service!E540),1))&TRIM(LEFT(Translit.Translit(Service!F540),1))),TRIM('Информация о пользователе'!F542))","v":"pusto"},{"$f":"IF('Информация о пользователе'!G542=\"\",TRIM(LEFT(Translit.Translit(Service!E540),2))&INDEX(Service!H540:H558,RANDBETWEEN(1,19),1)&RANDBETWEEN(1,9)&IF(Service!F540=\"\",TRIM(LEFT(Translit.Translit(Service!E540),3))&INDEX(Service!A540:A565,RANDBETWEEN(1,26),1),TRIM(LEFT(Translit.Translit(Service!F540),2))&INDEX(Service!H540:H558,RANDBETWEEN(1,19),1)&INDEX(Service!A540:A565,RANDBETWEEN(1,26),1)),'Информация о пользователе'!G542)","v":{"$error":"#NAME?"}}]
[{"$f":"TRIM(IF('Информация о пользователе'!A543=\"\",\"Пусто\",'Информация о пользователе'!A543))","v":"Пусто"},{"$f":"TRIM(IF('Информация о пользователе'!B543=\"\",\" \",'Информация о пользователе'!B543&\" \"&'Информация о пользователе'!C543))","v":""},{"$f":"TRIM(IF(AD!A542=\"\",\"\",AD!B542&\" \"&A542))","v":"Пусто"},{"$f":"TRIM(IF('Информация о пользователе'!D543=\"\",F542&\"@edu54.ru\",'Информация о пользователе'!D543))","v":"pusto@edu54.ru"},{"$f":"TRIM(IF('Информация о пользователе'!E543=\"\",\"\",'Информация о пользователе'!E543))","v":""},{"$f":"IF('Информация о пользователе'!F543=\"\",TRIM(Translit.Translit(A542)&TRIM(LEFT(Translit.Translit(Service!E541),1))&TRIM(LEFT(Translit.Translit(Service!F541),1))),TRIM('Информация о пользователе'!F543))","v":"pusto"},{"$f":"IF('Информация о пользователе'!G543=\"\",TRIM(LEFT(Translit.Translit(Service!E541),2))&INDEX(Service!H541:H559,RANDBETWEEN(1,19),1)&RANDBETWEEN(1,9)&IF(Service!F541=\"\",TRIM(LEFT(Translit.Translit(Service!E541),3))&INDEX(Service!A541:A566,RANDBETWEEN(1,26),1),TRIM(LEFT(Translit.Translit(Service!F541),2))&INDEX(Service!H541:H559,RANDBETWEEN(1,19),1)&INDEX(Service!A541:A566,RANDBETWEEN(1,26),1)),'Информация о пользователе'!G543)","v":{"$error":"#NAME?"}}]
[{"$f":"TRIM(IF('Информация о пользователе'!A544=\"\",\"Пусто\",'Информация о пользователе'!A544))","v":"Пусто"},{"$f":"TRIM(IF('Информация о пользователе'!B544=\"\",\" \",'Информация о пользователе'!B544&\" \"&'Информация о пользователе'!C544))","v":""},{"$f":"TRIM(IF(AD!A543=\"\",\"\",AD!B543&\" \"&A543))","v":"Пусто"},{"$f":"TRIM(IF('Информация о пользователе'!D544=\"\",F543&\"@edu54.ru\",'Информация о пользователе'!D544))","v":"pusto@edu54.ru"},{"$f":"TRIM(IF('Информация о пользователе'!E544=\"\",\"\",'Информация о пользователе'!E544))","v":""},{"$f":"IF('Информация о пользователе'!F544=\"\",TRIM(Translit.Translit(A543)&TRIM(LEFT(Translit.Translit(Service!E542),1))&TRIM(LEFT(Translit.Translit(Service!F542),1))),TRIM('Информация о пользователе'!F544))","v":"pusto"},{"$f":"IF('Информация о пользователе'!G544=\"\",TRIM(LEFT(Translit.Translit(Service!E542),2))&INDEX(Service!H542:H560,RANDBETWEEN(1,19),1)&RANDBETWEEN(1,9)&IF(Service!F542=\"\",TRIM(LEFT(Translit.Translit(Service!E542),3))&INDEX(Service!A542:A567,RANDBETWEEN(1,26),1),TRIM(LEFT(Translit.Translit(Service!F542),2))&INDEX(Service!H542:H560,RANDBETWEEN(1,19),1)&INDEX(Service!A542:A567,RANDBETWEEN(1,26),1)),'Информация о пользователе'!G544)","v":{"$error":"#NAME?"}}]
[{"$f":"TRIM(IF('Информация о пользователе'!A545=\"\",\"Пусто\",'Информация о пользователе'!A545))","v":"Пусто"},{"$f":"TRIM(IF('Информация о пользователе'!B545=\"\",\" \",'Информация о пользователе'!B545&\" \"&'Информация о пользователе'!C545))","v":""},{"$f":"TRIM(IF(AD!A544=\"\",\"\",AD!B544&\" \"&A544))","v":"Пусто"},{"$f":"TRIM(IF('Информация о пользователе'!D545=\"\",F544&\"@edu54.ru\",'Информация о пользователе'!D545))","v":"pusto@edu54.ru"},{"$f":"TRIM(IF('Информация о пользователе'!E545=\"\",\"\",'Информация о пользователе'!E545))","v":""},{"$f":"IF('Информация о пользователе'!F545=\"\",TRIM(Translit.Translit(A544)&TRIM(LEFT(Translit.Translit(Service!E543),1))&TRIM(LEFT(Translit.Translit(Service!F543),1))),TRIM('Информация о пользователе'!F545))","v":"pusto"},{"$f":"IF('Информация о пользователе'!G545=\"\",TRIM(LEFT(Translit.Translit(Service!E543),2))&INDEX(Service!H543:H561,RANDBETWEEN(1,19),1)&RANDBETWEEN(1,9)&IF(Service!F543=\"\",TRIM(LEFT(Translit.Translit(Service!E543),3))&INDEX(Service!A543:A568,RANDBETWEEN(1,26),1),TRIM(LEFT(Translit.Translit(Service!F543),2))&INDEX(Service!H543:H561,RANDBETWEEN(1,19),1)&INDEX(Service!A543:A568,RANDBETWEEN(1,26),1)),'Информация о пользователе'!G545)","v":{"$error":"#NAME?"}}]
[{"$f":"TRIM(IF('Информация о пользователе'!A546=\"\",\"Пусто\",'Информация о пользователе'!A546))","v":"Пусто"},{"$f":"TRIM(IF('Информация о пользователе'!B546=\"\",\" \",'Информация о пользователе'!B546&\" \"&'Информация о пользователе'!C546))","v":""},{"$f":"TRIM(IF(AD!A545=\"\",\"\",AD!B545&\" \"&A545))","v":"Пусто"},{"$f":"TRIM(IF('Информация о пользователе'!D546=\"\",F545&\"@edu54.ru\",'Информация о пользователе'!D546))","v":"pusto@edu54.ru"},{"$f":"TRIM(IF('Информация о пользователе'!E546=\"\",\"\",'Информация о пользователе'!E546))","v":""},{"$f":"IF('Информация о пользователе'!F546=\"\",TRIM(Translit.Translit(A545)&TRIM(LEFT(Translit.Translit(Service!E544),1))&TRIM(LEFT(Translit.Translit(Service!F544),1))),TRIM('Информация о пользователе'!F546))","v":"pusto"},{"$f":"IF('Информация о пользователе'!G546=\"\",TRIM(LEFT(Translit.Translit(Service!E544),2))&INDEX(Service!H544:H562,RANDBETWEEN(1,19),1)&RANDBETWEEN(1,9)&IF(Service!F544=\"\",TRIM(LEFT(Translit.Translit(Service!E544),3))&INDEX(Service!A544:A569,RANDBETWEEN(1,26),1),TRIM(LEFT(Translit.Translit(Service!F544),2))&INDEX(Service!H544:H562,RANDBETWEEN(1,19),1)&INDEX(Service!A544:A569,RANDBETWEEN(1,26),1)),'Информация о пользователе'!G546)","v":{"$error":"#NAME?"}}]
[{"$f":"TRIM(IF('Информация о пользователе'!A547=\"\",\"Пусто\",'Информация о пользователе'!A547))","v":"Пусто"},{"$f":"TRIM(IF('Информация о пользователе'!B547=\"\",\" \",'Информация о пользователе'!B547&\" \"&'Информация о пользователе'!C547))","v":""},{"$f":"TRIM(IF(AD!A546=\"\",\"\",AD!B546&\" \"&A546))","v":"Пусто"},{"$f":"TRIM(IF('Информация о пользователе'!D547=\"\",F546&\"@edu54.ru\",'Информация о пользователе'!D547))","v":"pusto@edu54.ru"},{"$f":"TRIM(IF('Информация о пользователе'!E547=\"\",\"\",'Информация о пользователе'!E547))","v":""},{"$f":"IF('Информация о пользователе'!F547=\"\",TRIM(Translit.Translit(A546)&TRIM(LEFT(Translit.Translit(Service!E545),1))&TRIM(LEFT(Translit.Translit(Service!F545),1))),TRIM('Информация о пользователе'!F547))","v":"pusto"},{"$f":"IF('Информация о пользователе'!G547=\"\",TRIM(LEFT(Translit.Translit(Service!E545),2))&INDEX(Service!H545:H563,RANDBETWEEN(1,19),1)&RANDBETWEEN(1,9)&IF(Service!F545=\"\",TRIM(LEFT(Translit.Translit(Service!E545),3))&INDEX(Service!A545:A570,RANDBETWEEN(1,26),1),TRIM(LEFT(Translit.Translit(Service!F545),2))&INDEX(Service!H545:H563,RANDBETWEEN(1,19),1)&INDEX(Service!A545:A570,RANDBETWEEN(1,26),1)),'Информация о пользователе'!G547)","v":{"$error":"#NAME?"}}]
[{"$f":"TRIM(IF('Информация о пользователе'!A548=\"\",\"Пусто\",'Информация о пользователе'!A548))","v":"Пусто"},{"$f":"TRIM(IF('Информация о пользователе'!B548=\"\",\" \",'Информация о пользователе'!B548&\" \"&'Информация о пользователе'!C548))","v":""},{"$f":"TRIM(IF(AD!A547=\"\",\"\",AD!B547&\" \"&A547))","v":"Пусто"},{"$f":"TRIM(IF('Информация о пользователе'!D548=\"\",F547&\"@edu54.ru\",'Информация о пользователе'!D548))","v":"pusto@edu54.ru"},{"$f":"TRIM(IF('Информация о пользователе'!E548=\"\",\"\",'Информация о пользователе'!E548))","v":""},{"$f":"IF('Информация о пользователе'!F548=\"\",TRIM(Translit.Translit(A547)&TRIM(LEFT(Translit.Translit(Service!E546),1))&TRIM(LEFT(Translit.Translit(Service!F546),1))),TRIM('Информация о пользователе'!F548))","v":"pusto"},{"$f":"IF('Информация о пользователе'!G548=\"\",TRIM(LEFT(Translit.Translit(Service!E546),2))&INDEX(Service!H546:H564,RANDBETWEEN(1,19),1)&RANDBETWEEN(1,9)&IF(Service!F546=\"\",TRIM(LEFT(Translit.Translit(Service!E546),3))&INDEX(Service!A546:A571,RANDBETWEEN(1,26),1),TRIM(LEFT(Translit.Translit(Service!F546),2))&INDEX(Service!H546:H564,RANDBETWEEN(1,19),1)&INDEX(Service!A546:A571,RANDBETWEEN(1,26),1)),'Информация о пользователе'!G548)","v":{"$error":"#NAME?"}}]
[{"$f":"TRIM(IF('Информация о пользователе'!A549=\"\",\"Пусто\",'Информация о пользователе'!A549))","v":"Пусто"},{"$f":"TRIM(IF('Информация о пользователе'!B549=\"\",\" \",'Информация о пользователе'!B549&\" \"&'Информация о пользователе'!C549))","v":""},{"$f":"TRIM(IF(AD!A548=\"\",\"\",AD!B548&\" \"&A548))","v":"Пусто"},{"$f":"TRIM(IF('Информация о пользователе'!D549=\"\",F548&\"@edu54.ru\",'Информация о пользователе'!D549))","v":"pusto@edu54.ru"},{"$f":"TRIM(IF('Информация о пользователе'!E549=\"\",\"\",'Информация о пользователе'!E549))","v":""},{"$f":"IF('Информация о пользователе'!F549=\"\",TRIM(Translit.Translit(A548)&TRIM(LEFT(Translit.Translit(Service!E547),1))&TRIM(LEFT(Translit.Translit(Service!F547),1))),TRIM('Информация о пользователе'!F549))","v":"pusto"},{"$f":"IF('Информация о пользователе'!G549=\"\",TRIM(LEFT(Translit.Translit(Service!E547),2))&INDEX(Service!H547:H565,RANDBETWEEN(1,19),1)&RANDBETWEEN(1,9)&IF(Service!F547=\"\",TRIM(LEFT(Translit.Translit(Service!E547),3))&INDEX(Service!A547:A572,RANDBETWEEN(1,26),1),TRIM(LEFT(Translit.Translit(Service!F547),2))&INDEX(Service!H547:H565,RANDBETWEEN(1,19),1)&INDEX(Service!A547:A572,RANDBETWEEN(1,26),1)),'Информация о пользователе'!G549)","v":{"$error":"#NAME?"}}]
[{"$f":"TRIM(IF('Информация о пользователе'!A550=\"\",\"Пусто\",'Информация о пользователе'!A550))","v":"Пусто"},{"$f":"TRIM(IF('Информация о пользователе'!B550=\"\",\" \",'Информация о пользователе'!B550&\" \"&'Информация о пользователе'!C550))","v":""},{"$f":"TRIM(IF(AD!A549=\"\",\"\",AD!B549&\" \"&A549))","v":"Пусто"},{"$f":"TRIM(IF('Информация о пользователе'!D550=\"\",F549&\"@edu54.ru\",'Информация о пользователе'!D550))","v":"pusto@edu54.ru"},{"$f":"TRIM(IF('Информация о пользователе'!E550=\"\",\"\",'Информация о пользователе'!E550))","v":""},{"$f":"IF('Информация о пользователе'!F550=\"\",TRIM(Translit.Translit(A549)&TRIM(LEFT(Translit.Translit(Service!E548),1))&TRIM(LEFT(Translit.Translit(Service!F548),1))),TRIM('Информация о пользователе'!F550))","v":"pusto"},{"$f":"IF('Информация о пользователе'!G550=\"\",TRIM(LEFT(Translit.Translit(Service!E548),2))&INDEX(Service!H548:H566,RANDBETWEEN(1,19),1)&RANDBETWEEN(1,9)&IF(Service!F548=\"\",TRIM(LEFT(Translit.Translit(Service!E548),3))&INDEX(Service!A548:A573,RANDBETWEEN(1,26),1),TRIM(LEFT(Translit.Translit(Service!F548),2))&INDEX(Service!H548:H566,RANDBETWEEN(1,19),1)&INDEX(Service!A548:A573,RANDBETWEEN(1,26),1)),'Информация о пользователе'!G550)","v":{"$error":"#NAME?"}}]
[{"$f":"TRIM(IF('Информация о пользователе'!A551=\"\",\"Пусто\",'Информация о пользователе'!A551))","v":"Пусто"},{"$f":"TRIM(IF('Информация о пользователе'!B551=\"\",\" \",'Информация о пользователе'!B551&\" \"&'Информация о пользователе'!C551))","v":""},{"$f":"TRIM(IF(AD!A550=\"\",\"\",AD!B550&\" \"&A550))","v":"Пусто"},{"$f":"TRIM(IF('Информация о пользователе'!D551=\"\",F550&\"@edu54.ru\",'Информация о пользователе'!D551))","v":"pusto@edu54.ru"},{"$f":"TRIM(IF('Информация о пользователе'!E551=\"\",\"\",'Информация о пользователе'!E551))","v":""},{"$f":"IF('Информация о пользователе'!F551=\"\",TRIM(Translit.Translit(A550)&TRIM(LEFT(Translit.Translit(Service!E549),1))&TRIM(LEFT(Translit.Translit(Service!F549),1))),TRIM('Информация о пользователе'!F551))","v":"pusto"},{"$f":"IF('Информация о пользователе'!G551=\"\",TRIM(LEFT(Translit.Translit(Service!E549),2))&INDEX(Service!H549:H567,RANDBETWEEN(1,19),1)&RANDBETWEEN(1,9)&IF(Service!F549=\"\",TRIM(LEFT(Translit.Translit(Service!E549),3))&INDEX(Service!A549:A574,RANDBETWEEN(1,26),1),TRIM(LEFT(Translit.Translit(Service!F549),2))&INDEX(Service!H549:H567,RANDBETWEEN(1,19),1)&INDEX(Service!A549:A574,RANDBETWEEN(1,26),1)),'Информация о пользователе'!G551)","v":{"$error":"#NAME?"}}]
[{"$f":"TRIM(IF('Информация о пользователе'!A552=\"\",\"Пусто\",'Информация о пользователе'!A552))","v":"Пусто"},{"$f":"TRIM(IF('Информация о пользователе'!B552=\"\",\" \",'Информация о пользователе'!B552&\" \"&'Информация о пользователе'!C552))","v":""},{"$f":"TRIM(IF(AD!A551=\"\",\"\",AD!B551&\" \"&A551))","v":"Пусто"},{"$f":"TRIM(IF('Информация о пользователе'!D552=\"\",F551&\"@edu54.ru\",'Информация о пользователе'!D552))","v":"pusto@edu54.ru"},{"$f":"TRIM(IF('Информация о пользователе'!E552=\"\",\"\",'Информация о пользователе'!E552))","v":""},{"$f":"IF('Информация о пользователе'!F552=\"\",TRIM(Translit.Translit(A551)&TRIM(LEFT(Translit.Translit(Service!E550),1))&TRIM(LEFT(Translit.Translit(Service!F550),1))),TRIM('Информация о пользователе'!F552))","v":"pusto"},{"$f":"IF('Информация о пользователе'!G552=\"\",TRIM(LEFT(Translit.Translit(Service!E550),2))&INDEX(Service!H550:H568,RANDBETWEEN(1,19),1)&RANDBETWEEN(1,9)&IF(Service!F550=\"\",TRIM(LEFT(Translit.Translit(Service!E550),3))&INDEX(Service!A550:A575,RANDBETWEEN(1,26),1),TRIM(LEFT(Translit.Translit(Service!F550),2))&INDEX(Service!H550:H568,RANDBETWEEN(1,19),1)&INDEX(Service!A550:A575,RANDBETWEEN(1,26),1)),'Информация о пользователе'!G552)","v":{"$error":"#NAME?"}}]
[{"$f":"TRIM(IF('Информация о пользователе'!A553=\"\",\"Пусто\",'Информация о пользователе'!A553))","v":"Пусто"},{"$f":"TRIM(IF('Информация о пользователе'!B553=\"\",\" \",'Информация о пользователе'!B553&\" \"&'Информация о пользователе'!C553))","v":""},{"$f":"TRIM(IF(AD!A552=\"\",\"\",AD!B552&\" \"&A552))","v":"Пусто"},{"$f":"TRIM(IF('Информация о пользователе'!D553=\"\",F552&\"@edu54.ru\",'Информация о пользователе'!D553))","v":"pusto@edu54.ru"},{"$f":"TRIM(IF('Информация о пользователе'!E553=\"\",\"\",'Информация о пользователе'!E553))","v":""},{"$f":"IF('Информация о пользователе'!F553=\"\",TRIM(Translit.Translit(A552)&TRIM(LEFT(Translit.Translit(Service!E551),1))&TRIM(LEFT(Translit.Translit(Service!F551),1))),TRIM('Информация о пользователе'!F553))","v":"pusto"},{"$f":"IF('Информация о пользователе'!G553=\"\",TRIM(LEFT(Translit.Translit(Service!E551),2))&INDEX(Service!H551:H569,RANDBETWEEN(1,19),1)&RANDBETWEEN(1,9)&IF(Service!F551=\"\",TRIM(LEFT(Translit.Translit(Service!E551),3))&INDEX(Service!A551:A576,RANDBETWEEN(1,26),1),TRIM(LEFT(Translit.Translit(Service!F551),2))&INDEX(Service!H551:H569,RANDBETWEEN(1,19),1)&INDEX(Service!A551:A576,RANDBETWEEN(1,26),1)),'Информация о пользователе'!G553)","v":{"$error":"#NAME?"}}]
[{"$f":"TRIM(IF('Информация о пользователе'!A554=\"\",\"Пусто\",'Информация о пользователе'!A554))","v":"Пусто"},{"$f":"TRIM(IF('Информация о пользователе'!B554=\"\",\" \",'Информация о пользователе'!B554&\" \"&'Информация о пользователе'!C554))","v":""},{"$f":"TRIM(IF(AD!A553=\"\",\"\",AD!B553&\" \"&A553))","v":"Пусто"},{"$f":"TRIM(IF('Информация о пользователе'!D554=\"\",F553&\"@edu54.ru\",'Информация о пользователе'!D554))","v":"pusto@edu54.ru"},{"$f":"TRIM(IF('Информация о пользователе'!E554=\"\",\"\",'Информация о пользователе'!E554))","v":""},{"$f":"IF('Информация о пользователе'!F554=\"\",TRIM(Translit.Translit(A553)&TRIM(LEFT(Translit.Translit(Service!E552),1))&TRIM(LEFT(Translit.Translit(Service!F552),1))),TRIM('Информация о пользователе'!F554))","v":"pusto"},{"$f":"IF('Информация о пользователе'!G554=\"\",TRIM(LEFT(Translit.Translit(Service!E552),2))&INDEX(Service!H552:H570,RANDBETWEEN(1,19),1)&RANDBETWEEN(1,9)&IF(Service!F552=\"\",TRIM(LEFT(Translit.Translit(Service!E552),3))&INDEX(Service!A552:A577,RANDBETWEEN(1,26),1),TRIM(LEFT(Translit.Translit(Service!F552),2))&INDEX(Service!H552:H570,RANDBETWEEN(1,19),1)&INDEX(Service!A552:A577,RANDBETWEEN(1,26),1)),'Информация о пользователе'!G554)","v":{"$error":"#NAME?"}}]
[{"$f":"TRIM(IF('Информация о пользователе'!A555=\"\",\"Пусто\",'Информация о пользователе'!A555))","v":"Пусто"},{"$f":"TRIM(IF('Информация о пользователе'!B555=\"\",\" \",'Информация о пользователе'!B555&\" \"&'Информация о пользователе'!C555))","v":""},{"$f":"TRIM(IF(AD!A554=\"\",\"\",AD!B554&\" \"&A554))","v":"Пусто"},{"$f":"TRIM(IF('Информация о пользователе'!D555=\"\",F554&\"@edu54.ru\",'Информация о пользователе'!D555))","v":"pusto@edu54.ru"},{"$f":"TRIM(IF('Информация о пользователе'!E555=\"\",\"\",'Информация о пользователе'!E555))","v":""},{"$f":"IF('Информация о пользователе'!F555=\"\",TRIM(Translit.Translit(A554)&TRIM(LEFT(Translit.Translit(Service!E553),1))&TRIM(LEFT(Translit.Translit(Service!F553),1))),TRIM('Информация о пользователе'!F555))","v":"pusto"},{"$f":"IF('Информация о пользователе'!G555=\"\",TRIM(LEFT(Translit.Translit(Service!E553),2))&INDEX(Service!H553:H571,RANDBETWEEN(1,19),1)&RANDBETWEEN(1,9)&IF(Service!F553=\"\",TRIM(LEFT(Translit.Translit(Service!E553),3))&INDEX(Service!A553:A578,RANDBETWEEN(1,26),1),TRIM(LEFT(Translit.Translit(Service!F553),2))&INDEX(Service!H553:H571,RANDBETWEEN(1,19),1)&INDEX(Service!A553:A578,RANDBETWEEN(1,26),1)),'Информация о пользователе'!G555)","v":{"$error":"#NAME?"}}]
[{"$f":"TRIM(IF('Информация о пользователе'!A556=\"\",\"Пусто\",'Информация о пользователе'!A556))","v":"Пусто"},{"$f":"TRIM(IF('Информация о пользователе'!B556=\"\",\" \",'Информация о пользователе'!B556&\" \"&'Информация о пользователе'!C556))","v":""},{"$f":"TRIM(IF(AD!A555=\"\",\"\",AD!B555&\" \"&A555))","v":"Пусто"},{"$f":"TRIM(IF('Информация о пользователе'!D556=\"\",F555&\"@edu54.ru\",'Информация о пользователе'!D556))","v":"pusto@edu54.ru"},{"$f":"TRIM(IF('Информация о пользователе'!E556=\"\",\"\",'Информация о пользователе'!E556))","v":""},{"$f":"IF('Информация о пользователе'!F556=\"\",TRIM(Translit.Translit(A555)&TRIM(LEFT(Translit.Translit(Service!E554),1))&TRIM(LEFT(Translit.Translit(Service!F554),1))),TRIM('Информация о пользователе'!F556))","v":"pusto"},{"$f":"IF('Информация о пользователе'!G556=\"\",TRIM(LEFT(Translit.Translit(Service!E554),2))&INDEX(Service!H554:H572,RANDBETWEEN(1,19),1)&RANDBETWEEN(1,9)&IF(Service!F554=\"\",TRIM(LEFT(Translit.Translit(Service!E554),3))&INDEX(Service!A554:A579,RANDBETWEEN(1,26),1),TRIM(LEFT(Translit.Translit(Service!F554),2))&INDEX(Service!H554:H572,RANDBETWEEN(1,19),1)&INDEX(Service!A554:A579,RANDBETWEEN(1,26),1)),'Информация о пользователе'!G556)","v":{"$error":"#NAME?"}}]
[{"$f":"TRIM(IF('Информация о пользователе'!A557=\"\",\"Пусто\",'Информация о пользователе'!A557))","v":"Пусто"},{"$f":"TRIM(IF('Информация о пользователе'!B557=\"\",\" \",'Информация о пользователе'!B557&\" \"&'Информация о пользователе'!C557))","v":""},{"$f":"TRIM(IF(AD!A556=\"\",\"\",AD!B556&\" \"&A556))","v":"Пусто"},{"$f":"TRIM(IF('Информация о пользователе'!D557=\"\",F556&\"@edu54.ru\",'Информация о пользователе'!D557))","v":"pusto@edu54.ru"},{"$f":"TRIM(IF('Информация о пользователе'!E557=\"\",\"\",'Информация о пользователе'!E557))","v":""},{"$f":"IF('Информация о пользователе'!F557=\"\",TRIM(Translit.Translit(A556)&TRIM(LEFT(Translit.Translit(Service!E555),1))&TRIM(LEFT(Translit.Translit(Service!F555),1))),TRIM('Информация о пользователе'!F557))","v":"pusto"},{"$f":"IF('Информация о пользователе'!G557=\"\",TRIM(LEFT(Translit.Translit(Service!E555),2))&INDEX(Service!H555:H573,RANDBETWEEN(1,19),1)&RANDBETWEEN(1,9)&IF(Service!F555=\"\",TRIM(LEFT(Translit.Translit(Service!E555),3))&INDEX(Service!A555:A580,RANDBETWEEN(1,26),1),TRIM(LEFT(Translit.Translit(Service!F555),2))&INDEX(Service!H555:H573,RANDBETWEEN(1,19),1)&INDEX(Service!A555:A580,RANDBETWEEN(1,26),1)),'Информация о пользователе'!G557)","v":{"$error":"#NAME?"}}]
[{"$f":"TRIM(IF('Информация о пользователе'!A558=\"\",\"Пусто\",'Информация о пользователе'!A558))","v":"Пусто"},{"$f":"TRIM(IF('Информация о пользователе'!B558=\"\",\" \",'Информация о пользователе'!B558&\" \"&'Информация о пользователе'!C558))","v":""},{"$f":"TRIM(IF(AD!A557=\"\",\"\",AD!B557&\" \"&A557))","v":"Пусто"},{"$f":"TRIM(IF('Информация о пользователе'!D558=\"\",F557&\"@edu54.ru\",'Информация о пользователе'!D558))","v":"pusto@edu54.ru"},{"$f":"TRIM(IF('Информация о пользователе'!E558=\"\",\"\",'Информация о пользователе'!E558))","v":""},{"$f":"IF('Информация о пользователе'!F558=\"\",TRIM(Translit.Translit(A557)&TRIM(LEFT(Translit.Translit(Service!E556),1))&TRIM(LEFT(Translit.Translit(Service!F556),1))),TRIM('Информация о пользователе'!F558))","v":"pusto"},{"$f":"IF('Информация о пользователе'!G558=\"\",TRIM(LEFT(Translit.Translit(Service!E556),2))&INDEX(Service!H556:H574,RANDBETWEEN(1,19),1)&RANDBETWEEN(1,9)&IF(Service!F556=\"\",TRIM(LEFT(Translit.Translit(Service!E556),3))&INDEX(Service!A556:A581,RANDBETWEEN(1,26),1),TRIM(LEFT(Translit.Translit(Service!F556),2))&INDEX(Service!H556:H574,RANDBETWEEN(1,19),1)&INDEX(Service!A556:A581,RANDBETWEEN(1,26),1)),'Информация о пользователе'!G558)","v":{"$error":"#NAME?"}}]
[{"$f":"TRIM(IF('Информация о пользователе'!A559=\"\",\"Пусто\",'Информация о пользователе'!A559))","v":"Пусто"},{"$f":"TRIM(IF('Информация о пользователе'!B559=\"\",\" \",'Информация о пользователе'!B559&\" \"&'Информация о пользователе'!C559))","v":""},{"$f":"TRIM(IF(AD!A558=\"\",\"\",AD!B558&\" \"&A558))","v":"Пусто"},{"$f":"TRIM(IF('Информация о пользователе'!D559=\"\",F558&\"@edu54.ru\",'Информация о пользователе'!D559))","v":"pusto@edu54.ru"},{"$f":"TRIM(IF('Информация о пользователе'!E559=\"\",\"\",'Информация о пользователе'!E559))","v":""},{"$f":"IF('Информация о пользователе'!F559=\"\",TRIM(Translit.Translit(A558)&TRIM(LEFT(Translit.Translit(Service!E557),1))&TRIM(LEFT(Translit.Translit(Service!F557),1))),TRIM('Информация о пользователе'!F559))","v":"pusto"},{"$f":"IF('Информация о пользователе'!G559=\"\",TRIM(LEFT(Translit.Translit(Service!E557),2))&INDEX(Service!H557:H575,RANDBETWEEN(1,19),1)&RANDBETWEEN(1,9)&IF(Service!F557=\"\",TRIM(LEFT(Translit.Translit(Service!E557),3))&INDEX(Service!A557:A582,RANDBETWEEN(1,26),1),TRIM(LEFT(Translit.Translit(Service!F557),2))&INDEX(Service!H557:H575,RANDBETWEEN(1,19),1)&INDEX(Service!A557:A582,RANDBETWEEN(1,26),1)),'Информация о пользователе'!G559)","v":{"$error":"#NAME?"}}]
[{"$f":"TRIM(IF('Информация о пользователе'!A560=\"\",\"Пусто\",'Информация о пользователе'!A560))","v":"Пусто"},{"$f":"TRIM(IF('Информация о пользователе'!B560=\"\",\" \",'Информация о пользователе'!B560&\" \"&'Информация о пользователе'!C560))","v":""},{"$f":"TRIM(IF(AD!A559=\"\",\"\",AD!B559&\" \"&A559))","v":"Пусто"},{"$f":"TRIM(IF('Информация о пользователе'!D560=\"\",F559&\"@edu54.ru\",'Информация о пользователе'!D560))","v":"pusto@edu54.ru"},{"$f":"TRIM(IF('Информация о пользователе'!E560=\"\",\"\",'Информация о пользователе'!E560))","v":""},{"$f":"IF('Информация о пользователе'!F560=\"\",TRIM(Translit.Translit(A559)&TRIM(LEFT(Translit.Translit(Service!E558),1))&TRIM(LEFT(Translit.Translit(Service!F558),1))),TRIM('Информация о пользователе'!F560))","v":"pusto"},{"$f":"IF('Информация о пользователе'!G560=\"\",TRIM(LEFT(Translit.Translit(Service!E558),2))&INDEX(Service!H558:H576,RANDBETWEEN(1,19),1)&RANDBETWEEN(1,9)&IF(Service!F558=\"\",TRIM(LEFT(Translit.Translit(Service!E558),3))&INDEX(Service!A558:A583,RANDBETWEEN(1,26),1),TRIM(LEFT(Translit.Translit(Service!F558),2))&INDEX(Service!H558:H576,RANDBETWEEN(1,19),1)&INDEX(Service!A558:A583,RANDBETWEEN(1,26),1)),'Информация о пользователе'!G560)","v":{"$error":"#NAME?"}}]
[{"$f":"TRIM(IF('Информация о пользователе'!A561=\"\",\"Пусто\",'Информация о пользователе'!A561))","v":"Пусто"},{"$f":"TRIM(IF('Информация о пользователе'!B561=\"\",\" \",'Информация о пользователе'!B561&\" \"&'Информация о пользователе'!C561))","v":""},{"$f":"TRIM(IF(AD!A560=\"\",\"\",AD!B560&\" \"&A560))","v":"Пусто"},{"$f":"TRIM(IF('Информация о пользователе'!D561=\"\",F560&\"@edu54.ru\",'Информация о пользователе'!D561))","v":"pusto@edu54.ru"},{"$f":"TRIM(IF('Информация о пользователе'!E561=\"\",\"\",'Информация о пользователе'!E561))","v":""},{"$f":"IF('Информация о пользователе'!F561=\"\",TRIM(Translit.Translit(A560)&TRIM(LEFT(Translit.Translit(Service!E559),1))&TRIM(LEFT(Translit.Translit(Service!F559),1))),TRIM('Информация о пользователе'!F561))","v":"pusto"},{"$f":"IF('Информация о пользователе'!G561=\"\",TRIM(LEFT(Translit.Translit(Service!E559),2))&INDEX(Service!H559:H577,RANDBETWEEN(1,19),1)&RANDBETWEEN(1,9)&IF(Service!F559=\"\",TRIM(LEFT(Translit.Translit(Service!E559),3))&INDEX(Service!A559:A584,RANDBETWEEN(1,26),1),TRIM(LEFT(Translit.Translit(Service!F559),2))&INDEX(Service!H559:H577,RANDBETWEEN(1,19),1)&INDEX(Service!A559:A584,RANDBETWEEN(1,26),1)),'Информация о пользователе'!G561)","v":{"$error":"#NAME?"}}]
[{"$f":"TRIM(IF('Информация о пользователе'!A562=\"\",\"Пусто\",'Информация о пользователе'!A562))","v":"Пусто"},{"$f":"TRIM(IF('Информация о пользователе'!B562=\"\",\" \",'Информация о пользователе'!B562&\" \"&'Информация о пользователе'!C562))","v":""},{"$f":"TRIM(IF(AD!A561=\"\",\"\",AD!B561&\" \"&A561))","v":"Пусто"},{"$f":"TRIM(IF('Информация о пользователе'!D562=\"\",F561&\"@edu54.ru\",'Информация о пользователе'!D562))","v":"pusto@edu54.ru"},{"$f":"TRIM(IF('Информация о пользователе'!E562=\"\",\"\",'Информация о пользователе'!E562))","v":""},{"$f":"IF('Информация о пользователе'!F562=\"\",TRIM(Translit.Translit(A561)&TRIM(LEFT(Translit.Translit(Service!E560),1))&TRIM(LEFT(Translit.Translit(Service!F560),1))),TRIM('Информация о пользователе'!F562))","v":"pusto"},{"$f":"IF('Информация о пользователе'!G562=\"\",TRIM(LEFT(Translit.Translit(Service!E560),2))&INDEX(Service!H560:H578,RANDBETWEEN(1,19),1)&RANDBETWEEN(1,9)&IF(Service!F560=\"\",TRIM(LEFT(Translit.Translit(Service!E560),3))&INDEX(Service!A560:A585,RANDBETWEEN(1,26),1),TRIM(LEFT(Translit.Translit(Service!F560),2))&INDEX(Service!H560:H578,RANDBETWEEN(1,19),1)&INDEX(Service!A560:A585,RANDBETWEEN(1,26),1)),'Информация о пользователе'!G562)","v":{"$error":"#NAME?"}}]
[{"$f":"TRIM(IF('Информация о пользователе'!A563=\"\",\"Пусто\",'Информация о пользователе'!A563))","v":"Пусто"},{"$f":"TRIM(IF('Информация о пользователе'!B563=\"\",\" \",'Информация о пользователе'!B563&\" \"&'Информация о пользователе'!C563))","v":""},{"$f":"TRIM(IF(AD!A562=\"\",\"\",AD!B562&\" \"&A562))","v":"Пусто"},{"$f":"TRIM(IF('Информация о пользователе'!D563=\"\",F562&\"@edu54.ru\",'Информация о пользователе'!D563))","v":"pusto@edu54.ru"},{"$f":"TRIM(IF('Информация о пользователе'!E563=\"\",\"\",'Информация о пользователе'!E563))","v":""},{"$f":"IF('Информация о пользователе'!F563=\"\",TRIM(Translit.Translit(A562)&TRIM(LEFT(Translit.Translit(Service!E561),1))&TRIM(LEFT(Translit.Translit(Service!F561),1))),TRIM('Информация о пользователе'!F563))","v":"pusto"},{"$f":"IF('Информация о пользователе'!G563=\"\",TRIM(LEFT(Translit.Translit(Service!E561),2))&INDEX(Service!H561:H579,RANDBETWEEN(1,19),1)&RANDBETWEEN(1,9)&IF(Service!F561=\"\",TRIM(LEFT(Translit.Translit(Service!E561),3))&INDEX(Service!A561:A586,RANDBETWEEN(1,26),1),TRIM(LEFT(Translit.Translit(Service!F561),2))&INDEX(Service!H561:H579,RANDBETWEEN(1,19),1)&INDEX(Service!A561:A586,RANDBETWEEN(1,26),1)),'Информация о пользователе'!G563)","v":{"$error":"#NAME?"}}]
[{"$f":"TRIM(IF('Информация о пользователе'!A564=\"\",\"Пусто\",'Информация о пользователе'!A564))","v":"Пусто"},{"$f":"TRIM(IF('Информация о пользователе'!B564=\"\",\" \",'Информация о пользователе'!B564&\" \"&'Информация о пользователе'!C564))","v":""},{"$f":"TRIM(IF(AD!A563=\"\",\"\",AD!B563&\" \"&A563))","v":"Пусто"},{"$f":"TRIM(IF('Информация о пользователе'!D564=\"\",F563&\"@edu54.ru\",'Информация о пользователе'!D564))","v":"pusto@edu54.ru"},{"$f":"TRIM(IF('Информация о пользователе'!E564=\"\",\"\",'Информация о пользователе'!E564))","v":""},{"$f":"IF('Информация о пользователе'!F564=\"\",TRIM(Translit.Translit(A563)&TRIM(LEFT(Translit.Translit(Service!E562),1))&TRIM(LEFT(Translit.Translit(Service!F562),1))),TRIM('Информация о пользователе'!F564))","v":"pusto"},{"$f":"IF('Информация о пользователе'!G564=\"\",TRIM(LEFT(Translit.Translit(Service!E562),2))&INDEX(Service!H562:H580,RANDBETWEEN(1,19),1)&RANDBETWEEN(1,9)&IF(Service!F562=\"\",TRIM(LEFT(Translit.Translit(Service!E562),3))&INDEX(Service!A562:A587,RANDBETWEEN(1,26),1),TRIM(LEFT(Translit.Translit(Service!F562),2))&INDEX(Service!H562:H580,RANDBETWEEN(1,19),1)&INDEX(Service!A562:A587,RANDBETWEEN(1,26),1)),'Информация о пользователе'!G564)","v":{"$error":"#NAME?"}}]
[{"$f":"TRIM(IF('Информация о пользователе'!A565=\"\",\"Пусто\",'Информация о пользователе'!A565))","v":"Пусто"},{"$f":"TRIM(IF('Информация о пользователе'!B565=\"\",\" \",'Информация о пользователе'!B565&\" \"&'Информация о пользователе'!C565))","v":""},{"$f":"TRIM(IF(AD!A564=\"\",\"\",AD!B564&\" \"&A564))","v":"Пусто"},{"$f":"TRIM(IF('Информация о пользователе'!D565=\"\",F564&\"@edu54.ru\",'Информация о пользователе'!D565))","v":"pusto@edu54.ru"},{"$f":"TRIM(IF('Информация о пользователе'!E565=\"\",\"\",'Информация о пользователе'!E565))","v":""},{"$f":"IF('Информация о пользователе'!F565=\"\",TRIM(Translit.Translit(A564)&TRIM(LEFT(Translit.Translit(Service!E563),1))&TRIM(LEFT(Translit.Translit(Service!F563),1))),TRIM('Информация о пользователе'!F565))","v":"pusto"},{"$f":"IF('Информация о пользователе'!G565=\"\",TRIM(LEFT(Translit.Translit(Service!E563),2))&INDEX(Service!H563:H581,RANDBETWEEN(1,19),1)&RANDBETWEEN(1,9)&IF(Service!F563=\"\",TRIM(LEFT(Translit.Translit(Service!E563),3))&INDEX(Service!A563:A588,RANDBETWEEN(1,26),1),TRIM(LEFT(Translit.Translit(Service!F563),2))&INDEX(Service!H563:H581,RANDBETWEEN(1,19),1)&INDEX(Service!A563:A588,RANDBETWEEN(1,26),1)),'Информация о пользователе'!G565)","v":{"$error":"#NAME?"}}]
[{"$f":"TRIM(IF('Информация о пользователе'!A566=\"\",\"Пусто\",'Информация о пользователе'!A566))","v":"Пусто"},{"$f":"TRIM(IF('Информация о пользователе'!B566=\"\",\" \",'Информация о пользователе'!B566&\" \"&'Информация о пользователе'!C566))","v":""},{"$f":"TRIM(IF(AD!A565=\"\",\"\",AD!B565&\" \"&A565))","v":"Пусто"},{"$f":"TRIM(IF('Информация о пользователе'!D566=\"\",F565&\"@edu54.ru\",'Информация о пользователе'!D566))","v":"pusto@edu54.ru"},{"$f":"TRIM(IF('Информация о пользователе'!E566=\"\",\"\",'Информация о пользователе'!E566))","v":""},{"$f":"IF('Информация о пользователе'!F566=\"\",TRIM(Translit.Translit(A565)&TRIM(LEFT(Translit.Translit(Service!E564),1))&TRIM(LEFT(Translit.Translit(Service!F564),1))),TRIM('Информация о пользователе'!F566))","v":"pusto"},{"$f":"IF('Информация о пользователе'!G566=\"\",TRIM(LEFT(Translit.Translit(Service!E564),2))&INDEX(Service!H564:H582,RANDBETWEEN(1,19),1)&RANDBETWEEN(1,9)&IF(Service!F564=\"\",TRIM(LEFT(Translit.Translit(Service!E564),3))&INDEX(Service!A564:A589,RANDBETWEEN(1,26),1),TRIM(LEFT(Translit.Translit(Service!F564),2))&INDEX(Service!H564:H582,RANDBETWEEN(1,19),1)&INDEX(Service!A564:A589,RANDBETWEEN(1,26),1)),'Информация о пользователе'!G566)","v":{"$error":"#NAME?"}}]
[{"$f":"TRIM(IF('Информация о пользователе'!A567=\"\",\"Пусто\",'Информация о пользователе'!A567))","v":"Пусто"},{"$f":"TRIM(IF('Информация о пользователе'!B567=\"\",\" \",'Информация о пользователе'!B567&\" \"&'Информация о пользователе'!C567))","v":""},{"$f":"TRIM(IF(AD!A566=\"\",\"\",AD!B566&\" \"&A566))","v":"Пусто"},{"$f":"TRIM(IF('Информация о пользователе'!D567=\"\",F566&\"@edu54.ru\",'Информация о пользователе'!D567))","v":"pusto@edu54.ru"},{"$f":"TRIM(IF('Информация о пользователе'!E567=\"\",\"\",'Информация о пользователе'!E567))","v":""},{"$f":"IF('Информация о пользователе'!F567=\"\",TRIM(Translit.Translit(A566)&TRIM(LEFT(Translit.Translit(Service!E565),1))&TRIM(LEFT(Translit.Translit(Service!F565),1))),TRIM('Информация о пользователе'!F567))","v":"pusto"},{"$f":"IF('Информация о пользователе'!G567=\"\",TRIM(LEFT(Translit.Translit(Service!E565),2))&INDEX(Service!H565:H583,RANDBETWEEN(1,19),1)&RANDBETWEEN(1,9)&IF(Service!F565=\"\",TRIM(LEFT(Translit.Translit(Service!E565),3))&INDEX(Service!A565:A590,RANDBETWEEN(1,26),1),TRIM(LEFT(Translit.Translit(Service!F565),2))&INDEX(Service!H565:H583,RANDBETWEEN(1,19),1)&INDEX(Service!A565:A590,RANDBETWEEN(1,26),1)),'Информация о пользователе'!G567)","v":{"$error":"#NAME?"}}]
[{"$f":"TRIM(IF('Информация о пользователе'!A568=\"\",\"Пусто\",'Информация о пользователе'!A568))","v":"Пусто"},{"$f":"TRIM(IF('Информация о пользователе'!B568=\"\",\" \",'Информация о пользователе'!B568&\" \"&'Информация о пользователе'!C568))","v":""},{"$f":"TRIM(IF(AD!A567=\"\",\"\",AD!B567&\" \"&A567))","v":"Пусто"},{"$f":"TRIM(IF('Информация о пользователе'!D568=\"\",F567&\"@edu54.ru\",'Информация о пользователе'!D568))","v":"pusto@edu54.ru"},{"$f":"TRIM(IF('Информация о пользователе'!E568=\"\",\"\",'Информация о пользователе'!E568))","v":""},{"$f":"IF('Информация о пользователе'!F568=\"\",TRIM(Translit.Translit(A567)&TRIM(LEFT(Translit.Translit(Service!E566),1))&TRIM(LEFT(Translit.Translit(Service!F566),1))),TRIM('Информация о пользователе'!F568))","v":"pusto"},{"$f":"IF('Информация о пользователе'!G568=\"\",TRIM(LEFT(Translit.Translit(Service!E566),2))&INDEX(Service!H566:H584,RANDBETWEEN(1,19),1)&RANDBETWEEN(1,9)&IF(Service!F566=\"\",TRIM(LEFT(Translit.Translit(Service!E566),3))&INDEX(Service!A566:A591,RANDBETWEEN(1,26),1),TRIM(LEFT(Translit.Translit(Service!F566),2))&INDEX(Service!H566:H584,RANDBETWEEN(1,19),1)&INDEX(Service!A566:A591,RANDBETWEEN(1,26),1)),'Информация о пользователе'!G568)","v":{"$error":"#NAME?"}}]
[{"$f":"TRIM(IF('Информация о пользователе'!A569=\"\",\"Пусто\",'Информация о пользователе'!A569))","v":"Пусто"},{"$f":"TRIM(IF('Информация о пользователе'!B569=\"\",\" \",'Информация о пользователе'!B569&\" \"&'Информация о пользователе'!C569))","v":""},{"$f":"TRIM(IF(AD!A568=\"\",\"\",AD!B568&\" \"&A568))","v":"Пусто"},{"$f":"TRIM(IF('Информация о пользователе'!D569=\"\",F568&\"@edu54.ru\",'Информация о пользователе'!D569))","v":"pusto@edu54.ru"},{"$f":"TRIM(IF('Информация о пользователе'!E569=\"\",\"\",'Информация о пользователе'!E569))","v":""},{"$f":"IF('Информация о пользователе'!F569=\"\",TRIM(Translit.Translit(A568)&TRIM(LEFT(Translit.Translit(Service!E567),1))&TRIM(LEFT(Translit.Translit(Service!F567),1))),TRIM('Информация о пользователе'!F569))","v":"pusto"},{"$f":"IF('Информация о пользователе'!G569=\"\",TRIM(LEFT(Translit.Translit(Service!E567),2))&INDEX(Service!H567:H585,RANDBETWEEN(1,19),1)&RANDBETWEEN(1,9)&IF(Service!F567=\"\",TRIM(LEFT(Translit.Translit(Service!E567),3))&INDEX(Service!A567:A592,RANDBETWEEN(1,26),1),TRIM(LEFT(Translit.Translit(Service!F567),2))&INDEX(Service!H567:H585,RANDBETWEEN(1,19),1)&INDEX(Service!A567:A592,RANDBETWEEN(1,26),1)),'Информация о пользователе'!G569)","v":{"$error":"#NAME?"}}]
[{"$f":"TRIM(IF('Информация о пользователе'!A570=\"\",\"Пусто\",'Информация о пользователе'!A570))","v":"Пусто"},{"$f":"TRIM(IF('Информация о пользователе'!B570=\"\",\" \",'Информация о пользователе'!B570&\" \"&'Информация о пользователе'!C570))","v":""},{"$f":"TRIM(IF(AD!A569=\"\",\"\",AD!B569&\" \"&A569))","v":"Пусто"},{"$f":"TRIM(IF('Информация о пользователе'!D570=\"\",F569&\"@edu54.ru\",'Информация о пользователе'!D570))","v":"pusto@edu54.ru"},{"$f":"TRIM(IF('Информация о пользователе'!E570=\"\",\"\",'Информация о пользователе'!E570))","v":""},{"$f":"IF('Информация о пользователе'!F570=\"\",TRIM(Translit.Translit(A569)&TRIM(LEFT(Translit.Translit(Service!E568),1))&TRIM(LEFT(Translit.Translit(Service!F568),1))),TRIM('Информация о пользователе'!F570))","v":"pusto"},{"$f":"IF('Информация о пользователе'!G570=\"\",TRIM(LEFT(Translit.Translit(Service!E568),2))&INDEX(Service!H568:H586,RANDBETWEEN(1,19),1)&RANDBETWEEN(1,9)&IF(Service!F568=\"\",TRIM(LEFT(Translit.Translit(Service!E568),3))&INDEX(Service!A568:A593,RANDBETWEEN(1,26),1),TRIM(LEFT(Translit.Translit(Service!F568),2))&INDEX(Service!H568:H586,RANDBETWEEN(1,19),1)&INDEX(Service!A568:A593,RANDBETWEEN(1,26),1)),'Информация о пользователе'!G570)","v":{"$error":"#NAME?"}}]
[{"$f":"TRIM(IF('Информация о пользователе'!A571=\"\",\"Пусто\",'Информация о пользователе'!A571))","v":"Пусто"},{"$f":"TRIM(IF('Информация о пользователе'!B571=\"\",\" \",'Информация о пользователе'!B571&\" \"&'Информация о пользователе'!C571))","v":""},{"$f":"TRIM(IF(AD!A570=\"\",\"\",AD!B570&\" \"&A570))","v":"Пусто"},{"$f":"TRIM(IF('Информация о пользователе'!D571=\"\",F570&\"@edu54.ru\",'Информация о пользователе'!D571))","v":"pusto@edu54.ru"},{"$f":"TRIM(IF('Информация о пользователе'!E571=\"\",\"\",'Информация о пользователе'!E571))","v":""},{"$f":"IF('Информация о пользователе'!F571=\"\",TRIM(Translit.Translit(A570)&TRIM(LEFT(Translit.Translit(Service!E569),1))&TRIM(LEFT(Translit.Translit(Service!F569),1))),TRIM('Информация о пользователе'!F571))","v":"pusto"},{"$f":"IF('Информация о пользователе'!G571=\"\",TRIM(LEFT(Translit.Translit(Service!E569),2))&INDEX(Service!H569:H587,RANDBETWEEN(1,19),1)&RANDBETWEEN(1,9)&IF(Service!F569=\"\",TRIM(LEFT(Translit.Translit(Service!E569),3))&INDEX(Service!A569:A594,RANDBETWEEN(1,26),1),TRIM(LEFT(Translit.Translit(Service!F569),2))&INDEX(Service!H569:H587,RANDBETWEEN(1,19),1)&INDEX(Service!A569:A594,RANDBETWEEN(1,26),1)),'Информация о пользователе'!G571)","v":{"$error":"#NAME?"}}]
[{"$f":"TRIM(IF('Информация о пользователе'!A572=\"\",\"Пусто\",'Информация о пользователе'!A572))","v":"Пусто"},{"$f":"TRIM(IF('Информация о пользователе'!B572=\"\",\" \",'Информация о пользователе'!B572&\" \"&'Информация о пользователе'!C572))","v":""},{"$f":"TRIM(IF(AD!A571=\"\",\"\",AD!B571&\" \"&A571))","v":"Пусто"},{"$f":"TRIM(IF('Информация о пользователе'!D572=\"\",F571&\"@edu54.ru\",'Информация о пользователе'!D572))","v":"pusto@edu54.ru"},{"$f":"TRIM(IF('Информация о пользователе'!E572=\"\",\"\",'Информация о пользователе'!E572))","v":""},{"$f":"IF('Информация о пользователе'!F572=\"\",TRIM(Translit.Translit(A571)&TRIM(LEFT(Translit.Translit(Service!E570),1))&TRIM(LEFT(Translit.Translit(Service!F570),1))),TRIM('Информация о пользователе'!F572))","v":"pusto"},{"$f":"IF('Информация о пользователе'!G572=\"\",TRIM(LEFT(Translit.Translit(Service!E570),2))&INDEX(Service!H570:H588,RANDBETWEEN(1,19),1)&RANDBETWEEN(1,9)&IF(Service!F570=\"\",TRIM(LEFT(Translit.Translit(Service!E570),3))&INDEX(Service!A570:A595,RANDBETWEEN(1,26),1),TRIM(LEFT(Translit.Translit(Service!F570),2))&INDEX(Service!H570:H588,RANDBETWEEN(1,19),1)&INDEX(Service!A570:A595,RANDBETWEEN(1,26),1)),'Информация о пользователе'!G572)","v":{"$error":"#NAME?"}}]
[{"$f":"TRIM(IF('Информация о пользователе'!A573=\"\",\"Пусто\",'Информация о пользователе'!A573))","v":"Пусто"},{"$f":"TRIM(IF('Информация о пользователе'!B573=\"\",\" \",'Информация о пользователе'!B573&\" \"&'Информация о пользователе'!C573))","v":""},{"$f":"TRIM(IF(AD!A572=\"\",\"\",AD!B572&\" \"&A572))","v":"Пусто"},{"$f":"TRIM(IF('Информация о пользователе'!D573=\"\",F572&\"@edu54.ru\",'Информация о пользователе'!D573))","v":"pusto@edu54.ru"},{"$f":"TRIM(IF('Информация о пользователе'!E573=\"\",\"\",'Информация о пользователе'!E573))","v":""},{"$f":"IF('Информация о пользователе'!F573=\"\",TRIM(Translit.Translit(A572)&TRIM(LEFT(Translit.Translit(Service!E571),1))&TRIM(LEFT(Translit.Translit(Service!F571),1))),TRIM('Информация о пользователе'!F573))","v":"pusto"},{"$f":"IF('Информация о пользователе'!G573=\"\",TRIM(LEFT(Translit.Translit(Service!E571),2))&INDEX(Service!H571:H589,RANDBETWEEN(1,19),1)&RANDBETWEEN(1,9)&IF(Service!F571=\"\",TRIM(LEFT(Translit.Translit(Service!E571),3))&INDEX(Service!A571:A596,RANDBETWEEN(1,26),1),TRIM(LEFT(Translit.Translit(Service!F571),2))&INDEX(Service!H571:H589,RANDBETWEEN(1,19),1)&INDEX(Service!A571:A596,RANDBETWEEN(1,26),1)),'Информация о пользователе'!G573)","v":{"$error":"#NAME?"}}]
[{"$f":"TRIM(IF('Информация о пользователе'!A574=\"\",\"Пусто\",'Информация о пользователе'!A574))","v":"Пусто"},{"$f":"TRIM(IF('Информация о пользователе'!B574=\"\",\" \",'Информация о пользователе'!B574&\" \"&'Информация о пользователе'!C574))","v":""},{"$f":"TRIM(IF(AD!A573=\"\",\"\",AD!B573&\" \"&A573))","v":"Пусто"},{"$f":"TRIM(IF('Информация о пользователе'!D574=\"\",F573&\"@edu54.ru\",'Информация о пользователе'!D574))","v":"pusto@edu54.ru"},{"$f":"TRIM(IF('Информация о пользователе'!E574=\"\",\"\",'Информация о пользователе'!E574))","v":""},{"$f":"IF('Информация о пользователе'!F574=\"\",TRIM(Translit.Translit(A573)&TRIM(LEFT(Translit.Translit(Service!E572),1))&TRIM(LEFT(Translit.Translit(Service!F572),1))),TRIM('Информация о пользователе'!F574))","v":"pusto"},{"$f":"IF('Информация о пользователе'!G574=\"\",TRIM(LEFT(Translit.Translit(Service!E572),2))&INDEX(Service!H572:H590,RANDBETWEEN(1,19),1)&RANDBETWEEN(1,9)&IF(Service!F572=\"\",TRIM(LEFT(Translit.Translit(Service!E572),3))&INDEX(Service!A572:A597,RANDBETWEEN(1,26),1),TRIM(LEFT(Translit.Translit(Service!F572),2))&INDEX(Service!H572:H590,RANDBETWEEN(1,19),1)&INDEX(Service!A572:A597,RANDBETWEEN(1,26),1)),'Информация о пользователе'!G574)","v":{"$error":"#NAME?"}}]
[{"$f":"TRIM(IF('Информация о пользователе'!A575=\"\",\"Пусто\",'Информация о пользователе'!A575))","v":"Пусто"},{"$f":"TRIM(IF('Информация о пользователе'!B575=\"\",\" \",'Информация о пользователе'!B575&\" \"&'Информация о пользователе'!C575))","v":""},{"$f":"TRIM(IF(AD!A574=\"\",\"\",AD!B574&\" \"&A574))","v":"Пусто"},{"$f":"TRIM(IF('Информация о пользователе'!D575=\"\",F574&\"@edu54.ru\",'Информация о пользователе'!D575))","v":"pusto@edu54.ru"},{"$f":"TRIM(IF('Информация о пользователе'!E575=\"\",\"\",'Информация о пользователе'!E575))","v":""},{"$f":"IF('Информация о пользователе'!F575=\"\",TRIM(Translit.Translit(A574)&TRIM(LEFT(Translit.Translit(Service!E573),1))&TRIM(LEFT(Translit.Translit(Service!F573),1))),TRIM('Информация о пользователе'!F575))","v":"pusto"},{"$f":"IF('Информация о пользователе'!G575=\"\",TRIM(LEFT(Translit.Translit(Service!E573),2))&INDEX(Service!H573:H591,RANDBETWEEN(1,19),1)&RANDBETWEEN(1,9)&IF(Service!F573=\"\",TRIM(LEFT(Translit.Translit(Service!E573),3))&INDEX(Service!A573:A598,RANDBETWEEN(1,26),1),TRIM(LEFT(Translit.Translit(Service!F573),2))&INDEX(Service!H573:H591,RANDBETWEEN(1,19),1)&INDEX(Service!A573:A598,RANDBETWEEN(1,26),1)),'Информация о пользователе'!G575)","v":{"$error":"#NAME?"}}]
[{"$f":"TRIM(IF('Информация о пользователе'!A576=\"\",\"Пусто\",'Информация о пользователе'!A576))","v":"Пусто"},{"$f":"TRIM(IF('Информация о пользователе'!B576=\"\",\" \",'Информация о пользователе'!B576&\" \"&'Информация о пользователе'!C576))","v":""},{"$f":"TRIM(IF(AD!A575=\"\",\"\",AD!B575&\" \"&A575))","v":"Пусто"},{"$f":"TRIM(IF('Информация о пользователе'!D576=\"\",F575&\"@edu54.ru\",'Информация о пользователе'!D576))","v":"pusto@edu54.ru"},{"$f":"TRIM(IF('Информация о пользователе'!E576=\"\",\"\",'Информация о пользователе'!E576))","v":""},{"$f":"IF('Информация о пользователе'!F576=\"\",TRIM(Translit.Translit(A575)&TRIM(LEFT(Translit.Translit(Service!E574),1))&TRIM(LEFT(Translit.Translit(Service!F574),1))),TRIM('Информация о пользователе'!F576))","v":"pusto"},{"$f":"IF('Информация о пользователе'!G576=\"\",TRIM(LEFT(Translit.Translit(Service!E574),2))&INDEX(Service!H574:H592,RANDBETWEEN(1,19),1)&RANDBETWEEN(1,9)&IF(Service!F574=\"\",TRIM(LEFT(Translit.Translit(Service!E574),3))&INDEX(Service!A574:A599,RANDBETWEEN(1,26),1),TRIM(LEFT(Translit.Translit(Service!F574),2))&INDEX(Service!H574:H592,RANDBETWEEN(1,19),1)&INDEX(Service!A574:A599,RANDBETWEEN(1,26),1)),'Информация о пользователе'!G576)","v":{"$error":"#NAME?"}}]
[{"$f":"TRIM(IF('Информация о пользователе'!A577=\"\",\"Пусто\",'Информация о пользователе'!A577))","v":"Пусто"},{"$f":"TRIM(IF('Информация о пользователе'!B577=\"\",\" \",'Информация о пользователе'!B577&\" \"&'Информация о пользователе'!C577))","v":""},{"$f":"TRIM(IF(AD!A576=\"\",\"\",AD!B576&\" \"&A576))","v":"Пусто"},{"$f":"TRIM(IF('Информация о пользователе'!D577=\"\",F576&\"@edu54.ru\",'Информация о пользователе'!D577))","v":"pusto@edu54.ru"},{"$f":"TRIM(IF('Информация о пользователе'!E577=\"\",\"\",'Информация о пользователе'!E577))","v":""},{"$f":"IF('Информация о пользователе'!F577=\"\",TRIM(Translit.Translit(A576)&TRIM(LEFT(Translit.Translit(Service!E575),1))&TRIM(LEFT(Translit.Translit(Service!F575),1))),TRIM('Информация о пользователе'!F577))","v":"pusto"},{"$f":"IF('Информация о пользователе'!G577=\"\",TRIM(LEFT(Translit.Translit(Service!E575),2))&INDEX(Service!H575:H593,RANDBETWEEN(1,19),1)&RANDBETWEEN(1,9)&IF(Service!F575=\"\",TRIM(LEFT(Translit.Translit(Service!E575),3))&INDEX(Service!A575:A600,RANDBETWEEN(1,26),1),TRIM(LEFT(Translit.Translit(Service!F575),2))&INDEX(Service!H575:H593,RANDBETWEEN(1,19),1)&INDEX(Service!A575:A600,RANDBETWEEN(1,26),1)),'Информация о пользователе'!G577)","v":{"$error":"#NAME?"}}]
[{"$f":"TRIM(IF('Информация о пользователе'!A578=\"\",\"Пусто\",'Информация о пользователе'!A578))","v":"Пусто"},{"$f":"TRIM(IF('Информация о пользователе'!B578=\"\",\" \",'Информация о пользователе'!B578&\" \"&'Информация о пользователе'!C578))","v":""},{"$f":"TRIM(IF(AD!A577=\"\",\"\",AD!B577&\" \"&A577))","v":"Пусто"},{"$f":"TRIM(IF('Информация о пользователе'!D578=\"\",F577&\"@edu54.ru\",'Информация о пользователе'!D578))","v":"pusto@edu54.ru"},{"$f":"TRIM(IF('Информация о пользователе'!E578=\"\",\"\",'Информация о пользователе'!E578))","v":""},{"$f":"IF('Информация о пользователе'!F578=\"\",TRIM(Translit.Translit(A577)&TRIM(LEFT(Translit.Translit(Service!E576),1))&TRIM(LEFT(Translit.Translit(Service!F576),1))),TRIM('Информация о пользователе'!F578))","v":"pusto"},{"$f":"IF('Информация о пользователе'!G578=\"\",TRIM(LEFT(Translit.Translit(Service!E576),2))&INDEX(Service!H576:H594,RANDBETWEEN(1,19),1)&RANDBETWEEN(1,9)&IF(Service!F576=\"\",TRIM(LEFT(Translit.Translit(Service!E576),3))&INDEX(Service!A576:A601,RANDBETWEEN(1,26),1),TRIM(LEFT(Translit.Translit(Service!F576),2))&INDEX(Service!H576:H594,RANDBETWEEN(1,19),1)&INDEX(Service!A576:A601,RANDBETWEEN(1,26),1)),'Информация о пользователе'!G578)","v":{"$error":"#NAME?"}}]
[{"$f":"TRIM(IF('Информация о пользователе'!A579=\"\",\"Пусто\",'Информация о пользователе'!A579))","v":"Пусто"},{"$f":"TRIM(IF('Информация о пользователе'!B579=\"\",\" \",'Информация о пользователе'!B579&\" \"&'Информация о пользователе'!C579))","v":""},{"$f":"TRIM(IF(AD!A578=\"\",\"\",AD!B578&\" \"&A578))","v":"Пусто"},{"$f":"TRIM(IF('Информация о пользователе'!D579=\"\",F578&\"@edu54.ru\",'Информация о пользователе'!D579))","v":"pusto@edu54.ru"},{"$f":"TRIM(IF('Информация о пользователе'!E579=\"\",\"\",'Информация о пользователе'!E579))","v":""},{"$f":"IF('Информация о пользователе'!F579=\"\",TRIM(Translit.Translit(A578)&TRIM(LEFT(Translit.Translit(Service!E577),1))&TRIM(LEFT(Translit.Translit(Service!F577),1))),TRIM('Информация о пользователе'!F579))","v":"pusto"},{"$f":"IF('Информация о пользователе'!G579=\"\",TRIM(LEFT(Translit.Translit(Service!E577),2))&INDEX(Service!H577:H595,RANDBETWEEN(1,19),1)&RANDBETWEEN(1,9)&IF(Service!F577=\"\",TRIM(LEFT(Translit.Translit(Service!E577),3))&INDEX(Service!A577:A602,RANDBETWEEN(1,26),1),TRIM(LEFT(Translit.Translit(Service!F577),2))&INDEX(Service!H577:H595,RANDBETWEEN(1,19),1)&INDEX(Service!A577:A602,RANDBETWEEN(1,26),1)),'Информация о пользователе'!G579)","v":{"$error":"#NAME?"}}]
[{"$f":"TRIM(IF('Информация о пользователе'!A580=\"\",\"Пусто\",'Информация о пользователе'!A580))","v":"Пусто"},{"$f":"TRIM(IF('Информация о пользователе'!B580=\"\",\" \",'Информация о пользователе'!B580&\" \"&'Информация о пользователе'!C580))","v":""},{"$f":"TRIM(IF(AD!A579=\"\",\"\",AD!B579&\" \"&A579))","v":"Пусто"},{"$f":"TRIM(IF('Информация о пользователе'!D580=\"\",F579&\"@edu54.ru\",'Информация о пользователе'!D580))","v":"pusto@edu54.ru"},{"$f":"TRIM(IF('Информация о пользователе'!E580=\"\",\"\",'Информация о пользователе'!E580))","v":""},{"$f":"IF('Информация о пользователе'!F580=\"\",TRIM(Translit.Translit(A579)&TRIM(LEFT(Translit.Translit(Service!E578),1))&TRIM(LEFT(Translit.Translit(Service!F578),1))),TRIM('Информация о пользователе'!F580))","v":"pusto"},{"$f":"IF('Информация о пользователе'!G580=\"\",TRIM(LEFT(Translit.Translit(Service!E578),2))&INDEX(Service!H578:H596,RANDBETWEEN(1,19),1)&RANDBETWEEN(1,9)&IF(Service!F578=\"\",TRIM(LEFT(Translit.Translit(Service!E578),3))&INDEX(Service!A578:A603,RANDBETWEEN(1,26),1),TRIM(LEFT(Translit.Translit(Service!F578),2))&INDEX(Service!H578:H596,RANDBETWEEN(1,19),1)&INDEX(Service!A578:A603,RANDBETWEEN(1,26),1)),'Информация о пользователе'!G580)","v":{"$error":"#NAME?"}}]
[{"$f":"TRIM(IF('Информация о пользователе'!A581=\"\",\"Пусто\",'Информация о пользователе'!A581))","v":"Пусто"},{"$f":"TRIM(IF('Информация о пользователе'!B581=\"\",\" \",'Информация о пользователе'!B581&\" \"&'Информация о пользователе'!C581))","v":""},{"$f":"TRIM(IF(AD!A580=\"\",\"\",AD!B580&\" \"&A580))","v":"Пусто"},{"$f":"TRIM(IF('Информация о пользователе'!D581=\"\",F580&\"@edu54.ru\",'Информация о пользователе'!D581))","v":"pusto@edu54.ru"},{"$f":"TRIM(IF('Информация о пользователе'!E581=\"\",\"\",'Информация о пользователе'!E581))","v":""},{"$f":"IF('Информация о пользователе'!F581=\"\",TRIM(Translit.Translit(A580)&TRIM(LEFT(Translit.Translit(Service!E579),1))&TRIM(LEFT(Translit.Translit(Service!F579),1))),TRIM('Информация о пользователе'!F581))","v":"pusto"},{"$f":"IF('Информация о пользователе'!G581=\"\",TRIM(LEFT(Translit.Translit(Service!E579),2))&INDEX(Service!H579:H597,RANDBETWEEN(1,19),1)&RANDBETWEEN(1,9)&IF(Service!F579=\"\",TRIM(LEFT(Translit.Translit(Service!E579),3))&INDEX(Service!A579:A604,RANDBETWEEN(1,26),1),TRIM(LEFT(Translit.Translit(Service!F579),2))&INDEX(Service!H579:H597,RANDBETWEEN(1,19),1)&INDEX(Service!A579:A604,RANDBETWEEN(1,26),1)),'Информация о пользователе'!G581)","v":{"$error":"#NAME?"}}]
[{"$f":"TRIM(IF('Информация о пользователе'!A582=\"\",\"Пусто\",'Информация о пользователе'!A582))","v":"Пусто"},{"$f":"TRIM(IF('Информация о пользователе'!B582=\"\",\" \",'Информация о пользователе'!B582&\" \"&'Информация о пользователе'!C582))","v":""},{"$f":"TRIM(IF(AD!A581=\"\",\"\",AD!B581&\" \"&A581))","v":"Пусто"},{"$f":"TRIM(IF('Информация о пользователе'!D582=\"\",F581&\"@edu54.ru\",'Информация о пользователе'!D582))","v":"pusto@edu54.ru"},{"$f":"TRIM(IF('Информация о пользователе'!E582=\"\",\"\",'Информация о пользователе'!E582))","v":""},{"$f":"IF('Информация о пользователе'!F582=\"\",TRIM(Translit.Translit(A581)&TRIM(LEFT(Translit.Translit(Service!E580),1))&TRIM(LEFT(Translit.Translit(Service!F580),1))),TRIM('Информация о пользователе'!F582))","v":"pusto"},{"$f":"IF('Информация о пользователе'!G582=\"\",TRIM(LEFT(Translit.Translit(Service!E580),2))&INDEX(Service!H580:H598,RANDBETWEEN(1,19),1)&RANDBETWEEN(1,9)&IF(Service!F580=\"\",TRIM(LEFT(Translit.Translit(Service!E580),3))&INDEX(Service!A580:A605,RANDBETWEEN(1,26),1),TRIM(LEFT(Translit.Translit(Service!F580),2))&INDEX(Service!H580:H598,RANDBETWEEN(1,19),1)&INDEX(Service!A580:A605,RANDBETWEEN(1,26),1)),'Информация о пользователе'!G582)","v":{"$error":"#NAME?"}}]
[{"$f":"TRIM(IF('Информация о пользователе'!A583=\"\",\"Пусто\",'Информация о пользователе'!A583))","v":"Пусто"},{"$f":"TRIM(IF('Информация о пользователе'!B583=\"\",\" \",'Информация о пользователе'!B583&\" \"&'Информация о пользователе'!C583))","v":""},{"$f":"TRIM(IF(AD!A582=\"\",\"\",AD!B582&\" \"&A582))","v":"Пусто"},{"$f":"TRIM(IF('Информация о пользователе'!D583=\"\",F582&\"@edu54.ru\",'Информация о пользователе'!D583))","v":"pusto@edu54.ru"},{"$f":"TRIM(IF('Информация о пользователе'!E583=\"\",\"\",'Информация о пользователе'!E583))","v":""},{"$f":"IF('Информация о пользователе'!F583=\"\",TRIM(Translit.Translit(A582)&TRIM(LEFT(Translit.Translit(Service!E581),1))&TRIM(LEFT(Translit.Translit(Service!F581),1))),TRIM('Информация о пользователе'!F583))","v":"pusto"},{"$f":"IF('Информация о пользователе'!G583=\"\",TRIM(LEFT(Translit.Translit(Service!E581),2))&INDEX(Service!H581:H599,RANDBETWEEN(1,19),1)&RANDBETWEEN(1,9)&IF(Service!F581=\"\",TRIM(LEFT(Translit.Translit(Service!E581),3))&INDEX(Service!A581:A606,RANDBETWEEN(1,26),1),TRIM(LEFT(Translit.Translit(Service!F581),2))&INDEX(Service!H581:H599,RANDBETWEEN(1,19),1)&INDEX(Service!A581:A606,RANDBETWEEN(1,26),1)),'Информация о пользователе'!G583)","v":{"$error":"#NAME?"}}]
[{"$f":"TRIM(IF('Информация о пользователе'!A584=\"\",\"Пусто\",'Информация о пользователе'!A584))","v":"Пусто"},{"$f":"TRIM(IF('Информация о пользователе'!B584=\"\",\" \",'Информация о пользователе'!B584&\" \"&'Информация о пользователе'!C584))","v":""},{"$f":"TRIM(IF(AD!A583=\"\",\"\",AD!B583&\" \"&A583))","v":"Пусто"},{"$f":"TRIM(IF('Информация о пользователе'!D584=\"\",F583&\"@edu54.ru\",'Информация о пользователе'!D584))","v":"pusto@edu54.ru"},{"$f":"TRIM(IF('Информация о пользователе'!E584=\"\",\"\",'Информация о пользователе'!E584))","v":""},{"$f":"IF('Информация о пользователе'!F584=\"\",TRIM(Translit.Translit(A583)&TRIM(LEFT(Translit.Translit(Service!E582),1))&TRIM(LEFT(Translit.Translit(Service!F582),1))),TRIM('Информация о пользователе'!F584))","v":"pusto"},{"$f":"IF('Информация о пользователе'!G584=\"\",TRIM(LEFT(Translit.Translit(Service!E582),2))&INDEX(Service!H582:H600,RANDBETWEEN(1,19),1)&RANDBETWEEN(1,9)&IF(Service!F582=\"\",TRIM(LEFT(Translit.Translit(Service!E582),3))&INDEX(Service!A582:A607,RANDBETWEEN(1,26),1),TRIM(LEFT(Translit.Translit(Service!F582),2))&INDEX(Service!H582:H600,RANDBETWEEN(1,19),1)&INDEX(Service!A582:A607,RANDBETWEEN(1,26),1)),'Информация о пользователе'!G584)","v":{"$error":"#NAME?"}}]
[{"$f":"TRIM(IF('Информация о пользователе'!A585=\"\",\"Пусто\",'Информация о пользователе'!A585))","v":"Пусто"},{"$f":"TRIM(IF('Информация о пользователе'!B585=\"\",\" \",'Информация о пользователе'!B585&\" \"&'Информация о пользователе'!C585))","v":""},{"$f":"TRIM(IF(AD!A584=\"\",\"\",AD!B584&\" \"&A584))","v":"Пусто"},{"$f":"TRIM(IF('Информация о пользователе'!D585=\"\",F584&\"@edu54.ru\",'Информация о пользователе'!D585))","v":"pusto@edu54.ru"},{"$f":"TRIM(IF('Информация о пользователе'!E585=\"\",\"\",'Информация о пользователе'!E585))","v":""},{"$f":"IF('Информация о пользователе'!F585=\"\",TRIM(Translit.Translit(A584)&TRIM(LEFT(Translit.Translit(Service!E583),1))&TRIM(LEFT(Translit.Translit(Service!F583),1))),TRIM('Информация о пользователе'!F585))","v":"pusto"},{"$f":"IF('Информация о пользователе'!G585=\"\",TRIM(LEFT(Translit.Translit(Service!E583),2))&INDEX(Service!H583:H601,RANDBETWEEN(1,19),1)&RANDBETWEEN(1,9)&IF(Service!F583=\"\",TRIM(LEFT(Translit.Translit(Service!E583),3))&INDEX(Service!A583:A608,RANDBETWEEN(1,26),1),TRIM(LEFT(Translit.Translit(Service!F583),2))&INDEX(Service!H583:H601,RANDBETWEEN(1,19),1)&INDEX(Service!A583:A608,RANDBETWEEN(1,26),1)),'Информация о пользователе'!G585)","v":{"$error":"#NAME?"}}]
[{"$f":"TRIM(IF('Информация о пользователе'!A586=\"\",\"Пусто\",'Информация о пользователе'!A586))","v":"Пусто"},{"$f":"TRIM(IF('Информация о пользователе'!B586=\"\",\" \",'Информация о пользователе'!B586&\" \"&'Информация о пользователе'!C586))","v":""},{"$f":"TRIM(IF(AD!A585=\"\",\"\",AD!B585&\" \"&A585))","v":"Пусто"},{"$f":"TRIM(IF('Информация о пользователе'!D586=\"\",F585&\"@edu54.ru\",'Информация о пользователе'!D586))","v":"pusto@edu54.ru"},{"$f":"TRIM(IF('Информация о пользователе'!E586=\"\",\"\",'Информация о пользователе'!E586))","v":""},{"$f":"IF('Информация о пользователе'!F586=\"\",TRIM(Translit.Translit(A585)&TRIM(LEFT(Translit.Translit(Service!E584),1))&TRIM(LEFT(Translit.Translit(Service!F584),1))),TRIM('Информация о пользователе'!F586))","v":"pusto"},{"$f":"IF('Информация о пользователе'!G586=\"\",TRIM(LEFT(Translit.Translit(Service!E584),2))&INDEX(Service!H584:H602,RANDBETWEEN(1,19),1)&RANDBETWEEN(1,9)&IF(Service!F584=\"\",TRIM(LEFT(Translit.Translit(Service!E584),3))&INDEX(Service!A584:A609,RANDBETWEEN(1,26),1),TRIM(LEFT(Translit.Translit(Service!F584),2))&INDEX(Service!H584:H602,RANDBETWEEN(1,19),1)&INDEX(Service!A584:A609,RANDBETWEEN(1,26),1)),'Информация о пользователе'!G586)","v":{"$error":"#NAME?"}}]
[{"$f":"TRIM(IF('Информация о пользователе'!A587=\"\",\"Пусто\",'Информация о пользователе'!A587))","v":"Пусто"},{"$f":"TRIM(IF('Информация о пользователе'!B587=\"\",\" \",'Информация о пользователе'!B587&\" \"&'Информация о пользователе'!C587))","v":""},{"$f":"TRIM(IF(AD!A586=\"\",\"\",AD!B586&\" \"&A586))","v":"Пусто"},{"$f":"TRIM(IF('Информация о пользователе'!D587=\"\",F586&\"@edu54.ru\",'Информация о пользователе'!D587))","v":"pusto@edu54.ru"},{"$f":"TRIM(IF('Информация о пользователе'!E587=\"\",\"\",'Информация о пользователе'!E587))","v":""},{"$f":"IF('Информация о пользователе'!F587=\"\",TRIM(Translit.Translit(A586)&TRIM(LEFT(Translit.Translit(Service!E585),1))&TRIM(LEFT(Translit.Translit(Service!F585),1))),TRIM('Информация о пользователе'!F587))","v":"pusto"},{"$f":"IF('Информация о пользователе'!G587=\"\",TRIM(LEFT(Translit.Translit(Service!E585),2))&INDEX(Service!H585:H603,RANDBETWEEN(1,19),1)&RANDBETWEEN(1,9)&IF(Service!F585=\"\",TRIM(LEFT(Translit.Translit(Service!E585),3))&INDEX(Service!A585:A610,RANDBETWEEN(1,26),1),TRIM(LEFT(Translit.Translit(Service!F585),2))&INDEX(Service!H585:H603,RANDBETWEEN(1,19),1)&INDEX(Service!A585:A610,RANDBETWEEN(1,26),1)),'Информация о пользователе'!G587)","v":{"$error":"#NAME?"}}]
[{"$f":"TRIM(IF('Информация о пользователе'!A588=\"\",\"Пусто\",'Информация о пользователе'!A588))","v":"Пусто"},{"$f":"TRIM(IF('Информация о пользователе'!B588=\"\",\" \",'Информация о пользователе'!B588&\" \"&'Информация о пользователе'!C588))","v":""},{"$f":"TRIM(IF(AD!A587=\"\",\"\",AD!B587&\" \"&A587))","v":"Пусто"},{"$f":"TRIM(IF('Информация о пользователе'!D588=\"\",F587&\"@edu54.ru\",'Информация о пользователе'!D588))","v":"pusto@edu54.ru"},{"$f":"TRIM(IF('Информация о пользователе'!E588=\"\",\"\",'Информация о пользователе'!E588))","v":""},{"$f":"IF('Информация о пользователе'!F588=\"\",TRIM(Translit.Translit(A587)&TRIM(LEFT(Translit.Translit(Service!E586),1))&TRIM(LEFT(Translit.Translit(Service!F586),1))),TRIM('Информация о пользователе'!F588))","v":"pusto"},{"$f":"IF('Информация о пользователе'!G588=\"\",TRIM(LEFT(Translit.Translit(Service!E586),2))&INDEX(Service!H586:H604,RANDBETWEEN(1,19),1)&RANDBETWEEN(1,9)&IF(Service!F586=\"\",TRIM(LEFT(Translit.Translit(Service!E586),3))&INDEX(Service!A586:A611,RANDBETWEEN(1,26),1),TRIM(LEFT(Translit.Translit(Service!F586),2))&INDEX(Service!H586:H604,RANDBETWEEN(1,19),1)&INDEX(Service!A586:A611,RANDBETWEEN(1,26),1)),'Информация о пользователе'!G588)","v":{"$error":"#NAME?"}}]
[{"$f":"TRIM(IF('Информация о пользователе'!A589=\"\",\"Пусто\",'Информация о пользователе'!A589))","v":"Пусто"},{"$f":"TRIM(IF('Информация о пользователе'!B589=\"\",\" \",'Информация о пользователе'!B589&\" \"&'Информация о пользователе'!C589))","v":""},{"$f":"TRIM(IF(AD!A588=\"\",\"\",AD!B588&\" \"&A588))","v":"Пусто"},{"$f":"TRIM(IF('Информация о пользователе'!D589=\"\",F588&\"@edu54.ru\",'Информация о пользователе'!D589))","v":"pusto@edu54.ru"},{"$f":"TRIM(IF('Информация о пользователе'!E589=\"\",\"\",'Информация о пользователе'!E589))","v":""},{"$f":"IF('Информация о пользователе'!F589=\"\",TRIM(Translit.Translit(A588)&TRIM(LEFT(Translit.Translit(Service!E587),1))&TRIM(LEFT(Translit.Translit(Service!F587),1))),TRIM('Информация о пользователе'!F589))","v":"pusto"},{"$f":"IF('Информация о пользователе'!G589=\"\",TRIM(LEFT(Translit.Translit(Service!E587),2))&INDEX(Service!H587:H605,RANDBETWEEN(1,19),1)&RANDBETWEEN(1,9)&IF(Service!F587=\"\",TRIM(LEFT(Translit.Translit(Service!E587),3))&INDEX(Service!A587:A612,RANDBETWEEN(1,26),1),TRIM(LEFT(Translit.Translit(Service!F587),2))&INDEX(Service!H587:H605,RANDBETWEEN(1,19),1)&INDEX(Service!A587:A612,RANDBETWEEN(1,26),1)),'Информация о пользователе'!G589)","v":{"$error":"#NAME?"}}]
[{"$f":"TRIM(IF('Информация о пользователе'!A590=\"\",\"Пусто\",'Информация о пользователе'!A590))","v":"Пусто"},{"$f":"TRIM(IF('Информация о пользователе'!B590=\"\",\" \",'Информация о пользователе'!B590&\" \"&'Информация о пользователе'!C590))","v":""},{"$f":"TRIM(IF(AD!A589=\"\",\"\",AD!B589&\" \"&A589))","v":"Пусто"},{"$f":"TRIM(IF('Информация о пользователе'!D590=\"\",F589&\"@edu54.ru\",'Информация о пользователе'!D590))","v":"pusto@edu54.ru"},{"$f":"TRIM(IF('Информация о пользователе'!E590=\"\",\"\",'Информация о пользователе'!E590))","v":""},{"$f":"IF('Информация о пользователе'!F590=\"\",TRIM(Translit.Translit(A589)&TRIM(LEFT(Translit.Translit(Service!E588),1))&TRIM(LEFT(Translit.Translit(Service!F588),1))),TRIM('Информация о пользователе'!F590))","v":"pusto"},{"$f":"IF('Информация о пользователе'!G590=\"\",TRIM(LEFT(Translit.Translit(Service!E588),2))&INDEX(Service!H588:H606,RANDBETWEEN(1,19),1)&RANDBETWEEN(1,9)&IF(Service!F588=\"\",TRIM(LEFT(Translit.Translit(Service!E588),3))&INDEX(Service!A588:A613,RANDBETWEEN(1,26),1),TRIM(LEFT(Translit.Translit(Service!F588),2))&INDEX(Service!H588:H606,RANDBETWEEN(1,19),1)&INDEX(Service!A588:A613,RANDBETWEEN(1,26),1)),'Информация о пользователе'!G590)","v":{"$error":"#NAME?"}}]
[{"$f":"TRIM(IF('Информация о пользователе'!A591=\"\",\"Пусто\",'Информация о пользователе'!A591))","v":"Пусто"},{"$f":"TRIM(IF('Информация о пользователе'!B591=\"\",\" \",'Информация о пользователе'!B591&\" \"&'Информация о пользователе'!C591))","v":""},{"$f":"TRIM(IF(AD!A590=\"\",\"\",AD!B590&\" \"&A590))","v":"Пусто"},{"$f":"TRIM(IF('Информация о пользователе'!D591=\"\",F590&\"@edu54.ru\",'Информация о пользователе'!D591))","v":"pusto@edu54.ru"},{"$f":"TRIM(IF('Информация о пользователе'!E591=\"\",\"\",'Информация о пользователе'!E591))","v":""},{"$f":"IF('Информация о пользователе'!F591=\"\",TRIM(Translit.Translit(A590)&TRIM(LEFT(Translit.Translit(Service!E589),1))&TRIM(LEFT(Translit.Translit(Service!F589),1))),TRIM('Информация о пользователе'!F591))","v":"pusto"},{"$f":"IF('Информация о пользователе'!G591=\"\",TRIM(LEFT(Translit.Translit(Service!E589),2))&INDEX(Service!H589:H607,RANDBETWEEN(1,19),1)&RANDBETWEEN(1,9)&IF(Service!F589=\"\",TRIM(LEFT(Translit.Translit(Service!E589),3))&INDEX(Service!A589:A614,RANDBETWEEN(1,26),1),TRIM(LEFT(Translit.Translit(Service!F589),2))&INDEX(Service!H589:H607,RANDBETWEEN(1,19),1)&INDEX(Service!A589:A614,RANDBETWEEN(1,26),1)),'Информация о пользователе'!G591)","v":{"$error":"#NAME?"}}]
[{"$f":"TRIM(IF('Информация о пользователе'!A592=\"\",\"Пусто\",'Информация о пользователе'!A592))","v":"Пусто"},{"$f":"TRIM(IF('Информация о пользователе'!B592=\"\",\" \",'Информация о пользователе'!B592&\" \"&'Информация о пользователе'!C592))","v":""},{"$f":"TRIM(IF(AD!A591=\"\",\"\",AD!B591&\" \"&A591))","v":"Пусто"},{"$f":"TRIM(IF('Информация о пользователе'!D592=\"\",F591&\"@edu54.ru\",'Информация о пользователе'!D592))","v":"pusto@edu54.ru"},{"$f":"TRIM(IF('Информация о пользователе'!E592=\"\",\"\",'Информация о пользователе'!E592))","v":""},{"$f":"IF('Информация о пользователе'!F592=\"\",TRIM(Translit.Translit(A591)&TRIM(LEFT(Translit.Translit(Service!E590),1))&TRIM(LEFT(Translit.Translit(Service!F590),1))),TRIM('Информация о пользователе'!F592))","v":"pusto"},{"$f":"IF('Информация о пользователе'!G592=\"\",TRIM(LEFT(Translit.Translit(Service!E590),2))&INDEX(Service!H590:H608,RANDBETWEEN(1,19),1)&RANDBETWEEN(1,9)&IF(Service!F590=\"\",TRIM(LEFT(Translit.Translit(Service!E590),3))&INDEX(Service!A590:A615,RANDBETWEEN(1,26),1),TRIM(LEFT(Translit.Translit(Service!F590),2))&INDEX(Service!H590:H608,RANDBETWEEN(1,19),1)&INDEX(Service!A590:A615,RANDBETWEEN(1,26),1)),'Информация о пользователе'!G592)","v":{"$error":"#NAME?"}}]
[{"$f":"TRIM(IF('Информация о пользователе'!A593=\"\",\"Пусто\",'Информация о пользователе'!A593))","v":"Пусто"},{"$f":"TRIM(IF('Информация о пользователе'!B593=\"\",\" \",'Информация о пользователе'!B593&\" \"&'Информация о пользователе'!C593))","v":""},{"$f":"TRIM(IF(AD!A592=\"\",\"\",AD!B592&\" \"&A592))","v":"Пусто"},{"$f":"TRIM(IF('Информация о пользователе'!D593=\"\",F592&\"@edu54.ru\",'Информация о пользователе'!D593))","v":"pusto@edu54.ru"},{"$f":"TRIM(IF('Информация о пользователе'!E593=\"\",\"\",'Информация о пользователе'!E593))","v":""},{"$f":"IF('Информация о пользователе'!F593=\"\",TRIM(Translit.Translit(A592)&TRIM(LEFT(Translit.Translit(Service!E591),1))&TRIM(LEFT(Translit.Translit(Service!F591),1))),TRIM('Информация о пользователе'!F593))","v":"pusto"},{"$f":"IF('Информация о пользователе'!G593=\"\",TRIM(LEFT(Translit.Translit(Service!E591),2))&INDEX(Service!H591:H609,RANDBETWEEN(1,19),1)&RANDBETWEEN(1,9)&IF(Service!F591=\"\",TRIM(LEFT(Translit.Translit(Service!E591),3))&INDEX(Service!A591:A616,RANDBETWEEN(1,26),1),TRIM(LEFT(Translit.Translit(Service!F591),2))&INDEX(Service!H591:H609,RANDBETWEEN(1,19),1)&INDEX(Service!A591:A616,RANDBETWEEN(1,26),1)),'Информация о пользователе'!G593)","v":{"$error":"#NAME?"}}]
[{"$f":"TRIM(IF('Информация о пользователе'!A594=\"\",\"Пусто\",'Информация о пользователе'!A594))","v":"Пусто"},{"$f":"TRIM(IF('Информация о пользователе'!B594=\"\",\" \",'Информация о пользователе'!B594&\" \"&'Информация о пользователе'!C594))","v":""},{"$f":"TRIM(IF(AD!A593=\"\",\"\",AD!B593&\" \"&A593))","v":"Пусто"},{"$f":"TRIM(IF('Информация о пользователе'!D594=\"\",F593&\"@edu54.ru\",'Информация о пользователе'!D594))","v":"pusto@edu54.ru"},{"$f":"TRIM(IF('Информация о пользователе'!E594=\"\",\"\",'Информация о пользователе'!E594))","v":""},{"$f":"IF('Информация о пользователе'!F594=\"\",TRIM(Translit.Translit(A593)&TRIM(LEFT(Translit.Translit(Service!E592),1))&TRIM(LEFT(Translit.Translit(Service!F592),1))),TRIM('Информация о пользователе'!F594))","v":"pusto"},{"$f":"IF('Информация о пользователе'!G594=\"\",TRIM(LEFT(Translit.Translit(Service!E592),2))&INDEX(Service!H592:H610,RANDBETWEEN(1,19),1)&RANDBETWEEN(1,9)&IF(Service!F592=\"\",TRIM(LEFT(Translit.Translit(Service!E592),3))&INDEX(Service!A592:A617,RANDBETWEEN(1,26),1),TRIM(LEFT(Translit.Translit(Service!F592),2))&INDEX(Service!H592:H610,RANDBETWEEN(1,19),1)&INDEX(Service!A592:A617,RANDBETWEEN(1,26),1)),'Информация о пользователе'!G594)","v":{"$error":"#NAME?"}}]
[{"$f":"TRIM(IF('Информация о пользователе'!A595=\"\",\"Пусто\",'Информация о пользователе'!A595))","v":"Пусто"},{"$f":"TRIM(IF('Информация о пользователе'!B595=\"\",\" \",'Информация о пользователе'!B595&\" \"&'Информация о пользователе'!C595))","v":""},{"$f":"TRIM(IF(AD!A594=\"\",\"\",AD!B594&\" \"&A594))","v":"Пусто"},{"$f":"TRIM(IF('Информация о пользователе'!D595=\"\",F594&\"@edu54.ru\",'Информация о пользователе'!D595))","v":"pusto@edu54.ru"},{"$f":"TRIM(IF('Информация о пользователе'!E595=\"\",\"\",'Информация о пользователе'!E595))","v":""},{"$f":"IF('Информация о пользователе'!F595=\"\",TRIM(Translit.Translit(A594)&TRIM(LEFT(Translit.Translit(Service!E593),1))&TRIM(LEFT(Translit.Translit(Service!F593),1))),TRIM('Информация о пользователе'!F595))","v":"pusto"},{"$f":"IF('Информация о пользователе'!G595=\"\",TRIM(LEFT(Translit.Translit(Service!E593),2))&INDEX(Service!H593:H611,RANDBETWEEN(1,19),1)&RANDBETWEEN(1,9)&IF(Service!F593=\"\",TRIM(LEFT(Translit.Translit(Service!E593),3))&INDEX(Service!A593:A618,RANDBETWEEN(1,26),1),TRIM(LEFT(Translit.Translit(Service!F593),2))&INDEX(Service!H593:H611,RANDBETWEEN(1,19),1)&INDEX(Service!A593:A618,RANDBETWEEN(1,26),1)),'Информация о пользователе'!G595)","v":{"$error":"#NAME?"}}]
[{"$f":"TRIM(IF('Информация о пользователе'!A596=\"\",\"Пусто\",'Информация о пользователе'!A596))","v":"Пусто"},{"$f":"TRIM(IF('Информация о пользователе'!B596=\"\",\" \",'Информация о пользователе'!B596&\" \"&'Информация о пользователе'!C596))","v":""},{"$f":"TRIM(IF(AD!A595=\"\",\"\",AD!B595&\" \"&A595))","v":"Пусто"},{"$f":"TRIM(IF('Информация о пользователе'!D596=\"\",F595&\"@edu54.ru\",'Информация о пользователе'!D596))","v":"pusto@edu54.ru"},{"$f":"TRIM(IF('Информация о пользователе'!E596=\"\",\"\",'Информация о пользователе'!E596))","v":""},{"$f":"IF('Информация о пользователе'!F596=\"\",TRIM(Translit.Translit(A595)&TRIM(LEFT(Translit.Translit(Service!E594),1))&TRIM(LEFT(Translit.Translit(Service!F594),1))),TRIM('Информация о пользователе'!F596))","v":"pusto"},{"$f":"IF('Информация о пользователе'!G596=\"\",TRIM(LEFT(Translit.Translit(Service!E594),2))&INDEX(Service!H594:H612,RANDBETWEEN(1,19),1)&RANDBETWEEN(1,9)&IF(Service!F594=\"\",TRIM(LEFT(Translit.Translit(Service!E594),3))&INDEX(Service!A594:A619,RANDBETWEEN(1,26),1),TRIM(LEFT(Translit.Translit(Service!F594),2))&INDEX(Service!H594:H612,RANDBETWEEN(1,19),1)&INDEX(Service!A594:A619,RANDBETWEEN(1,26),1)),'Информация о пользователе'!G596)","v":{"$error":"#NAME?"}}]
[{"$f":"TRIM(IF('Информация о пользователе'!A597=\"\",\"Пусто\",'Информация о пользователе'!A597))","v":"Пусто"},{"$f":"TRIM(IF('Информация о пользователе'!B597=\"\",\" \",'Информация о пользователе'!B597&\" \"&'Информация о пользователе'!C597))","v":""},{"$f":"TRIM(IF(AD!A596=\"\",\"\",AD!B596&\" \"&A596))","v":"Пусто"},{"$f":"TRIM(IF('Информация о пользователе'!D597=\"\",F596&\"@edu54.ru\",'Информация о пользователе'!D597))","v":"pusto@edu54.ru"},{"$f":"TRIM(IF('Информация о пользователе'!E597=\"\",\"\",'Информация о пользователе'!E597))","v":""},{"$f":"IF('Информация о пользователе'!F597=\"\",TRIM(Translit.Translit(A596)&TRIM(LEFT(Translit.Translit(Service!E595),1))&TRIM(LEFT(Translit.Translit(Service!F595),1))),TRIM('Информация о пользователе'!F597))","v":"pusto"},{"$f":"IF('Информация о пользователе'!G597=\"\",TRIM(LEFT(Translit.Translit(Service!E595),2))&INDEX(Service!H595:H613,RANDBETWEEN(1,19),1)&RANDBETWEEN(1,9)&IF(Service!F595=\"\",TRIM(LEFT(Translit.Translit(Service!E595),3))&INDEX(Service!A595:A620,RANDBETWEEN(1,26),1),TRIM(LEFT(Translit.Translit(Service!F595),2))&INDEX(Service!H595:H613,RANDBETWEEN(1,19),1)&INDEX(Service!A595:A620,RANDBETWEEN(1,26),1)),'Информация о пользователе'!G597)","v":{"$error":"#NAME?"}}]
[{"$f":"TRIM(IF('Информация о пользователе'!A598=\"\",\"Пусто\",'Информация о пользователе'!A598))","v":"Пусто"},{"$f":"TRIM(IF('Информация о пользователе'!B598=\"\",\" \",'Информация о пользователе'!B598&\" \"&'Информация о пользователе'!C598))","v":""},{"$f":"TRIM(IF(AD!A597=\"\",\"\",AD!B597&\" \"&A597))","v":"Пусто"},{"$f":"TRIM(IF('Информация о пользователе'!D598=\"\",F597&\"@edu54.ru\",'Информация о пользователе'!D598))","v":"pusto@edu54.ru"},{"$f":"TRIM(IF('Информация о пользователе'!E598=\"\",\"\",'Информация о пользователе'!E598))","v":""},{"$f":"IF('Информация о пользователе'!F598=\"\",TRIM(Translit.Translit(A597)&TRIM(LEFT(Translit.Translit(Service!E596),1))&TRIM(LEFT(Translit.Translit(Service!F596),1))),TRIM('Информация о пользователе'!F598))","v":"pusto"},{"$f":"IF('Информация о пользователе'!G598=\"\",TRIM(LEFT(Translit.Translit(Service!E596),2))&INDEX(Service!H596:H614,RANDBETWEEN(1,19),1)&RANDBETWEEN(1,9)&IF(Service!F596=\"\",TRIM(LEFT(Translit.Translit(Service!E596),3))&INDEX(Service!A596:A621,RANDBETWEEN(1,26),1),TRIM(LEFT(Translit.Translit(Service!F596),2))&INDEX(Service!H596:H614,RANDBETWEEN(1,19),1)&INDEX(Service!A596:A621,RANDBETWEEN(1,26),1)),'Информация о пользователе'!G598)","v":{"$error":"#NAME?"}}]
[{"$f":"TRIM(IF('Информация о пользователе'!A599=\"\",\"Пусто\",'Информация о пользователе'!A599))","v":"Пусто"},{"$f":"TRIM(IF('Информация о пользователе'!B599=\"\",\" \",'Информация о пользователе'!B599&\" \"&'Информация о пользователе'!C599))","v":""},{"$f":"TRIM(IF(AD!A598=\"\",\"\",AD!B598&\" \"&A598))","v":"Пусто"},{"$f":"TRIM(IF('Информация о пользователе'!D599=\"\",F598&\"@edu54.ru\",'Информация о пользователе'!D599))","v":"pusto@edu54.ru"},{"$f":"TRIM(IF('Информация о пользователе'!E599=\"\",\"\",'Информация о пользователе'!E599))","v":""},{"$f":"IF('Информация о пользователе'!F599=\"\",TRIM(Translit.Translit(A598)&TRIM(LEFT(Translit.Translit(Service!E597),1))&TRIM(LEFT(Translit.Translit(Service!F597),1))),TRIM('Информация о пользователе'!F599))","v":"pusto"},{"$f":"IF('Информация о пользователе'!G599=\"\",TRIM(LEFT(Translit.Translit(Service!E597),2))&INDEX(Service!H597:H615,RANDBETWEEN(1,19),1)&RANDBETWEEN(1,9)&IF(Service!F597=\"\",TRIM(LEFT(Translit.Translit(Service!E597),3))&INDEX(Service!A597:A622,RANDBETWEEN(1,26),1),TRIM(LEFT(Translit.Translit(Service!F597),2))&INDEX(Service!H597:H615,RANDBETWEEN(1,19),1)&INDEX(Service!A597:A622,RANDBETWEEN(1,26),1)),'Информация о пользователе'!G599)","v":{"$error":"#NAME?"}}]
[{"$f":"TRIM(IF('Информация о пользователе'!A600=\"\",\"Пусто\",'Информация о пользователе'!A600))","v":"Пусто"},{"$f":"TRIM(IF('Информация о пользователе'!B600=\"\",\" \",'Информация о пользователе'!B600&\" \"&'Информация о пользователе'!C600))","v":""},{"$f":"TRIM(IF(AD!A599=\"\",\"\",AD!B599&\" \"&A599))","v":"Пусто"},{"$f":"TRIM(IF('Информация о пользователе'!D600=\"\",F599&\"@edu54.ru\",'Информация о пользователе'!D600))","v":"pusto@edu54.ru"},{"$f":"TRIM(IF('Информация о пользователе'!E600=\"\",\"\",'Информация о пользователе'!E600))","v":""},{"$f":"IF('Информация о пользователе'!F600=\"\",TRIM(Translit.Translit(A599)&TRIM(LEFT(Translit.Translit(Service!E598),1))&TRIM(LEFT(Translit.Translit(Service!F598),1))),TRIM('Информация о пользователе'!F600))","v":"pusto"},{"$f":"IF('Информация о пользователе'!G600=\"\",TRIM(LEFT(Translit.Translit(Service!E598),2))&INDEX(Service!H598:H616,RANDBETWEEN(1,19),1)&RANDBETWEEN(1,9)&IF(Service!F598=\"\",TRIM(LEFT(Translit.Translit(Service!E598),3))&INDEX(Service!A598:A623,RANDBETWEEN(1,26),1),TRIM(LEFT(Translit.Translit(Service!F598),2))&INDEX(Service!H598:H616,RANDBETWEEN(1,19),1)&INDEX(Service!A598:A623,RANDBETWEEN(1,26),1)),'Информация о пользователе'!G600)","v":{"$error":"#NAME?"}}]
[{"$f":"TRIM(IF('Информация о пользователе'!A601=\"\",\"Пусто\",'Информация о пользователе'!A601))","v":"Пусто"},{"$f":"TRIM(IF('Информация о пользователе'!B601=\"\",\" \",'Информация о пользователе'!B601&\" \"&'Информация о пользователе'!C601))","v":""},{"$f":"TRIM(IF(AD!A600=\"\",\"\",AD!B600&\" \"&A600))","v":"Пусто"},{"$f":"TRIM(IF('Информация о пользователе'!D601=\"\",F600&\"@edu54.ru\",'Информация о пользователе'!D601))","v":"pusto@edu54.ru"},{"$f":"TRIM(IF('Информация о пользователе'!E601=\"\",\"\",'Информация о пользователе'!E601))","v":""},{"$f":"IF('Информация о пользователе'!F601=\"\",TRIM(Translit.Translit(A600)&TRIM(LEFT(Translit.Translit(Service!E599),1))&TRIM(LEFT(Translit.Translit(Service!F599),1))),TRIM('Информация о пользователе'!F601))","v":"pusto"},{"$f":"IF('Информация о пользователе'!G601=\"\",TRIM(LEFT(Translit.Translit(Service!E599),2))&INDEX(Service!H599:H617,RANDBETWEEN(1,19),1)&RANDBETWEEN(1,9)&IF(Service!F599=\"\",TRIM(LEFT(Translit.Translit(Service!E599),3))&INDEX(Service!A599:A624,RANDBETWEEN(1,26),1),TRIM(LEFT(Translit.Translit(Service!F599),2))&INDEX(Service!H599:H617,RANDBETWEEN(1,19),1)&INDEX(Service!A599:A624,RANDBETWEEN(1,26),1)),'Информация о пользователе'!G601)","v":{"$error":"#NAME?"}}]
[{"$f":"TRIM(IF('Информация о пользователе'!A602=\"\",\"Пусто\",'Информация о пользователе'!A602))","v":"Пусто"},{"$f":"TRIM(IF('Информация о пользователе'!B602=\"\",\" \",'Информация о пользователе'!B602&\" \"&'Информация о пользователе'!C602))","v":""},{"$f":"TRIM(IF(AD!A601=\"\",\"\",AD!B601&\" \"&A601))","v":"Пусто"},{"$f":"TRIM(IF('Информация о пользователе'!D602=\"\",F601&\"@edu54.ru\",'Информация о пользователе'!D602))","v":"pusto@edu54.ru"},{"$f":"TRIM(IF('Информация о пользователе'!E602=\"\",\"\",'Информация о пользователе'!E602))","v":""},{"$f":"IF('Информация о пользователе'!F602=\"\",TRIM(Translit.Translit(A601)&TRIM(LEFT(Translit.Translit(Service!E600),1))&TRIM(LEFT(Translit.Translit(Service!F600),1))),TRIM('Информация о пользователе'!F602))","v":"pusto"},{"$f":"IF('Информация о пользователе'!G602=\"\",TRIM(LEFT(Translit.Translit(Service!E600),2))&INDEX(Service!H600:H618,RANDBETWEEN(1,19),1)&RANDBETWEEN(1,9)&IF(Service!F600=\"\",TRIM(LEFT(Translit.Translit(Service!E600),3))&INDEX(Service!A600:A625,RANDBETWEEN(1,26),1),TRIM(LEFT(Translit.Translit(Service!F600),2))&INDEX(Service!H600:H618,RANDBETWEEN(1,19),1)&INDEX(Service!A600:A625,RANDBETWEEN(1,26),1)),'Информация о пользователе'!G602)","v":{"$error":"#NAME?"}}]
[{"$f":"TRIM(IF('Информация о пользователе'!A603=\"\",\"Пусто\",'Информация о пользователе'!A603))","v":"Пусто"},{"$f":"TRIM(IF('Информация о пользователе'!B603=\"\",\" \",'Информация о пользователе'!B603&\" \"&'Информация о пользователе'!C603))","v":""},{"$f":"TRIM(IF(AD!A602=\"\",\"\",AD!B602&\" \"&A602))","v":"Пусто"},{"$f":"TRIM(IF('Информация о пользователе'!D603=\"\",F602&\"@edu54.ru\",'Информация о пользователе'!D603))","v":"pusto@edu54.ru"},{"$f":"TRIM(IF('Информация о пользователе'!E603=\"\",\"\",'Информация о пользователе'!E603))","v":""},{"$f":"IF('Информация о пользователе'!F603=\"\",TRIM(Translit.Translit(A602)&TRIM(LEFT(Translit.Translit(Service!E601),1))&TRIM(LEFT(Translit.Translit(Service!F601),1))),TRIM('Информация о пользователе'!F603))","v":"pusto"},{"$f":"IF('Информация о пользователе'!G603=\"\",TRIM(LEFT(Translit.Translit(Service!E601),2))&INDEX(Service!H601:H619,RANDBETWEEN(1,19),1)&RANDBETWEEN(1,9)&IF(Service!F601=\"\",TRIM(LEFT(Translit.Translit(Service!E601),3))&INDEX(Service!A601:A626,RANDBETWEEN(1,26),1),TRIM(LEFT(Translit.Translit(Service!F601),2))&INDEX(Service!H601:H619,RANDBETWEEN(1,19),1)&INDEX(Service!A601:A626,RANDBETWEEN(1,26),1)),'Информация о пользователе'!G603)","v":{"$error":"#NAME?"}}]
[{"$f":"TRIM(IF('Информация о пользователе'!A604=\"\",\"Пусто\",'Информация о пользователе'!A604))","v":"Пусто"},{"$f":"TRIM(IF('Информация о пользователе'!B604=\"\",\" \",'Информация о пользователе'!B604&\" \"&'Информация о пользователе'!C604))","v":""},{"$f":"TRIM(IF(AD!A603=\"\",\"\",AD!B603&\" \"&A603))","v":"Пусто"},{"$f":"TRIM(IF('Информация о пользователе'!D604=\"\",F603&\"@edu54.ru\",'Информация о пользователе'!D604))","v":"pusto@edu54.ru"},{"$f":"TRIM(IF('Информация о пользователе'!E604=\"\",\"\",'Информация о пользователе'!E604))","v":""},{"$f":"IF('Информация о пользователе'!F604=\"\",TRIM(Translit.Translit(A603)&TRIM(LEFT(Translit.Translit(Service!E602),1))&TRIM(LEFT(Translit.Translit(Service!F602),1))),TRIM('Информация о пользователе'!F604))","v":"pusto"},{"$f":"IF('Информация о пользователе'!G604=\"\",TRIM(LEFT(Translit.Translit(Service!E602),2))&INDEX(Service!H602:H620,RANDBETWEEN(1,19),1)&RANDBETWEEN(1,9)&IF(Service!F602=\"\",TRIM(LEFT(Translit.Translit(Service!E602),3))&INDEX(Service!A602:A627,RANDBETWEEN(1,26),1),TRIM(LEFT(Translit.Translit(Service!F602),2))&INDEX(Service!H602:H620,RANDBETWEEN(1,19),1)&INDEX(Service!A602:A627,RANDBETWEEN(1,26),1)),'Информация о пользователе'!G604)","v":{"$error":"#NAME?"}}]
[{"$f":"TRIM(IF('Информация о пользователе'!A605=\"\",\"Пусто\",'Информация о пользователе'!A605))","v":"Пусто"},{"$f":"TRIM(IF('Информация о пользователе'!B605=\"\",\" \",'Информация о пользователе'!B605&\" \"&'Информация о пользователе'!C605))","v":""},{"$f":"TRIM(IF(AD!A604=\"\",\"\",AD!B604&\" \"&A604))","v":"Пусто"},{"$f":"TRIM(IF('Информация о пользователе'!D605=\"\",F604&\"@edu54.ru\",'Информация о пользователе'!D605))","v":"pusto@edu54.ru"},{"$f":"TRIM(IF('Информация о пользователе'!E605=\"\",\"\",'Информация о пользователе'!E605))","v":""},{"$f":"IF('Информация о пользователе'!F605=\"\",TRIM(Translit.Translit(A604)&TRIM(LEFT(Translit.Translit(Service!E603),1))&TRIM(LEFT(Translit.Translit(Service!F603),1))),TRIM('Информация о пользователе'!F605))","v":"pusto"},{"$f":"IF('Информация о пользователе'!G605=\"\",TRIM(LEFT(Translit.Translit(Service!E603),2))&INDEX(Service!H603:H621,RANDBETWEEN(1,19),1)&RANDBETWEEN(1,9)&IF(Service!F603=\"\",TRIM(LEFT(Translit.Translit(Service!E603),3))&INDEX(Service!A603:A628,RANDBETWEEN(1,26),1),TRIM(LEFT(Translit.Translit(Service!F603),2))&INDEX(Service!H603:H621,RANDBETWEEN(1,19),1)&INDEX(Service!A603:A628,RANDBETWEEN(1,26),1)),'Информация о пользователе'!G605)","v":{"$error":"#NAME?"}}]
[{"$f":"TRIM(IF('Информация о пользователе'!A606=\"\",\"Пусто\",'Информация о пользователе'!A606))","v":"Пусто"},{"$f":"TRIM(IF('Информация о пользователе'!B606=\"\",\" \",'Информация о пользователе'!B606&\" \"&'Информация о пользователе'!C606))","v":""},{"$f":"TRIM(IF(AD!A605=\"\",\"\",AD!B605&\" \"&A605))","v":"Пусто"},{"$f":"TRIM(IF('Информация о пользователе'!D606=\"\",F605&\"@edu54.ru\",'Информация о пользователе'!D606))","v":"pusto@edu54.ru"},{"$f":"TRIM(IF('Информация о пользователе'!E606=\"\",\"\",'Информация о пользователе'!E606))","v":""},{"$f":"IF('Информация о пользователе'!F606=\"\",TRIM(Translit.Translit(A605)&TRIM(LEFT(Translit.Translit(Service!E604),1))&TRIM(LEFT(Translit.Translit(Service!F604),1))),TRIM('Информация о пользователе'!F606))","v":"pusto"},{"$f":"IF('Информация о пользователе'!G606=\"\",TRIM(LEFT(Translit.Translit(Service!E604),2))&INDEX(Service!H604:H622,RANDBETWEEN(1,19),1)&RANDBETWEEN(1,9)&IF(Service!F604=\"\",TRIM(LEFT(Translit.Translit(Service!E604),3))&INDEX(Service!A604:A629,RANDBETWEEN(1,26),1),TRIM(LEFT(Translit.Translit(Service!F604),2))&INDEX(Service!H604:H622,RANDBETWEEN(1,19),1)&INDEX(Service!A604:A629,RANDBETWEEN(1,26),1)),'Информация о пользователе'!G606)","v":{"$error":"#NAME?"}}]
[{"$f":"TRIM(IF('Информация о пользователе'!A607=\"\",\"Пусто\",'Информация о пользователе'!A607))","v":"Пусто"},{"$f":"TRIM(IF('Информация о пользователе'!B607=\"\",\" \",'Информация о пользователе'!B607&\" \"&'Информация о пользователе'!C607))","v":""},{"$f":"TRIM(IF(AD!A606=\"\",\"\",AD!B606&\" \"&A606))","v":"Пусто"},{"$f":"TRIM(IF('Информация о пользователе'!D607=\"\",F606&\"@edu54.ru\",'Информация о пользователе'!D607))","v":"pusto@edu54.ru"},{"$f":"TRIM(IF('Информация о пользователе'!E607=\"\",\"\",'Информация о пользователе'!E607))","v":""},{"$f":"IF('Информация о пользователе'!F607=\"\",TRIM(Translit.Translit(A606)&TRIM(LEFT(Translit.Translit(Service!E605),1))&TRIM(LEFT(Translit.Translit(Service!F605),1))),TRIM('Информация о пользователе'!F607))","v":"pusto"},{"$f":"IF('Информация о пользователе'!G607=\"\",TRIM(LEFT(Translit.Translit(Service!E605),2))&INDEX(Service!H605:H623,RANDBETWEEN(1,19),1)&RANDBETWEEN(1,9)&IF(Service!F605=\"\",TRIM(LEFT(Translit.Translit(Service!E605),3))&INDEX(Service!A605:A630,RANDBETWEEN(1,26),1),TRIM(LEFT(Translit.Translit(Service!F605),2))&INDEX(Service!H605:H623,RANDBETWEEN(1,19),1)&INDEX(Service!A605:A630,RANDBETWEEN(1,26),1)),'Информация о пользователе'!G607)","v":{"$error":"#NAME?"}}]
[{"$f":"TRIM(IF('Информация о пользователе'!A608=\"\",\"Пусто\",'Информация о пользователе'!A608))","v":"Пусто"},{"$f":"TRIM(IF('Информация о пользователе'!B608=\"\",\" \",'Информация о пользователе'!B608&\" \"&'Информация о пользователе'!C608))","v":""},{"$f":"TRIM(IF(AD!A607=\"\",\"\",AD!B607&\" \"&A607))","v":"Пусто"},{"$f":"TRIM(IF('Информация о пользователе'!D608=\"\",F607&\"@edu54.ru\",'Информация о пользователе'!D608))","v":"pusto@edu54.ru"},{"$f":"TRIM(IF('Информация о пользователе'!E608=\"\",\"\",'Информация о пользователе'!E608))","v":""},{"$f":"IF('Информация о пользователе'!F608=\"\",TRIM(Translit.Translit(A607)&TRIM(LEFT(Translit.Translit(Service!E606),1))&TRIM(LEFT(Translit.Translit(Service!F606),1))),TRIM('Информация о пользователе'!F608))","v":"pusto"},{"$f":"IF('Информация о пользователе'!G608=\"\",TRIM(LEFT(Translit.Translit(Service!E606),2))&INDEX(Service!H606:H624,RANDBETWEEN(1,19),1)&RANDBETWEEN(1,9)&IF(Service!F606=\"\",TRIM(LEFT(Translit.Translit(Service!E606),3))&INDEX(Service!A606:A631,RANDBETWEEN(1,26),1),TRIM(LEFT(Translit.Translit(Service!F606),2))&INDEX(Service!H606:H624,RANDBETWEEN(1,19),1)&INDEX(Service!A606:A631,RANDBETWEEN(1,26),1)),'Информация о пользователе'!G608)","v":{"$error":"#NAME?"}}]
[{"$f":"TRIM(IF('Информация о пользователе'!A609=\"\",\"Пусто\",'Информация о пользователе'!A609))","v":"Пусто"},{"$f":"TRIM(IF('Информация о пользователе'!B609=\"\",\" \",'Информация о пользователе'!B609&\" \"&'Информация о пользователе'!C609))","v":""},{"$f":"TRIM(IF(AD!A608=\"\",\"\",AD!B608&\" \"&A608))","v":"Пусто"},{"$f":"TRIM(IF('Информация о пользователе'!D609=\"\",F608&\"@edu54.ru\",'Информация о пользователе'!D609))","v":"pusto@edu54.ru"},{"$f":"TRIM(IF('Информация о пользователе'!E609=\"\",\"\",'Информация о пользователе'!E609))","v":""},{"$f":"IF('Информация о пользователе'!F609=\"\",TRIM(Translit.Translit(A608)&TRIM(LEFT(Translit.Translit(Service!E607),1))&TRIM(LEFT(Translit.Translit(Service!F607),1))),TRIM('Информация о пользователе'!F609))","v":"pusto"},{"$f":"IF('Информация о пользователе'!G609=\"\",TRIM(LEFT(Translit.Translit(Service!E607),2))&INDEX(Service!H607:H625,RANDBETWEEN(1,19),1)&RANDBETWEEN(1,9)&IF(Service!F607=\"\",TRIM(LEFT(Translit.Translit(Service!E607),3))&INDEX(Service!A607:A632,RANDBETWEEN(1,26),1),TRIM(LEFT(Translit.Translit(Service!F607),2))&INDEX(Service!H607:H625,RANDBETWEEN(1,19),1)&INDEX(Service!A607:A632,RANDBETWEEN(1,26),1)),'Информация о пользователе'!G609)","v":{"$error":"#NAME?"}}]
[{"$f":"TRIM(IF('Информация о пользователе'!A610=\"\",\"Пусто\",'Информация о пользователе'!A610))","v":"Пусто"},{"$f":"TRIM(IF('Информация о пользователе'!B610=\"\",\" \",'Информация о пользователе'!B610&\" \"&'Информация о пользователе'!C610))","v":""},{"$f":"TRIM(IF(AD!A609=\"\",\"\",AD!B609&\" \"&A609))","v":"Пусто"},{"$f":"TRIM(IF('Информация о пользователе'!D610=\"\",F609&\"@edu54.ru\",'Информация о пользователе'!D610))","v":"pusto@edu54.ru"},{"$f":"TRIM(IF('Информация о пользователе'!E610=\"\",\"\",'Информация о пользователе'!E610))","v":""},{"$f":"IF('Информация о пользователе'!F610=\"\",TRIM(Translit.Translit(A609)&TRIM(LEFT(Translit.Translit(Service!E608),1))&TRIM(LEFT(Translit.Translit(Service!F608),1))),TRIM('Информация о пользователе'!F610))","v":"pusto"},{"$f":"IF('Информация о пользователе'!G610=\"\",TRIM(LEFT(Translit.Translit(Service!E608),2))&INDEX(Service!H608:H626,RANDBETWEEN(1,19),1)&RANDBETWEEN(1,9)&IF(Service!F608=\"\",TRIM(LEFT(Translit.Translit(Service!E608),3))&INDEX(Service!A608:A633,RANDBETWEEN(1,26),1),TRIM(LEFT(Translit.Translit(Service!F608),2))&INDEX(Service!H608:H626,RANDBETWEEN(1,19),1)&INDEX(Service!A608:A633,RANDBETWEEN(1,26),1)),'Информация о пользователе'!G610)","v":{"$error":"#NAME?"}}]
[{"$f":"TRIM(IF('Информация о пользователе'!A611=\"\",\"Пусто\",'Информация о пользователе'!A611))","v":"Пусто"},{"$f":"TRIM(IF('Информация о пользователе'!B611=\"\",\" \",'Информация о пользователе'!B611&\" \"&'Информация о пользователе'!C611))","v":""},{"$f":"TRIM(IF(AD!A610=\"\",\"\",AD!B610&\" \"&A610))","v":"Пусто"},{"$f":"TRIM(IF('Информация о пользователе'!D611=\"\",F610&\"@edu54.ru\",'Информация о пользователе'!D611))","v":"pusto@edu54.ru"},{"$f":"TRIM(IF('Информация о пользователе'!E611=\"\",\"\",'Информация о пользователе'!E611))","v":""},{"$f":"IF('Информация о пользователе'!F611=\"\",TRIM(Translit.Translit(A610)&TRIM(LEFT(Translit.Translit(Service!E609),1))&TRIM(LEFT(Translit.Translit(Service!F609),1))),TRIM('Информация о пользователе'!F611))","v":"pusto"},{"$f":"IF('Информация о пользователе'!G611=\"\",TRIM(LEFT(Translit.Translit(Service!E609),2))&INDEX(Service!H609:H627,RANDBETWEEN(1,19),1)&RANDBETWEEN(1,9)&IF(Service!F609=\"\",TRIM(LEFT(Translit.Translit(Service!E609),3))&INDEX(Service!A609:A634,RANDBETWEEN(1,26),1),TRIM(LEFT(Translit.Translit(Service!F609),2))&INDEX(Service!H609:H627,RANDBETWEEN(1,19),1)&INDEX(Service!A609:A634,RANDBETWEEN(1,26),1)),'Информация о пользователе'!G611)","v":{"$error":"#NAME?"}}]
[{"$f":"TRIM(IF('Информация о пользователе'!A612=\"\",\"Пусто\",'Информация о пользователе'!A612))","v":"Пусто"},{"$f":"TRIM(IF('Информация о пользователе'!B612=\"\",\" \",'Информация о пользователе'!B612&\" \"&'Информация о пользователе'!C612))","v":""},{"$f":"TRIM(IF(AD!A611=\"\",\"\",AD!B611&\" \"&A611))","v":"Пусто"},{"$f":"TRIM(IF('Информация о пользователе'!D612=\"\",F611&\"@edu54.ru\",'Информация о пользователе'!D612))","v":"pusto@edu54.ru"},{"$f":"TRIM(IF('Информация о пользователе'!E612=\"\",\"\",'Информация о пользователе'!E612))","v":""},{"$f":"IF('Информация о пользователе'!F612=\"\",TRIM(Translit.Translit(A611)&TRIM(LEFT(Translit.Translit(Service!E610),1))&TRIM(LEFT(Translit.Translit(Service!F610),1))),TRIM('Информация о пользователе'!F612))","v":"pusto"},{"$f":"IF('Информация о пользователе'!G612=\"\",TRIM(LEFT(Translit.Translit(Service!E610),2))&INDEX(Service!H610:H628,RANDBETWEEN(1,19),1)&RANDBETWEEN(1,9)&IF(Service!F610=\"\",TRIM(LEFT(Translit.Translit(Service!E610),3))&INDEX(Service!A610:A635,RANDBETWEEN(1,26),1),TRIM(LEFT(Translit.Translit(Service!F610),2))&INDEX(Service!H610:H628,RANDBETWEEN(1,19),1)&INDEX(Service!A610:A635,RANDBETWEEN(1,26),1)),'Информация о пользователе'!G612)","v":{"$error":"#NAME?"}}]
[{"$f":"TRIM(IF('Информация о пользователе'!A613=\"\",\"Пусто\",'Информация о пользователе'!A613))","v":"Пусто"},{"$f":"TRIM(IF('Информация о пользователе'!B613=\"\",\" \",'Информация о пользователе'!B613&\" \"&'Информация о пользователе'!C613))","v":""},{"$f":"TRIM(IF(AD!A612=\"\",\"\",AD!B612&\" \"&A612))","v":"Пусто"},{"$f":"TRIM(IF('Информация о пользователе'!D613=\"\",F612&\"@edu54.ru\",'Информация о пользователе'!D613))","v":"pusto@edu54.ru"},{"$f":"TRIM(IF('Информация о пользователе'!E613=\"\",\"\",'Информация о пользователе'!E613))","v":""},{"$f":"IF('Информация о пользователе'!F613=\"\",TRIM(Translit.Translit(A612)&TRIM(LEFT(Translit.Translit(Service!E611),1))&TRIM(LEFT(Translit.Translit(Service!F611),1))),TRIM('Информация о пользователе'!F613))","v":"pusto"},{"$f":"IF('Информация о пользователе'!G613=\"\",TRIM(LEFT(Translit.Translit(Service!E611),2))&INDEX(Service!H611:H629,RANDBETWEEN(1,19),1)&RANDBETWEEN(1,9)&IF(Service!F611=\"\",TRIM(LEFT(Translit.Translit(Service!E611),3))&INDEX(Service!A611:A636,RANDBETWEEN(1,26),1),TRIM(LEFT(Translit.Translit(Service!F611),2))&INDEX(Service!H611:H629,RANDBETWEEN(1,19),1)&INDEX(Service!A611:A636,RANDBETWEEN(1,26),1)),'Информация о пользователе'!G613)","v":{"$error":"#NAME?"}}]
[{"$f":"TRIM(IF('Информация о пользователе'!A614=\"\",\"Пусто\",'Информация о пользователе'!A614))","v":"Пусто"},{"$f":"TRIM(IF('Информация о пользователе'!B614=\"\",\" \",'Информация о пользователе'!B614&\" \"&'Информация о пользователе'!C614))","v":""},{"$f":"TRIM(IF(AD!A613=\"\",\"\",AD!B613&\" \"&A613))","v":"Пусто"},{"$f":"TRIM(IF('Информация о пользователе'!D614=\"\",F613&\"@edu54.ru\",'Информация о пользователе'!D614))","v":"pusto@edu54.ru"},{"$f":"TRIM(IF('Информация о пользователе'!E614=\"\",\"\",'Информация о пользователе'!E614))","v":""},{"$f":"IF('Информация о пользователе'!F614=\"\",TRIM(Translit.Translit(A613)&TRIM(LEFT(Translit.Translit(Service!E612),1))&TRIM(LEFT(Translit.Translit(Service!F612),1))),TRIM('Информация о пользователе'!F614))","v":"pusto"},{"$f":"IF('Информация о пользователе'!G614=\"\",TRIM(LEFT(Translit.Translit(Service!E612),2))&INDEX(Service!H612:H630,RANDBETWEEN(1,19),1)&RANDBETWEEN(1,9)&IF(Service!F612=\"\",TRIM(LEFT(Translit.Translit(Service!E612),3))&INDEX(Service!A612:A637,RANDBETWEEN(1,26),1),TRIM(LEFT(Translit.Translit(Service!F612),2))&INDEX(Service!H612:H630,RANDBETWEEN(1,19),1)&INDEX(Service!A612:A637,RANDBETWEEN(1,26),1)),'Информация о пользователе'!G614)","v":{"$error":"#NAME?"}}]
[{"$f":"TRIM(IF('Информация о пользователе'!A615=\"\",\"Пусто\",'Информация о пользователе'!A615))","v":"Пусто"},{"$f":"TRIM(IF('Информация о пользователе'!B615=\"\",\" \",'Информация о пользователе'!B615&\" \"&'Информация о пользователе'!C615))","v":""},{"$f":"TRIM(IF(AD!A614=\"\",\"\",AD!B614&\" \"&A614))","v":"Пусто"},{"$f":"TRIM(IF('Информация о пользователе'!D615=\"\",F614&\"@edu54.ru\",'Информация о пользователе'!D615))","v":"pusto@edu54.ru"},{"$f":"TRIM(IF('Информация о пользователе'!E615=\"\",\"\",'Информация о пользователе'!E615))","v":""},{"$f":"IF('Информация о пользователе'!F615=\"\",TRIM(Translit.Translit(A614)&TRIM(LEFT(Translit.Translit(Service!E613),1))&TRIM(LEFT(Translit.Translit(Service!F613),1))),TRIM('Информация о пользователе'!F615))","v":"pusto"},{"$f":"IF('Информация о пользователе'!G615=\"\",TRIM(LEFT(Translit.Translit(Service!E613),2))&INDEX(Service!H613:H631,RANDBETWEEN(1,19),1)&RANDBETWEEN(1,9)&IF(Service!F613=\"\",TRIM(LEFT(Translit.Translit(Service!E613),3))&INDEX(Service!A613:A638,RANDBETWEEN(1,26),1),TRIM(LEFT(Translit.Translit(Service!F613),2))&INDEX(Service!H613:H631,RANDBETWEEN(1,19),1)&INDEX(Service!A613:A638,RANDBETWEEN(1,26),1)),'Информация о пользователе'!G615)","v":{"$error":"#NAME?"}}]
[{"$f":"TRIM(IF('Информация о пользователе'!A616=\"\",\"Пусто\",'Информация о пользователе'!A616))","v":"Пусто"},{"$f":"TRIM(IF('Информация о пользователе'!B616=\"\",\" \",'Информация о пользователе'!B616&\" \"&'Информация о пользователе'!C616))","v":""},{"$f":"TRIM(IF(AD!A615=\"\",\"\",AD!B615&\" \"&A615))","v":"Пусто"},{"$f":"TRIM(IF('Информация о пользователе'!D616=\"\",F615&\"@edu54.ru\",'Информация о пользователе'!D616))","v":"pusto@edu54.ru"},{"$f":"TRIM(IF('Информация о пользователе'!E616=\"\",\"\",'Информация о пользователе'!E616))","v":""},{"$f":"IF('Информация о пользователе'!F616=\"\",TRIM(Translit.Translit(A615)&TRIM(LEFT(Translit.Translit(Service!E614),1))&TRIM(LEFT(Translit.Translit(Service!F614),1))),TRIM('Информация о пользователе'!F616))","v":"pusto"},{"$f":"IF('Информация о пользователе'!G616=\"\",TRIM(LEFT(Translit.Translit(Service!E614),2))&INDEX(Service!H614:H632,RANDBETWEEN(1,19),1)&RANDBETWEEN(1,9)&IF(Service!F614=\"\",TRIM(LEFT(Translit.Translit(Service!E614),3))&INDEX(Service!A614:A639,RANDBETWEEN(1,26),1),TRIM(LEFT(Translit.Translit(Service!F614),2))&INDEX(Service!H614:H632,RANDBETWEEN(1,19),1)&INDEX(Service!A614:A639,RANDBETWEEN(1,26),1)),'Информация о пользователе'!G616)","v":{"$error":"#NAME?"}}]
[{"$f":"TRIM(IF('Информация о пользователе'!A617=\"\",\"Пусто\",'Информация о пользователе'!A617))","v":"Пусто"},{"$f":"TRIM(IF('Информация о пользователе'!B617=\"\",\" \",'Информация о пользователе'!B617&\" \"&'Информация о пользователе'!C617))","v":""},{"$f":"TRIM(IF(AD!A616=\"\",\"\",AD!B616&\" \"&A616))","v":"Пусто"},{"$f":"TRIM(IF('Информация о пользователе'!D617=\"\",F616&\"@edu54.ru\",'Информация о пользователе'!D617))","v":"pusto@edu54.ru"},{"$f":"TRIM(IF('Информация о пользователе'!E617=\"\",\"\",'Информация о пользователе'!E617))","v":""},{"$f":"IF('Информация о пользователе'!F617=\"\",TRIM(Translit.Translit(A616)&TRIM(LEFT(Translit.Translit(Service!E615),1))&TRIM(LEFT(Translit.Translit(Service!F615),1))),TRIM('Информация о пользователе'!F617))","v":"pusto"},{"$f":"IF('Информация о пользователе'!G617=\"\",TRIM(LEFT(Translit.Translit(Service!E615),2))&INDEX(Service!H615:H633,RANDBETWEEN(1,19),1)&RANDBETWEEN(1,9)&IF(Service!F615=\"\",TRIM(LEFT(Translit.Translit(Service!E615),3))&INDEX(Service!A615:A640,RANDBETWEEN(1,26),1),TRIM(LEFT(Translit.Translit(Service!F615),2))&INDEX(Service!H615:H633,RANDBETWEEN(1,19),1)&INDEX(Service!A615:A640,RANDBETWEEN(1,26),1)),'Информация о пользователе'!G617)","v":{"$error":"#NAME?"}}]
[{"$f":"TRIM(IF('Информация о пользователе'!A618=\"\",\"Пусто\",'Информация о пользователе'!A618))","v":"Пусто"},{"$f":"TRIM(IF('Информация о пользователе'!B618=\"\",\" \",'Информация о пользователе'!B618&\" \"&'Информация о пользователе'!C618))","v":""},{"$f":"TRIM(IF(AD!A617=\"\",\"\",AD!B617&\" \"&A617))","v":"Пусто"},{"$f":"TRIM(IF('Информация о пользователе'!D618=\"\",F617&\"@edu54.ru\",'Информация о пользователе'!D618))","v":"pusto@edu54.ru"},{"$f":"TRIM(IF('Информация о пользователе'!E618=\"\",\"\",'Информация о пользователе'!E618))","v":""},{"$f":"IF('Информация о пользователе'!F618=\"\",TRIM(Translit.Translit(A617)&TRIM(LEFT(Translit.Translit(Service!E616),1))&TRIM(LEFT(Translit.Translit(Service!F616),1))),TRIM('Информация о пользователе'!F618))","v":"pusto"},{"$f":"IF('Информация о пользователе'!G618=\"\",TRIM(LEFT(Translit.Translit(Service!E616),2))&INDEX(Service!H616:H634,RANDBETWEEN(1,19),1)&RANDBETWEEN(1,9)&IF(Service!F616=\"\",TRIM(LEFT(Translit.Translit(Service!E616),3))&INDEX(Service!A616:A641,RANDBETWEEN(1,26),1),TRIM(LEFT(Translit.Translit(Service!F616),2))&INDEX(Service!H616:H634,RANDBETWEEN(1,19),1)&INDEX(Service!A616:A641,RANDBETWEEN(1,26),1)),'Информация о пользователе'!G618)","v":{"$error":"#NAME?"}}]
[{"$f":"TRIM(IF('Информация о пользователе'!A619=\"\",\"Пусто\",'Информация о пользователе'!A619))","v":"Пусто"},{"$f":"TRIM(IF('Информация о пользователе'!B619=\"\",\" \",'Информация о пользователе'!B619&\" \"&'Информация о пользователе'!C619))","v":""},{"$f":"TRIM(IF(AD!A618=\"\",\"\",AD!B618&\" \"&A618))","v":"Пусто"},{"$f":"TRIM(IF('Информация о пользователе'!D619=\"\",F618&\"@edu54.ru\",'Информация о пользователе'!D619))","v":"pusto@edu54.ru"},{"$f":"TRIM(IF('Информация о пользователе'!E619=\"\",\"\",'Информация о пользователе'!E619))","v":""},{"$f":"IF('Информация о пользователе'!F619=\"\",TRIM(Translit.Translit(A618)&TRIM(LEFT(Translit.Translit(Service!E617),1))&TRIM(LEFT(Translit.Translit(Service!F617),1))),TRIM('Информация о пользователе'!F619))","v":"pusto"},{"$f":"IF('Информация о пользователе'!G619=\"\",TRIM(LEFT(Translit.Translit(Service!E617),2))&INDEX(Service!H617:H635,RANDBETWEEN(1,19),1)&RANDBETWEEN(1,9)&IF(Service!F617=\"\",TRIM(LEFT(Translit.Translit(Service!E617),3))&INDEX(Service!A617:A642,RANDBETWEEN(1,26),1),TRIM(LEFT(Translit.Translit(Service!F617),2))&INDEX(Service!H617:H635,RANDBETWEEN(1,19),1)&INDEX(Service!A617:A642,RANDBETWEEN(1,26),1)),'Информация о пользователе'!G619)","v":{"$error":"#NAME?"}}]
[{"$f":"TRIM(IF('Информация о пользователе'!A620=\"\",\"Пусто\",'Информация о пользователе'!A620))","v":"Пусто"},{"$f":"TRIM(IF('Информация о пользователе'!B620=\"\",\" \",'Информация о пользователе'!B620&\" \"&'Информация о пользователе'!C620))","v":""},{"$f":"TRIM(IF(AD!A619=\"\",\"\",AD!B619&\" \"&A619))","v":"Пусто"},{"$f":"TRIM(IF('Информация о пользователе'!D620=\"\",F619&\"@edu54.ru\",'Информация о пользователе'!D620))","v":"pusto@edu54.ru"},{"$f":"TRIM(IF('Информация о пользователе'!E620=\"\",\"\",'Информация о пользователе'!E620))","v":""},{"$f":"IF('Информация о пользователе'!F620=\"\",TRIM(Translit.Translit(A619)&TRIM(LEFT(Translit.Translit(Service!E618),1))&TRIM(LEFT(Translit.Translit(Service!F618),1))),TRIM('Информация о пользователе'!F620))","v":"pusto"},{"$f":"IF('Информация о пользователе'!G620=\"\",TRIM(LEFT(Translit.Translit(Service!E618),2))&INDEX(Service!H618:H636,RANDBETWEEN(1,19),1)&RANDBETWEEN(1,9)&IF(Service!F618=\"\",TRIM(LEFT(Translit.Translit(Service!E618),3))&INDEX(Service!A618:A643,RANDBETWEEN(1,26),1),TRIM(LEFT(Translit.Translit(Service!F618),2))&INDEX(Service!H618:H636,RANDBETWEEN(1,19),1)&INDEX(Service!A618:A643,RANDBETWEEN(1,26),1)),'Информация о пользователе'!G620)","v":{"$error":"#NAME?"}}]
[{"$f":"TRIM(IF('Информация о пользователе'!A621=\"\",\"Пусто\",'Информация о пользователе'!A621))","v":"Пусто"},{"$f":"TRIM(IF('Информация о пользователе'!B621=\"\",\" \",'Информация о пользователе'!B621&\" \"&'Информация о пользователе'!C621))","v":""},{"$f":"TRIM(IF(AD!A620=\"\",\"\",AD!B620&\" \"&A620))","v":"Пусто"},{"$f":"TRIM(IF('Информация о пользователе'!D621=\"\",F620&\"@edu54.ru\",'Информация о пользователе'!D621))","v":"pusto@edu54.ru"},{"$f":"TRIM(IF('Информация о пользователе'!E621=\"\",\"\",'Информация о пользователе'!E621))","v":""},{"$f":"IF('Информация о пользователе'!F621=\"\",TRIM(Translit.Translit(A620)&TRIM(LEFT(Translit.Translit(Service!E619),1))&TRIM(LEFT(Translit.Translit(Service!F619),1))),TRIM('Информация о пользователе'!F621))","v":"pusto"},{"$f":"IF('Информация о пользователе'!G621=\"\",TRIM(LEFT(Translit.Translit(Service!E619),2))&INDEX(Service!H619:H637,RANDBETWEEN(1,19),1)&RANDBETWEEN(1,9)&IF(Service!F619=\"\",TRIM(LEFT(Translit.Translit(Service!E619),3))&INDEX(Service!A619:A644,RANDBETWEEN(1,26),1),TRIM(LEFT(Translit.Translit(Service!F619),2))&INDEX(Service!H619:H637,RANDBETWEEN(1,19),1)&INDEX(Service!A619:A644,RANDBETWEEN(1,26),1)),'Информация о пользователе'!G621)","v":{"$error":"#NAME?"}}]
[{"$f":"TRIM(IF('Информация о пользователе'!A622=\"\",\"Пусто\",'Информация о пользователе'!A622))","v":"Пусто"},{"$f":"TRIM(IF('Информация о пользователе'!B622=\"\",\" \",'Информация о пользователе'!B622&\" \"&'Информация о пользователе'!C622))","v":""},{"$f":"TRIM(IF(AD!A621=\"\",\"\",AD!B621&\" \"&A621))","v":"Пусто"},{"$f":"TRIM(IF('Информация о пользователе'!D622=\"\",F621&\"@edu54.ru\",'Информация о пользователе'!D622))","v":"pusto@edu54.ru"},{"$f":"TRIM(IF('Информация о пользователе'!E622=\"\",\"\",'Информация о пользователе'!E622))","v":""},{"$f":"IF('Информация о пользователе'!F622=\"\",TRIM(Translit.Translit(A621)&TRIM(LEFT(Translit.Translit(Service!E620),1))&TRIM(LEFT(Translit.Translit(Service!F620),1))),TRIM('Информация о пользователе'!F622))","v":"pusto"},{"$f":"IF('Информация о пользователе'!G622=\"\",TRIM(LEFT(Translit.Translit(Service!E620),2))&INDEX(Service!H620:H638,RANDBETWEEN(1,19),1)&RANDBETWEEN(1,9)&IF(Service!F620=\"\",TRIM(LEFT(Translit.Translit(Service!E620),3))&INDEX(Service!A620:A645,RANDBETWEEN(1,26),1),TRIM(LEFT(Translit.Translit(Service!F620),2))&INDEX(Service!H620:H638,RANDBETWEEN(1,19),1)&INDEX(Service!A620:A645,RANDBETWEEN(1,26),1)),'Информация о пользователе'!G622)","v":{"$error":"#NAME?"}}]
[{"$f":"TRIM(IF('Информация о пользователе'!A623=\"\",\"Пусто\",'Информация о пользователе'!A623))","v":"Пусто"},{"$f":"TRIM(IF('Информация о пользователе'!B623=\"\",\" \",'Информация о пользователе'!B623&\" \"&'Информация о пользователе'!C623))","v":""},{"$f":"TRIM(IF(AD!A622=\"\",\"\",AD!B622&\" \"&A622))","v":"Пусто"},{"$f":"TRIM(IF('Информация о пользователе'!D623=\"\",F622&\"@edu54.ru\",'Информация о пользователе'!D623))","v":"pusto@edu54.ru"},{"$f":"TRIM(IF('Информация о пользователе'!E623=\"\",\"\",'Информация о пользователе'!E623))","v":""},{"$f":"IF('Информация о пользователе'!F623=\"\",TRIM(Translit.Translit(A622)&TRIM(LEFT(Translit.Translit(Service!E621),1))&TRIM(LEFT(Translit.Translit(Service!F621),1))),TRIM('Информация о пользователе'!F623))","v":"pusto"},{"$f":"IF('Информация о пользователе'!G623=\"\",TRIM(LEFT(Translit.Translit(Service!E621),2))&INDEX(Service!H621:H639,RANDBETWEEN(1,19),1)&RANDBETWEEN(1,9)&IF(Service!F621=\"\",TRIM(LEFT(Translit.Translit(Service!E621),3))&INDEX(Service!A621:A646,RANDBETWEEN(1,26),1),TRIM(LEFT(Translit.Translit(Service!F621),2))&INDEX(Service!H621:H639,RANDBETWEEN(1,19),1)&INDEX(Service!A621:A646,RANDBETWEEN(1,26),1)),'Информация о пользователе'!G623)","v":{"$error":"#NAME?"}}]
[{"$f":"TRIM(IF('Информация о пользователе'!A624=\"\",\"Пусто\",'Информация о пользователе'!A624))","v":"Пусто"},{"$f":"TRIM(IF('Информация о пользователе'!B624=\"\",\" \",'Информация о пользователе'!B624&\" \"&'Информация о пользователе'!C624))","v":""},{"$f":"TRIM(IF(AD!A623=\"\",\"\",AD!B623&\" \"&A623))","v":"Пусто"},{"$f":"TRIM(IF('Информация о пользователе'!D624=\"\",F623&\"@edu54.ru\",'Информация о пользователе'!D624))","v":"pusto@edu54.ru"},{"$f":"TRIM(IF('Информация о пользователе'!E624=\"\",\"\",'Информация о пользователе'!E624))","v":""},{"$f":"IF('Информация о пользователе'!F624=\"\",TRIM(Translit.Translit(A623)&TRIM(LEFT(Translit.Translit(Service!E622),1))&TRIM(LEFT(Translit.Translit(Service!F622),1))),TRIM('Информация о пользователе'!F624))","v":"pusto"},{"$f":"IF('Информация о пользователе'!G624=\"\",TRIM(LEFT(Translit.Translit(Service!E622),2))&INDEX(Service!H622:H640,RANDBETWEEN(1,19),1)&RANDBETWEEN(1,9)&IF(Service!F622=\"\",TRIM(LEFT(Translit.Translit(Service!E622),3))&INDEX(Service!A622:A647,RANDBETWEEN(1,26),1),TRIM(LEFT(Translit.Translit(Service!F622),2))&INDEX(Service!H622:H640,RANDBETWEEN(1,19),1)&INDEX(Service!A622:A647,RANDBETWEEN(1,26),1)),'Информация о пользователе'!G624)","v":{"$error":"#NAME?"}}]
[{"$f":"TRIM(IF('Информация о пользователе'!A625=\"\",\"Пусто\",'Информация о пользователе'!A625))","v":"Пусто"},{"$f":"TRIM(IF('Информация о пользователе'!B625=\"\",\" \",'Информация о пользователе'!B625&\" \"&'Информация о пользователе'!C625))","v":""},{"$f":"TRIM(IF(AD!A624=\"\",\"\",AD!B624&\" \"&A624))","v":"Пусто"},{"$f":"TRIM(IF('Информация о пользователе'!D625=\"\",F624&\"@edu54.ru\",'Информация о пользователе'!D625))","v":"pusto@edu54.ru"},{"$f":"TRIM(IF('Информация о пользователе'!E625=\"\",\"\",'Информация о пользователе'!E625))","v":""},{"$f":"IF('Информация о пользователе'!F625=\"\",TRIM(Translit.Translit(A624)&TRIM(LEFT(Translit.Translit(Service!E623),1))&TRIM(LEFT(Translit.Translit(Service!F623),1))),TRIM('Информация о пользователе'!F625))","v":"pusto"},{"$f":"IF('Информация о пользователе'!G625=\"\",TRIM(LEFT(Translit.Translit(Service!E623),2))&INDEX(Service!H623:H641,RANDBETWEEN(1,19),1)&RANDBETWEEN(1,9)&IF(Service!F623=\"\",TRIM(LEFT(Translit.Translit(Service!E623),3))&INDEX(Service!A623:A648,RANDBETWEEN(1,26),1),TRIM(LEFT(Translit.Translit(Service!F623),2))&INDEX(Service!H623:H641,RANDBETWEEN(1,19),1)&INDEX(Service!A623:A648,RANDBETWEEN(1,26),1)),'Информация о пользователе'!G625)","v":{"$error":"#NAME?"}}]
[{"$f":"TRIM(IF('Информация о пользователе'!A626=\"\",\"Пусто\",'Информация о пользователе'!A626))","v":"Пусто"},{"$f":"TRIM(IF('Информация о пользователе'!B626=\"\",\" \",'Информация о пользователе'!B626&\" \"&'Информация о пользователе'!C626))","v":""},{"$f":"TRIM(IF(AD!A625=\"\",\"\",AD!B625&\" \"&A625))","v":"Пусто"},{"$f":"TRIM(IF('Информация о пользователе'!D626=\"\",F625&\"@edu54.ru\",'Информация о пользователе'!D626))","v":"pusto@edu54.ru"},{"$f":"TRIM(IF('Информация о пользователе'!E626=\"\",\"\",'Информация о пользователе'!E626))","v":""},{"$f":"IF('Информация о пользователе'!F626=\"\",TRIM(Translit.Translit(A625)&TRIM(LEFT(Translit.Translit(Service!E624),1))&TRIM(LEFT(Translit.Translit(Service!F624),1))),TRIM('Информация о пользователе'!F626))","v":"pusto"},{"$f":"IF('Информация о пользователе'!G626=\"\",TRIM(LEFT(Translit.Translit(Service!E624),2))&INDEX(Service!H624:H642,RANDBETWEEN(1,19),1)&RANDBETWEEN(1,9)&IF(Service!F624=\"\",TRIM(LEFT(Translit.Translit(Service!E624),3))&INDEX(Service!A624:A649,RANDBETWEEN(1,26),1),TRIM(LEFT(Translit.Translit(Service!F624),2))&INDEX(Service!H624:H642,RANDBETWEEN(1,19),1)&INDEX(Service!A624:A649,RANDBETWEEN(1,26),1)),'Информация о пользователе'!G626)","v":{"$error":"#NAME?"}}]
[{"$f":"TRIM(IF('Информация о пользователе'!A627=\"\",\"Пусто\",'Информация о пользователе'!A627))","v":"Пусто"},{"$f":"TRIM(IF('Информация о пользователе'!B627=\"\",\" \",'Информация о пользователе'!B627&\" \"&'Информация о пользователе'!C627))","v":""},{"$f":"TRIM(IF(AD!A626=\"\",\"\",AD!B626&\" \"&A626))","v":"Пусто"},{"$f":"TRIM(IF('Информация о пользователе'!D627=\"\",F626&\"@edu54.ru\",'Информация о пользователе'!D627))","v":"pusto@edu54.ru"},{"$f":"TRIM(IF('Информация о пользователе'!E627=\"\",\"\",'Информация о пользователе'!E627))","v":""},{"$f":"IF('Информация о пользователе'!F627=\"\",TRIM(Translit.Translit(A626)&TRIM(LEFT(Translit.Translit(Service!E625),1))&TRIM(LEFT(Translit.Translit(Service!F625),1))),TRIM('Информация о пользователе'!F627))","v":"pusto"},{"$f":"IF('Информация о пользователе'!G627=\"\",TRIM(LEFT(Translit.Translit(Service!E625),2))&INDEX(Service!H625:H643,RANDBETWEEN(1,19),1)&RANDBETWEEN(1,9)&IF(Service!F625=\"\",TRIM(LEFT(Translit.Translit(Service!E625),3))&INDEX(Service!A625:A650,RANDBETWEEN(1,26),1),TRIM(LEFT(Translit.Translit(Service!F625),2))&INDEX(Service!H625:H643,RANDBETWEEN(1,19),1)&INDEX(Service!A625:A650,RANDBETWEEN(1,26),1)),'Информация о пользователе'!G627)","v":{"$error":"#NAME?"}}]
[{"$f":"TRIM(IF('Информация о пользователе'!A628=\"\",\"Пусто\",'Информация о пользователе'!A628))","v":"Пусто"},{"$f":"TRIM(IF('Информация о пользователе'!B628=\"\",\" \",'Информация о пользователе'!B628&\" \"&'Информация о пользователе'!C628))","v":""},{"$f":"TRIM(IF(AD!A627=\"\",\"\",AD!B627&\" \"&A627))","v":"Пусто"},{"$f":"TRIM(IF('Информация о пользователе'!D628=\"\",F627&\"@edu54.ru\",'Информация о пользователе'!D628))","v":"pusto@edu54.ru"},{"$f":"TRIM(IF('Информация о пользователе'!E628=\"\",\"\",'Информация о пользователе'!E628))","v":""},{"$f":"IF('Информация о пользователе'!F628=\"\",TRIM(Translit.Translit(A627)&TRIM(LEFT(Translit.Translit(Service!E626),1))&TRIM(LEFT(Translit.Translit(Service!F626),1))),TRIM('Информация о пользователе'!F628))","v":"pusto"},{"$f":"IF('Информация о пользователе'!G628=\"\",TRIM(LEFT(Translit.Translit(Service!E626),2))&INDEX(Service!H626:H644,RANDBETWEEN(1,19),1)&RANDBETWEEN(1,9)&IF(Service!F626=\"\",TRIM(LEFT(Translit.Translit(Service!E626),3))&INDEX(Service!A626:A651,RANDBETWEEN(1,26),1),TRIM(LEFT(Translit.Translit(Service!F626),2))&INDEX(Service!H626:H644,RANDBETWEEN(1,19),1)&INDEX(Service!A626:A651,RANDBETWEEN(1,26),1)),'Информация о пользователе'!G628)","v":{"$error":"#NAME?"}}]
[{"$f":"TRIM(IF('Информация о пользователе'!A629=\"\",\"Пусто\",'Информация о пользователе'!A629))","v":"Пусто"},{"$f":"TRIM(IF('Информация о пользователе'!B629=\"\",\" \",'Информация о пользователе'!B629&\" \"&'Информация о пользователе'!C629))","v":""},{"$f":"TRIM(IF(AD!A628=\"\",\"\",AD!B628&\" \"&A628))","v":"Пусто"},{"$f":"TRIM(IF('Информация о пользователе'!D629=\"\",F628&\"@edu54.ru\",'Информация о пользователе'!D629))","v":"pusto@edu54.ru"},{"$f":"TRIM(IF('Информация о пользователе'!E629=\"\",\"\",'Информация о пользователе'!E629))","v":""},{"$f":"IF('Информация о пользователе'!F629=\"\",TRIM(Translit.Translit(A628)&TRIM(LEFT(Translit.Translit(Service!E627),1))&TRIM(LEFT(Translit.Translit(Service!F627),1))),TRIM('Информация о пользователе'!F629))","v":"pusto"},{"$f":"IF('Информация о пользователе'!G629=\"\",TRIM(LEFT(Translit.Translit(Service!E627),2))&INDEX(Service!H627:H645,RANDBETWEEN(1,19),1)&RANDBETWEEN(1,9)&IF(Service!F627=\"\",TRIM(LEFT(Translit.Translit(Service!E627),3))&INDEX(Service!A627:A652,RANDBETWEEN(1,26),1),TRIM(LEFT(Translit.Translit(Service!F627),2))&INDEX(Service!H627:H645,RANDBETWEEN(1,19),1)&INDEX(Service!A627:A652,RANDBETWEEN(1,26),1)),'Информация о пользователе'!G629)","v":{"$error":"#NAME?"}}]
[{"$f":"TRIM(IF('Информация о пользователе'!A630=\"\",\"Пусто\",'Информация о пользователе'!A630))","v":"Пусто"},{"$f":"TRIM(IF('Информация о пользователе'!B630=\"\",\" \",'Информация о пользователе'!B630&\" \"&'Информация о пользователе'!C630))","v":""},{"$f":"TRIM(IF(AD!A629=\"\",\"\",AD!B629&\" \"&A629))","v":"Пусто"},{"$f":"TRIM(IF('Информация о пользователе'!D630=\"\",F629&\"@edu54.ru\",'Информация о пользователе'!D630))","v":"pusto@edu54.ru"},{"$f":"TRIM(IF('Информация о пользователе'!E630=\"\",\"\",'Информация о пользователе'!E630))","v":""},{"$f":"IF('Информация о пользователе'!F630=\"\",TRIM(Translit.Translit(A629)&TRIM(LEFT(Translit.Translit(Service!E628),1))&TRIM(LEFT(Translit.Translit(Service!F628),1))),TRIM('Информация о пользователе'!F630))","v":"pusto"},{"$f":"IF('Информация о пользователе'!G630=\"\",TRIM(LEFT(Translit.Translit(Service!E628),2))&INDEX(Service!H628:H646,RANDBETWEEN(1,19),1)&RANDBETWEEN(1,9)&IF(Service!F628=\"\",TRIM(LEFT(Translit.Translit(Service!E628),3))&INDEX(Service!A628:A653,RANDBETWEEN(1,26),1),TRIM(LEFT(Translit.Translit(Service!F628),2))&INDEX(Service!H628:H646,RANDBETWEEN(1,19),1)&INDEX(Service!A628:A653,RANDBETWEEN(1,26),1)),'Информация о пользователе'!G630)","v":{"$error":"#NAME?"}}]
[{"$f":"TRIM(IF('Информация о пользователе'!A631=\"\",\"Пусто\",'Информация о пользователе'!A631))","v":"Пусто"},{"$f":"TRIM(IF('Информация о пользователе'!B631=\"\",\" \",'Информация о пользователе'!B631&\" \"&'Информация о пользователе'!C631))","v":""},{"$f":"TRIM(IF(AD!A630=\"\",\"\",AD!B630&\" \"&A630))","v":"Пусто"},{"$f":"TRIM(IF('Информация о пользователе'!D631=\"\",F630&\"@edu54.ru\",'Информация о пользователе'!D631))","v":"pusto@edu54.ru"},{"$f":"TRIM(IF('Информация о пользователе'!E631=\"\",\"\",'Информация о пользователе'!E631))","v":""},{"$f":"IF('Информация о пользователе'!F631=\"\",TRIM(Translit.Translit(A630)&TRIM(LEFT(Translit.Translit(Service!E629),1))&TRIM(LEFT(Translit.Translit(Service!F629),1))),TRIM('Информация о пользователе'!F631))","v":"pusto"},{"$f":"IF('Информация о пользователе'!G631=\"\",TRIM(LEFT(Translit.Translit(Service!E629),2))&INDEX(Service!H629:H647,RANDBETWEEN(1,19),1)&RANDBETWEEN(1,9)&IF(Service!F629=\"\",TRIM(LEFT(Translit.Translit(Service!E629),3))&INDEX(Service!A629:A654,RANDBETWEEN(1,26),1),TRIM(LEFT(Translit.Translit(Service!F629),2))&INDEX(Service!H629:H647,RANDBETWEEN(1,19),1)&INDEX(Service!A629:A654,RANDBETWEEN(1,26),1)),'Информация о пользователе'!G631)","v":{"$error":"#NAME?"}}]
[{"$f":"TRIM(IF('Информация о пользователе'!A632=\"\",\"Пусто\",'Информация о пользователе'!A632))","v":"Пусто"},{"$f":"TRIM(IF('Информация о пользователе'!B632=\"\",\" \",'Информация о пользователе'!B632&\" \"&'Информация о пользователе'!C632))","v":""},{"$f":"TRIM(IF(AD!A631=\"\",\"\",AD!B631&\" \"&A631))","v":"Пусто"},{"$f":"TRIM(IF('Информация о пользователе'!D632=\"\",F631&\"@edu54.ru\",'Информация о пользователе'!D632))","v":"pusto@edu54.ru"},{"$f":"TRIM(IF('Информация о пользователе'!E632=\"\",\"\",'Информация о пользователе'!E632))","v":""},{"$f":"IF('Информация о пользователе'!F632=\"\",TRIM(Translit.Translit(A631)&TRIM(LEFT(Translit.Translit(Service!E630),1))&TRIM(LEFT(Translit.Translit(Service!F630),1))),TRIM('Информация о пользователе'!F632))","v":"pusto"},{"$f":"IF('Информация о пользователе'!G632=\"\",TRIM(LEFT(Translit.Translit(Service!E630),2))&INDEX(Service!H630:H648,RANDBETWEEN(1,19),1)&RANDBETWEEN(1,9)&IF(Service!F630=\"\",TRIM(LEFT(Translit.Translit(Service!E630),3))&INDEX(Service!A630:A655,RANDBETWEEN(1,26),1),TRIM(LEFT(Translit.Translit(Service!F630),2))&INDEX(Service!H630:H648,RANDBETWEEN(1,19),1)&INDEX(Service!A630:A655,RANDBETWEEN(1,26),1)),'Информация о пользователе'!G632)","v":{"$error":"#NAME?"}}]
[{"$f":"TRIM(IF('Информация о пользователе'!A633=\"\",\"Пусто\",'Информация о пользователе'!A633))","v":"Пусто"},{"$f":"TRIM(IF('Информация о пользователе'!B633=\"\",\" \",'Информация о пользователе'!B633&\" \"&'Информация о пользователе'!C633))","v":""},{"$f":"TRIM(IF(AD!A632=\"\",\"\",AD!B632&\" \"&A632))","v":"Пусто"},{"$f":"TRIM(IF('Информация о пользователе'!D633=\"\",F632&\"@edu54.ru\",'Информация о пользователе'!D633))","v":"pusto@edu54.ru"},{"$f":"TRIM(IF('Информация о пользователе'!E633=\"\",\"\",'Информация о пользователе'!E633))","v":""},{"$f":"IF('Информация о пользователе'!F633=\"\",TRIM(Translit.Translit(A632)&TRIM(LEFT(Translit.Translit(Service!E631),1))&TRIM(LEFT(Translit.Translit(Service!F631),1))),TRIM('Информация о пользователе'!F633))","v":"pusto"},{"$f":"IF('Информация о пользователе'!G633=\"\",TRIM(LEFT(Translit.Translit(Service!E631),2))&INDEX(Service!H631:H649,RANDBETWEEN(1,19),1)&RANDBETWEEN(1,9)&IF(Service!F631=\"\",TRIM(LEFT(Translit.Translit(Service!E631),3))&INDEX(Service!A631:A656,RANDBETWEEN(1,26),1),TRIM(LEFT(Translit.Translit(Service!F631),2))&INDEX(Service!H631:H649,RANDBETWEEN(1,19),1)&INDEX(Service!A631:A656,RANDBETWEEN(1,26),1)),'Информация о пользователе'!G633)","v":{"$error":"#NAME?"}}]
[{"$f":"TRIM(IF('Информация о пользователе'!A634=\"\",\"Пусто\",'Информация о пользователе'!A634))","v":"Пусто"},{"$f":"TRIM(IF('Информация о пользователе'!B634=\"\",\" \",'Информация о пользователе'!B634&\" \"&'Информация о пользователе'!C634))","v":""},{"$f":"TRIM(IF(AD!A633=\"\",\"\",AD!B633&\" \"&A633))","v":"Пусто"},{"$f":"TRIM(IF('Информация о пользователе'!D634=\"\",F633&\"@edu54.ru\",'Информация о пользователе'!D634))","v":"pusto@edu54.ru"},{"$f":"TRIM(IF('Информация о пользователе'!E634=\"\",\"\",'Информация о пользователе'!E634))","v":""},{"$f":"IF('Информация о пользователе'!F634=\"\",TRIM(Translit.Translit(A633)&TRIM(LEFT(Translit.Translit(Service!E632),1))&TRIM(LEFT(Translit.Translit(Service!F632),1))),TRIM('Информация о пользователе'!F634))","v":"pusto"},{"$f":"IF('Информация о пользователе'!G634=\"\",TRIM(LEFT(Translit.Translit(Service!E632),2))&INDEX(Service!H632:H650,RANDBETWEEN(1,19),1)&RANDBETWEEN(1,9)&IF(Service!F632=\"\",TRIM(LEFT(Translit.Translit(Service!E632),3))&INDEX(Service!A632:A657,RANDBETWEEN(1,26),1),TRIM(LEFT(Translit.Translit(Service!F632),2))&INDEX(Service!H632:H650,RANDBETWEEN(1,19),1)&INDEX(Service!A632:A657,RANDBETWEEN(1,26),1)),'Информация о пользователе'!G634)","v":{"$error":"#NAME?"}}]
[{"$f":"TRIM(IF('Информация о пользователе'!A635=\"\",\"Пусто\",'Информация о пользователе'!A635))","v":"Пусто"},{"$f":"TRIM(IF('Информация о пользователе'!B635=\"\",\" \",'Информация о пользователе'!B635&\" \"&'Информация о пользователе'!C635))","v":""},{"$f":"TRIM(IF(AD!A634=\"\",\"\",AD!B634&\" \"&A634))","v":"Пусто"},{"$f":"TRIM(IF('Информация о пользователе'!D635=\"\",F634&\"@edu54.ru\",'Информация о пользователе'!D635))","v":"pusto@edu54.ru"},{"$f":"TRIM(IF('Информация о пользователе'!E635=\"\",\"\",'Информация о пользователе'!E635))","v":""},{"$f":"IF('Информация о пользователе'!F635=\"\",TRIM(Translit.Translit(A634)&TRIM(LEFT(Translit.Translit(Service!E633),1))&TRIM(LEFT(Translit.Translit(Service!F633),1))),TRIM('Информация о пользователе'!F635))","v":"pusto"},{"$f":"IF('Информация о пользователе'!G635=\"\",TRIM(LEFT(Translit.Translit(Service!E633),2))&INDEX(Service!H633:H651,RANDBETWEEN(1,19),1)&RANDBETWEEN(1,9)&IF(Service!F633=\"\",TRIM(LEFT(Translit.Translit(Service!E633),3))&INDEX(Service!A633:A658,RANDBETWEEN(1,26),1),TRIM(LEFT(Translit.Translit(Service!F633),2))&INDEX(Service!H633:H651,RANDBETWEEN(1,19),1)&INDEX(Service!A633:A658,RANDBETWEEN(1,26),1)),'Информация о пользователе'!G635)","v":{"$error":"#NAME?"}}]
[{"$f":"TRIM(IF('Информация о пользователе'!A636=\"\",\"Пусто\",'Информация о пользователе'!A636))","v":"Пусто"},{"$f":"TRIM(IF('Информация о пользователе'!B636=\"\",\" \",'Информация о пользователе'!B636&\" \"&'Информация о пользователе'!C636))","v":""},{"$f":"TRIM(IF(AD!A635=\"\",\"\",AD!B635&\" \"&A635))","v":"Пусто"},{"$f":"TRIM(IF('Информация о пользователе'!D636=\"\",F635&\"@edu54.ru\",'Информация о пользователе'!D636))","v":"pusto@edu54.ru"},{"$f":"TRIM(IF('Информация о пользователе'!E636=\"\",\"\",'Информация о пользователе'!E636))","v":""},{"$f":"IF('Информация о пользователе'!F636=\"\",TRIM(Translit.Translit(A635)&TRIM(LEFT(Translit.Translit(Service!E634),1))&TRIM(LEFT(Translit.Translit(Service!F634),1))),TRIM('Информация о пользователе'!F636))","v":"pusto"},{"$f":"IF('Информация о пользователе'!G636=\"\",TRIM(LEFT(Translit.Translit(Service!E634),2))&INDEX(Service!H634:H652,RANDBETWEEN(1,19),1)&RANDBETWEEN(1,9)&IF(Service!F634=\"\",TRIM(LEFT(Translit.Translit(Service!E634),3))&INDEX(Service!A634:A659,RANDBETWEEN(1,26),1),TRIM(LEFT(Translit.Translit(Service!F634),2))&INDEX(Service!H634:H652,RANDBETWEEN(1,19),1)&INDEX(Service!A634:A659,RANDBETWEEN(1,26),1)),'Информация о пользователе'!G636)","v":{"$error":"#NAME?"}}]
[{"$f":"TRIM(IF('Информация о пользователе'!A637=\"\",\"Пусто\",'Информация о пользователе'!A637))","v":"Пусто"},{"$f":"TRIM(IF('Информация о пользователе'!B637=\"\",\" \",'Информация о пользователе'!B637&\" \"&'Информация о пользователе'!C637))","v":""},{"$f":"TRIM(IF(AD!A636=\"\",\"\",AD!B636&\" \"&A636))","v":"Пусто"},{"$f":"TRIM(IF('Информация о пользователе'!D637=\"\",F636&\"@edu54.ru\",'Информация о пользователе'!D637))","v":"pusto@edu54.ru"},{"$f":"TRIM(IF('Информация о пользователе'!E637=\"\",\"\",'Информация о пользователе'!E637))","v":""},{"$f":"IF('Информация о пользователе'!F637=\"\",TRIM(Translit.Translit(A636)&TRIM(LEFT(Translit.Translit(Service!E635),1))&TRIM(LEFT(Translit.Translit(Service!F635),1))),TRIM('Информация о пользователе'!F637))","v":"pusto"},{"$f":"IF('Информация о пользователе'!G637=\"\",TRIM(LEFT(Translit.Translit(Service!E635),2))&INDEX(Service!H635:H653,RANDBETWEEN(1,19),1)&RANDBETWEEN(1,9)&IF(Service!F635=\"\",TRIM(LEFT(Translit.Translit(Service!E635),3))&INDEX(Service!A635:A660,RANDBETWEEN(1,26),1),TRIM(LEFT(Translit.Translit(Service!F635),2))&INDEX(Service!H635:H653,RANDBETWEEN(1,19),1)&INDEX(Service!A635:A660,RANDBETWEEN(1,26),1)),'Информация о пользователе'!G637)","v":{"$error":"#NAME?"}}]
[{"$f":"TRIM(IF('Информация о пользователе'!A638=\"\",\"Пусто\",'Информация о пользователе'!A638))","v":"Пусто"},{"$f":"TRIM(IF('Информация о пользователе'!B638=\"\",\" \",'Информация о пользователе'!B638&\" \"&'Информация о пользователе'!C638))","v":""},{"$f":"TRIM(IF(AD!A637=\"\",\"\",AD!B637&\" \"&A637))","v":"Пусто"},{"$f":"TRIM(IF('Информация о пользователе'!D638=\"\",F637&\"@edu54.ru\",'Информация о пользователе'!D638))","v":"pusto@edu54.ru"},{"$f":"TRIM(IF('Информация о пользователе'!E638=\"\",\"\",'Информация о пользователе'!E638))","v":""},{"$f":"IF('Информация о пользователе'!F638=\"\",TRIM(Translit.Translit(A637)&TRIM(LEFT(Translit.Translit(Service!E636),1))&TRIM(LEFT(Translit.Translit(Service!F636),1))),TRIM('Информация о пользователе'!F638))","v":"pusto"},{"$f":"IF('Информация о пользователе'!G638=\"\",TRIM(LEFT(Translit.Translit(Service!E636),2))&INDEX(Service!H636:H654,RANDBETWEEN(1,19),1)&RANDBETWEEN(1,9)&IF(Service!F636=\"\",TRIM(LEFT(Translit.Translit(Service!E636),3))&INDEX(Service!A636:A661,RANDBETWEEN(1,26),1),TRIM(LEFT(Translit.Translit(Service!F636),2))&INDEX(Service!H636:H654,RANDBETWEEN(1,19),1)&INDEX(Service!A636:A661,RANDBETWEEN(1,26),1)),'Информация о пользователе'!G638)","v":{"$error":"#NAME?"}}]
[{"$f":"TRIM(IF('Информация о пользователе'!A639=\"\",\"Пусто\",'Информация о пользователе'!A639))","v":"Пусто"},{"$f":"TRIM(IF('Информация о пользователе'!B639=\"\",\" \",'Информация о пользователе'!B639&\" \"&'Информация о пользователе'!C639))","v":""},{"$f":"TRIM(IF(AD!A638=\"\",\"\",AD!B638&\" \"&A638))","v":"Пусто"},{"$f":"TRIM(IF('Информация о пользователе'!D639=\"\",F638&\"@edu54.ru\",'Информация о пользователе'!D639))","v":"pusto@edu54.ru"},{"$f":"TRIM(IF('Информация о пользователе'!E639=\"\",\"\",'Информация о пользователе'!E639))","v":""},{"$f":"IF('Информация о пользователе'!F639=\"\",TRIM(Translit.Translit(A638)&TRIM(LEFT(Translit.Translit(Service!E637),1))&TRIM(LEFT(Translit.Translit(Service!F637),1))),TRIM('Информация о пользователе'!F639))","v":"pusto"},{"$f":"IF('Информация о пользователе'!G639=\"\",TRIM(LEFT(Translit.Translit(Service!E637),2))&INDEX(Service!H637:H655,RANDBETWEEN(1,19),1)&RANDBETWEEN(1,9)&IF(Service!F637=\"\",TRIM(LEFT(Translit.Translit(Service!E637),3))&INDEX(Service!A637:A662,RANDBETWEEN(1,26),1),TRIM(LEFT(Translit.Translit(Service!F637),2))&INDEX(Service!H637:H655,RANDBETWEEN(1,19),1)&INDEX(Service!A637:A662,RANDBETWEEN(1,26),1)),'Информация о пользователе'!G639)","v":{"$error":"#NAME?"}}]
[{"$f":"TRIM(IF('Информация о пользователе'!A640=\"\",\"Пусто\",'Информация о пользователе'!A640))","v":"Пусто"},{"$f":"TRIM(IF('Информация о пользователе'!B640=\"\",\" \",'Информация о пользователе'!B640&\" \"&'Информация о пользователе'!C640))","v":""},{"$f":"TRIM(IF(AD!A639=\"\",\"\",AD!B639&\" \"&A639))","v":"Пусто"},{"$f":"TRIM(IF('Информация о пользователе'!D640=\"\",F639&\"@edu54.ru\",'Информация о пользователе'!D640))","v":"pusto@edu54.ru"},{"$f":"TRIM(IF('Информация о пользователе'!E640=\"\",\"\",'Информация о пользователе'!E640))","v":""},{"$f":"IF('Информация о пользователе'!F640=\"\",TRIM(Translit.Translit(A639)&TRIM(LEFT(Translit.Translit(Service!E638),1))&TRIM(LEFT(Translit.Translit(Service!F638),1))),TRIM('Информация о пользователе'!F640))","v":"pusto"},{"$f":"IF('Информация о пользователе'!G640=\"\",TRIM(LEFT(Translit.Translit(Service!E638),2))&INDEX(Service!H638:H656,RANDBETWEEN(1,19),1)&RANDBETWEEN(1,9)&IF(Service!F638=\"\",TRIM(LEFT(Translit.Translit(Service!E638),3))&INDEX(Service!A638:A663,RANDBETWEEN(1,26),1),TRIM(LEFT(Translit.Translit(Service!F638),2))&INDEX(Service!H638:H656,RANDBETWEEN(1,19),1)&INDEX(Service!A638:A663,RANDBETWEEN(1,26),1)),'Информация о пользователе'!G640)","v":{"$error":"#NAME?"}}]
[{"$f":"TRIM(IF('Информация о пользователе'!A641=\"\",\"Пусто\",'Информация о пользователе'!A641))","v":"Пусто"},{"$f":"TRIM(IF('Информация о пользователе'!B641=\"\",\" \",'Информация о пользователе'!B641&\" \"&'Информация о пользователе'!C641))","v":""},{"$f":"TRIM(IF(AD!A640=\"\",\"\",AD!B640&\" \"&A640))","v":"Пусто"},{"$f":"TRIM(IF('Информация о пользователе'!D641=\"\",F640&\"@edu54.ru\",'Информация о пользователе'!D641))","v":"pusto@edu54.ru"},{"$f":"TRIM(IF('Информация о пользователе'!E641=\"\",\"\",'Информация о пользователе'!E641))","v":""},{"$f":"IF('Информация о пользователе'!F641=\"\",TRIM(Translit.Translit(A640)&TRIM(LEFT(Translit.Translit(Service!E639),1))&TRIM(LEFT(Translit.Translit(Service!F639),1))),TRIM('Информация о пользователе'!F641))","v":"pusto"},{"$f":"IF('Информация о пользователе'!G641=\"\",TRIM(LEFT(Translit.Translit(Service!E639),2))&INDEX(Service!H639:H657,RANDBETWEEN(1,19),1)&RANDBETWEEN(1,9)&IF(Service!F639=\"\",TRIM(LEFT(Translit.Translit(Service!E639),3))&INDEX(Service!A639:A664,RANDBETWEEN(1,26),1),TRIM(LEFT(Translit.Translit(Service!F639),2))&INDEX(Service!H639:H657,RANDBETWEEN(1,19),1)&INDEX(Service!A639:A664,RANDBETWEEN(1,26),1)),'Информация о пользователе'!G641)","v":{"$error":"#NAME?"}}]
[{"$f":"TRIM(IF('Информация о пользователе'!A642=\"\",\"Пусто\",'Информация о пользователе'!A642))","v":"Пусто"},{"$f":"TRIM(IF('Информация о пользователе'!B642=\"\",\" \",'Информация о пользователе'!B642&\" \"&'Информация о пользователе'!C642))","v":""},{"$f":"TRIM(IF(AD!A641=\"\",\"\",AD!B641&\" \"&A641))","v":"Пусто"},{"$f":"TRIM(IF('Информация о пользователе'!D642=\"\",F641&\"@edu54.ru\",'Информация о пользователе'!D642))","v":"pusto@edu54.ru"},{"$f":"TRIM(IF('Информация о пользователе'!E642=\"\",\"\",'Информация о пользователе'!E642))","v":""},{"$f":"IF('Информация о пользователе'!F642=\"\",TRIM(Translit.Translit(A641)&TRIM(LEFT(Translit.Translit(Service!E640),1))&TRIM(LEFT(Translit.Translit(Service!F640),1))),TRIM('Информация о пользователе'!F642))","v":"pusto"},{"$f":"IF('Информация о пользователе'!G642=\"\",TRIM(LEFT(Translit.Translit(Service!E640),2))&INDEX(Service!H640:H658,RANDBETWEEN(1,19),1)&RANDBETWEEN(1,9)&IF(Service!F640=\"\",TRIM(LEFT(Translit.Translit(Service!E640),3))&INDEX(Service!A640:A665,RANDBETWEEN(1,26),1),TRIM(LEFT(Translit.Translit(Service!F640),2))&INDEX(Service!H640:H658,RANDBETWEEN(1,19),1)&INDEX(Service!A640:A665,RANDBETWEEN(1,26),1)),'Информация о пользователе'!G642)","v":{"$error":"#NAME?"}}]
[{"$f":"TRIM(IF('Информация о пользователе'!A643=\"\",\"Пусто\",'Информация о пользователе'!A643))","v":"Пусто"},{"$f":"TRIM(IF('Информация о пользователе'!B643=\"\",\" \",'Информация о пользователе'!B643&\" \"&'Информация о пользователе'!C643))","v":""},{"$f":"TRIM(IF(AD!A642=\"\",\"\",AD!B642&\" \"&A642))","v":"Пусто"},{"$f":"TRIM(IF('Информация о пользователе'!D643=\"\",F642&\"@edu54.ru\",'Информация о пользователе'!D643))","v":"pusto@edu54.ru"},{"$f":"TRIM(IF('Информация о пользователе'!E643=\"\",\"\",'Информация о пользователе'!E643))","v":""},{"$f":"IF('Информация о пользователе'!F643=\"\",TRIM(Translit.Translit(A642)&TRIM(LEFT(Translit.Translit(Service!E641),1))&TRIM(LEFT(Translit.Translit(Service!F641),1))),TRIM('Информация о пользователе'!F643))","v":"pusto"},{"$f":"IF('Информация о пользователе'!G643=\"\",TRIM(LEFT(Translit.Translit(Service!E641),2))&INDEX(Service!H641:H659,RANDBETWEEN(1,19),1)&RANDBETWEEN(1,9)&IF(Service!F641=\"\",TRIM(LEFT(Translit.Translit(Service!E641),3))&INDEX(Service!A641:A666,RANDBETWEEN(1,26),1),TRIM(LEFT(Translit.Translit(Service!F641),2))&INDEX(Service!H641:H659,RANDBETWEEN(1,19),1)&INDEX(Service!A641:A666,RANDBETWEEN(1,26),1)),'Информация о пользователе'!G643)","v":{"$error":"#NAME?"}}]
[{"$f":"TRIM(IF('Информация о пользователе'!A644=\"\",\"Пусто\",'Информация о пользователе'!A644))","v":"Пусто"},{"$f":"TRIM(IF('Информация о пользователе'!B644=\"\",\" \",'Информация о пользователе'!B644&\" \"&'Информация о пользователе'!C644))","v":""},{"$f":"TRIM(IF(AD!A643=\"\",\"\",AD!B643&\" \"&A643))","v":"Пусто"},{"$f":"TRIM(IF('Информация о пользователе'!D644=\"\",F643&\"@edu54.ru\",'Информация о пользователе'!D644))","v":"pusto@edu54.ru"},{"$f":"TRIM(IF('Информация о пользователе'!E644=\"\",\"\",'Информация о пользователе'!E644))","v":""},{"$f":"IF('Информация о пользователе'!F644=\"\",TRIM(Translit.Translit(A643)&TRIM(LEFT(Translit.Translit(Service!E642),1))&TRIM(LEFT(Translit.Translit(Service!F642),1))),TRIM('Информация о пользователе'!F644))","v":"pusto"},{"$f":"IF('Информация о пользователе'!G644=\"\",TRIM(LEFT(Translit.Translit(Service!E642),2))&INDEX(Service!H642:H660,RANDBETWEEN(1,19),1)&RANDBETWEEN(1,9)&IF(Service!F642=\"\",TRIM(LEFT(Translit.Translit(Service!E642),3))&INDEX(Service!A642:A667,RANDBETWEEN(1,26),1),TRIM(LEFT(Translit.Translit(Service!F642),2))&INDEX(Service!H642:H660,RANDBETWEEN(1,19),1)&INDEX(Service!A642:A667,RANDBETWEEN(1,26),1)),'Информация о пользователе'!G644)","v":{"$error":"#NAME?"}}]
[{"$f":"TRIM(IF('Информация о пользователе'!A645=\"\",\"Пусто\",'Информация о пользователе'!A645))","v":"Пусто"},{"$f":"TRIM(IF('Информация о пользователе'!B645=\"\",\" \",'Информация о пользователе'!B645&\" \"&'Информация о пользователе'!C645))","v":""},{"$f":"TRIM(IF(AD!A644=\"\",\"\",AD!B644&\" \"&A644))","v":"Пусто"},{"$f":"TRIM(IF('Информация о пользователе'!D645=\"\",F644&\"@edu54.ru\",'Информация о пользователе'!D645))","v":"pusto@edu54.ru"},{"$f":"TRIM(IF('Информация о пользователе'!E645=\"\",\"\",'Информация о пользователе'!E645))","v":""},{"$f":"IF('Информация о пользователе'!F645=\"\",TRIM(Translit.Translit(A644)&TRIM(LEFT(Translit.Translit(Service!E643),1))&TRIM(LEFT(Translit.Translit(Service!F643),1))),TRIM('Информация о пользователе'!F645))","v":"pusto"},{"$f":"IF('Информация о пользователе'!G645=\"\",TRIM(LEFT(Translit.Translit(Service!E643),2))&INDEX(Service!H643:H661,RANDBETWEEN(1,19),1)&RANDBETWEEN(1,9)&IF(Service!F643=\"\",TRIM(LEFT(Translit.Translit(Service!E643),3))&INDEX(Service!A643:A668,RANDBETWEEN(1,26),1),TRIM(LEFT(Translit.Translit(Service!F643),2))&INDEX(Service!H643:H661,RANDBETWEEN(1,19),1)&INDEX(Service!A643:A668,RANDBETWEEN(1,26),1)),'Информация о пользователе'!G645)","v":{"$error":"#NAME?"}}]
[{"$f":"TRIM(IF('Информация о пользователе'!A646=\"\",\"Пусто\",'Информация о пользователе'!A646))","v":"Пусто"},{"$f":"TRIM(IF('Информация о пользователе'!B646=\"\",\" \",'Информация о пользователе'!B646&\" \"&'Информация о пользователе'!C646))","v":""},{"$f":"TRIM(IF(AD!A645=\"\",\"\",AD!B645&\" \"&A645))","v":"Пусто"},{"$f":"TRIM(IF('Информация о пользователе'!D646=\"\",F645&\"@edu54.ru\",'Информация о пользователе'!D646))","v":"pusto@edu54.ru"},{"$f":"TRIM(IF('Информация о пользователе'!E646=\"\",\"\",'Информация о пользователе'!E646))","v":""},{"$f":"IF('Информация о пользователе'!F646=\"\",TRIM(Translit.Translit(A645)&TRIM(LEFT(Translit.Translit(Service!E644),1))&TRIM(LEFT(Translit.Translit(Service!F644),1))),TRIM('Информация о пользователе'!F646))","v":"pusto"},{"$f":"IF('Информация о пользователе'!G646=\"\",TRIM(LEFT(Translit.Translit(Service!E644),2))&INDEX(Service!H644:H662,RANDBETWEEN(1,19),1)&RANDBETWEEN(1,9)&IF(Service!F644=\"\",TRIM(LEFT(Translit.Translit(Service!E644),3))&INDEX(Service!A644:A669,RANDBETWEEN(1,26),1),TRIM(LEFT(Translit.Translit(Service!F644),2))&INDEX(Service!H644:H662,RANDBETWEEN(1,19),1)&INDEX(Service!A644:A669,RANDBETWEEN(1,26),1)),'Информация о пользователе'!G646)","v":{"$error":"#NAME?"}}]
[{"$f":"TRIM(IF('Информация о пользователе'!A647=\"\",\"Пусто\",'Информация о пользователе'!A647))","v":"Пусто"},{"$f":"TRIM(IF('Информация о пользователе'!B647=\"\",\" \",'Информация о пользователе'!B647&\" \"&'Информация о пользователе'!C647))","v":""},{"$f":"TRIM(IF(AD!A646=\"\",\"\",AD!B646&\" \"&A646))","v":"Пусто"},{"$f":"TRIM(IF('Информация о пользователе'!D647=\"\",F646&\"@edu54.ru\",'Информация о пользователе'!D647))","v":"pusto@edu54.ru"},{"$f":"TRIM(IF('Информация о пользователе'!E647=\"\",\"\",'Информация о пользователе'!E647))","v":""},{"$f":"IF('Информация о пользователе'!F647=\"\",TRIM(Translit.Translit(A646)&TRIM(LEFT(Translit.Translit(Service!E645),1))&TRIM(LEFT(Translit.Translit(Service!F645),1))),TRIM('Информация о пользователе'!F647))","v":"pusto"},{"$f":"IF('Информация о пользователе'!G647=\"\",TRIM(LEFT(Translit.Translit(Service!E645),2))&INDEX(Service!H645:H663,RANDBETWEEN(1,19),1)&RANDBETWEEN(1,9)&IF(Service!F645=\"\",TRIM(LEFT(Translit.Translit(Service!E645),3))&INDEX(Service!A645:A670,RANDBETWEEN(1,26),1),TRIM(LEFT(Translit.Translit(Service!F645),2))&INDEX(Service!H645:H663,RANDBETWEEN(1,19),1)&INDEX(Service!A645:A670,RANDBETWEEN(1,26),1)),'Информация о пользователе'!G647)","v":{"$error":"#NAME?"}}]
[{"$f":"TRIM(IF('Информация о пользователе'!A648=\"\",\"Пусто\",'Информация о пользователе'!A648))","v":"Пусто"},{"$f":"TRIM(IF('Информация о пользователе'!B648=\"\",\" \",'Информация о пользователе'!B648&\" \"&'Информация о пользователе'!C648))","v":""},{"$f":"TRIM(IF(AD!A647=\"\",\"\",AD!B647&\" \"&A647))","v":"Пусто"},{"$f":"TRIM(IF('Информация о пользователе'!D648=\"\",F647&\"@edu54.ru\",'Информация о пользователе'!D648))","v":"pusto@edu54.ru"},{"$f":"TRIM(IF('Информация о пользователе'!E648=\"\",\"\",'Информация о пользователе'!E648))","v":""},{"$f":"IF('Информация о пользователе'!F648=\"\",TRIM(Translit.Translit(A647)&TRIM(LEFT(Translit.Translit(Service!E646),1))&TRIM(LEFT(Translit.Translit(Service!F646),1))),TRIM('Информация о пользователе'!F648))","v":"pusto"},{"$f":"IF('Информация о пользователе'!G648=\"\",TRIM(LEFT(Translit.Translit(Service!E646),2))&INDEX(Service!H646:H664,RANDBETWEEN(1,19),1)&RANDBETWEEN(1,9)&IF(Service!F646=\"\",TRIM(LEFT(Translit.Translit(Service!E646),3))&INDEX(Service!A646:A671,RANDBETWEEN(1,26),1),TRIM(LEFT(Translit.Translit(Service!F646),2))&INDEX(Service!H646:H664,RANDBETWEEN(1,19),1)&INDEX(Service!A646:A671,RANDBETWEEN(1,26),1)),'Информация о пользователе'!G648)","v":{"$error":"#NAME?"}}]
[{"$f":"TRIM(IF('Информация о пользователе'!A649=\"\",\"Пусто\",'Информация о пользователе'!A649))","v":"Пусто"},{"$f":"TRIM(IF('Информация о пользователе'!B649=\"\",\" \",'Информация о пользователе'!B649&\" \"&'Информация о пользователе'!C649))","v":""},{"$f":"TRIM(IF(AD!A648=\"\",\"\",AD!B648&\" \"&A648))","v":"Пусто"},{"$f":"TRIM(IF('Информация о пользователе'!D649=\"\",F648&\"@edu54.ru\",'Информация о пользователе'!D649))","v":"pusto@edu54.ru"},{"$f":"TRIM(IF('Информация о пользователе'!E649=\"\",\"\",'Информация о пользователе'!E649))","v":""},{"$f":"IF('Информация о пользователе'!F649=\"\",TRIM(Translit.Translit(A648)&TRIM(LEFT(Translit.Translit(Service!E647),1))&TRIM(LEFT(Translit.Translit(Service!F647),1))),TRIM('Информация о пользователе'!F649))","v":"pusto"},{"$f":"IF('Информация о пользователе'!G649=\"\",TRIM(LEFT(Translit.Translit(Service!E647),2))&INDEX(Service!H647:H665,RANDBETWEEN(1,19),1)&RANDBETWEEN(1,9)&IF(Service!F647=\"\",TRIM(LEFT(Translit.Translit(Service!E647),3))&INDEX(Service!A647:A672,RANDBETWEEN(1,26),1),TRIM(LEFT(Translit.Translit(Service!F647),2))&INDEX(Service!H647:H665,RANDBETWEEN(1,19),1)&INDEX(Service!A647:A672,RANDBETWEEN(1,26),1)),'Информация о пользователе'!G649)","v":{"$error":"#NAME?"}}]
[{"$f":"TRIM(IF('Информация о пользователе'!A650=\"\",\"Пусто\",'Информация о пользователе'!A650))","v":"Пусто"},{"$f":"TRIM(IF('Информация о пользователе'!B650=\"\",\" \",'Информация о пользователе'!B650&\" \"&'Информация о пользователе'!C650))","v":""},{"$f":"TRIM(IF(AD!A649=\"\",\"\",AD!B649&\" \"&A649))","v":"Пусто"},{"$f":"TRIM(IF('Информация о пользователе'!D650=\"\",F649&\"@edu54.ru\",'Информация о пользователе'!D650))","v":"pusto@edu54.ru"},{"$f":"TRIM(IF('Информация о пользователе'!E650=\"\",\"\",'Информация о пользователе'!E650))","v":""},{"$f":"IF('Информация о пользователе'!F650=\"\",TRIM(Translit.Translit(A649)&TRIM(LEFT(Translit.Translit(Service!E648),1))&TRIM(LEFT(Translit.Translit(Service!F648),1))),TRIM('Информация о пользователе'!F650))","v":"pusto"},{"$f":"IF('Информация о пользователе'!G650=\"\",TRIM(LEFT(Translit.Translit(Service!E648),2))&INDEX(Service!H648:H666,RANDBETWEEN(1,19),1)&RANDBETWEEN(1,9)&IF(Service!F648=\"\",TRIM(LEFT(Translit.Translit(Service!E648),3))&INDEX(Service!A648:A673,RANDBETWEEN(1,26),1),TRIM(LEFT(Translit.Translit(Service!F648),2))&INDEX(Service!H648:H666,RANDBETWEEN(1,19),1)&INDEX(Service!A648:A673,RANDBETWEEN(1,26),1)),'Информация о пользователе'!G650)","v":{"$error":"#NAME?"}}]
[{"$f":"TRIM(IF('Информация о пользователе'!A651=\"\",\"Пусто\",'Информация о пользователе'!A651))","v":"Пусто"},{"$f":"TRIM(IF('Информация о пользователе'!B651=\"\",\" \",'Информация о пользователе'!B651&\" \"&'Информация о пользователе'!C651))","v":""},{"$f":"TRIM(IF(AD!A650=\"\",\"\",AD!B650&\" \"&A650))","v":"Пусто"},{"$f":"TRIM(IF('Информация о пользователе'!D651=\"\",F650&\"@edu54.ru\",'Информация о пользователе'!D651))","v":"pusto@edu54.ru"},{"$f":"TRIM(IF('Информация о пользователе'!E651=\"\",\"\",'Информация о пользователе'!E651))","v":""},{"$f":"IF('Информация о пользователе'!F651=\"\",TRIM(Translit.Translit(A650)&TRIM(LEFT(Translit.Translit(Service!E649),1))&TRIM(LEFT(Translit.Translit(Service!F649),1))),TRIM('Информация о пользователе'!F651))","v":"pusto"},{"$f":"IF('Информация о пользователе'!G651=\"\",TRIM(LEFT(Translit.Translit(Service!E649),2))&INDEX(Service!H649:H667,RANDBETWEEN(1,19),1)&RANDBETWEEN(1,9)&IF(Service!F649=\"\",TRIM(LEFT(Translit.Translit(Service!E649),3))&INDEX(Service!A649:A674,RANDBETWEEN(1,26),1),TRIM(LEFT(Translit.Translit(Service!F649),2))&INDEX(Service!H649:H667,RANDBETWEEN(1,19),1)&INDEX(Service!A649:A674,RANDBETWEEN(1,26),1)),'Информация о пользователе'!G651)","v":{"$error":"#NAME?"}}]
[{"$f":"TRIM(IF('Информация о пользователе'!A652=\"\",\"Пусто\",'Информация о пользователе'!A652))","v":"Пусто"},{"$f":"TRIM(IF('Информация о пользователе'!B652=\"\",\" \",'Информация о пользователе'!B652&\" \"&'Информация о пользователе'!C652))","v":""},{"$f":"TRIM(IF(AD!A651=\"\",\"\",AD!B651&\" \"&A651))","v":"Пусто"},{"$f":"TRIM(IF('Информация о пользователе'!D652=\"\",F651&\"@edu54.ru\",'Информация о пользователе'!D652))","v":"pusto@edu54.ru"},{"$f":"TRIM(IF('Информация о пользователе'!E652=\"\",\"\",'Информация о пользователе'!E652))","v":""},{"$f":"IF('Информация о пользователе'!F652=\"\",TRIM(Translit.Translit(A651)&TRIM(LEFT(Translit.Translit(Service!E650),1))&TRIM(LEFT(Translit.Translit(Service!F650),1))),TRIM('Информация о пользователе'!F652))","v":"pusto"},{"$f":"IF('Информация о пользователе'!G652=\"\",TRIM(LEFT(Translit.Translit(Service!E650),2))&INDEX(Service!H650:H668,RANDBETWEEN(1,19),1)&RANDBETWEEN(1,9)&IF(Service!F650=\"\",TRIM(LEFT(Translit.Translit(Service!E650),3))&INDEX(Service!A650:A675,RANDBETWEEN(1,26),1),TRIM(LEFT(Translit.Translit(Service!F650),2))&INDEX(Service!H650:H668,RANDBETWEEN(1,19),1)&INDEX(Service!A650:A675,RANDBETWEEN(1,26),1)),'Информация о пользователе'!G652)","v":{"$error":"#NAME?"}}]
[{"$f":"TRIM(IF('Информация о пользователе'!A653=\"\",\"Пусто\",'Информация о пользователе'!A653))","v":"Пусто"},{"$f":"TRIM(IF('Информация о пользователе'!B653=\"\",\" \",'Информация о пользователе'!B653&\" \"&'Информация о пользователе'!C653))","v":""},{"$f":"TRIM(IF(AD!A652=\"\",\"\",AD!B652&\" \"&A652))","v":"Пусто"},{"$f":"TRIM(IF('Информация о пользователе'!D653=\"\",F652&\"@edu54.ru\",'Информация о пользователе'!D653))","v":"pusto@edu54.ru"},{"$f":"TRIM(IF('Информация о пользователе'!E653=\"\",\"\",'Информация о пользователе'!E653))","v":""},{"$f":"IF('Информация о пользователе'!F653=\"\",TRIM(Translit.Translit(A652)&TRIM(LEFT(Translit.Translit(Service!E651),1))&TRIM(LEFT(Translit.Translit(Service!F651),1))),TRIM('Информация о пользователе'!F653))","v":"pusto"},{"$f":"IF('Информация о пользователе'!G653=\"\",TRIM(LEFT(Translit.Translit(Service!E651),2))&INDEX(Service!H651:H669,RANDBETWEEN(1,19),1)&RANDBETWEEN(1,9)&IF(Service!F651=\"\",TRIM(LEFT(Translit.Translit(Service!E651),3))&INDEX(Service!A651:A676,RANDBETWEEN(1,26),1),TRIM(LEFT(Translit.Translit(Service!F651),2))&INDEX(Service!H651:H669,RANDBETWEEN(1,19),1)&INDEX(Service!A651:A676,RANDBETWEEN(1,26),1)),'Информация о пользователе'!G653)","v":{"$error":"#NAME?"}}]
[{"$f":"TRIM(IF('Информация о пользователе'!A654=\"\",\"Пусто\",'Информация о пользователе'!A654))","v":"Пусто"},{"$f":"TRIM(IF('Информация о пользователе'!B654=\"\",\" \",'Информация о пользователе'!B654&\" \"&'Информация о пользователе'!C654))","v":""},{"$f":"TRIM(IF(AD!A653=\"\",\"\",AD!B653&\" \"&A653))","v":"Пусто"},{"$f":"TRIM(IF('Информация о пользователе'!D654=\"\",F653&\"@edu54.ru\",'Информация о пользователе'!D654))","v":"pusto@edu54.ru"},{"$f":"TRIM(IF('Информация о пользователе'!E654=\"\",\"\",'Информация о пользователе'!E654))","v":""},{"$f":"IF('Информация о пользователе'!F654=\"\",TRIM(Translit.Translit(A653)&TRIM(LEFT(Translit.Translit(Service!E652),1))&TRIM(LEFT(Translit.Translit(Service!F652),1))),TRIM('Информация о пользователе'!F654))","v":"pusto"},{"$f":"IF('Информация о пользователе'!G654=\"\",TRIM(LEFT(Translit.Translit(Service!E652),2))&INDEX(Service!H652:H670,RANDBETWEEN(1,19),1)&RANDBETWEEN(1,9)&IF(Service!F652=\"\",TRIM(LEFT(Translit.Translit(Service!E652),3))&INDEX(Service!A652:A677,RANDBETWEEN(1,26),1),TRIM(LEFT(Translit.Translit(Service!F652),2))&INDEX(Service!H652:H670,RANDBETWEEN(1,19),1)&INDEX(Service!A652:A677,RANDBETWEEN(1,26),1)),'Информация о пользователе'!G654)","v":{"$error":"#NAME?"}}]
[{"$f":"TRIM(IF('Информация о пользователе'!A655=\"\",\"Пусто\",'Информация о пользователе'!A655))","v":"Пусто"},{"$f":"TRIM(IF('Информация о пользователе'!B655=\"\",\" \",'Информация о пользователе'!B655&\" \"&'Информация о пользователе'!C655))","v":""},{"$f":"TRIM(IF(AD!A654=\"\",\"\",AD!B654&\" \"&A654))","v":"Пусто"},{"$f":"TRIM(IF('Информация о пользователе'!D655=\"\",F654&\"@edu54.ru\",'Информация о пользователе'!D655))","v":"pusto@edu54.ru"},{"$f":"TRIM(IF('Информация о пользователе'!E655=\"\",\"\",'Информация о пользователе'!E655))","v":""},{"$f":"IF('Информация о пользователе'!F655=\"\",TRIM(Translit.Translit(A654)&TRIM(LEFT(Translit.Translit(Service!E653),1))&TRIM(LEFT(Translit.Translit(Service!F653),1))),TRIM('Информация о пользователе'!F655))","v":"pusto"},{"$f":"IF('Информация о пользователе'!G655=\"\",TRIM(LEFT(Translit.Translit(Service!E653),2))&INDEX(Service!H653:H671,RANDBETWEEN(1,19),1)&RANDBETWEEN(1,9)&IF(Service!F653=\"\",TRIM(LEFT(Translit.Translit(Service!E653),3))&INDEX(Service!A653:A678,RANDBETWEEN(1,26),1),TRIM(LEFT(Translit.Translit(Service!F653),2))&INDEX(Service!H653:H671,RANDBETWEEN(1,19),1)&INDEX(Service!A653:A678,RANDBETWEEN(1,26),1)),'Информация о пользователе'!G655)","v":{"$error":"#NAME?"}}]
[{"$f":"TRIM(IF('Информация о пользователе'!A656=\"\",\"Пусто\",'Информация о пользователе'!A656))","v":"Пусто"},{"$f":"TRIM(IF('Информация о пользователе'!B656=\"\",\" \",'Информация о пользователе'!B656&\" \"&'Информация о пользователе'!C656))","v":""},{"$f":"TRIM(IF(AD!A655=\"\",\"\",AD!B655&\" \"&A655))","v":"Пусто"},{"$f":"TRIM(IF('Информация о пользователе'!D656=\"\",F655&\"@edu54.ru\",'Информация о пользователе'!D656))","v":"pusto@edu54.ru"},{"$f":"TRIM(IF('Информация о пользователе'!E656=\"\",\"\",'Информация о пользователе'!E656))","v":""},{"$f":"IF('Информация о пользователе'!F656=\"\",TRIM(Translit.Translit(A655)&TRIM(LEFT(Translit.Translit(Service!E654),1))&TRIM(LEFT(Translit.Translit(Service!F654),1))),TRIM('Информация о пользователе'!F656))","v":"pusto"},{"$f":"IF('Информация о пользователе'!G656=\"\",TRIM(LEFT(Translit.Translit(Service!E654),2))&INDEX(Service!H654:H672,RANDBETWEEN(1,19),1)&RANDBETWEEN(1,9)&IF(Service!F654=\"\",TRIM(LEFT(Translit.Translit(Service!E654),3))&INDEX(Service!A654:A679,RANDBETWEEN(1,26),1),TRIM(LEFT(Translit.Translit(Service!F654),2))&INDEX(Service!H654:H672,RANDBETWEEN(1,19),1)&INDEX(Service!A654:A679,RANDBETWEEN(1,26),1)),'Информация о пользователе'!G656)","v":{"$error":"#NAME?"}}]
[{"$f":"TRIM(IF('Информация о пользователе'!A657=\"\",\"Пусто\",'Информация о пользователе'!A657))","v":"Пусто"},{"$f":"TRIM(IF('Информация о пользователе'!B657=\"\",\" \",'Информация о пользователе'!B657&\" \"&'Информация о пользователе'!C657))","v":""},{"$f":"TRIM(IF(AD!A656=\"\",\"\",AD!B656&\" \"&A656))","v":"Пусто"},{"$f":"TRIM(IF('Информация о пользователе'!D657=\"\",F656&\"@edu54.ru\",'Информация о пользователе'!D657))","v":"pusto@edu54.ru"},{"$f":"TRIM(IF('Информация о пользователе'!E657=\"\",\"\",'Информация о пользователе'!E657))","v":""},{"$f":"IF('Информация о пользователе'!F657=\"\",TRIM(Translit.Translit(A656)&TRIM(LEFT(Translit.Translit(Service!E655),1))&TRIM(LEFT(Translit.Translit(Service!F655),1))),TRIM('Информация о пользователе'!F657))","v":"pusto"},{"$f":"IF('Информация о пользователе'!G657=\"\",TRIM(LEFT(Translit.Translit(Service!E655),2))&INDEX(Service!H655:H673,RANDBETWEEN(1,19),1)&RANDBETWEEN(1,9)&IF(Service!F655=\"\",TRIM(LEFT(Translit.Translit(Service!E655),3))&INDEX(Service!A655:A680,RANDBETWEEN(1,26),1),TRIM(LEFT(Translit.Translit(Service!F655),2))&INDEX(Service!H655:H673,RANDBETWEEN(1,19),1)&INDEX(Service!A655:A680,RANDBETWEEN(1,26),1)),'Информация о пользователе'!G657)","v":{"$error":"#NAME?"}}]
[{"$f":"TRIM(IF('Информация о пользователе'!A658=\"\",\"Пусто\",'Информация о пользователе'!A658))","v":"Пусто"},{"$f":"TRIM(IF('Информация о пользователе'!B658=\"\",\" \",'Информация о пользователе'!B658&\" \"&'Информация о пользователе'!C658))","v":""},{"$f":"TRIM(IF(AD!A657=\"\",\"\",AD!B657&\" \"&A657))","v":"Пусто"},{"$f":"TRIM(IF('Информация о пользователе'!D658=\"\",F657&\"@edu54.ru\",'Информация о пользователе'!D658))","v":"pusto@edu54.ru"},{"$f":"TRIM(IF('Информация о пользователе'!E658=\"\",\"\",'Информация о пользователе'!E658))","v":""},{"$f":"IF('Информация о пользователе'!F658=\"\",TRIM(Translit.Translit(A657)&TRIM(LEFT(Translit.Translit(Service!E656),1))&TRIM(LEFT(Translit.Translit(Service!F656),1))),TRIM('Информация о пользователе'!F658))","v":"pusto"},{"$f":"IF('Информация о пользователе'!G658=\"\",TRIM(LEFT(Translit.Translit(Service!E656),2))&INDEX(Service!H656:H674,RANDBETWEEN(1,19),1)&RANDBETWEEN(1,9)&IF(Service!F656=\"\",TRIM(LEFT(Translit.Translit(Service!E656),3))&INDEX(Service!A656:A681,RANDBETWEEN(1,26),1),TRIM(LEFT(Translit.Translit(Service!F656),2))&INDEX(Service!H656:H674,RANDBETWEEN(1,19),1)&INDEX(Service!A656:A681,RANDBETWEEN(1,26),1)),'Информация о пользователе'!G658)","v":{"$error":"#NAME?"}}]
[{"$f":"TRIM(IF('Информация о пользователе'!A659=\"\",\"Пусто\",'Информация о пользователе'!A659))","v":"Пусто"},{"$f":"TRIM(IF('Информация о пользователе'!B659=\"\",\" \",'Информация о пользователе'!B659&\" \"&'Информация о пользователе'!C659))","v":""},{"$f":"TRIM(IF(AD!A658=\"\",\"\",AD!B658&\" \"&A658))","v":"Пусто"},{"$f":"TRIM(IF('Информация о пользователе'!D659=\"\",F658&\"@edu54.ru\",'Информация о пользователе'!D659))","v":"pusto@edu54.ru"},{"$f":"TRIM(IF('Информация о пользователе'!E659=\"\",\"\",'Информация о пользователе'!E659))","v":""},{"$f":"IF('Информация о пользователе'!F659=\"\",TRIM(Translit.Translit(A658)&TRIM(LEFT(Translit.Translit(Service!E657),1))&TRIM(LEFT(Translit.Translit(Service!F657),1))),TRIM('Информация о пользователе'!F659))","v":"pusto"},{"$f":"IF('Информация о пользователе'!G659=\"\",TRIM(LEFT(Translit.Translit(Service!E657),2))&INDEX(Service!H657:H675,RANDBETWEEN(1,19),1)&RANDBETWEEN(1,9)&IF(Service!F657=\"\",TRIM(LEFT(Translit.Translit(Service!E657),3))&INDEX(Service!A657:A682,RANDBETWEEN(1,26),1),TRIM(LEFT(Translit.Translit(Service!F657),2))&INDEX(Service!H657:H675,RANDBETWEEN(1,19),1)&INDEX(Service!A657:A682,RANDBETWEEN(1,26),1)),'Информация о пользователе'!G659)","v":{"$error":"#NAME?"}}]
[{"$f":"TRIM(IF('Информация о пользователе'!A660=\"\",\"Пусто\",'Информация о пользователе'!A660))","v":"Пусто"},{"$f":"TRIM(IF('Информация о пользователе'!B660=\"\",\" \",'Информация о пользователе'!B660&\" \"&'Информация о пользователе'!C660))","v":""},{"$f":"TRIM(IF(AD!A659=\"\",\"\",AD!B659&\" \"&A659))","v":"Пусто"},{"$f":"TRIM(IF('Информация о пользователе'!D660=\"\",F659&\"@edu54.ru\",'Информация о пользователе'!D660))","v":"pusto@edu54.ru"},{"$f":"TRIM(IF('Информация о пользователе'!E660=\"\",\"\",'Информация о пользователе'!E660))","v":""},{"$f":"IF('Информация о пользователе'!F660=\"\",TRIM(Translit.Translit(A659)&TRIM(LEFT(Translit.Translit(Service!E658),1))&TRIM(LEFT(Translit.Translit(Service!F658),1))),TRIM('Информация о пользователе'!F660))","v":"pusto"},{"$f":"IF('Информация о пользователе'!G660=\"\",TRIM(LEFT(Translit.Translit(Service!E658),2))&INDEX(Service!H658:H676,RANDBETWEEN(1,19),1)&RANDBETWEEN(1,9)&IF(Service!F658=\"\",TRIM(LEFT(Translit.Translit(Service!E658),3))&INDEX(Service!A658:A683,RANDBETWEEN(1,26),1),TRIM(LEFT(Translit.Translit(Service!F658),2))&INDEX(Service!H658:H676,RANDBETWEEN(1,19),1)&INDEX(Service!A658:A683,RANDBETWEEN(1,26),1)),'Информация о пользователе'!G660)","v":{"$error":"#NAME?"}}]
[{"$f":"TRIM(IF('Информация о пользователе'!A661=\"\",\"Пусто\",'Информация о пользователе'!A661))","v":"Пусто"},{"$f":"TRIM(IF('Информация о пользователе'!B661=\"\",\" \",'Информация о пользователе'!B661&\" \"&'Информация о пользователе'!C661))","v":""},{"$f":"TRIM(IF(AD!A660=\"\",\"\",AD!B660&\" \"&A660))","v":"Пусто"},{"$f":"TRIM(IF('Информация о пользователе'!D661=\"\",F660&\"@edu54.ru\",'Информация о пользователе'!D661))","v":"pusto@edu54.ru"},{"$f":"TRIM(IF('Информация о пользователе'!E661=\"\",\"\",'Информация о пользователе'!E661))","v":""},{"$f":"IF('Информация о пользователе'!F661=\"\",TRIM(Translit.Translit(A660)&TRIM(LEFT(Translit.Translit(Service!E659),1))&TRIM(LEFT(Translit.Translit(Service!F659),1))),TRIM('Информация о пользователе'!F661))","v":"pusto"},{"$f":"IF('Информация о пользователе'!G661=\"\",TRIM(LEFT(Translit.Translit(Service!E659),2))&INDEX(Service!H659:H677,RANDBETWEEN(1,19),1)&RANDBETWEEN(1,9)&IF(Service!F659=\"\",TRIM(LEFT(Translit.Translit(Service!E659),3))&INDEX(Service!A659:A684,RANDBETWEEN(1,26),1),TRIM(LEFT(Translit.Translit(Service!F659),2))&INDEX(Service!H659:H677,RANDBETWEEN(1,19),1)&INDEX(Service!A659:A684,RANDBETWEEN(1,26),1)),'Информация о пользователе'!G661)","v":{"$error":"#NAME?"}}]
[{"$f":"TRIM(IF('Информация о пользователе'!A662=\"\",\"Пусто\",'Информация о пользователе'!A662))","v":"Пусто"},{"$f":"TRIM(IF('Информация о пользователе'!B662=\"\",\" \",'Информация о пользователе'!B662&\" \"&'Информация о пользователе'!C662))","v":""},{"$f":"TRIM(IF(AD!A661=\"\",\"\",AD!B661&\" \"&A661))","v":"Пусто"},{"$f":"TRIM(IF('Информация о пользователе'!D662=\"\",F661&\"@edu54.ru\",'Информация о пользователе'!D662))","v":"pusto@edu54.ru"},{"$f":"TRIM(IF('Информация о пользователе'!E662=\"\",\"\",'Информация о пользователе'!E662))","v":""},{"$f":"IF('Информация о пользователе'!F662=\"\",TRIM(Translit.Translit(A661)&TRIM(LEFT(Translit.Translit(Service!E660),1))&TRIM(LEFT(Translit.Translit(Service!F660),1))),TRIM('Информация о пользователе'!F662))","v":"pusto"},{"$f":"IF('Информация о пользователе'!G662=\"\",TRIM(LEFT(Translit.Translit(Service!E660),2))&INDEX(Service!H660:H678,RANDBETWEEN(1,19),1)&RANDBETWEEN(1,9)&IF(Service!F660=\"\",TRIM(LEFT(Translit.Translit(Service!E660),3))&INDEX(Service!A660:A685,RANDBETWEEN(1,26),1),TRIM(LEFT(Translit.Translit(Service!F660),2))&INDEX(Service!H660:H678,RANDBETWEEN(1,19),1)&INDEX(Service!A660:A685,RANDBETWEEN(1,26),1)),'Информация о пользователе'!G662)","v":{"$error":"#NAME?"}}]
[{"$f":"TRIM(IF('Информация о пользователе'!A663=\"\",\"Пусто\",'Информация о пользователе'!A663))","v":"Пусто"},{"$f":"TRIM(IF('Информация о пользователе'!B663=\"\",\" \",'Информация о пользователе'!B663&\" \"&'Информация о пользователе'!C663))","v":""},{"$f":"TRIM(IF(AD!A662=\"\",\"\",AD!B662&\" \"&A662))","v":"Пусто"},{"$f":"TRIM(IF('Информация о пользователе'!D663=\"\",F662&\"@edu54.ru\",'Информация о пользователе'!D663))","v":"pusto@edu54.ru"},{"$f":"TRIM(IF('Информация о пользователе'!E663=\"\",\"\",'Информация о пользователе'!E663))","v":""},{"$f":"IF('Информация о пользователе'!F663=\"\",TRIM(Translit.Translit(A662)&TRIM(LEFT(Translit.Translit(Service!E661),1))&TRIM(LEFT(Translit.Translit(Service!F661),1))),TRIM('Информация о пользователе'!F663))","v":"pusto"},{"$f":"IF('Информация о пользователе'!G663=\"\",TRIM(LEFT(Translit.Translit(Service!E661),2))&INDEX(Service!H661:H679,RANDBETWEEN(1,19),1)&RANDBETWEEN(1,9)&IF(Service!F661=\"\",TRIM(LEFT(Translit.Translit(Service!E661),3))&INDEX(Service!A661:A686,RANDBETWEEN(1,26),1),TRIM(LEFT(Translit.Translit(Service!F661),2))&INDEX(Service!H661:H679,RANDBETWEEN(1,19),1)&INDEX(Service!A661:A686,RANDBETWEEN(1,26),1)),'Информация о пользователе'!G663)","v":{"$error":"#NAME?"}}]
[{"$f":"TRIM(IF('Информация о пользователе'!A664=\"\",\"Пусто\",'Информация о пользователе'!A664))","v":"Пусто"},{"$f":"TRIM(IF('Информация о пользователе'!B664=\"\",\" \",'Информация о пользователе'!B664&\" \"&'Информация о пользователе'!C664))","v":""},{"$f":"TRIM(IF(AD!A663=\"\",\"\",AD!B663&\" \"&A663))","v":"Пусто"},{"$f":"TRIM(IF('Информация о пользователе'!D664=\"\",F663&\"@edu54.ru\",'Информация о пользователе'!D664))","v":"pusto@edu54.ru"},{"$f":"TRIM(IF('Информация о пользователе'!E664=\"\",\"\",'Информация о пользователе'!E664))","v":""},{"$f":"IF('Информация о пользователе'!F664=\"\",TRIM(Translit.Translit(A663)&TRIM(LEFT(Translit.Translit(Service!E662),1))&TRIM(LEFT(Translit.Translit(Service!F662),1))),TRIM('Информация о пользователе'!F664))","v":"pusto"},{"$f":"IF('Информация о пользователе'!G664=\"\",TRIM(LEFT(Translit.Translit(Service!E662),2))&INDEX(Service!H662:H680,RANDBETWEEN(1,19),1)&RANDBETWEEN(1,9)&IF(Service!F662=\"\",TRIM(LEFT(Translit.Translit(Service!E662),3))&INDEX(Service!A662:A687,RANDBETWEEN(1,26),1),TRIM(LEFT(Translit.Translit(Service!F662),2))&INDEX(Service!H662:H680,RANDBETWEEN(1,19),1)&INDEX(Service!A662:A687,RANDBETWEEN(1,26),1)),'Информация о пользователе'!G664)","v":{"$error":"#NAME?"}}]
[{"$f":"TRIM(IF('Информация о пользователе'!A665=\"\",\"Пусто\",'Информация о пользователе'!A665))","v":"Пусто"},{"$f":"TRIM(IF('Информация о пользователе'!B665=\"\",\" \",'Информация о пользователе'!B665&\" \"&'Информация о пользователе'!C665))","v":""},{"$f":"TRIM(IF(AD!A664=\"\",\"\",AD!B664&\" \"&A664))","v":"Пусто"},{"$f":"TRIM(IF('Информация о пользователе'!D665=\"\",F664&\"@edu54.ru\",'Информация о пользователе'!D665))","v":"pusto@edu54.ru"},{"$f":"TRIM(IF('Информация о пользователе'!E665=\"\",\"\",'Информация о пользователе'!E665))","v":""},{"$f":"IF('Информация о пользователе'!F665=\"\",TRIM(Translit.Translit(A664)&TRIM(LEFT(Translit.Translit(Service!E663),1))&TRIM(LEFT(Translit.Translit(Service!F663),1))),TRIM('Информация о пользователе'!F665))","v":"pusto"},{"$f":"IF('Информация о пользователе'!G665=\"\",TRIM(LEFT(Translit.Translit(Service!E663),2))&INDEX(Service!H663:H681,RANDBETWEEN(1,19),1)&RANDBETWEEN(1,9)&IF(Service!F663=\"\",TRIM(LEFT(Translit.Translit(Service!E663),3))&INDEX(Service!A663:A688,RANDBETWEEN(1,26),1),TRIM(LEFT(Translit.Translit(Service!F663),2))&INDEX(Service!H663:H681,RANDBETWEEN(1,19),1)&INDEX(Service!A663:A688,RANDBETWEEN(1,26),1)),'Информация о пользователе'!G665)","v":{"$error":"#NAME?"}}]
[{"$f":"TRIM(IF('Информация о пользователе'!A666=\"\",\"Пусто\",'Информация о пользователе'!A666))","v":"Пусто"},{"$f":"TRIM(IF('Информация о пользователе'!B666=\"\",\" \",'Информация о пользователе'!B666&\" \"&'Информация о пользователе'!C666))","v":""},{"$f":"TRIM(IF(AD!A665=\"\",\"\",AD!B665&\" \"&A665))","v":"Пусто"},{"$f":"TRIM(IF('Информация о пользователе'!D666=\"\",F665&\"@edu54.ru\",'Информация о пользователе'!D666))","v":"pusto@edu54.ru"},{"$f":"TRIM(IF('Информация о пользователе'!E666=\"\",\"\",'Информация о пользователе'!E666))","v":""},{"$f":"IF('Информация о пользователе'!F666=\"\",TRIM(Translit.Translit(A665)&TRIM(LEFT(Translit.Translit(Service!E664),1))&TRIM(LEFT(Translit.Translit(Service!F664),1))),TRIM('Информация о пользователе'!F666))","v":"pusto"},{"$f":"IF('Информация о пользователе'!G666=\"\",TRIM(LEFT(Translit.Translit(Service!E664),2))&INDEX(Service!H664:H682,RANDBETWEEN(1,19),1)&RANDBETWEEN(1,9)&IF(Service!F664=\"\",TRIM(LEFT(Translit.Translit(Service!E664),3))&INDEX(Service!A664:A689,RANDBETWEEN(1,26),1),TRIM(LEFT(Translit.Translit(Service!F664),2))&INDEX(Service!H664:H682,RANDBETWEEN(1,19),1)&INDEX(Service!A664:A689,RANDBETWEEN(1,26),1)),'Информация о пользователе'!G666)","v":{"$error":"#NAME?"}}]
[{"$f":"TRIM(IF('Информация о пользователе'!A667=\"\",\"Пусто\",'Информация о пользователе'!A667))","v":"Пусто"},{"$f":"TRIM(IF('Информация о пользователе'!B667=\"\",\" \",'Информация о пользователе'!B667&\" \"&'Информация о пользователе'!C667))","v":""},{"$f":"TRIM(IF(AD!A666=\"\",\"\",AD!B666&\" \"&A666))","v":"Пусто"},{"$f":"TRIM(IF('Информация о пользователе'!D667=\"\",F666&\"@edu54.ru\",'Информация о пользователе'!D667))","v":"pusto@edu54.ru"},{"$f":"TRIM(IF('Информация о пользователе'!E667=\"\",\"\",'Информация о пользователе'!E667))","v":""},{"$f":"IF('Информация о пользователе'!F667=\"\",TRIM(Translit.Translit(A666)&TRIM(LEFT(Translit.Translit(Service!E665),1))&TRIM(LEFT(Translit.Translit(Service!F665),1))),TRIM('Информация о пользователе'!F667))","v":"pusto"},{"$f":"IF('Информация о пользователе'!G667=\"\",TRIM(LEFT(Translit.Translit(Service!E665),2))&INDEX(Service!H665:H683,RANDBETWEEN(1,19),1)&RANDBETWEEN(1,9)&IF(Service!F665=\"\",TRIM(LEFT(Translit.Translit(Service!E665),3))&INDEX(Service!A665:A690,RANDBETWEEN(1,26),1),TRIM(LEFT(Translit.Translit(Service!F665),2))&INDEX(Service!H665:H683,RANDBETWEEN(1,19),1)&INDEX(Service!A665:A690,RANDBETWEEN(1,26),1)),'Информация о пользователе'!G667)","v":{"$error":"#NAME?"}}]
[{"$f":"TRIM(IF('Информация о пользователе'!A668=\"\",\"Пусто\",'Информация о пользователе'!A668))","v":"Пусто"},{"$f":"TRIM(IF('Информация о пользователе'!B668=\"\",\" \",'Информация о пользователе'!B668&\" \"&'Информация о пользователе'!C668))","v":""},{"$f":"TRIM(IF(AD!A667=\"\",\"\",AD!B667&\" \"&A667))","v":"Пусто"},{"$f":"TRIM(IF('Информация о пользователе'!D668=\"\",F667&\"@edu54.ru\",'Информация о пользователе'!D668))","v":"pusto@edu54.ru"},{"$f":"TRIM(IF('Информация о пользователе'!E668=\"\",\"\",'Информация о пользователе'!E668))","v":""},{"$f":"IF('Информация о пользователе'!F668=\"\",TRIM(Translit.Translit(A667)&TRIM(LEFT(Translit.Translit(Service!E666),1))&TRIM(LEFT(Translit.Translit(Service!F666),1))),TRIM('Информация о пользователе'!F668))","v":"pusto"},{"$f":"IF('Информация о пользователе'!G668=\"\",TRIM(LEFT(Translit.Translit(Service!E666),2))&INDEX(Service!H666:H684,RANDBETWEEN(1,19),1)&RANDBETWEEN(1,9)&IF(Service!F666=\"\",TRIM(LEFT(Translit.Translit(Service!E666),3))&INDEX(Service!A666:A691,RANDBETWEEN(1,26),1),TRIM(LEFT(Translit.Translit(Service!F666),2))&INDEX(Service!H666:H684,RANDBETWEEN(1,19),1)&INDEX(Service!A666:A691,RANDBETWEEN(1,26),1)),'Информация о пользователе'!G668)","v":{"$error":"#NAME?"}}]
[{"$f":"TRIM(IF('Информация о пользователе'!A669=\"\",\"Пусто\",'Информация о пользователе'!A669))","v":"Пусто"},{"$f":"TRIM(IF('Информация о пользователе'!B669=\"\",\" \",'Информация о пользователе'!B669&\" \"&'Информация о пользователе'!C669))","v":""},{"$f":"TRIM(IF(AD!A668=\"\",\"\",AD!B668&\" \"&A668))","v":"Пусто"},{"$f":"TRIM(IF('Информация о пользователе'!D669=\"\",F668&\"@edu54.ru\",'Информация о пользователе'!D669))","v":"pusto@edu54.ru"},{"$f":"TRIM(IF('Информация о пользователе'!E669=\"\",\"\",'Информация о пользователе'!E669))","v":""},{"$f":"IF('Информация о пользователе'!F669=\"\",TRIM(Translit.Translit(A668)&TRIM(LEFT(Translit.Translit(Service!E667),1))&TRIM(LEFT(Translit.Translit(Service!F667),1))),TRIM('Информация о пользователе'!F669))","v":"pusto"},{"$f":"IF('Информация о пользователе'!G669=\"\",TRIM(LEFT(Translit.Translit(Service!E667),2))&INDEX(Service!H667:H685,RANDBETWEEN(1,19),1)&RANDBETWEEN(1,9)&IF(Service!F667=\"\",TRIM(LEFT(Translit.Translit(Service!E667),3))&INDEX(Service!A667:A692,RANDBETWEEN(1,26),1),TRIM(LEFT(Translit.Translit(Service!F667),2))&INDEX(Service!H667:H685,RANDBETWEEN(1,19),1)&INDEX(Service!A667:A692,RANDBETWEEN(1,26),1)),'Информация о пользователе'!G669)","v":{"$error":"#NAME?"}}]
[{"$f":"TRIM(IF('Информация о пользователе'!A670=\"\",\"Пусто\",'Информация о пользователе'!A670))","v":"Пусто"},{"$f":"TRIM(IF('Информация о пользователе'!B670=\"\",\" \",'Информация о пользователе'!B670&\" \"&'Информация о пользователе'!C670))","v":""},{"$f":"TRIM(IF(AD!A669=\"\",\"\",AD!B669&\" \"&A669))","v":"Пусто"},{"$f":"TRIM(IF('Информация о пользователе'!D670=\"\",F669&\"@edu54.ru\",'Информация о пользователе'!D670))","v":"pusto@edu54.ru"},{"$f":"TRIM(IF('Информация о пользователе'!E670=\"\",\"\",'Информация о пользователе'!E670))","v":""},{"$f":"IF('Информация о пользователе'!F670=\"\",TRIM(Translit.Translit(A669)&TRIM(LEFT(Translit.Translit(Service!E668),1))&TRIM(LEFT(Translit.Translit(Service!F668),1))),TRIM('Информация о пользователе'!F670))","v":"pusto"},{"$f":"IF('Информация о пользователе'!G670=\"\",TRIM(LEFT(Translit.Translit(Service!E668),2))&INDEX(Service!H668:H686,RANDBETWEEN(1,19),1)&RANDBETWEEN(1,9)&IF(Service!F668=\"\",TRIM(LEFT(Translit.Translit(Service!E668),3))&INDEX(Service!A668:A693,RANDBETWEEN(1,26),1),TRIM(LEFT(Translit.Translit(Service!F668),2))&INDEX(Service!H668:H686,RANDBETWEEN(1,19),1)&INDEX(Service!A668:A693,RANDBETWEEN(1,26),1)),'Информация о пользователе'!G670)","v":{"$error":"#NAME?"}}]
[{"$f":"TRIM(IF('Информация о пользователе'!A671=\"\",\"Пусто\",'Информация о пользователе'!A671))","v":"Пусто"},{"$f":"TRIM(IF('Информация о пользователе'!B671=\"\",\" \",'Информация о пользователе'!B671&\" \"&'Информация о пользователе'!C671))","v":""},{"$f":"TRIM(IF(AD!A670=\"\",\"\",AD!B670&\" \"&A670))","v":"Пусто"},{"$f":"TRIM(IF('Информация о пользователе'!D671=\"\",F670&\"@edu54.ru\",'Информация о пользователе'!D671))","v":"pusto@edu54.ru"},{"$f":"TRIM(IF('Информация о пользователе'!E671=\"\",\"\",'Информация о пользователе'!E671))","v":""},{"$f":"IF('Информация о пользователе'!F671=\"\",TRIM(Translit.Translit(A670)&TRIM(LEFT(Translit.Translit(Service!E669),1))&TRIM(LEFT(Translit.Translit(Service!F669),1))),TRIM('Информация о пользователе'!F671))","v":"pusto"},{"$f":"IF('Информация о пользователе'!G671=\"\",TRIM(LEFT(Translit.Translit(Service!E669),2))&INDEX(Service!H669:H687,RANDBETWEEN(1,19),1)&RANDBETWEEN(1,9)&IF(Service!F669=\"\",TRIM(LEFT(Translit.Translit(Service!E669),3))&INDEX(Service!A669:A694,RANDBETWEEN(1,26),1),TRIM(LEFT(Translit.Translit(Service!F669),2))&INDEX(Service!H669:H687,RANDBETWEEN(1,19),1)&INDEX(Service!A669:A694,RANDBETWEEN(1,26),1)),'Информация о пользователе'!G671)","v":{"$error":"#NAME?"}}]
[{"$f":"TRIM(IF('Информация о пользователе'!A672=\"\",\"Пусто\",'Информация о пользователе'!A672))","v":"Пусто"},{"$f":"TRIM(IF('Информация о пользователе'!B672=\"\",\" \",'Информация о пользователе'!B672&\" \"&'Информация о пользователе'!C672))","v":""},{"$f":"TRIM(IF(AD!A671=\"\",\"\",AD!B671&\" \"&A671))","v":"Пусто"},{"$f":"TRIM(IF('Информация о пользователе'!D672=\"\",F671&\"@edu54.ru\",'Информация о пользователе'!D672))","v":"pusto@edu54.ru"},{"$f":"TRIM(IF('Информация о пользователе'!E672=\"\",\"\",'Информация о пользователе'!E672))","v":""},{"$f":"IF('Информация о пользователе'!F672=\"\",TRIM(Translit.Translit(A671)&TRIM(LEFT(Translit.Translit(Service!E670),1))&TRIM(LEFT(Translit.Translit(Service!F670),1))),TRIM('Информация о пользователе'!F672))","v":"pusto"},{"$f":"IF('Информация о пользователе'!G672=\"\",TRIM(LEFT(Translit.Translit(Service!E670),2))&INDEX(Service!H670:H688,RANDBETWEEN(1,19),1)&RANDBETWEEN(1,9)&IF(Service!F670=\"\",TRIM(LEFT(Translit.Translit(Service!E670),3))&INDEX(Service!A670:A695,RANDBETWEEN(1,26),1),TRIM(LEFT(Translit.Translit(Service!F670),2))&INDEX(Service!H670:H688,RANDBETWEEN(1,19),1)&INDEX(Service!A670:A695,RANDBETWEEN(1,26),1)),'Информация о пользователе'!G672)","v":{"$error":"#NAME?"}}]
[{"$f":"TRIM(IF('Информация о пользователе'!A673=\"\",\"Пусто\",'Информация о пользователе'!A673))","v":"Пусто"},{"$f":"TRIM(IF('Информация о пользователе'!B673=\"\",\" \",'Информация о пользователе'!B673&\" \"&'Информация о пользователе'!C673))","v":""},{"$f":"TRIM(IF(AD!A672=\"\",\"\",AD!B672&\" \"&A672))","v":"Пусто"},{"$f":"TRIM(IF('Информация о пользователе'!D673=\"\",F672&\"@edu54.ru\",'Информация о пользователе'!D673))","v":"pusto@edu54.ru"},{"$f":"TRIM(IF('Информация о пользователе'!E673=\"\",\"\",'Информация о пользователе'!E673))","v":""},{"$f":"IF('Информация о пользователе'!F673=\"\",TRIM(Translit.Translit(A672)&TRIM(LEFT(Translit.Translit(Service!E671),1))&TRIM(LEFT(Translit.Translit(Service!F671),1))),TRIM('Информация о пользователе'!F673))","v":"pusto"},{"$f":"IF('Информация о пользователе'!G673=\"\",TRIM(LEFT(Translit.Translit(Service!E671),2))&INDEX(Service!H671:H689,RANDBETWEEN(1,19),1)&RANDBETWEEN(1,9)&IF(Service!F671=\"\",TRIM(LEFT(Translit.Translit(Service!E671),3))&INDEX(Service!A671:A696,RANDBETWEEN(1,26),1),TRIM(LEFT(Translit.Translit(Service!F671),2))&INDEX(Service!H671:H689,RANDBETWEEN(1,19),1)&INDEX(Service!A671:A696,RANDBETWEEN(1,26),1)),'Информация о пользователе'!G673)","v":{"$error":"#NAME?"}}]
[{"$f":"TRIM(IF('Информация о пользователе'!A674=\"\",\"Пусто\",'Информация о пользователе'!A674))","v":"Пусто"},{"$f":"TRIM(IF('Информация о пользователе'!B674=\"\",\" \",'Информация о пользователе'!B674&\" \"&'Информация о пользователе'!C674))","v":""},{"$f":"TRIM(IF(AD!A673=\"\",\"\",AD!B673&\" \"&A673))","v":"Пусто"},{"$f":"TRIM(IF('Информация о пользователе'!D674=\"\",F673&\"@edu54.ru\",'Информация о пользователе'!D674))","v":"pusto@edu54.ru"},{"$f":"TRIM(IF('Информация о пользователе'!E674=\"\",\"\",'Информация о пользователе'!E674))","v":""},{"$f":"IF('Информация о пользователе'!F674=\"\",TRIM(Translit.Translit(A673)&TRIM(LEFT(Translit.Translit(Service!E672),1))&TRIM(LEFT(Translit.Translit(Service!F672),1))),TRIM('Информация о пользователе'!F674))","v":"pusto"},{"$f":"IF('Информация о пользователе'!G674=\"\",TRIM(LEFT(Translit.Translit(Service!E672),2))&INDEX(Service!H672:H690,RANDBETWEEN(1,19),1)&RANDBETWEEN(1,9)&IF(Service!F672=\"\",TRIM(LEFT(Translit.Translit(Service!E672),3))&INDEX(Service!A672:A697,RANDBETWEEN(1,26),1),TRIM(LEFT(Translit.Translit(Service!F672),2))&INDEX(Service!H672:H690,RANDBETWEEN(1,19),1)&INDEX(Service!A672:A697,RANDBETWEEN(1,26),1)),'Информация о пользователе'!G674)","v":{"$error":"#NAME?"}}]
[{"$f":"TRIM(IF('Информация о пользователе'!A675=\"\",\"Пусто\",'Информация о пользователе'!A675))","v":"Пусто"},{"$f":"TRIM(IF('Информация о пользователе'!B675=\"\",\" \",'Информация о пользователе'!B675&\" \"&'Информация о пользователе'!C675))","v":""},{"$f":"TRIM(IF(AD!A674=\"\",\"\",AD!B674&\" \"&A674))","v":"Пусто"},{"$f":"TRIM(IF('Информация о пользователе'!D675=\"\",F674&\"@edu54.ru\",'Информация о пользователе'!D675))","v":"pusto@edu54.ru"},{"$f":"TRIM(IF('Информация о пользователе'!E675=\"\",\"\",'Информация о пользователе'!E675))","v":""},{"$f":"IF('Информация о пользователе'!F675=\"\",TRIM(Translit.Translit(A674)&TRIM(LEFT(Translit.Translit(Service!E673),1))&TRIM(LEFT(Translit.Translit(Service!F673),1))),TRIM('Информация о пользователе'!F675))","v":"pusto"},{"$f":"IF('Информация о пользователе'!G675=\"\",TRIM(LEFT(Translit.Translit(Service!E673),2))&INDEX(Service!H673:H691,RANDBETWEEN(1,19),1)&RANDBETWEEN(1,9)&IF(Service!F673=\"\",TRIM(LEFT(Translit.Translit(Service!E673),3))&INDEX(Service!A673:A698,RANDBETWEEN(1,26),1),TRIM(LEFT(Translit.Translit(Service!F673),2))&INDEX(Service!H673:H691,RANDBETWEEN(1,19),1)&INDEX(Service!A673:A698,RANDBETWEEN(1,26),1)),'Информация о пользователе'!G675)","v":{"$error":"#NAME?"}}]
[{"$f":"TRIM(IF('Информация о пользователе'!A676=\"\",\"Пусто\",'Информация о пользователе'!A676))","v":"Пусто"},{"$f":"TRIM(IF('Информация о пользователе'!B676=\"\",\" \",'Информация о пользователе'!B676&\" \"&'Информация о пользователе'!C676))","v":""},{"$f":"TRIM(IF(AD!A675=\"\",\"\",AD!B675&\" \"&A675))","v":"Пусто"},{"$f":"TRIM(IF('Информация о пользователе'!D676=\"\",F675&\"@edu54.ru\",'Информация о пользователе'!D676))","v":"pusto@edu54.ru"},{"$f":"TRIM(IF('Информация о пользователе'!E676=\"\",\"\",'Информация о пользователе'!E676))","v":""},{"$f":"IF('Информация о пользователе'!F676=\"\",TRIM(Translit.Translit(A675)&TRIM(LEFT(Translit.Translit(Service!E674),1))&TRIM(LEFT(Translit.Translit(Service!F674),1))),TRIM('Информация о пользователе'!F676))","v":"pusto"},{"$f":"IF('Информация о пользователе'!G676=\"\",TRIM(LEFT(Translit.Translit(Service!E674),2))&INDEX(Service!H674:H692,RANDBETWEEN(1,19),1)&RANDBETWEEN(1,9)&IF(Service!F674=\"\",TRIM(LEFT(Translit.Translit(Service!E674),3))&INDEX(Service!A674:A699,RANDBETWEEN(1,26),1),TRIM(LEFT(Translit.Translit(Service!F674),2))&INDEX(Service!H674:H692,RANDBETWEEN(1,19),1)&INDEX(Service!A674:A699,RANDBETWEEN(1,26),1)),'Информация о пользователе'!G676)","v":{"$error":"#NAME?"}}]
[{"$f":"TRIM(IF('Информация о пользователе'!A677=\"\",\"Пусто\",'Информация о пользователе'!A677))","v":"Пусто"},{"$f":"TRIM(IF('Информация о пользователе'!B677=\"\",\" \",'Информация о пользователе'!B677&\" \"&'Информация о пользователе'!C677))","v":""},{"$f":"TRIM(IF(AD!A676=\"\",\"\",AD!B676&\" \"&A676))","v":"Пусто"},{"$f":"TRIM(IF('Информация о пользователе'!D677=\"\",F676&\"@edu54.ru\",'Информация о пользователе'!D677))","v":"pusto@edu54.ru"},{"$f":"TRIM(IF('Информация о пользователе'!E677=\"\",\"\",'Информация о пользователе'!E677))","v":""},{"$f":"IF('Информация о пользователе'!F677=\"\",TRIM(Translit.Translit(A676)&TRIM(LEFT(Translit.Translit(Service!E675),1))&TRIM(LEFT(Translit.Translit(Service!F675),1))),TRIM('Информация о пользователе'!F677))","v":"pusto"},{"$f":"IF('Информация о пользователе'!G677=\"\",TRIM(LEFT(Translit.Translit(Service!E675),2))&INDEX(Service!H675:H693,RANDBETWEEN(1,19),1)&RANDBETWEEN(1,9)&IF(Service!F675=\"\",TRIM(LEFT(Translit.Translit(Service!E675),3))&INDEX(Service!A675:A700,RANDBETWEEN(1,26),1),TRIM(LEFT(Translit.Translit(Service!F675),2))&INDEX(Service!H675:H693,RANDBETWEEN(1,19),1)&INDEX(Service!A675:A700,RANDBETWEEN(1,26),1)),'Информация о пользователе'!G677)","v":{"$error":"#NAME?"}}]
[{"$f":"TRIM(IF('Информация о пользователе'!A678=\"\",\"Пусто\",'Информация о пользователе'!A678))","v":"Пусто"},{"$f":"TRIM(IF('Информация о пользователе'!B678=\"\",\" \",'Информация о пользователе'!B678&\" \"&'Информация о пользователе'!C678))","v":""},{"$f":"TRIM(IF(AD!A677=\"\",\"\",AD!B677&\" \"&A677))","v":"Пусто"},{"$f":"TRIM(IF('Информация о пользователе'!D678=\"\",F677&\"@edu54.ru\",'Информация о пользователе'!D678))","v":"pusto@edu54.ru"},{"$f":"TRIM(IF('Информация о пользователе'!E678=\"\",\"\",'Информация о пользователе'!E678))","v":""},{"$f":"IF('Информация о пользователе'!F678=\"\",TRIM(Translit.Translit(A677)&TRIM(LEFT(Translit.Translit(Service!E676),1))&TRIM(LEFT(Translit.Translit(Service!F676),1))),TRIM('Информация о пользователе'!F678))","v":"pusto"},{"$f":"IF('Информация о пользователе'!G678=\"\",TRIM(LEFT(Translit.Translit(Service!E676),2))&INDEX(Service!H676:H694,RANDBETWEEN(1,19),1)&RANDBETWEEN(1,9)&IF(Service!F676=\"\",TRIM(LEFT(Translit.Translit(Service!E676),3))&INDEX(Service!A676:A701,RANDBETWEEN(1,26),1),TRIM(LEFT(Translit.Translit(Service!F676),2))&INDEX(Service!H676:H694,RANDBETWEEN(1,19),1)&INDEX(Service!A676:A701,RANDBETWEEN(1,26),1)),'Информация о пользователе'!G678)","v":{"$error":"#NAME?"}}]
[{"$f":"TRIM(IF('Информация о пользователе'!A679=\"\",\"Пусто\",'Информация о пользователе'!A679))","v":"Пусто"},{"$f":"TRIM(IF('Информация о пользователе'!B679=\"\",\" \",'Информация о пользователе'!B679&\" \"&'Информация о пользователе'!C679))","v":""},{"$f":"TRIM(IF(AD!A678=\"\",\"\",AD!B678&\" \"&A678))","v":"Пусто"},{"$f":"TRIM(IF('Информация о пользователе'!D679=\"\",F678&\"@edu54.ru\",'Информация о пользователе'!D679))","v":"pusto@edu54.ru"},{"$f":"TRIM(IF('Информация о пользователе'!E679=\"\",\"\",'Информация о пользователе'!E679))","v":""},{"$f":"IF('Информация о пользователе'!F679=\"\",TRIM(Translit.Translit(A678)&TRIM(LEFT(Translit.Translit(Service!E677),1))&TRIM(LEFT(Translit.Translit(Service!F677),1))),TRIM('Информация о пользователе'!F679))","v":"pusto"},{"$f":"IF('Информация о пользователе'!G679=\"\",TRIM(LEFT(Translit.Translit(Service!E677),2))&INDEX(Service!H677:H695,RANDBETWEEN(1,19),1)&RANDBETWEEN(1,9)&IF(Service!F677=\"\",TRIM(LEFT(Translit.Translit(Service!E677),3))&INDEX(Service!A677:A702,RANDBETWEEN(1,26),1),TRIM(LEFT(Translit.Translit(Service!F677),2))&INDEX(Service!H677:H695,RANDBETWEEN(1,19),1)&INDEX(Service!A677:A702,RANDBETWEEN(1,26),1)),'Информация о пользователе'!G679)","v":{"$error":"#NAME?"}}]
[{"$f":"TRIM(IF('Информация о пользователе'!A680=\"\",\"Пусто\",'Информация о пользователе'!A680))","v":"Пусто"},{"$f":"TRIM(IF('Информация о пользователе'!B680=\"\",\" \",'Информация о пользователе'!B680&\" \"&'Информация о пользователе'!C680))","v":""},{"$f":"TRIM(IF(AD!A679=\"\",\"\",AD!B679&\" \"&A679))","v":"Пусто"},{"$f":"TRIM(IF('Информация о пользователе'!D680=\"\",F679&\"@edu54.ru\",'Информация о пользователе'!D680))","v":"pusto@edu54.ru"},{"$f":"TRIM(IF('Информация о пользователе'!E680=\"\",\"\",'Информация о пользователе'!E680))","v":""},{"$f":"IF('Информация о пользователе'!F680=\"\",TRIM(Translit.Translit(A679)&TRIM(LEFT(Translit.Translit(Service!E678),1))&TRIM(LEFT(Translit.Translit(Service!F678),1))),TRIM('Информация о пользователе'!F680))","v":"pusto"},{"$f":"IF('Информация о пользователе'!G680=\"\",TRIM(LEFT(Translit.Translit(Service!E678),2))&INDEX(Service!H678:H696,RANDBETWEEN(1,19),1)&RANDBETWEEN(1,9)&IF(Service!F678=\"\",TRIM(LEFT(Translit.Translit(Service!E678),3))&INDEX(Service!A678:A703,RANDBETWEEN(1,26),1),TRIM(LEFT(Translit.Translit(Service!F678),2))&INDEX(Service!H678:H696,RANDBETWEEN(1,19),1)&INDEX(Service!A678:A703,RANDBETWEEN(1,26),1)),'Информация о пользователе'!G680)","v":{"$error":"#NAME?"}}]
[{"$f":"TRIM(IF('Информация о пользователе'!A681=\"\",\"Пусто\",'Информация о пользователе'!A681))","v":"Пусто"},{"$f":"TRIM(IF('Информация о пользователе'!B681=\"\",\" \",'Информация о пользователе'!B681&\" \"&'Информация о пользователе'!C681))","v":""},{"$f":"TRIM(IF(AD!A680=\"\",\"\",AD!B680&\" \"&A680))","v":"Пусто"},{"$f":"TRIM(IF('Информация о пользователе'!D681=\"\",F680&\"@edu54.ru\",'Информация о пользователе'!D681))","v":"pusto@edu54.ru"},{"$f":"TRIM(IF('Информация о пользователе'!E681=\"\",\"\",'Информация о пользователе'!E681))","v":""},{"$f":"IF('Информация о пользователе'!F681=\"\",TRIM(Translit.Translit(A680)&TRIM(LEFT(Translit.Translit(Service!E679),1))&TRIM(LEFT(Translit.Translit(Service!F679),1))),TRIM('Информация о пользователе'!F681))","v":"pusto"},{"$f":"IF('Информация о пользователе'!G681=\"\",TRIM(LEFT(Translit.Translit(Service!E679),2))&INDEX(Service!H679:H697,RANDBETWEEN(1,19),1)&RANDBETWEEN(1,9)&IF(Service!F679=\"\",TRIM(LEFT(Translit.Translit(Service!E679),3))&INDEX(Service!A679:A704,RANDBETWEEN(1,26),1),TRIM(LEFT(Translit.Translit(Service!F679),2))&INDEX(Service!H679:H697,RANDBETWEEN(1,19),1)&INDEX(Service!A679:A704,RANDBETWEEN(1,26),1)),'Информация о пользователе'!G681)","v":{"$error":"#NAME?"}}]
[{"$f":"TRIM(IF('Информация о пользователе'!A682=\"\",\"Пусто\",'Информация о пользователе'!A682))","v":"Пусто"},{"$f":"TRIM(IF('Информация о пользователе'!B682=\"\",\" \",'Информация о пользователе'!B682&\" \"&'Информация о пользователе'!C682))","v":""},{"$f":"TRIM(IF(AD!A681=\"\",\"\",AD!B681&\" \"&A681))","v":"Пусто"},{"$f":"TRIM(IF('Информация о пользователе'!D682=\"\",F681&\"@edu54.ru\",'Информация о пользователе'!D682))","v":"pusto@edu54.ru"},{"$f":"TRIM(IF('Информация о пользователе'!E682=\"\",\"\",'Информация о пользователе'!E682))","v":""},{"$f":"IF('Информация о пользователе'!F682=\"\",TRIM(Translit.Translit(A681)&TRIM(LEFT(Translit.Translit(Service!E680),1))&TRIM(LEFT(Translit.Translit(Service!F680),1))),TRIM('Информация о пользователе'!F682))","v":"pusto"},{"$f":"IF('Информация о пользователе'!G682=\"\",TRIM(LEFT(Translit.Translit(Service!E680),2))&INDEX(Service!H680:H698,RANDBETWEEN(1,19),1)&RANDBETWEEN(1,9)&IF(Service!F680=\"\",TRIM(LEFT(Translit.Translit(Service!E680),3))&INDEX(Service!A680:A705,RANDBETWEEN(1,26),1),TRIM(LEFT(Translit.Translit(Service!F680),2))&INDEX(Service!H680:H698,RANDBETWEEN(1,19),1)&INDEX(Service!A680:A705,RANDBETWEEN(1,26),1)),'Информация о пользователе'!G682)","v":{"$error":"#NAME?"}}]
[{"$f":"TRIM(IF('Информация о пользователе'!A683=\"\",\"Пусто\",'Информация о пользователе'!A683))","v":"Пусто"},{"$f":"TRIM(IF('Информация о пользователе'!B683=\"\",\" \",'Информация о пользователе'!B683&\" \"&'Информация о пользователе'!C683))","v":""},{"$f":"TRIM(IF(AD!A682=\"\",\"\",AD!B682&\" \"&A682))","v":"Пусто"},{"$f":"TRIM(IF('Информация о пользователе'!D683=\"\",F682&\"@edu54.ru\",'Информация о пользователе'!D683))","v":"pusto@edu54.ru"},{"$f":"TRIM(IF('Информация о пользователе'!E683=\"\",\"\",'Информация о пользователе'!E683))","v":""},{"$f":"IF('Информация о пользователе'!F683=\"\",TRIM(Translit.Translit(A682)&TRIM(LEFT(Translit.Translit(Service!E681),1))&TRIM(LEFT(Translit.Translit(Service!F681),1))),TRIM('Информация о пользователе'!F683))","v":"pusto"},{"$f":"IF('Информация о пользователе'!G683=\"\",TRIM(LEFT(Translit.Translit(Service!E681),2))&INDEX(Service!H681:H699,RANDBETWEEN(1,19),1)&RANDBETWEEN(1,9)&IF(Service!F681=\"\",TRIM(LEFT(Translit.Translit(Service!E681),3))&INDEX(Service!A681:A706,RANDBETWEEN(1,26),1),TRIM(LEFT(Translit.Translit(Service!F681),2))&INDEX(Service!H681:H699,RANDBETWEEN(1,19),1)&INDEX(Service!A681:A706,RANDBETWEEN(1,26),1)),'Информация о пользователе'!G683)","v":{"$error":"#NAME?"}}]
[{"$f":"TRIM(IF('Информация о пользователе'!A684=\"\",\"Пусто\",'Информация о пользователе'!A684))","v":"Пусто"},{"$f":"TRIM(IF('Информация о пользователе'!B684=\"\",\" \",'Информация о пользователе'!B684&\" \"&'Информация о пользователе'!C684))","v":""},{"$f":"TRIM(IF(AD!A683=\"\",\"\",AD!B683&\" \"&A683))","v":"Пусто"},{"$f":"TRIM(IF('Информация о пользователе'!D684=\"\",F683&\"@edu54.ru\",'Информация о пользователе'!D684))","v":"pusto@edu54.ru"},{"$f":"TRIM(IF('Информация о пользователе'!E684=\"\",\"\",'Информация о пользователе'!E684))","v":""},{"$f":"IF('Информация о пользователе'!F684=\"\",TRIM(Translit.Translit(A683)&TRIM(LEFT(Translit.Translit(Service!E682),1))&TRIM(LEFT(Translit.Translit(Service!F682),1))),TRIM('Информация о пользователе'!F684))","v":"pusto"},{"$f":"IF('Информация о пользователе'!G684=\"\",TRIM(LEFT(Translit.Translit(Service!E682),2))&INDEX(Service!H682:H700,RANDBETWEEN(1,19),1)&RANDBETWEEN(1,9)&IF(Service!F682=\"\",TRIM(LEFT(Translit.Translit(Service!E682),3))&INDEX(Service!A682:A707,RANDBETWEEN(1,26),1),TRIM(LEFT(Translit.Translit(Service!F682),2))&INDEX(Service!H682:H700,RANDBETWEEN(1,19),1)&INDEX(Service!A682:A707,RANDBETWEEN(1,26),1)),'Информация о пользователе'!G684)","v":{"$error":"#NAME?"}}]
[{"$f":"TRIM(IF('Информация о пользователе'!A685=\"\",\"Пусто\",'Информация о пользователе'!A685))","v":"Пусто"},{"$f":"TRIM(IF('Информация о пользователе'!B685=\"\",\" \",'Информация о пользователе'!B685&\" \"&'Информация о пользователе'!C685))","v":""},{"$f":"TRIM(IF(AD!A684=\"\",\"\",AD!B684&\" \"&A684))","v":"Пусто"},{"$f":"TRIM(IF('Информация о пользователе'!D685=\"\",F684&\"@edu54.ru\",'Информация о пользователе'!D685))","v":"pusto@edu54.ru"},{"$f":"TRIM(IF('Информация о пользователе'!E685=\"\",\"\",'Информация о пользователе'!E685))","v":""},{"$f":"IF('Информация о пользователе'!F685=\"\",TRIM(Translit.Translit(A684)&TRIM(LEFT(Translit.Translit(Service!E683),1))&TRIM(LEFT(Translit.Translit(Service!F683),1))),TRIM('Информация о пользователе'!F685))","v":"pusto"},{"$f":"IF('Информация о пользователе'!G685=\"\",TRIM(LEFT(Translit.Translit(Service!E683),2))&INDEX(Service!H683:H701,RANDBETWEEN(1,19),1)&RANDBETWEEN(1,9)&IF(Service!F683=\"\",TRIM(LEFT(Translit.Translit(Service!E683),3))&INDEX(Service!A683:A708,RANDBETWEEN(1,26),1),TRIM(LEFT(Translit.Translit(Service!F683),2))&INDEX(Service!H683:H701,RANDBETWEEN(1,19),1)&INDEX(Service!A683:A708,RANDBETWEEN(1,26),1)),'Информация о пользователе'!G685)","v":{"$error":"#NAME?"}}]
[{"$f":"TRIM(IF('Информация о пользователе'!A686=\"\",\"Пусто\",'Информация о пользователе'!A686))","v":"Пусто"},{"$f":"TRIM(IF('Информация о пользователе'!B686=\"\",\" \",'Информация о пользователе'!B686&\" \"&'Информация о пользователе'!C686))","v":""},{"$f":"TRIM(IF(AD!A685=\"\",\"\",AD!B685&\" \"&A685))","v":"Пусто"},{"$f":"TRIM(IF('Информация о пользователе'!D686=\"\",F685&\"@edu54.ru\",'Информация о пользователе'!D686))","v":"pusto@edu54.ru"},{"$f":"TRIM(IF('Информация о пользователе'!E686=\"\",\"\",'Информация о пользователе'!E686))","v":""},{"$f":"IF('Информация о пользователе'!F686=\"\",TRIM(Translit.Translit(A685)&TRIM(LEFT(Translit.Translit(Service!E684),1))&TRIM(LEFT(Translit.Translit(Service!F684),1))),TRIM('Информация о пользователе'!F686))","v":"pusto"},{"$f":"IF('Информация о пользователе'!G686=\"\",TRIM(LEFT(Translit.Translit(Service!E684),2))&INDEX(Service!H684:H702,RANDBETWEEN(1,19),1)&RANDBETWEEN(1,9)&IF(Service!F684=\"\",TRIM(LEFT(Translit.Translit(Service!E684),3))&INDEX(Service!A684:A709,RANDBETWEEN(1,26),1),TRIM(LEFT(Translit.Translit(Service!F684),2))&INDEX(Service!H684:H702,RANDBETWEEN(1,19),1)&INDEX(Service!A684:A709,RANDBETWEEN(1,26),1)),'Информация о пользователе'!G686)","v":{"$error":"#NAME?"}}]
[{"$f":"TRIM(IF('Информация о пользователе'!A687=\"\",\"Пусто\",'Информация о пользователе'!A687))","v":"Пусто"},{"$f":"TRIM(IF('Информация о пользователе'!B687=\"\",\" \",'Информация о пользователе'!B687&\" \"&'Информация о пользователе'!C687))","v":""},{"$f":"TRIM(IF(AD!A686=\"\",\"\",AD!B686&\" \"&A686))","v":"Пусто"},{"$f":"TRIM(IF('Информация о пользователе'!D687=\"\",F686&\"@edu54.ru\",'Информация о пользователе'!D687))","v":"pusto@edu54.ru"},{"$f":"TRIM(IF('Информация о пользователе'!E687=\"\",\"\",'Информация о пользователе'!E687))","v":""},{"$f":"IF('Информация о пользователе'!F687=\"\",TRIM(Translit.Translit(A686)&TRIM(LEFT(Translit.Translit(Service!E685),1))&TRIM(LEFT(Translit.Translit(Service!F685),1))),TRIM('Информация о пользователе'!F687))","v":"pusto"},{"$f":"IF('Информация о пользователе'!G687=\"\",TRIM(LEFT(Translit.Translit(Service!E685),2))&INDEX(Service!H685:H703,RANDBETWEEN(1,19),1)&RANDBETWEEN(1,9)&IF(Service!F685=\"\",TRIM(LEFT(Translit.Translit(Service!E685),3))&INDEX(Service!A685:A710,RANDBETWEEN(1,26),1),TRIM(LEFT(Translit.Translit(Service!F685),2))&INDEX(Service!H685:H703,RANDBETWEEN(1,19),1)&INDEX(Service!A685:A710,RANDBETWEEN(1,26),1)),'Информация о пользователе'!G687)","v":{"$error":"#NAME?"}}]
[{"$f":"TRIM(IF('Информация о пользователе'!A688=\"\",\"Пусто\",'Информация о пользователе'!A688))","v":"Пусто"},{"$f":"TRIM(IF('Информация о пользователе'!B688=\"\",\" \",'Информация о пользователе'!B688&\" \"&'Информация о пользователе'!C688))","v":""},{"$f":"TRIM(IF(AD!A687=\"\",\"\",AD!B687&\" \"&A687))","v":"Пусто"},{"$f":"TRIM(IF('Информация о пользователе'!D688=\"\",F687&\"@edu54.ru\",'Информация о пользователе'!D688))","v":"pusto@edu54.ru"},{"$f":"TRIM(IF('Информация о пользователе'!E688=\"\",\"\",'Информация о пользователе'!E688))","v":""},{"$f":"IF('Информация о пользователе'!F688=\"\",TRIM(Translit.Translit(A687)&TRIM(LEFT(Translit.Translit(Service!E686),1))&TRIM(LEFT(Translit.Translit(Service!F686),1))),TRIM('Информация о пользователе'!F688))","v":"pusto"},{"$f":"IF('Информация о пользователе'!G688=\"\",TRIM(LEFT(Translit.Translit(Service!E686),2))&INDEX(Service!H686:H704,RANDBETWEEN(1,19),1)&RANDBETWEEN(1,9)&IF(Service!F686=\"\",TRIM(LEFT(Translit.Translit(Service!E686),3))&INDEX(Service!A686:A711,RANDBETWEEN(1,26),1),TRIM(LEFT(Translit.Translit(Service!F686),2))&INDEX(Service!H686:H704,RANDBETWEEN(1,19),1)&INDEX(Service!A686:A711,RANDBETWEEN(1,26),1)),'Информация о пользователе'!G688)","v":{"$error":"#NAME?"}}]
[{"$f":"TRIM(IF('Информация о пользователе'!A689=\"\",\"Пусто\",'Информация о пользователе'!A689))","v":"Пусто"},{"$f":"TRIM(IF('Информация о пользователе'!B689=\"\",\" \",'Информация о пользователе'!B689&\" \"&'Информация о пользователе'!C689))","v":""},{"$f":"TRIM(IF(AD!A688=\"\",\"\",AD!B688&\" \"&A688))","v":"Пусто"},{"$f":"TRIM(IF('Информация о пользователе'!D689=\"\",F688&\"@edu54.ru\",'Информация о пользователе'!D689))","v":"pusto@edu54.ru"},{"$f":"TRIM(IF('Информация о пользователе'!E689=\"\",\"\",'Информация о пользователе'!E689))","v":""},{"$f":"IF('Информация о пользователе'!F689=\"\",TRIM(Translit.Translit(A688)&TRIM(LEFT(Translit.Translit(Service!E687),1))&TRIM(LEFT(Translit.Translit(Service!F687),1))),TRIM('Информация о пользователе'!F689))","v":"pusto"},{"$f":"IF('Информация о пользователе'!G689=\"\",TRIM(LEFT(Translit.Translit(Service!E687),2))&INDEX(Service!H687:H705,RANDBETWEEN(1,19),1)&RANDBETWEEN(1,9)&IF(Service!F687=\"\",TRIM(LEFT(Translit.Translit(Service!E687),3))&INDEX(Service!A687:A712,RANDBETWEEN(1,26),1),TRIM(LEFT(Translit.Translit(Service!F687),2))&INDEX(Service!H687:H705,RANDBETWEEN(1,19),1)&INDEX(Service!A687:A712,RANDBETWEEN(1,26),1)),'Информация о пользователе'!G689)","v":{"$error":"#NAME?"}}]
[{"$f":"TRIM(IF('Информация о пользователе'!A690=\"\",\"Пусто\",'Информация о пользователе'!A690))","v":"Пусто"},{"$f":"TRIM(IF('Информация о пользователе'!B690=\"\",\" \",'Информация о пользователе'!B690&\" \"&'Информация о пользователе'!C690))","v":""},{"$f":"TRIM(IF(AD!A689=\"\",\"\",AD!B689&\" \"&A689))","v":"Пусто"},{"$f":"TRIM(IF('Информация о пользователе'!D690=\"\",F689&\"@edu54.ru\",'Информация о пользователе'!D690))","v":"pusto@edu54.ru"},{"$f":"TRIM(IF('Информация о пользователе'!E690=\"\",\"\",'Информация о пользователе'!E690))","v":""},{"$f":"IF('Информация о пользователе'!F690=\"\",TRIM(Translit.Translit(A689)&TRIM(LEFT(Translit.Translit(Service!E688),1))&TRIM(LEFT(Translit.Translit(Service!F688),1))),TRIM('Информация о пользователе'!F690))","v":"pusto"},{"$f":"IF('Информация о пользователе'!G690=\"\",TRIM(LEFT(Translit.Translit(Service!E688),2))&INDEX(Service!H688:H706,RANDBETWEEN(1,19),1)&RANDBETWEEN(1,9)&IF(Service!F688=\"\",TRIM(LEFT(Translit.Translit(Service!E688),3))&INDEX(Service!A688:A713,RANDBETWEEN(1,26),1),TRIM(LEFT(Translit.Translit(Service!F688),2))&INDEX(Service!H688:H706,RANDBETWEEN(1,19),1)&INDEX(Service!A688:A713,RANDBETWEEN(1,26),1)),'Информация о пользователе'!G690)","v":{"$error":"#NAME?"}}]
[{"$f":"TRIM(IF('Информация о пользователе'!A691=\"\",\"Пусто\",'Информация о пользователе'!A691))","v":"Пусто"},{"$f":"TRIM(IF('Информация о пользователе'!B691=\"\",\" \",'Информация о пользователе'!B691&\" \"&'Информация о пользователе'!C691))","v":""},{"$f":"TRIM(IF(AD!A690=\"\",\"\",AD!B690&\" \"&A690))","v":"Пусто"},{"$f":"TRIM(IF('Информация о пользователе'!D691=\"\",F690&\"@edu54.ru\",'Информация о пользователе'!D691))","v":"pusto@edu54.ru"},{"$f":"TRIM(IF('Информация о пользователе'!E691=\"\",\"\",'Информация о пользователе'!E691))","v":""},{"$f":"IF('Информация о пользователе'!F691=\"\",TRIM(Translit.Translit(A690)&TRIM(LEFT(Translit.Translit(Service!E689),1))&TRIM(LEFT(Translit.Translit(Service!F689),1))),TRIM('Информация о пользователе'!F691))","v":"pusto"},{"$f":"IF('Информация о пользователе'!G691=\"\",TRIM(LEFT(Translit.Translit(Service!E689),2))&INDEX(Service!H689:H707,RANDBETWEEN(1,19),1)&RANDBETWEEN(1,9)&IF(Service!F689=\"\",TRIM(LEFT(Translit.Translit(Service!E689),3))&INDEX(Service!A689:A714,RANDBETWEEN(1,26),1),TRIM(LEFT(Translit.Translit(Service!F689),2))&INDEX(Service!H689:H707,RANDBETWEEN(1,19),1)&INDEX(Service!A689:A714,RANDBETWEEN(1,26),1)),'Информация о пользователе'!G691)","v":{"$error":"#NAME?"}}]
[{"$f":"TRIM(IF('Информация о пользователе'!A692=\"\",\"Пусто\",'Информация о пользователе'!A692))","v":"Пусто"},{"$f":"TRIM(IF('Информация о пользователе'!B692=\"\",\" \",'Информация о пользователе'!B692&\" \"&'Информация о пользователе'!C692))","v":""},{"$f":"TRIM(IF(AD!A691=\"\",\"\",AD!B691&\" \"&A691))","v":"Пусто"},{"$f":"TRIM(IF('Информация о пользователе'!D692=\"\",F691&\"@edu54.ru\",'Информация о пользователе'!D692))","v":"pusto@edu54.ru"},{"$f":"TRIM(IF('Информация о пользователе'!E692=\"\",\"\",'Информация о пользователе'!E692))","v":""},{"$f":"IF('Информация о пользователе'!F692=\"\",TRIM(Translit.Translit(A691)&TRIM(LEFT(Translit.Translit(Service!E690),1))&TRIM(LEFT(Translit.Translit(Service!F690),1))),TRIM('Информация о пользователе'!F692))","v":"pusto"},{"$f":"IF('Информация о пользователе'!G692=\"\",TRIM(LEFT(Translit.Translit(Service!E690),2))&INDEX(Service!H690:H708,RANDBETWEEN(1,19),1)&RANDBETWEEN(1,9)&IF(Service!F690=\"\",TRIM(LEFT(Translit.Translit(Service!E690),3))&INDEX(Service!A690:A715,RANDBETWEEN(1,26),1),TRIM(LEFT(Translit.Translit(Service!F690),2))&INDEX(Service!H690:H708,RANDBETWEEN(1,19),1)&INDEX(Service!A690:A715,RANDBETWEEN(1,26),1)),'Информация о пользователе'!G692)","v":{"$error":"#NAME?"}}]
[{"$f":"TRIM(IF('Информация о пользователе'!A693=\"\",\"Пусто\",'Информация о пользователе'!A693))","v":"Пусто"},{"$f":"TRIM(IF('Информация о пользователе'!B693=\"\",\" \",'Информация о пользователе'!B693&\" \"&'Информация о пользователе'!C693))","v":""},{"$f":"TRIM(IF(AD!A692=\"\",\"\",AD!B692&\" \"&A692))","v":"Пусто"},{"$f":"TRIM(IF('Информация о пользователе'!D693=\"\",F692&\"@edu54.ru\",'Информация о пользователе'!D693))","v":"pusto@edu54.ru"},{"$f":"TRIM(IF('Информация о пользователе'!E693=\"\",\"\",'Информация о пользователе'!E693))","v":""},{"$f":"IF('Информация о пользователе'!F693=\"\",TRIM(Translit.Translit(A692)&TRIM(LEFT(Translit.Translit(Service!E691),1))&TRIM(LEFT(Translit.Translit(Service!F691),1))),TRIM('Информация о пользователе'!F693))","v":"pusto"},{"$f":"IF('Информация о пользователе'!G693=\"\",TRIM(LEFT(Translit.Translit(Service!E691),2))&INDEX(Service!H691:H709,RANDBETWEEN(1,19),1)&RANDBETWEEN(1,9)&IF(Service!F691=\"\",TRIM(LEFT(Translit.Translit(Service!E691),3))&INDEX(Service!A691:A716,RANDBETWEEN(1,26),1),TRIM(LEFT(Translit.Translit(Service!F691),2))&INDEX(Service!H691:H709,RANDBETWEEN(1,19),1)&INDEX(Service!A691:A716,RANDBETWEEN(1,26),1)),'Информация о пользователе'!G693)","v":{"$error":"#NAME?"}}]
[{"$f":"TRIM(IF('Информация о пользователе'!A694=\"\",\"Пусто\",'Информация о пользователе'!A694))","v":"Пусто"},{"$f":"TRIM(IF('Информация о пользователе'!B694=\"\",\" \",'Информация о пользователе'!B694&\" \"&'Информация о пользователе'!C694))","v":""},{"$f":"TRIM(IF(AD!A693=\"\",\"\",AD!B693&\" \"&A693))","v":"Пусто"},{"$f":"TRIM(IF('Информация о пользователе'!D694=\"\",F693&\"@edu54.ru\",'Информация о пользователе'!D694))","v":"pusto@edu54.ru"},{"$f":"TRIM(IF('Информация о пользователе'!E694=\"\",\"\",'Информация о пользователе'!E694))","v":""},{"$f":"IF('Информация о пользователе'!F694=\"\",TRIM(Translit.Translit(A693)&TRIM(LEFT(Translit.Translit(Service!E692),1))&TRIM(LEFT(Translit.Translit(Service!F692),1))),TRIM('Информация о пользователе'!F694))","v":"pusto"},{"$f":"IF('Информация о пользователе'!G694=\"\",TRIM(LEFT(Translit.Translit(Service!E692),2))&INDEX(Service!H692:H710,RANDBETWEEN(1,19),1)&RANDBETWEEN(1,9)&IF(Service!F692=\"\",TRIM(LEFT(Translit.Translit(Service!E692),3))&INDEX(Service!A692:A717,RANDBETWEEN(1,26),1),TRIM(LEFT(Translit.Translit(Service!F692),2))&INDEX(Service!H692:H710,RANDBETWEEN(1,19),1)&INDEX(Service!A692:A717,RANDBETWEEN(1,26),1)),'Информация о пользователе'!G694)","v":{"$error":"#NAME?"}}]
[{"$f":"TRIM(IF('Информация о пользователе'!A695=\"\",\"Пусто\",'Информация о пользователе'!A695))","v":"Пусто"},{"$f":"TRIM(IF('Информация о пользователе'!B695=\"\",\" \",'Информация о пользователе'!B695&\" \"&'Информация о пользователе'!C695))","v":""},{"$f":"TRIM(IF(AD!A694=\"\",\"\",AD!B694&\" \"&A694))","v":"Пусто"},{"$f":"TRIM(IF('Информация о пользователе'!D695=\"\",F694&\"@edu54.ru\",'Информация о пользователе'!D695))","v":"pusto@edu54.ru"},{"$f":"TRIM(IF('Информация о пользователе'!E695=\"\",\"\",'Информация о пользователе'!E695))","v":""},{"$f":"IF('Информация о пользователе'!F695=\"\",TRIM(Translit.Translit(A694)&TRIM(LEFT(Translit.Translit(Service!E693),1))&TRIM(LEFT(Translit.Translit(Service!F693),1))),TRIM('Информация о пользователе'!F695))","v":"pusto"},{"$f":"IF('Информация о пользователе'!G695=\"\",TRIM(LEFT(Translit.Translit(Service!E693),2))&INDEX(Service!H693:H711,RANDBETWEEN(1,19),1)&RANDBETWEEN(1,9)&IF(Service!F693=\"\",TRIM(LEFT(Translit.Translit(Service!E693),3))&INDEX(Service!A693:A718,RANDBETWEEN(1,26),1),TRIM(LEFT(Translit.Translit(Service!F693),2))&INDEX(Service!H693:H711,RANDBETWEEN(1,19),1)&INDEX(Service!A693:A718,RANDBETWEEN(1,26),1)),'Информация о пользователе'!G695)","v":{"$error":"#NAME?"}}]
[{"$f":"TRIM(IF('Информация о пользователе'!A696=\"\",\"Пусто\",'Информация о пользователе'!A696))","v":"Пусто"},{"$f":"TRIM(IF('Информация о пользователе'!B696=\"\",\" \",'Информация о пользователе'!B696&\" \"&'Информация о пользователе'!C696))","v":""},{"$f":"TRIM(IF(AD!A695=\"\",\"\",AD!B695&\" \"&A695))","v":"Пусто"},{"$f":"TRIM(IF('Информация о пользователе'!D696=\"\",F695&\"@edu54.ru\",'Информация о пользователе'!D696))","v":"pusto@edu54.ru"},{"$f":"TRIM(IF('Информация о пользователе'!E696=\"\",\"\",'Информация о пользователе'!E696))","v":""},{"$f":"IF('Информация о пользователе'!F696=\"\",TRIM(Translit.Translit(A695)&TRIM(LEFT(Translit.Translit(Service!E694),1))&TRIM(LEFT(Translit.Translit(Service!F694),1))),TRIM('Информация о пользователе'!F696))","v":"pusto"},{"$f":"IF('Информация о пользователе'!G696=\"\",TRIM(LEFT(Translit.Translit(Service!E694),2))&INDEX(Service!H694:H712,RANDBETWEEN(1,19),1)&RANDBETWEEN(1,9)&IF(Service!F694=\"\",TRIM(LEFT(Translit.Translit(Service!E694),3))&INDEX(Service!A694:A719,RANDBETWEEN(1,26),1),TRIM(LEFT(Translit.Translit(Service!F694),2))&INDEX(Service!H694:H712,RANDBETWEEN(1,19),1)&INDEX(Service!A694:A719,RANDBETWEEN(1,26),1)),'Информация о пользователе'!G696)","v":{"$error":"#NAME?"}}]
[{"$f":"TRIM(IF('Информация о пользователе'!A697=\"\",\"Пусто\",'Информация о пользователе'!A697))","v":"Пусто"},{"$f":"TRIM(IF('Информация о пользователе'!B697=\"\",\" \",'Информация о пользователе'!B697&\" \"&'Информация о пользователе'!C697))","v":""},{"$f":"TRIM(IF(AD!A696=\"\",\"\",AD!B696&\" \"&A696))","v":"Пусто"},{"$f":"TRIM(IF('Информация о пользователе'!D697=\"\",F696&\"@edu54.ru\",'Информация о пользователе'!D697))","v":"pusto@edu54.ru"},{"$f":"TRIM(IF('Информация о пользователе'!E697=\"\",\"\",'Информация о пользователе'!E697))","v":""},{"$f":"IF('Информация о пользователе'!F697=\"\",TRIM(Translit.Translit(A696)&TRIM(LEFT(Translit.Translit(Service!E695),1))&TRIM(LEFT(Translit.Translit(Service!F695),1))),TRIM('Информация о пользователе'!F697))","v":"pusto"},{"$f":"IF('Информация о пользователе'!G697=\"\",TRIM(LEFT(Translit.Translit(Service!E695),2))&INDEX(Service!H695:H713,RANDBETWEEN(1,19),1)&RANDBETWEEN(1,9)&IF(Service!F695=\"\",TRIM(LEFT(Translit.Translit(Service!E695),3))&INDEX(Service!A695:A720,RANDBETWEEN(1,26),1),TRIM(LEFT(Translit.Translit(Service!F695),2))&INDEX(Service!H695:H713,RANDBETWEEN(1,19),1)&INDEX(Service!A695:A720,RANDBETWEEN(1,26),1)),'Информация о пользователе'!G697)","v":{"$error":"#NAME?"}}]
[{"$f":"TRIM(IF('Информация о пользователе'!A698=\"\",\"Пусто\",'Информация о пользователе'!A698))","v":"Пусто"},{"$f":"TRIM(IF('Информация о пользователе'!B698=\"\",\" \",'Информация о пользователе'!B698&\" \"&'Информация о пользователе'!C698))","v":""},{"$f":"TRIM(IF(AD!A697=\"\",\"\",AD!B697&\" \"&A697))","v":"Пусто"},{"$f":"TRIM(IF('Информация о пользователе'!D698=\"\",F697&\"@edu54.ru\",'Информация о пользователе'!D698))","v":"pusto@edu54.ru"},{"$f":"TRIM(IF('Информация о пользователе'!E698=\"\",\"\",'Информация о пользователе'!E698))","v":""},{"$f":"IF('Информация о пользователе'!F698=\"\",TRIM(Translit.Translit(A697)&TRIM(LEFT(Translit.Translit(Service!E696),1))&TRIM(LEFT(Translit.Translit(Service!F696),1))),TRIM('Информация о пользователе'!F698))","v":"pusto"},{"$f":"IF('Информация о пользователе'!G698=\"\",TRIM(LEFT(Translit.Translit(Service!E696),2))&INDEX(Service!H696:H714,RANDBETWEEN(1,19),1)&RANDBETWEEN(1,9)&IF(Service!F696=\"\",TRIM(LEFT(Translit.Translit(Service!E696),3))&INDEX(Service!A696:A721,RANDBETWEEN(1,26),1),TRIM(LEFT(Translit.Translit(Service!F696),2))&INDEX(Service!H696:H714,RANDBETWEEN(1,19),1)&INDEX(Service!A696:A721,RANDBETWEEN(1,26),1)),'Информация о пользователе'!G698)","v":{"$error":"#NAME?"}}]
[{"$f":"TRIM(IF('Информация о пользователе'!A699=\"\",\"Пусто\",'Информация о пользователе'!A699))","v":"Пусто"},{"$f":"TRIM(IF('Информация о пользователе'!B699=\"\",\" \",'Информация о пользователе'!B699&\" \"&'Информация о пользователе'!C699))","v":""},{"$f":"TRIM(IF(AD!A698=\"\",\"\",AD!B698&\" \"&A698))","v":"Пусто"},{"$f":"TRIM(IF('Информация о пользователе'!D699=\"\",F698&\"@edu54.ru\",'Информация о пользователе'!D699))","v":"pusto@edu54.ru"},{"$f":"TRIM(IF('Информация о пользователе'!E699=\"\",\"\",'Информация о пользователе'!E699))","v":""},{"$f":"IF('Информация о пользователе'!F699=\"\",TRIM(Translit.Translit(A698)&TRIM(LEFT(Translit.Translit(Service!E697),1))&TRIM(LEFT(Translit.Translit(Service!F697),1))),TRIM('Информация о пользователе'!F699))","v":"pusto"},{"$f":"IF('Информация о пользователе'!G699=\"\",TRIM(LEFT(Translit.Translit(Service!E697),2))&INDEX(Service!H697:H715,RANDBETWEEN(1,19),1)&RANDBETWEEN(1,9)&IF(Service!F697=\"\",TRIM(LEFT(Translit.Translit(Service!E697),3))&INDEX(Service!A697:A722,RANDBETWEEN(1,26),1),TRIM(LEFT(Translit.Translit(Service!F697),2))&INDEX(Service!H697:H715,RANDBETWEEN(1,19),1)&INDEX(Service!A697:A722,RANDBETWEEN(1,26),1)),'Информация о пользователе'!G699)","v":{"$error":"#NAME?"}}]
[{"$f":"TRIM(IF('Информация о пользователе'!A700=\"\",\"Пусто\",'Информация о пользователе'!A700))","v":"Пусто"},{"$f":"TRIM(IF('Информация о пользователе'!B700=\"\",\" \",'Информация о пользователе'!B700&\" \"&'Информация о пользователе'!C700))","v":""},{"$f":"TRIM(IF(AD!A699=\"\",\"\",AD!B699&\" \"&A699))","v":"Пусто"},{"$f":"TRIM(IF('Информация о пользователе'!D700=\"\",F699&\"@edu54.ru\",'Информация о пользователе'!D700))","v":"pusto@edu54.ru"},{"$f":"TRIM(IF('Информация о пользователе'!E700=\"\",\"\",'Информация о пользователе'!E700))","v":""},{"$f":"IF('Информация о пользователе'!F700=\"\",TRIM(Translit.Translit(A699)&TRIM(LEFT(Translit.Translit(Service!E698),1))&TRIM(LEFT(Translit.Translit(Service!F698),1))),TRIM('Информация о пользователе'!F700))","v":"pusto"},{"$f":"IF('Информация о пользователе'!G700=\"\",TRIM(LEFT(Translit.Translit(Service!E698),2))&INDEX(Service!H698:H716,RANDBETWEEN(1,19),1)&RANDBETWEEN(1,9)&IF(Service!F698=\"\",TRIM(LEFT(Translit.Translit(Service!E698),3))&INDEX(Service!A698:A723,RANDBETWEEN(1,26),1),TRIM(LEFT(Translit.Translit(Service!F698),2))&INDEX(Service!H698:H716,RANDBETWEEN(1,19),1)&INDEX(Service!A698:A723,RANDBETWEEN(1,26),1)),'Информация о пользователе'!G700)","v":{"$error":"#NAME?"}}]
[{"$f":"TRIM(IF('Информация о пользователе'!A701=\"\",\"Пусто\",'Информация о пользователе'!A701))","v":"Пусто"},{"$f":"TRIM(IF('Информация о пользователе'!B701=\"\",\" \",'Информация о пользователе'!B701&\" \"&'Информация о пользователе'!C701))","v":""},{"$f":"TRIM(IF(AD!A700=\"\",\"\",AD!B700&\" \"&A700))","v":"Пусто"},{"$f":"TRIM(IF('Информация о пользователе'!D701=\"\",F700&\"@edu54.ru\",'Информация о пользователе'!D701))","v":"pusto@edu54.ru"},{"$f":"TRIM(IF('Информация о пользователе'!E701=\"\",\"\",'Информация о пользователе'!E701))","v":""},{"$f":"IF('Информация о пользователе'!F701=\"\",TRIM(Translit.Translit(A700)&TRIM(LEFT(Translit.Translit(Service!E699),1))&TRIM(LEFT(Translit.Translit(Service!F699),1))),TRIM('Информация о пользователе'!F701))","v":"pusto"},{"$f":"IF('Информация о пользователе'!G701=\"\",TRIM(LEFT(Translit.Translit(Service!E699),2))&INDEX(Service!H699:H717,RANDBETWEEN(1,19),1)&RANDBETWEEN(1,9)&IF(Service!F699=\"\",TRIM(LEFT(Translit.Translit(Service!E699),3))&INDEX(Service!A699:A724,RANDBETWEEN(1,26),1),TRIM(LEFT(Translit.Translit(Service!F699),2))&INDEX(Service!H699:H717,RANDBETWEEN(1,19),1)&INDEX(Service!A699:A724,RANDBETWEEN(1,26),1)),'Информация о пользователе'!G701)","v":{"$error":"#NAME?"}}]
[{"$f":"TRIM(IF('Информация о пользователе'!A702=\"\",\"Пусто\",'Информация о пользователе'!A702))","v":"Пусто"},{"$f":"TRIM(IF('Информация о пользователе'!B702=\"\",\" \",'Информация о пользователе'!B702&\" \"&'Информация о пользователе'!C702))","v":""},{"$f":"TRIM(IF(AD!A701=\"\",\"\",AD!B701&\" \"&A701))","v":"Пусто"},{"$f":"TRIM(IF('Информация о пользователе'!D702=\"\",F701&\"@edu54.ru\",'Информация о пользователе'!D702))","v":"pusto@edu54.ru"},{"$f":"TRIM(IF('Информация о пользователе'!E702=\"\",\"\",'Информация о пользователе'!E702))","v":""},{"$f":"IF('Информация о пользователе'!F702=\"\",TRIM(Translit.Translit(A701)&TRIM(LEFT(Translit.Translit(Service!E700),1))&TRIM(LEFT(Translit.Translit(Service!F700),1))),TRIM('Информация о пользователе'!F702))","v":"pusto"},{"$f":"IF('Информация о пользователе'!G702=\"\",TRIM(LEFT(Translit.Translit(Service!E700),2))&INDEX(Service!H700:H718,RANDBETWEEN(1,19),1)&RANDBETWEEN(1,9)&IF(Service!F700=\"\",TRIM(LEFT(Translit.Translit(Service!E700),3))&INDEX(Service!A700:A725,RANDBETWEEN(1,26),1),TRIM(LEFT(Translit.Translit(Service!F700),2))&INDEX(Service!H700:H718,RANDBETWEEN(1,19),1)&INDEX(Service!A700:A725,RANDBETWEEN(1,26),1)),'Информация о пользователе'!G702)","v":{"$error":"#NAME?"}}]
[{"$f":"TRIM(IF('Информация о пользователе'!A703=\"\",\"Пусто\",'Информация о пользователе'!A703))","v":"Пусто"},{"$f":"TRIM(IF('Информация о пользователе'!B703=\"\",\" \",'Информация о пользователе'!B703&\" \"&'Информация о пользователе'!C703))","v":""},{"$f":"TRIM(IF(AD!A702=\"\",\"\",AD!B702&\" \"&A702))","v":"Пусто"},{"$f":"TRIM(IF('Информация о пользователе'!D703=\"\",F702&\"@edu54.ru\",'Информация о пользователе'!D703))","v":"pusto@edu54.ru"},{"$f":"TRIM(IF('Информация о пользователе'!E703=\"\",\"\",'Информация о пользователе'!E703))","v":""},{"$f":"IF('Информация о пользователе'!F703=\"\",TRIM(Translit.Translit(A702)&TRIM(LEFT(Translit.Translit(Service!E701),1))&TRIM(LEFT(Translit.Translit(Service!F701),1))),TRIM('Информация о пользователе'!F703))","v":"pusto"},{"$f":"IF('Информация о пользователе'!G703=\"\",TRIM(LEFT(Translit.Translit(Service!E701),2))&INDEX(Service!H701:H719,RANDBETWEEN(1,19),1)&RANDBETWEEN(1,9)&IF(Service!F701=\"\",TRIM(LEFT(Translit.Translit(Service!E701),3))&INDEX(Service!A701:A726,RANDBETWEEN(1,26),1),TRIM(LEFT(Translit.Translit(Service!F701),2))&INDEX(Service!H701:H719,RANDBETWEEN(1,19),1)&INDEX(Service!A701:A726,RANDBETWEEN(1,26),1)),'Информация о пользователе'!G703)","v":{"$error":"#NAME?"}}]
[{"$f":"TRIM(IF('Информация о пользователе'!A704=\"\",\"Пусто\",'Информация о пользователе'!A704))","v":"Пусто"},{"$f":"TRIM(IF('Информация о пользователе'!B704=\"\",\" \",'Информация о пользователе'!B704&\" \"&'Информация о пользователе'!C704))","v":""},{"$f":"TRIM(IF(AD!A703=\"\",\"\",AD!B703&\" \"&A703))","v":"Пусто"},{"$f":"TRIM(IF('Информация о пользователе'!D704=\"\",F703&\"@edu54.ru\",'Информация о пользователе'!D704))","v":"pusto@edu54.ru"},{"$f":"TRIM(IF('Информация о пользователе'!E704=\"\",\"\",'Информация о пользователе'!E704))","v":""},{"$f":"IF('Информация о пользователе'!F704=\"\",TRIM(Translit.Translit(A703)&TRIM(LEFT(Translit.Translit(Service!E702),1))&TRIM(LEFT(Translit.Translit(Service!F702),1))),TRIM('Информация о пользователе'!F704))","v":"pusto"},{"$f":"IF('Информация о пользователе'!G704=\"\",TRIM(LEFT(Translit.Translit(Service!E702),2))&INDEX(Service!H702:H720,RANDBETWEEN(1,19),1)&RANDBETWEEN(1,9)&IF(Service!F702=\"\",TRIM(LEFT(Translit.Translit(Service!E702),3))&INDEX(Service!A702:A727,RANDBETWEEN(1,26),1),TRIM(LEFT(Translit.Translit(Service!F702),2))&INDEX(Service!H702:H720,RANDBETWEEN(1,19),1)&INDEX(Service!A702:A727,RANDBETWEEN(1,26),1)),'Информация о пользователе'!G704)","v":{"$error":"#NAME?"}}]
[{"$f":"TRIM(IF('Информация о пользователе'!A705=\"\",\"Пусто\",'Информация о пользователе'!A705))","v":"Пусто"},{"$f":"TRIM(IF('Информация о пользователе'!B705=\"\",\" \",'Информация о пользователе'!B705&\" \"&'Информация о пользователе'!C705))","v":""},{"$f":"TRIM(IF(AD!A704=\"\",\"\",AD!B704&\" \"&A704))","v":"Пусто"},{"$f":"TRIM(IF('Информация о пользователе'!D705=\"\",F704&\"@edu54.ru\",'Информация о пользователе'!D705))","v":"pusto@edu54.ru"},{"$f":"TRIM(IF('Информация о пользователе'!E705=\"\",\"\",'Информация о пользователе'!E705))","v":""},{"$f":"IF('Информация о пользователе'!F705=\"\",TRIM(Translit.Translit(A704)&TRIM(LEFT(Translit.Translit(Service!E703),1))&TRIM(LEFT(Translit.Translit(Service!F703),1))),TRIM('Информация о пользователе'!F705))","v":"pusto"},{"$f":"IF('Информация о пользователе'!G705=\"\",TRIM(LEFT(Translit.Translit(Service!E703),2))&INDEX(Service!H703:H721,RANDBETWEEN(1,19),1)&RANDBETWEEN(1,9)&IF(Service!F703=\"\",TRIM(LEFT(Translit.Translit(Service!E703),3))&INDEX(Service!A703:A728,RANDBETWEEN(1,26),1),TRIM(LEFT(Translit.Translit(Service!F703),2))&INDEX(Service!H703:H721,RANDBETWEEN(1,19),1)&INDEX(Service!A703:A728,RANDBETWEEN(1,26),1)),'Информация о пользователе'!G705)","v":{"$error":"#NAME?"}}]
[{"$f":"TRIM(IF('Информация о пользователе'!A706=\"\",\"Пусто\",'Информация о пользователе'!A706))","v":"Пусто"},{"$f":"TRIM(IF('Информация о пользователе'!B706=\"\",\" \",'Информация о пользователе'!B706&\" \"&'Информация о пользователе'!C706))","v":""},{"$f":"TRIM(IF(AD!A705=\"\",\"\",AD!B705&\" \"&A705))","v":"Пусто"},{"$f":"TRIM(IF('Информация о пользователе'!D706=\"\",F705&\"@edu54.ru\",'Информация о пользователе'!D706))","v":"pusto@edu54.ru"},{"$f":"TRIM(IF('Информация о пользователе'!E706=\"\",\"\",'Информация о пользователе'!E706))","v":""},{"$f":"IF('Информация о пользователе'!F706=\"\",TRIM(Translit.Translit(A705)&TRIM(LEFT(Translit.Translit(Service!E704),1))&TRIM(LEFT(Translit.Translit(Service!F704),1))),TRIM('Информация о пользователе'!F706))","v":"pusto"},{"$f":"IF('Информация о пользователе'!G706=\"\",TRIM(LEFT(Translit.Translit(Service!E704),2))&INDEX(Service!H704:H722,RANDBETWEEN(1,19),1)&RANDBETWEEN(1,9)&IF(Service!F704=\"\",TRIM(LEFT(Translit.Translit(Service!E704),3))&INDEX(Service!A704:A729,RANDBETWEEN(1,26),1),TRIM(LEFT(Translit.Translit(Service!F704),2))&INDEX(Service!H704:H722,RANDBETWEEN(1,19),1)&INDEX(Service!A704:A729,RANDBETWEEN(1,26),1)),'Информация о пользователе'!G706)","v":{"$error":"#NAME?"}}]
[{"$f":"TRIM(IF('Информация о пользователе'!A707=\"\",\"Пусто\",'Информация о пользователе'!A707))","v":"Пусто"},{"$f":"TRIM(IF('Информация о пользователе'!B707=\"\",\" \",'Информация о пользователе'!B707&\" \"&'Информация о пользователе'!C707))","v":""},{"$f":"TRIM(IF(AD!A706=\"\",\"\",AD!B706&\" \"&A706))","v":"Пусто"},{"$f":"TRIM(IF('Информация о пользователе'!D707=\"\",F706&\"@edu54.ru\",'Информация о пользователе'!D707))","v":"pusto@edu54.ru"},{"$f":"TRIM(IF('Информация о пользователе'!E707=\"\",\"\",'Информация о пользователе'!E707))","v":""},{"$f":"IF('Информация о пользователе'!F707=\"\",TRIM(Translit.Translit(A706)&TRIM(LEFT(Translit.Translit(Service!E705),1))&TRIM(LEFT(Translit.Translit(Service!F705),1))),TRIM('Информация о пользователе'!F707))","v":"pusto"},{"$f":"IF('Информация о пользователе'!G707=\"\",TRIM(LEFT(Translit.Translit(Service!E705),2))&INDEX(Service!H705:H723,RANDBETWEEN(1,19),1)&RANDBETWEEN(1,9)&IF(Service!F705=\"\",TRIM(LEFT(Translit.Translit(Service!E705),3))&INDEX(Service!A705:A730,RANDBETWEEN(1,26),1),TRIM(LEFT(Translit.Translit(Service!F705),2))&INDEX(Service!H705:H723,RANDBETWEEN(1,19),1)&INDEX(Service!A705:A730,RANDBETWEEN(1,26),1)),'Информация о пользователе'!G707)","v":{"$error":"#NAME?"}}]
[{"$f":"TRIM(IF('Информация о пользователе'!A708=\"\",\"Пусто\",'Информация о пользователе'!A708))","v":"Пусто"},{"$f":"TRIM(IF('Информация о пользователе'!B708=\"\",\" \",'Информация о пользователе'!B708&\" \"&'Информация о пользователе'!C708))","v":""},{"$f":"TRIM(IF(AD!A707=\"\",\"\",AD!B707&\" \"&A707))","v":"Пусто"},{"$f":"TRIM(IF('Информация о пользователе'!D708=\"\",F707&\"@edu54.ru\",'Информация о пользователе'!D708))","v":"pusto@edu54.ru"},{"$f":"TRIM(IF('Информация о пользователе'!E708=\"\",\"\",'Информация о пользователе'!E708))","v":""},{"$f":"IF('Информация о пользователе'!F708=\"\",TRIM(Translit.Translit(A707)&TRIM(LEFT(Translit.Translit(Service!E706),1))&TRIM(LEFT(Translit.Translit(Service!F706),1))),TRIM('Информация о пользователе'!F708))","v":"pusto"},{"$f":"IF('Информация о пользователе'!G708=\"\",TRIM(LEFT(Translit.Translit(Service!E706),2))&INDEX(Service!H706:H724,RANDBETWEEN(1,19),1)&RANDBETWEEN(1,9)&IF(Service!F706=\"\",TRIM(LEFT(Translit.Translit(Service!E706),3))&INDEX(Service!A706:A731,RANDBETWEEN(1,26),1),TRIM(LEFT(Translit.Translit(Service!F706),2))&INDEX(Service!H706:H724,RANDBETWEEN(1,19),1)&INDEX(Service!A706:A731,RANDBETWEEN(1,26),1)),'Информация о пользователе'!G708)","v":{"$error":"#NAME?"}}]
[{"$f":"TRIM(IF('Информация о пользователе'!A709=\"\",\"Пусто\",'Информация о пользователе'!A709))","v":"Пусто"},{"$f":"TRIM(IF('Информация о пользователе'!B709=\"\",\" \",'Информация о пользователе'!B709&\" \"&'Информация о пользователе'!C709))","v":""},{"$f":"TRIM(IF(AD!A708=\"\",\"\",AD!B708&\" \"&A708))","v":"Пусто"},{"$f":"TRIM(IF('Информация о пользователе'!D709=\"\",F708&\"@edu54.ru\",'Информация о пользователе'!D709))","v":"pusto@edu54.ru"},{"$f":"TRIM(IF('Информация о пользователе'!E709=\"\",\"\",'Информация о пользователе'!E709))","v":""},{"$f":"IF('Информация о пользователе'!F709=\"\",TRIM(Translit.Translit(A708)&TRIM(LEFT(Translit.Translit(Service!E707),1))&TRIM(LEFT(Translit.Translit(Service!F707),1))),TRIM('Информация о пользователе'!F709))","v":"pusto"},{"$f":"IF('Информация о пользователе'!G709=\"\",TRIM(LEFT(Translit.Translit(Service!E707),2))&INDEX(Service!H707:H725,RANDBETWEEN(1,19),1)&RANDBETWEEN(1,9)&IF(Service!F707=\"\",TRIM(LEFT(Translit.Translit(Service!E707),3))&INDEX(Service!A707:A732,RANDBETWEEN(1,26),1),TRIM(LEFT(Translit.Translit(Service!F707),2))&INDEX(Service!H707:H725,RANDBETWEEN(1,19),1)&INDEX(Service!A707:A732,RANDBETWEEN(1,26),1)),'Информация о пользователе'!G709)","v":{"$error":"#NAME?"}}]
[{"$f":"TRIM(IF('Информация о пользователе'!A710=\"\",\"Пусто\",'Информация о пользователе'!A710))","v":"Пусто"},{"$f":"TRIM(IF('Информация о пользователе'!B710=\"\",\" \",'Информация о пользователе'!B710&\" \"&'Информация о пользователе'!C710))","v":""},{"$f":"TRIM(IF(AD!A709=\"\",\"\",AD!B709&\" \"&A709))","v":"Пусто"},{"$f":"TRIM(IF('Информация о пользователе'!D710=\"\",F709&\"@edu54.ru\",'Информация о пользователе'!D710))","v":"pusto@edu54.ru"},{"$f":"TRIM(IF('Информация о пользователе'!E710=\"\",\"\",'Информация о пользователе'!E710))","v":""},{"$f":"IF('Информация о пользователе'!F710=\"\",TRIM(Translit.Translit(A709)&TRIM(LEFT(Translit.Translit(Service!E708),1))&TRIM(LEFT(Translit.Translit(Service!F708),1))),TRIM('Информация о пользователе'!F710))","v":"pusto"},{"$f":"IF('Информация о пользователе'!G710=\"\",TRIM(LEFT(Translit.Translit(Service!E708),2))&INDEX(Service!H708:H726,RANDBETWEEN(1,19),1)&RANDBETWEEN(1,9)&IF(Service!F708=\"\",TRIM(LEFT(Translit.Translit(Service!E708),3))&INDEX(Service!A708:A733,RANDBETWEEN(1,26),1),TRIM(LEFT(Translit.Translit(Service!F708),2))&INDEX(Service!H708:H726,RANDBETWEEN(1,19),1)&INDEX(Service!A708:A733,RANDBETWEEN(1,26),1)),'Информация о пользователе'!G710)","v":{"$error":"#NAME?"}}]
[{"$f":"TRIM(IF('Информация о пользователе'!A711=\"\",\"Пусто\",'Информация о пользователе'!A711))","v":"Пусто"},{"$f":"TRIM(IF('Информация о пользователе'!B711=\"\",\" \",'Информация о пользователе'!B711&\" \"&'Информация о пользователе'!C711))","v":""},{"$f":"TRIM(IF(AD!A710=\"\",\"\",AD!B710&\" \"&A710))","v":"Пусто"},{"$f":"TRIM(IF('Информация о пользователе'!D711=\"\",F710&\"@edu54.ru\",'Информация о пользователе'!D711))","v":"pusto@edu54.ru"},{"$f":"TRIM(IF('Информация о пользователе'!E711=\"\",\"\",'Информация о пользователе'!E711))","v":""},{"$f":"IF('Информация о пользователе'!F711=\"\",TRIM(Translit.Translit(A710)&TRIM(LEFT(Translit.Translit(Service!E709),1))&TRIM(LEFT(Translit.Translit(Service!F709),1))),TRIM('Информация о пользователе'!F711))","v":"pusto"},{"$f":"IF('Информация о пользователе'!G711=\"\",TRIM(LEFT(Translit.Translit(Service!E709),2))&INDEX(Service!H709:H727,RANDBETWEEN(1,19),1)&RANDBETWEEN(1,9)&IF(Service!F709=\"\",TRIM(LEFT(Translit.Translit(Service!E709),3))&INDEX(Service!A709:A734,RANDBETWEEN(1,26),1),TRIM(LEFT(Translit.Translit(Service!F709),2))&INDEX(Service!H709:H727,RANDBETWEEN(1,19),1)&INDEX(Service!A709:A734,RANDBETWEEN(1,26),1)),'Информация о пользователе'!G711)","v":{"$error":"#NAME?"}}]
[{"$f":"TRIM(IF('Информация о пользователе'!A712=\"\",\"Пусто\",'Информация о пользователе'!A712))","v":"Пусто"},{"$f":"TRIM(IF('Информация о пользователе'!B712=\"\",\" \",'Информация о пользователе'!B712&\" \"&'Информация о пользователе'!C712))","v":""},{"$f":"TRIM(IF(AD!A711=\"\",\"\",AD!B711&\" \"&A711))","v":"Пусто"},{"$f":"TRIM(IF('Информация о пользователе'!D712=\"\",F711&\"@edu54.ru\",'Информация о пользователе'!D712))","v":"pusto@edu54.ru"},{"$f":"TRIM(IF('Информация о пользователе'!E712=\"\",\"\",'Информация о пользователе'!E712))","v":""},{"$f":"IF('Информация о пользователе'!F712=\"\",TRIM(Translit.Translit(A711)&TRIM(LEFT(Translit.Translit(Service!E710),1))&TRIM(LEFT(Translit.Translit(Service!F710),1))),TRIM('Информация о пользователе'!F712))","v":"pusto"},{"$f":"IF('Информация о пользователе'!G712=\"\",TRIM(LEFT(Translit.Translit(Service!E710),2))&INDEX(Service!H710:H728,RANDBETWEEN(1,19),1)&RANDBETWEEN(1,9)&IF(Service!F710=\"\",TRIM(LEFT(Translit.Translit(Service!E710),3))&INDEX(Service!A710:A735,RANDBETWEEN(1,26),1),TRIM(LEFT(Translit.Translit(Service!F710),2))&INDEX(Service!H710:H728,RANDBETWEEN(1,19),1)&INDEX(Service!A710:A735,RANDBETWEEN(1,26),1)),'Информация о пользователе'!G712)","v":{"$error":"#NAME?"}}]
[{"$f":"TRIM(IF('Информация о пользователе'!A713=\"\",\"Пусто\",'Информация о пользователе'!A713))","v":"Пусто"},{"$f":"TRIM(IF('Информация о пользователе'!B713=\"\",\" \",'Информация о пользователе'!B713&\" \"&'Информация о пользователе'!C713))","v":""},{"$f":"TRIM(IF(AD!A712=\"\",\"\",AD!B712&\" \"&A712))","v":"Пусто"},{"$f":"TRIM(IF('Информация о пользователе'!D713=\"\",F712&\"@edu54.ru\",'Информация о пользователе'!D713))","v":"pusto@edu54.ru"},{"$f":"TRIM(IF('Информация о пользователе'!E713=\"\",\"\",'Информация о пользователе'!E713))","v":""},{"$f":"IF('Информация о пользователе'!F713=\"\",TRIM(Translit.Translit(A712)&TRIM(LEFT(Translit.Translit(Service!E711),1))&TRIM(LEFT(Translit.Translit(Service!F711),1))),TRIM('Информация о пользователе'!F713))","v":"pusto"},{"$f":"IF('Информация о пользователе'!G713=\"\",TRIM(LEFT(Translit.Translit(Service!E711),2))&INDEX(Service!H711:H729,RANDBETWEEN(1,19),1)&RANDBETWEEN(1,9)&IF(Service!F711=\"\",TRIM(LEFT(Translit.Translit(Service!E711),3))&INDEX(Service!A711:A736,RANDBETWEEN(1,26),1),TRIM(LEFT(Translit.Translit(Service!F711),2))&INDEX(Service!H711:H729,RANDBETWEEN(1,19),1)&INDEX(Service!A711:A736,RANDBETWEEN(1,26),1)),'Информация о пользователе'!G713)","v":{"$error":"#NAME?"}}]
[{"$f":"TRIM(IF('Информация о пользователе'!A714=\"\",\"Пусто\",'Информация о пользователе'!A714))","v":"Пусто"},{"$f":"TRIM(IF('Информация о пользователе'!B714=\"\",\" \",'Информация о пользователе'!B714&\" \"&'Информация о пользователе'!C714))","v":""},{"$f":"TRIM(IF(AD!A713=\"\",\"\",AD!B713&\" \"&A713))","v":"Пусто"},{"$f":"TRIM(IF('Информация о пользователе'!D714=\"\",F713&\"@edu54.ru\",'Информация о пользователе'!D714))","v":"pusto@edu54.ru"},{"$f":"TRIM(IF('Информация о пользователе'!E714=\"\",\"\",'Информация о пользователе'!E714))","v":""},{"$f":"IF('Информация о пользователе'!F714=\"\",TRIM(Translit.Translit(A713)&TRIM(LEFT(Translit.Translit(Service!E712),1))&TRIM(LEFT(Translit.Translit(Service!F712),1))),TRIM('Информация о пользователе'!F714))","v":"pusto"},{"$f":"IF('Информация о пользователе'!G714=\"\",TRIM(LEFT(Translit.Translit(Service!E712),2))&INDEX(Service!H712:H730,RANDBETWEEN(1,19),1)&RANDBETWEEN(1,9)&IF(Service!F712=\"\",TRIM(LEFT(Translit.Translit(Service!E712),3))&INDEX(Service!A712:A737,RANDBETWEEN(1,26),1),TRIM(LEFT(Translit.Translit(Service!F712),2))&INDEX(Service!H712:H730,RANDBETWEEN(1,19),1)&INDEX(Service!A712:A737,RANDBETWEEN(1,26),1)),'Информация о пользователе'!G714)","v":{"$error":"#NAME?"}}]
[{"$f":"TRIM(IF('Информация о пользователе'!A715=\"\",\"Пусто\",'Информация о пользователе'!A715))","v":"Пусто"},{"$f":"TRIM(IF('Информация о пользователе'!B715=\"\",\" \",'Информация о пользователе'!B715&\" \"&'Информация о пользователе'!C715))","v":""},{"$f":"TRIM(IF(AD!A714=\"\",\"\",AD!B714&\" \"&A714))","v":"Пусто"},{"$f":"TRIM(IF('Информация о пользователе'!D715=\"\",F714&\"@edu54.ru\",'Информация о пользователе'!D715))","v":"pusto@edu54.ru"},{"$f":"TRIM(IF('Информация о пользователе'!E715=\"\",\"\",'Информация о пользователе'!E715))","v":""},{"$f":"IF('Информация о пользователе'!F715=\"\",TRIM(Translit.Translit(A714)&TRIM(LEFT(Translit.Translit(Service!E713),1))&TRIM(LEFT(Translit.Translit(Service!F713),1))),TRIM('Информация о пользователе'!F715))","v":"pusto"},{"$f":"IF('Информация о пользователе'!G715=\"\",TRIM(LEFT(Translit.Translit(Service!E713),2))&INDEX(Service!H713:H731,RANDBETWEEN(1,19),1)&RANDBETWEEN(1,9)&IF(Service!F713=\"\",TRIM(LEFT(Translit.Translit(Service!E713),3))&INDEX(Service!A713:A738,RANDBETWEEN(1,26),1),TRIM(LEFT(Translit.Translit(Service!F713),2))&INDEX(Service!H713:H731,RANDBETWEEN(1,19),1)&INDEX(Service!A713:A738,RANDBETWEEN(1,26),1)),'Информация о пользователе'!G715)","v":{"$error":"#NAME?"}}]
[{"$f":"TRIM(IF('Информация о пользователе'!A716=\"\",\"Пусто\",'Информация о пользователе'!A716))","v":"Пусто"},{"$f":"TRIM(IF('Информация о пользователе'!B716=\"\",\" \",'Информация о пользователе'!B716&\" \"&'Информация о пользователе'!C716))","v":""},{"$f":"TRIM(IF(AD!A715=\"\",\"\",AD!B715&\" \"&A715))","v":"Пусто"},{"$f":"TRIM(IF('Информация о пользователе'!D716=\"\",F715&\"@edu54.ru\",'Информация о пользователе'!D716))","v":"pusto@edu54.ru"},{"$f":"TRIM(IF('Информация о пользователе'!E716=\"\",\"\",'Информация о пользователе'!E716))","v":""},{"$f":"IF('Информация о пользователе'!F716=\"\",TRIM(Translit.Translit(A715)&TRIM(LEFT(Translit.Translit(Service!E714),1))&TRIM(LEFT(Translit.Translit(Service!F714),1))),TRIM('Информация о пользователе'!F716))","v":"pusto"},{"$f":"IF('Информация о пользователе'!G716=\"\",TRIM(LEFT(Translit.Translit(Service!E714),2))&INDEX(Service!H714:H732,RANDBETWEEN(1,19),1)&RANDBETWEEN(1,9)&IF(Service!F714=\"\",TRIM(LEFT(Translit.Translit(Service!E714),3))&INDEX(Service!A714:A739,RANDBETWEEN(1,26),1),TRIM(LEFT(Translit.Translit(Service!F714),2))&INDEX(Service!H714:H732,RANDBETWEEN(1,19),1)&INDEX(Service!A714:A739,RANDBETWEEN(1,26),1)),'Информация о пользователе'!G716)","v":{"$error":"#NAME?"}}]
[{"$f":"TRIM(IF('Информация о пользователе'!A717=\"\",\"Пусто\",'Информация о пользователе'!A717))","v":"Пусто"},{"$f":"TRIM(IF('Информация о пользователе'!B717=\"\",\" \",'Информация о пользователе'!B717&\" \"&'Информация о пользователе'!C717))","v":""},{"$f":"TRIM(IF(AD!A716=\"\",\"\",AD!B716&\" \"&A716))","v":"Пусто"},{"$f":"TRIM(IF('Информация о пользователе'!D717=\"\",F716&\"@edu54.ru\",'Информация о пользователе'!D717))","v":"pusto@edu54.ru"},{"$f":"TRIM(IF('Информация о пользователе'!E717=\"\",\"\",'Информация о пользователе'!E717))","v":""},{"$f":"IF('Информация о пользователе'!F717=\"\",TRIM(Translit.Translit(A716)&TRIM(LEFT(Translit.Translit(Service!E715),1))&TRIM(LEFT(Translit.Translit(Service!F715),1))),TRIM('Информация о пользователе'!F717))","v":"pusto"},{"$f":"IF('Информация о пользователе'!G717=\"\",TRIM(LEFT(Translit.Translit(Service!E715),2))&INDEX(Service!H715:H733,RANDBETWEEN(1,19),1)&RANDBETWEEN(1,9)&IF(Service!F715=\"\",TRIM(LEFT(Translit.Translit(Service!E715),3))&INDEX(Service!A715:A740,RANDBETWEEN(1,26),1),TRIM(LEFT(Translit.Translit(Service!F715),2))&INDEX(Service!H715:H733,RANDBETWEEN(1,19),1)&INDEX(Service!A715:A740,RANDBETWEEN(1,26),1)),'Информация о пользователе'!G717)","v":{"$error":"#NAME?"}}]
[{"$f":"TRIM(IF('Информация о пользователе'!A718=\"\",\"Пусто\",'Информация о пользователе'!A718))","v":"Пусто"},{"$f":"TRIM(IF('Информация о пользователе'!B718=\"\",\" \",'Информация о пользователе'!B718&\" \"&'Информация о пользователе'!C718))","v":""},{"$f":"TRIM(IF(AD!A717=\"\",\"\",AD!B717&\" \"&A717))","v":"Пусто"},{"$f":"TRIM(IF('Информация о пользователе'!D718=\"\",F717&\"@edu54.ru\",'Информация о пользователе'!D718))","v":"pusto@edu54.ru"},{"$f":"TRIM(IF('Информация о пользователе'!E718=\"\",\"\",'Информация о пользователе'!E718))","v":""},{"$f":"IF('Информация о пользователе'!F718=\"\",TRIM(Translit.Translit(A717)&TRIM(LEFT(Translit.Translit(Service!E716),1))&TRIM(LEFT(Translit.Translit(Service!F716),1))),TRIM('Информация о пользователе'!F718))","v":"pusto"},{"$f":"IF('Информация о пользователе'!G718=\"\",TRIM(LEFT(Translit.Translit(Service!E716),2))&INDEX(Service!H716:H734,RANDBETWEEN(1,19),1)&RANDBETWEEN(1,9)&IF(Service!F716=\"\",TRIM(LEFT(Translit.Translit(Service!E716),3))&INDEX(Service!A716:A741,RANDBETWEEN(1,26),1),TRIM(LEFT(Translit.Translit(Service!F716),2))&INDEX(Service!H716:H734,RANDBETWEEN(1,19),1)&INDEX(Service!A716:A741,RANDBETWEEN(1,26),1)),'Информация о пользователе'!G718)","v":{"$error":"#NAME?"}}]
[{"$f":"TRIM(IF('Информация о пользователе'!A719=\"\",\"Пусто\",'Информация о пользователе'!A719))","v":"Пусто"},{"$f":"TRIM(IF('Информация о пользователе'!B719=\"\",\" \",'Информация о пользователе'!B719&\" \"&'Информация о пользователе'!C719))","v":""},{"$f":"TRIM(IF(AD!A718=\"\",\"\",AD!B718&\" \"&A718))","v":"Пусто"},{"$f":"TRIM(IF('Информация о пользователе'!D719=\"\",F718&\"@edu54.ru\",'Информация о пользователе'!D719))","v":"pusto@edu54.ru"},{"$f":"TRIM(IF('Информация о пользователе'!E719=\"\",\"\",'Информация о пользователе'!E719))","v":""},{"$f":"IF('Информация о пользователе'!F719=\"\",TRIM(Translit.Translit(A718)&TRIM(LEFT(Translit.Translit(Service!E717),1))&TRIM(LEFT(Translit.Translit(Service!F717),1))),TRIM('Информация о пользователе'!F719))","v":"pusto"},{"$f":"IF('Информация о пользователе'!G719=\"\",TRIM(LEFT(Translit.Translit(Service!E717),2))&INDEX(Service!H717:H735,RANDBETWEEN(1,19),1)&RANDBETWEEN(1,9)&IF(Service!F717=\"\",TRIM(LEFT(Translit.Translit(Service!E717),3))&INDEX(Service!A717:A742,RANDBETWEEN(1,26),1),TRIM(LEFT(Translit.Translit(Service!F717),2))&INDEX(Service!H717:H735,RANDBETWEEN(1,19),1)&INDEX(Service!A717:A742,RANDBETWEEN(1,26),1)),'Информация о пользователе'!G719)","v":{"$error":"#NAME?"}}]
[{"$f":"TRIM(IF('Информация о пользователе'!A720=\"\",\"Пусто\",'Информация о пользователе'!A720))","v":"Пусто"},{"$f":"TRIM(IF('Информация о пользователе'!B720=\"\",\" \",'Информация о пользователе'!B720&\" \"&'Информация о пользователе'!C720))","v":""},{"$f":"TRIM(IF(AD!A719=\"\",\"\",AD!B719&\" \"&A719))","v":"Пусто"},{"$f":"TRIM(IF('Информация о пользователе'!D720=\"\",F719&\"@edu54.ru\",'Информация о пользователе'!D720))","v":"pusto@edu54.ru"},{"$f":"TRIM(IF('Информация о пользователе'!E720=\"\",\"\",'Информация о пользователе'!E720))","v":""},{"$f":"IF('Информация о пользователе'!F720=\"\",TRIM(Translit.Translit(A719)&TRIM(LEFT(Translit.Translit(Service!E718),1))&TRIM(LEFT(Translit.Translit(Service!F718),1))),TRIM('Информация о пользователе'!F720))","v":"pusto"},{"$f":"IF('Информация о пользователе'!G720=\"\",TRIM(LEFT(Translit.Translit(Service!E718),2))&INDEX(Service!H718:H736,RANDBETWEEN(1,19),1)&RANDBETWEEN(1,9)&IF(Service!F718=\"\",TRIM(LEFT(Translit.Translit(Service!E718),3))&INDEX(Service!A718:A743,RANDBETWEEN(1,26),1),TRIM(LEFT(Translit.Translit(Service!F718),2))&INDEX(Service!H718:H736,RANDBETWEEN(1,19),1)&INDEX(Service!A718:A743,RANDBETWEEN(1,26),1)),'Информация о пользователе'!G720)","v":{"$error":"#NAME?"}}]
[{"$f":"TRIM(IF('Информация о пользователе'!A721=\"\",\"Пусто\",'Информация о пользователе'!A721))","v":"Пусто"},{"$f":"TRIM(IF('Информация о пользователе'!B721=\"\",\" \",'Информация о пользователе'!B721&\" \"&'Информация о пользователе'!C721))","v":""},{"$f":"TRIM(IF(AD!A720=\"\",\"\",AD!B720&\" \"&A720))","v":"Пусто"},{"$f":"TRIM(IF('Информация о пользователе'!D721=\"\",F720&\"@edu54.ru\",'Информация о пользователе'!D721))","v":"pusto@edu54.ru"},{"$f":"TRIM(IF('Информация о пользователе'!E721=\"\",\"\",'Информация о пользователе'!E721))","v":""},{"$f":"IF('Информация о пользователе'!F721=\"\",TRIM(Translit.Translit(A720)&TRIM(LEFT(Translit.Translit(Service!E719),1))&TRIM(LEFT(Translit.Translit(Service!F719),1))),TRIM('Информация о пользователе'!F721))","v":"pusto"},{"$f":"IF('Информация о пользователе'!G721=\"\",TRIM(LEFT(Translit.Translit(Service!E719),2))&INDEX(Service!H719:H737,RANDBETWEEN(1,19),1)&RANDBETWEEN(1,9)&IF(Service!F719=\"\",TRIM(LEFT(Translit.Translit(Service!E719),3))&INDEX(Service!A719:A744,RANDBETWEEN(1,26),1),TRIM(LEFT(Translit.Translit(Service!F719),2))&INDEX(Service!H719:H737,RANDBETWEEN(1,19),1)&INDEX(Service!A719:A744,RANDBETWEEN(1,26),1)),'Информация о пользователе'!G721)","v":{"$error":"#NAME?"}}]
[{"$f":"TRIM(IF('Информация о пользователе'!A722=\"\",\"Пусто\",'Информация о пользователе'!A722))","v":"Пусто"},{"$f":"TRIM(IF('Информация о пользователе'!B722=\"\",\" \",'Информация о пользователе'!B722&\" \"&'Информация о пользователе'!C722))","v":""},{"$f":"TRIM(IF(AD!A721=\"\",\"\",AD!B721&\" \"&A721))","v":"Пусто"},{"$f":"TRIM(IF('Информация о пользователе'!D722=\"\",F721&\"@edu54.ru\",'Информация о пользователе'!D722))","v":"pusto@edu54.ru"},{"$f":"TRIM(IF('Информация о пользователе'!E722=\"\",\"\",'Информация о пользователе'!E722))","v":""},{"$f":"IF('Информация о пользователе'!F722=\"\",TRIM(Translit.Translit(A721)&TRIM(LEFT(Translit.Translit(Service!E720),1))&TRIM(LEFT(Translit.Translit(Service!F720),1))),TRIM('Информация о пользователе'!F722))","v":"pusto"},{"$f":"IF('Информация о пользователе'!G722=\"\",TRIM(LEFT(Translit.Translit(Service!E720),2))&INDEX(Service!H720:H738,RANDBETWEEN(1,19),1)&RANDBETWEEN(1,9)&IF(Service!F720=\"\",TRIM(LEFT(Translit.Translit(Service!E720),3))&INDEX(Service!A720:A745,RANDBETWEEN(1,26),1),TRIM(LEFT(Translit.Translit(Service!F720),2))&INDEX(Service!H720:H738,RANDBETWEEN(1,19),1)&INDEX(Service!A720:A745,RANDBETWEEN(1,26),1)),'Информация о пользователе'!G722)","v":{"$error":"#NAME?"}}]
[{"$f":"TRIM(IF('Информация о пользователе'!A723=\"\",\"Пусто\",'Информация о пользователе'!A723))","v":"Пусто"},{"$f":"TRIM(IF('Информация о пользователе'!B723=\"\",\" \",'Информация о пользователе'!B723&\" \"&'Информация о пользователе'!C723))","v":""},{"$f":"TRIM(IF(AD!A722=\"\",\"\",AD!B722&\" \"&A722))","v":"Пусто"},{"$f":"TRIM(IF('Информация о пользователе'!D723=\"\",F722&\"@edu54.ru\",'Информация о пользователе'!D723))","v":"pusto@edu54.ru"},{"$f":"TRIM(IF('Информация о пользователе'!E723=\"\",\"\",'Информация о пользователе'!E723))","v":""},{"$f":"IF('Информация о пользователе'!F723=\"\",TRIM(Translit.Translit(A722)&TRIM(LEFT(Translit.Translit(Service!E721),1))&TRIM(LEFT(Translit.Translit(Service!F721),1))),TRIM('Информация о пользователе'!F723))","v":"pusto"},{"$f":"IF('Информация о пользователе'!G723=\"\",TRIM(LEFT(Translit.Translit(Service!E721),2))&INDEX(Service!H721:H739,RANDBETWEEN(1,19),1)&RANDBETWEEN(1,9)&IF(Service!F721=\"\",TRIM(LEFT(Translit.Translit(Service!E721),3))&INDEX(Service!A721:A746,RANDBETWEEN(1,26),1),TRIM(LEFT(Translit.Translit(Service!F721),2))&INDEX(Service!H721:H739,RANDBETWEEN(1,19),1)&INDEX(Service!A721:A746,RANDBETWEEN(1,26),1)),'Информация о пользователе'!G723)","v":{"$error":"#NAME?"}}]
[{"$f":"TRIM(IF('Информация о пользователе'!A724=\"\",\"Пусто\",'Информация о пользователе'!A724))","v":"Пусто"},{"$f":"TRIM(IF('Информация о пользователе'!B724=\"\",\" \",'Информация о пользователе'!B724&\" \"&'Информация о пользователе'!C724))","v":""},{"$f":"TRIM(IF(AD!A723=\"\",\"\",AD!B723&\" \"&A723))","v":"Пусто"},{"$f":"TRIM(IF('Информация о пользователе'!D724=\"\",F723&\"@edu54.ru\",'Информация о пользователе'!D724))","v":"pusto@edu54.ru"},{"$f":"TRIM(IF('Информация о пользователе'!E724=\"\",\"\",'Информация о пользователе'!E724))","v":""},{"$f":"IF('Информация о пользователе'!F724=\"\",TRIM(Translit.Translit(A723)&TRIM(LEFT(Translit.Translit(Service!E722),1))&TRIM(LEFT(Translit.Translit(Service!F722),1))),TRIM('Информация о пользователе'!F724))","v":"pusto"},{"$f":"IF('Информация о пользователе'!G724=\"\",TRIM(LEFT(Translit.Translit(Service!E722),2))&INDEX(Service!H722:H740,RANDBETWEEN(1,19),1)&RANDBETWEEN(1,9)&IF(Service!F722=\"\",TRIM(LEFT(Translit.Translit(Service!E722),3))&INDEX(Service!A722:A747,RANDBETWEEN(1,26),1),TRIM(LEFT(Translit.Translit(Service!F722),2))&INDEX(Service!H722:H740,RANDBETWEEN(1,19),1)&INDEX(Service!A722:A747,RANDBETWEEN(1,26),1)),'Информация о пользователе'!G724)","v":{"$error":"#NAME?"}}]
[{"$f":"TRIM(IF('Информация о пользователе'!A725=\"\",\"Пусто\",'Информация о пользователе'!A725))","v":"Пусто"},{"$f":"TRIM(IF('Информация о пользователе'!B725=\"\",\" \",'Информация о пользователе'!B725&\" \"&'Информация о пользователе'!C725))","v":""},{"$f":"TRIM(IF(AD!A724=\"\",\"\",AD!B724&\" \"&A724))","v":"Пусто"},{"$f":"TRIM(IF('Информация о пользователе'!D725=\"\",F724&\"@edu54.ru\",'Информация о пользователе'!D725))","v":"pusto@edu54.ru"},{"$f":"TRIM(IF('Информация о пользователе'!E725=\"\",\"\",'Информация о пользователе'!E725))","v":""},{"$f":"IF('Информация о пользователе'!F725=\"\",TRIM(Translit.Translit(A724)&TRIM(LEFT(Translit.Translit(Service!E723),1))&TRIM(LEFT(Translit.Translit(Service!F723),1))),TRIM('Информация о пользователе'!F725))","v":"pusto"},{"$f":"IF('Информация о пользователе'!G725=\"\",TRIM(LEFT(Translit.Translit(Service!E723),2))&INDEX(Service!H723:H741,RANDBETWEEN(1,19),1)&RANDBETWEEN(1,9)&IF(Service!F723=\"\",TRIM(LEFT(Translit.Translit(Service!E723),3))&INDEX(Service!A723:A748,RANDBETWEEN(1,26),1),TRIM(LEFT(Translit.Translit(Service!F723),2))&INDEX(Service!H723:H741,RANDBETWEEN(1,19),1)&INDEX(Service!A723:A748,RANDBETWEEN(1,26),1)),'Информация о пользователе'!G725)","v":{"$error":"#NAME?"}}]
[{"$f":"TRIM(IF('Информация о пользователе'!A726=\"\",\"Пусто\",'Информация о пользователе'!A726))","v":"Пусто"},{"$f":"TRIM(IF('Информация о пользователе'!B726=\"\",\" \",'Информация о пользователе'!B726&\" \"&'Информация о пользователе'!C726))","v":""},{"$f":"TRIM(IF(AD!A725=\"\",\"\",AD!B725&\" \"&A725))","v":"Пусто"},{"$f":"TRIM(IF('Информация о пользователе'!D726=\"\",F725&\"@edu54.ru\",'Информация о пользователе'!D726))","v":"pusto@edu54.ru"},{"$f":"TRIM(IF('Информация о пользователе'!E726=\"\",\"\",'Информация о пользователе'!E726))","v":""},{"$f":"IF('Информация о пользователе'!F726=\"\",TRIM(Translit.Translit(A725)&TRIM(LEFT(Translit.Translit(Service!E724),1))&TRIM(LEFT(Translit.Translit(Service!F724),1))),TRIM('Информация о пользователе'!F726))","v":"pusto"},{"$f":"IF('Информация о пользователе'!G726=\"\",TRIM(LEFT(Translit.Translit(Service!E724),2))&INDEX(Service!H724:H742,RANDBETWEEN(1,19),1)&RANDBETWEEN(1,9)&IF(Service!F724=\"\",TRIM(LEFT(Translit.Translit(Service!E724),3))&INDEX(Service!A724:A749,RANDBETWEEN(1,26),1),TRIM(LEFT(Translit.Translit(Service!F724),2))&INDEX(Service!H724:H742,RANDBETWEEN(1,19),1)&INDEX(Service!A724:A749,RANDBETWEEN(1,26),1)),'Информация о пользователе'!G726)","v":{"$error":"#NAME?"}}]
[{"$f":"TRIM(IF('Информация о пользователе'!A727=\"\",\"Пусто\",'Информация о пользователе'!A727))","v":"Пусто"},{"$f":"TRIM(IF('Информация о пользователе'!B727=\"\",\" \",'Информация о пользователе'!B727&\" \"&'Информация о пользователе'!C727))","v":""},{"$f":"TRIM(IF(AD!A726=\"\",\"\",AD!B726&\" \"&A726))","v":"Пусто"},{"$f":"TRIM(IF('Информация о пользователе'!D727=\"\",F726&\"@edu54.ru\",'Информация о пользователе'!D727))","v":"pusto@edu54.ru"},{"$f":"TRIM(IF('Информация о пользователе'!E727=\"\",\"\",'Информация о пользователе'!E727))","v":""},{"$f":"IF('Информация о пользователе'!F727=\"\",TRIM(Translit.Translit(A726)&TRIM(LEFT(Translit.Translit(Service!E725),1))&TRIM(LEFT(Translit.Translit(Service!F725),1))),TRIM('Информация о пользователе'!F727))","v":"pusto"},{"$f":"IF('Информация о пользователе'!G727=\"\",TRIM(LEFT(Translit.Translit(Service!E725),2))&INDEX(Service!H725:H743,RANDBETWEEN(1,19),1)&RANDBETWEEN(1,9)&IF(Service!F725=\"\",TRIM(LEFT(Translit.Translit(Service!E725),3))&INDEX(Service!A725:A750,RANDBETWEEN(1,26),1),TRIM(LEFT(Translit.Translit(Service!F725),2))&INDEX(Service!H725:H743,RANDBETWEEN(1,19),1)&INDEX(Service!A725:A750,RANDBETWEEN(1,26),1)),'Информация о пользователе'!G727)","v":{"$error":"#NAME?"}}]
[{"$f":"TRIM(IF('Информация о пользователе'!A728=\"\",\"Пусто\",'Информация о пользователе'!A728))","v":"Пусто"},{"$f":"TRIM(IF('Информация о пользователе'!B728=\"\",\" \",'Информация о пользователе'!B728&\" \"&'Информация о пользователе'!C728))","v":""},{"$f":"TRIM(IF(AD!A727=\"\",\"\",AD!B727&\" \"&A727))","v":"Пусто"},{"$f":"TRIM(IF('Информация о пользователе'!D728=\"\",F727&\"@edu54.ru\",'Информация о пользователе'!D728))","v":"pusto@edu54.ru"},{"$f":"TRIM(IF('Информация о пользователе'!E728=\"\",\"\",'Информация о пользователе'!E728))","v":""},{"$f":"IF('Информация о пользователе'!F728=\"\",TRIM(Translit.Translit(A727)&TRIM(LEFT(Translit.Translit(Service!E726),1))&TRIM(LEFT(Translit.Translit(Service!F726),1))),TRIM('Информация о пользователе'!F728))","v":"pusto"},{"$f":"IF('Информация о пользователе'!G728=\"\",TRIM(LEFT(Translit.Translit(Service!E726),2))&INDEX(Service!H726:H744,RANDBETWEEN(1,19),1)&RANDBETWEEN(1,9)&IF(Service!F726=\"\",TRIM(LEFT(Translit.Translit(Service!E726),3))&INDEX(Service!A726:A751,RANDBETWEEN(1,26),1),TRIM(LEFT(Translit.Translit(Service!F726),2))&INDEX(Service!H726:H744,RANDBETWEEN(1,19),1)&INDEX(Service!A726:A751,RANDBETWEEN(1,26),1)),'Информация о пользователе'!G728)","v":{"$error":"#NAME?"}}]
[{"$f":"TRIM(IF('Информация о пользователе'!A729=\"\",\"Пусто\",'Информация о пользователе'!A729))","v":"Пусто"},{"$f":"TRIM(IF('Информация о пользователе'!B729=\"\",\" \",'Информация о пользователе'!B729&\" \"&'Информация о пользователе'!C729))","v":""},{"$f":"TRIM(IF(AD!A728=\"\",\"\",AD!B728&\" \"&A728))","v":"Пусто"},{"$f":"TRIM(IF('Информация о пользователе'!D729=\"\",F728&\"@edu54.ru\",'Информация о пользователе'!D729))","v":"pusto@edu54.ru"},{"$f":"TRIM(IF('Информация о пользователе'!E729=\"\",\"\",'Информация о пользователе'!E729))","v":""},{"$f":"IF('Информация о пользователе'!F729=\"\",TRIM(Translit.Translit(A728)&TRIM(LEFT(Translit.Translit(Service!E727),1))&TRIM(LEFT(Translit.Translit(Service!F727),1))),TRIM('Информация о пользователе'!F729))","v":"pusto"},{"$f":"IF('Информация о пользователе'!G729=\"\",TRIM(LEFT(Translit.Translit(Service!E727),2))&INDEX(Service!H727:H745,RANDBETWEEN(1,19),1)&RANDBETWEEN(1,9)&IF(Service!F727=\"\",TRIM(LEFT(Translit.Translit(Service!E727),3))&INDEX(Service!A727:A752,RANDBETWEEN(1,26),1),TRIM(LEFT(Translit.Translit(Service!F727),2))&INDEX(Service!H727:H745,RANDBETWEEN(1,19),1)&INDEX(Service!A727:A752,RANDBETWEEN(1,26),1)),'Информация о пользователе'!G729)","v":{"$error":"#NAME?"}}]
[{"$f":"TRIM(IF('Информация о пользователе'!A730=\"\",\"Пусто\",'Информация о пользователе'!A730))","v":"Пусто"},{"$f":"TRIM(IF('Информация о пользователе'!B730=\"\",\" \",'Информация о пользователе'!B730&\" \"&'Информация о пользователе'!C730))","v":""},{"$f":"TRIM(IF(AD!A729=\"\",\"\",AD!B729&\" \"&A729))","v":"Пусто"},{"$f":"TRIM(IF('Информация о пользователе'!D730=\"\",F729&\"@edu54.ru\",'Информация о пользователе'!D730))","v":"pusto@edu54.ru"},{"$f":"TRIM(IF('Информация о пользователе'!E730=\"\",\"\",'Информация о пользователе'!E730))","v":""},{"$f":"IF('Информация о пользователе'!F730=\"\",TRIM(Translit.Translit(A729)&TRIM(LEFT(Translit.Translit(Service!E728),1))&TRIM(LEFT(Translit.Translit(Service!F728),1))),TRIM('Информация о пользователе'!F730))","v":"pusto"},{"$f":"IF('Информация о пользователе'!G730=\"\",TRIM(LEFT(Translit.Translit(Service!E728),2))&INDEX(Service!H728:H746,RANDBETWEEN(1,19),1)&RANDBETWEEN(1,9)&IF(Service!F728=\"\",TRIM(LEFT(Translit.Translit(Service!E728),3))&INDEX(Service!A728:A753,RANDBETWEEN(1,26),1),TRIM(LEFT(Translit.Translit(Service!F728),2))&INDEX(Service!H728:H746,RANDBETWEEN(1,19),1)&INDEX(Service!A728:A753,RANDBETWEEN(1,26),1)),'Информация о пользователе'!G730)","v":{"$error":"#NAME?"}}]
[{"$f":"TRIM(IF('Информация о пользователе'!A731=\"\",\"Пусто\",'Информация о пользователе'!A731))","v":"Пусто"},{"$f":"TRIM(IF('Информация о пользователе'!B731=\"\",\" \",'Информация о пользователе'!B731&\" \"&'Информация о пользователе'!C731))","v":""},{"$f":"TRIM(IF(AD!A730=\"\",\"\",AD!B730&\" \"&A730))","v":"Пусто"},{"$f":"TRIM(IF('Информация о пользователе'!D731=\"\",F730&\"@edu54.ru\",'Информация о пользователе'!D731))","v":"pusto@edu54.ru"},{"$f":"TRIM(IF('Информация о пользователе'!E731=\"\",\"\",'Информация о пользователе'!E731))","v":""},{"$f":"IF('Информация о пользователе'!F731=\"\",TRIM(Translit.Translit(A730)&TRIM(LEFT(Translit.Translit(Service!E729),1))&TRIM(LEFT(Translit.Translit(Service!F729),1))),TRIM('Информация о пользователе'!F731))","v":"pusto"},{"$f":"IF('Информация о пользователе'!G731=\"\",TRIM(LEFT(Translit.Translit(Service!E729),2))&INDEX(Service!H729:H747,RANDBETWEEN(1,19),1)&RANDBETWEEN(1,9)&IF(Service!F729=\"\",TRIM(LEFT(Translit.Translit(Service!E729),3))&INDEX(Service!A729:A754,RANDBETWEEN(1,26),1),TRIM(LEFT(Translit.Translit(Service!F729),2))&INDEX(Service!H729:H747,RANDBETWEEN(1,19),1)&INDEX(Service!A729:A754,RANDBETWEEN(1,26),1)),'Информация о пользователе'!G731)","v":{"$error":"#NAME?"}}]
[{"$f":"TRIM(IF('Информация о пользователе'!A732=\"\",\"Пусто\",'Информация о пользователе'!A732))","v":"Пусто"},{"$f":"TRIM(IF('Информация о пользователе'!B732=\"\",\" \",'Информация о пользователе'!B732&\" \"&'Информация о пользователе'!C732))","v":""},{"$f":"TRIM(IF(AD!A731=\"\",\"\",AD!B731&\" \"&A731))","v":"Пусто"},{"$f":"TRIM(IF('Информация о пользователе'!D732=\"\",F731&\"@edu54.ru\",'Информация о пользователе'!D732))","v":"pusto@edu54.ru"},{"$f":"TRIM(IF('Информация о пользователе'!E732=\"\",\"\",'Информация о пользователе'!E732))","v":""},{"$f":"IF('Информация о пользователе'!F732=\"\",TRIM(Translit.Translit(A731)&TRIM(LEFT(Translit.Translit(Service!E730),1))&TRIM(LEFT(Translit.Translit(Service!F730),1))),TRIM('Информация о пользователе'!F732))","v":"pusto"},{"$f":"IF('Информация о пользователе'!G732=\"\",TRIM(LEFT(Translit.Translit(Service!E730),2))&INDEX(Service!H730:H748,RANDBETWEEN(1,19),1)&RANDBETWEEN(1,9)&IF(Service!F730=\"\",TRIM(LEFT(Translit.Translit(Service!E730),3))&INDEX(Service!A730:A755,RANDBETWEEN(1,26),1),TRIM(LEFT(Translit.Translit(Service!F730),2))&INDEX(Service!H730:H748,RANDBETWEEN(1,19),1)&INDEX(Service!A730:A755,RANDBETWEEN(1,26),1)),'Информация о пользователе'!G732)","v":{"$error":"#NAME?"}}]
[{"$f":"TRIM(IF('Информация о пользователе'!A733=\"\",\"Пусто\",'Информация о пользователе'!A733))","v":"Пусто"},{"$f":"TRIM(IF('Информация о пользователе'!B733=\"\",\" \",'Информация о пользователе'!B733&\" \"&'Информация о пользователе'!C733))","v":""},{"$f":"TRIM(IF(AD!A732=\"\",\"\",AD!B732&\" \"&A732))","v":"Пусто"},{"$f":"TRIM(IF('Информация о пользователе'!D733=\"\",F732&\"@edu54.ru\",'Информация о пользователе'!D733))","v":"pusto@edu54.ru"},{"$f":"TRIM(IF('Информация о пользователе'!E733=\"\",\"\",'Информация о пользователе'!E733))","v":""},{"$f":"IF('Информация о пользователе'!F733=\"\",TRIM(Translit.Translit(A732)&TRIM(LEFT(Translit.Translit(Service!E731),1))&TRIM(LEFT(Translit.Translit(Service!F731),1))),TRIM('Информация о пользователе'!F733))","v":"pusto"},{"$f":"IF('Информация о пользователе'!G733=\"\",TRIM(LEFT(Translit.Translit(Service!E731),2))&INDEX(Service!H731:H749,RANDBETWEEN(1,19),1)&RANDBETWEEN(1,9)&IF(Service!F731=\"\",TRIM(LEFT(Translit.Translit(Service!E731),3))&INDEX(Service!A731:A756,RANDBETWEEN(1,26),1),TRIM(LEFT(Translit.Translit(Service!F731),2))&INDEX(Service!H731:H749,RANDBETWEEN(1,19),1)&INDEX(Service!A731:A756,RANDBETWEEN(1,26),1)),'Информация о пользователе'!G733)","v":{"$error":"#NAME?"}}]
[{"$f":"TRIM(IF('Информация о пользователе'!A734=\"\",\"Пусто\",'Информация о пользователе'!A734))","v":"Пусто"},{"$f":"TRIM(IF('Информация о пользователе'!B734=\"\",\" \",'Информация о пользователе'!B734&\" \"&'Информация о пользователе'!C734))","v":""},{"$f":"TRIM(IF(AD!A733=\"\",\"\",AD!B733&\" \"&A733))","v":"Пусто"},{"$f":"TRIM(IF('Информация о пользователе'!D734=\"\",F733&\"@edu54.ru\",'Информация о пользователе'!D734))","v":"pusto@edu54.ru"},{"$f":"TRIM(IF('Информация о пользователе'!E734=\"\",\"\",'Информация о пользователе'!E734))","v":""},{"$f":"IF('Информация о пользователе'!F734=\"\",TRIM(Translit.Translit(A733)&TRIM(LEFT(Translit.Translit(Service!E732),1))&TRIM(LEFT(Translit.Translit(Service!F732),1))),TRIM('Информация о пользователе'!F734))","v":"pusto"},{"$f":"IF('Информация о пользователе'!G734=\"\",TRIM(LEFT(Translit.Translit(Service!E732),2))&INDEX(Service!H732:H750,RANDBETWEEN(1,19),1)&RANDBETWEEN(1,9)&IF(Service!F732=\"\",TRIM(LEFT(Translit.Translit(Service!E732),3))&INDEX(Service!A732:A757,RANDBETWEEN(1,26),1),TRIM(LEFT(Translit.Translit(Service!F732),2))&INDEX(Service!H732:H750,RANDBETWEEN(1,19),1)&INDEX(Service!A732:A757,RANDBETWEEN(1,26),1)),'Информация о пользователе'!G734)","v":{"$error":"#NAME?"}}]
[{"$f":"TRIM(IF('Информация о пользователе'!A735=\"\",\"Пусто\",'Информация о пользователе'!A735))","v":"Пусто"},{"$f":"TRIM(IF('Информация о пользователе'!B735=\"\",\" \",'Информация о пользователе'!B735&\" \"&'Информация о пользователе'!C735))","v":""},{"$f":"TRIM(IF(AD!A734=\"\",\"\",AD!B734&\" \"&A734))","v":"Пусто"},{"$f":"TRIM(IF('Информация о пользователе'!D735=\"\",F734&\"@edu54.ru\",'Информация о пользователе'!D735))","v":"pusto@edu54.ru"},{"$f":"TRIM(IF('Информация о пользователе'!E735=\"\",\"\",'Информация о пользователе'!E735))","v":""},{"$f":"IF('Информация о пользователе'!F735=\"\",TRIM(Translit.Translit(A734)&TRIM(LEFT(Translit.Translit(Service!E733),1))&TRIM(LEFT(Translit.Translit(Service!F733),1))),TRIM('Информация о пользователе'!F735))","v":"pusto"},{"$f":"IF('Информация о пользователе'!G735=\"\",TRIM(LEFT(Translit.Translit(Service!E733),2))&INDEX(Service!H733:H751,RANDBETWEEN(1,19),1)&RANDBETWEEN(1,9)&IF(Service!F733=\"\",TRIM(LEFT(Translit.Translit(Service!E733),3))&INDEX(Service!A733:A758,RANDBETWEEN(1,26),1),TRIM(LEFT(Translit.Translit(Service!F733),2))&INDEX(Service!H733:H751,RANDBETWEEN(1,19),1)&INDEX(Service!A733:A758,RANDBETWEEN(1,26),1)),'Информация о пользователе'!G735)","v":{"$error":"#NAME?"}}]
[{"$f":"TRIM(IF('Информация о пользователе'!A736=\"\",\"Пусто\",'Информация о пользователе'!A736))","v":"Пусто"},{"$f":"TRIM(IF('Информация о пользователе'!B736=\"\",\" \",'Информация о пользователе'!B736&\" \"&'Информация о пользователе'!C736))","v":""},{"$f":"TRIM(IF(AD!A735=\"\",\"\",AD!B735&\" \"&A735))","v":"Пусто"},{"$f":"TRIM(IF('Информация о пользователе'!D736=\"\",F735&\"@edu54.ru\",'Информация о пользователе'!D736))","v":"pusto@edu54.ru"},{"$f":"TRIM(IF('Информация о пользователе'!E736=\"\",\"\",'Информация о пользователе'!E736))","v":""},{"$f":"IF('Информация о пользователе'!F736=\"\",TRIM(Translit.Translit(A735)&TRIM(LEFT(Translit.Translit(Service!E734),1))&TRIM(LEFT(Translit.Translit(Service!F734),1))),TRIM('Информация о пользователе'!F736))","v":"pusto"},{"$f":"IF('Информация о пользователе'!G736=\"\",TRIM(LEFT(Translit.Translit(Service!E734),2))&INDEX(Service!H734:H752,RANDBETWEEN(1,19),1)&RANDBETWEEN(1,9)&IF(Service!F734=\"\",TRIM(LEFT(Translit.Translit(Service!E734),3))&INDEX(Service!A734:A759,RANDBETWEEN(1,26),1),TRIM(LEFT(Translit.Translit(Service!F734),2))&INDEX(Service!H734:H752,RANDBETWEEN(1,19),1)&INDEX(Service!A734:A759,RANDBETWEEN(1,26),1)),'Информация о пользователе'!G736)","v":{"$error":"#NAME?"}}]
[{"$f":"TRIM(IF('Информация о пользователе'!A737=\"\",\"Пусто\",'Информация о пользователе'!A737))","v":"Пусто"},{"$f":"TRIM(IF('Информация о пользователе'!B737=\"\",\" \",'Информация о пользователе'!B737&\" \"&'Информация о пользователе'!C737))","v":""},{"$f":"TRIM(IF(AD!A736=\"\",\"\",AD!B736&\" \"&A736))","v":"Пусто"},{"$f":"TRIM(IF('Информация о пользователе'!D737=\"\",F736&\"@edu54.ru\",'Информация о пользователе'!D737))","v":"pusto@edu54.ru"},{"$f":"TRIM(IF('Информация о пользователе'!E737=\"\",\"\",'Информация о пользователе'!E737))","v":""},{"$f":"IF('Информация о пользователе'!F737=\"\",TRIM(Translit.Translit(A736)&TRIM(LEFT(Translit.Translit(Service!E735),1))&TRIM(LEFT(Translit.Translit(Service!F735),1))),TRIM('Информация о пользователе'!F737))","v":"pusto"},{"$f":"IF('Информация о пользователе'!G737=\"\",TRIM(LEFT(Translit.Translit(Service!E735),2))&INDEX(Service!H735:H753,RANDBETWEEN(1,19),1)&RANDBETWEEN(1,9)&IF(Service!F735=\"\",TRIM(LEFT(Translit.Translit(Service!E735),3))&INDEX(Service!A735:A760,RANDBETWEEN(1,26),1),TRIM(LEFT(Translit.Translit(Service!F735),2))&INDEX(Service!H735:H753,RANDBETWEEN(1,19),1)&INDEX(Service!A735:A760,RANDBETWEEN(1,26),1)),'Информация о пользователе'!G737)","v":{"$error":"#NAME?"}}]
[{"$f":"TRIM(IF('Информация о пользователе'!A738=\"\",\"Пусто\",'Информация о пользователе'!A738))","v":"Пусто"},{"$f":"TRIM(IF('Информация о пользователе'!B738=\"\",\" \",'Информация о пользователе'!B738&\" \"&'Информация о пользователе'!C738))","v":""},{"$f":"TRIM(IF(AD!A737=\"\",\"\",AD!B737&\" \"&A737))","v":"Пусто"},{"$f":"TRIM(IF('Информация о пользователе'!D738=\"\",F737&\"@edu54.ru\",'Информация о пользователе'!D738))","v":"pusto@edu54.ru"},{"$f":"TRIM(IF('Информация о пользователе'!E738=\"\",\"\",'Информация о пользователе'!E738))","v":""},{"$f":"IF('Информация о пользователе'!F738=\"\",TRIM(Translit.Translit(A737)&TRIM(LEFT(Translit.Translit(Service!E736),1))&TRIM(LEFT(Translit.Translit(Service!F736),1))),TRIM('Информация о пользователе'!F738))","v":"pusto"},{"$f":"IF('Информация о пользователе'!G738=\"\",TRIM(LEFT(Translit.Translit(Service!E736),2))&INDEX(Service!H736:H754,RANDBETWEEN(1,19),1)&RANDBETWEEN(1,9)&IF(Service!F736=\"\",TRIM(LEFT(Translit.Translit(Service!E736),3))&INDEX(Service!A736:A761,RANDBETWEEN(1,26),1),TRIM(LEFT(Translit.Translit(Service!F736),2))&INDEX(Service!H736:H754,RANDBETWEEN(1,19),1)&INDEX(Service!A736:A761,RANDBETWEEN(1,26),1)),'Информация о пользователе'!G738)","v":{"$error":"#NAME?"}}]
[{"$f":"TRIM(IF('Информация о пользователе'!A739=\"\",\"Пусто\",'Информация о пользователе'!A739))","v":"Пусто"},{"$f":"TRIM(IF('Информация о пользователе'!B739=\"\",\" \",'Информация о пользователе'!B739&\" \"&'Информация о пользователе'!C739))","v":""},{"$f":"TRIM(IF(AD!A738=\"\",\"\",AD!B738&\" \"&A738))","v":"Пусто"},{"$f":"TRIM(IF('Информация о пользователе'!D739=\"\",F738&\"@edu54.ru\",'Информация о пользователе'!D739))","v":"pusto@edu54.ru"},{"$f":"TRIM(IF('Информация о пользователе'!E739=\"\",\"\",'Информация о пользователе'!E739))","v":""},{"$f":"IF('Информация о пользователе'!F739=\"\",TRIM(Translit.Translit(A738)&TRIM(LEFT(Translit.Translit(Service!E737),1))&TRIM(LEFT(Translit.Translit(Service!F737),1))),TRIM('Информация о пользователе'!F739))","v":"pusto"},{"$f":"IF('Информация о пользователе'!G739=\"\",TRIM(LEFT(Translit.Translit(Service!E737),2))&INDEX(Service!H737:H755,RANDBETWEEN(1,19),1)&RANDBETWEEN(1,9)&IF(Service!F737=\"\",TRIM(LEFT(Translit.Translit(Service!E737),3))&INDEX(Service!A737:A762,RANDBETWEEN(1,26),1),TRIM(LEFT(Translit.Translit(Service!F737),2))&INDEX(Service!H737:H755,RANDBETWEEN(1,19),1)&INDEX(Service!A737:A762,RANDBETWEEN(1,26),1)),'Информация о пользователе'!G739)","v":{"$error":"#NAME?"}}]
[{"$f":"TRIM(IF('Информация о пользователе'!A740=\"\",\"Пусто\",'Информация о пользователе'!A740))","v":"Пусто"},{"$f":"TRIM(IF('Информация о пользователе'!B740=\"\",\" \",'Информация о пользователе'!B740&\" \"&'Информация о пользователе'!C740))","v":""},{"$f":"TRIM(IF(AD!A739=\"\",\"\",AD!B739&\" \"&A739))","v":"Пусто"},{"$f":"TRIM(IF('Информация о пользователе'!D740=\"\",F739&\"@edu54.ru\",'Информация о пользователе'!D740))","v":"pusto@edu54.ru"},{"$f":"TRIM(IF('Информация о пользователе'!E740=\"\",\"\",'Информация о пользователе'!E740))","v":""},{"$f":"IF('Информация о пользователе'!F740=\"\",TRIM(Translit.Translit(A739)&TRIM(LEFT(Translit.Translit(Service!E738),1))&TRIM(LEFT(Translit.Translit(Service!F738),1))),TRIM('Информация о пользователе'!F740))","v":"pusto"},{"$f":"IF('Информация о пользователе'!G740=\"\",TRIM(LEFT(Translit.Translit(Service!E738),2))&INDEX(Service!H738:H756,RANDBETWEEN(1,19),1)&RANDBETWEEN(1,9)&IF(Service!F738=\"\",TRIM(LEFT(Translit.Translit(Service!E738),3))&INDEX(Service!A738:A763,RANDBETWEEN(1,26),1),TRIM(LEFT(Translit.Translit(Service!F738),2))&INDEX(Service!H738:H756,RANDBETWEEN(1,19),1)&INDEX(Service!A738:A763,RANDBETWEEN(1,26),1)),'Информация о пользователе'!G740)","v":{"$error":"#NAME?"}}]
[{"$f":"TRIM(IF('Информация о пользователе'!A741=\"\",\"Пусто\",'Информация о пользователе'!A741))","v":"Пусто"},{"$f":"TRIM(IF('Информация о пользователе'!B741=\"\",\" \",'Информация о пользователе'!B741&\" \"&'Информация о пользователе'!C741))","v":""},{"$f":"TRIM(IF(AD!A740=\"\",\"\",AD!B740&\" \"&A740))","v":"Пусто"},{"$f":"TRIM(IF('Информация о пользователе'!D741=\"\",F740&\"@edu54.ru\",'Информация о пользователе'!D741))","v":"pusto@edu54.ru"},{"$f":"TRIM(IF('Информация о пользователе'!E741=\"\",\"\",'Информация о пользователе'!E741))","v":""},{"$f":"IF('Информация о пользователе'!F741=\"\",TRIM(Translit.Translit(A740)&TRIM(LEFT(Translit.Translit(Service!E739),1))&TRIM(LEFT(Translit.Translit(Service!F739),1))),TRIM('Информация о пользователе'!F741))","v":"pusto"},{"$f":"IF('Информация о пользователе'!G741=\"\",TRIM(LEFT(Translit.Translit(Service!E739),2))&INDEX(Service!H739:H757,RANDBETWEEN(1,19),1)&RANDBETWEEN(1,9)&IF(Service!F739=\"\",TRIM(LEFT(Translit.Translit(Service!E739),3))&INDEX(Service!A739:A764,RANDBETWEEN(1,26),1),TRIM(LEFT(Translit.Translit(Service!F739),2))&INDEX(Service!H739:H757,RANDBETWEEN(1,19),1)&INDEX(Service!A739:A764,RANDBETWEEN(1,26),1)),'Информация о пользователе'!G741)","v":{"$error":"#NAME?"}}]
[{"$f":"TRIM(IF('Информация о пользователе'!A742=\"\",\"Пусто\",'Информация о пользователе'!A742))","v":"Пусто"},{"$f":"TRIM(IF('Информация о пользователе'!B742=\"\",\" \",'Информация о пользователе'!B742&\" \"&'Информация о пользователе'!C742))","v":""},{"$f":"TRIM(IF(AD!A741=\"\",\"\",AD!B741&\" \"&A741))","v":"Пусто"},{"$f":"TRIM(IF('Информация о пользователе'!D742=\"\",F741&\"@edu54.ru\",'Информация о пользователе'!D742))","v":"pusto@edu54.ru"},{"$f":"TRIM(IF('Информация о пользователе'!E742=\"\",\"\",'Информация о пользователе'!E742))","v":""},{"$f":"IF('Информация о пользователе'!F742=\"\",TRIM(Translit.Translit(A741)&TRIM(LEFT(Translit.Translit(Service!E740),1))&TRIM(LEFT(Translit.Translit(Service!F740),1))),TRIM('Информация о пользователе'!F742))","v":"pusto"},{"$f":"IF('Информация о пользователе'!G742=\"\",TRIM(LEFT(Translit.Translit(Service!E740),2))&INDEX(Service!H740:H758,RANDBETWEEN(1,19),1)&RANDBETWEEN(1,9)&IF(Service!F740=\"\",TRIM(LEFT(Translit.Translit(Service!E740),3))&INDEX(Service!A740:A765,RANDBETWEEN(1,26),1),TRIM(LEFT(Translit.Translit(Service!F740),2))&INDEX(Service!H740:H758,RANDBETWEEN(1,19),1)&INDEX(Service!A740:A765,RANDBETWEEN(1,26),1)),'Информация о пользователе'!G742)","v":{"$error":"#NAME?"}}]
[{"$f":"TRIM(IF('Информация о пользователе'!A743=\"\",\"Пусто\",'Информация о пользователе'!A743))","v":"Пусто"},{"$f":"TRIM(IF('Информация о пользователе'!B743=\"\",\" \",'Информация о пользователе'!B743&\" \"&'Информация о пользователе'!C743))","v":""},{"$f":"TRIM(IF(AD!A742=\"\",\"\",AD!B742&\" \"&A742))","v":"Пусто"},{"$f":"TRIM(IF('Информация о пользователе'!D743=\"\",F742&\"@edu54.ru\",'Информация о пользователе'!D743))","v":"pusto@edu54.ru"},{"$f":"TRIM(IF('Информация о пользователе'!E743=\"\",\"\",'Информация о пользователе'!E743))","v":""},{"$f":"IF('Информация о пользователе'!F743=\"\",TRIM(Translit.Translit(A742)&TRIM(LEFT(Translit.Translit(Service!E741),1))&TRIM(LEFT(Translit.Translit(Service!F741),1))),TRIM('Информация о пользователе'!F743))","v":"pusto"},{"$f":"IF('Информация о пользователе'!G743=\"\",TRIM(LEFT(Translit.Translit(Service!E741),2))&INDEX(Service!H741:H759,RANDBETWEEN(1,19),1)&RANDBETWEEN(1,9)&IF(Service!F741=\"\",TRIM(LEFT(Translit.Translit(Service!E741),3))&INDEX(Service!A741:A766,RANDBETWEEN(1,26),1),TRIM(LEFT(Translit.Translit(Service!F741),2))&INDEX(Service!H741:H759,RANDBETWEEN(1,19),1)&INDEX(Service!A741:A766,RANDBETWEEN(1,26),1)),'Информация о пользователе'!G743)","v":{"$error":"#NAME?"}}]
[{"$f":"TRIM(IF('Информация о пользователе'!A744=\"\",\"Пусто\",'Информация о пользователе'!A744))","v":"Пусто"},{"$f":"TRIM(IF('Информация о пользователе'!B744=\"\",\" \",'Информация о пользователе'!B744&\" \"&'Информация о пользователе'!C744))","v":""},{"$f":"TRIM(IF(AD!A743=\"\",\"\",AD!B743&\" \"&A743))","v":"Пусто"},{"$f":"TRIM(IF('Информация о пользователе'!D744=\"\",F743&\"@edu54.ru\",'Информация о пользователе'!D744))","v":"pusto@edu54.ru"},{"$f":"TRIM(IF('Информация о пользователе'!E744=\"\",\"\",'Информация о пользователе'!E744))","v":""},{"$f":"IF('Информация о пользователе'!F744=\"\",TRIM(Translit.Translit(A743)&TRIM(LEFT(Translit.Translit(Service!E742),1))&TRIM(LEFT(Translit.Translit(Service!F742),1))),TRIM('Информация о пользователе'!F744))","v":"pusto"},{"$f":"IF('Информация о пользователе'!G744=\"\",TRIM(LEFT(Translit.Translit(Service!E742),2))&INDEX(Service!H742:H760,RANDBETWEEN(1,19),1)&RANDBETWEEN(1,9)&IF(Service!F742=\"\",TRIM(LEFT(Translit.Translit(Service!E742),3))&INDEX(Service!A742:A767,RANDBETWEEN(1,26),1),TRIM(LEFT(Translit.Translit(Service!F742),2))&INDEX(Service!H742:H760,RANDBETWEEN(1,19),1)&INDEX(Service!A742:A767,RANDBETWEEN(1,26),1)),'Информация о пользователе'!G744)","v":{"$error":"#NAME?"}}]
[{"$f":"TRIM(IF('Информация о пользователе'!A745=\"\",\"Пусто\",'Информация о пользователе'!A745))","v":"Пусто"},{"$f":"TRIM(IF('Информация о пользователе'!B745=\"\",\" \",'Информация о пользователе'!B745&\" \"&'Информация о пользователе'!C745))","v":""},{"$f":"TRIM(IF(AD!A744=\"\",\"\",AD!B744&\" \"&A744))","v":"Пусто"},{"$f":"TRIM(IF('Информация о пользователе'!D745=\"\",F744&\"@edu54.ru\",'Информация о пользователе'!D745))","v":"pusto@edu54.ru"},{"$f":"TRIM(IF('Информация о пользователе'!E745=\"\",\"\",'Информация о пользователе'!E745))","v":""},{"$f":"IF('Информация о пользователе'!F745=\"\",TRIM(Translit.Translit(A744)&TRIM(LEFT(Translit.Translit(Service!E743),1))&TRIM(LEFT(Translit.Translit(Service!F743),1))),TRIM('Информация о пользователе'!F745))","v":"pusto"},{"$f":"IF('Информация о пользователе'!G745=\"\",TRIM(LEFT(Translit.Translit(Service!E743),2))&INDEX(Service!H743:H761,RANDBETWEEN(1,19),1)&RANDBETWEEN(1,9)&IF(Service!F743=\"\",TRIM(LEFT(Translit.Translit(Service!E743),3))&INDEX(Service!A743:A768,RANDBETWEEN(1,26),1),TRIM(LEFT(Translit.Translit(Service!F743),2))&INDEX(Service!H743:H761,RANDBETWEEN(1,19),1)&INDEX(Service!A743:A768,RANDBETWEEN(1,26),1)),'Информация о пользователе'!G745)","v":{"$error":"#NAME?"}}]
[{"$f":"TRIM(IF('Информация о пользователе'!A746=\"\",\"Пусто\",'Информация о пользователе'!A746))","v":"Пусто"},{"$f":"TRIM(IF('Информация о пользователе'!B746=\"\",\" \",'Информация о пользователе'!B746&\" \"&'Информация о пользователе'!C746))","v":""},{"$f":"TRIM(IF(AD!A745=\"\",\"\",AD!B745&\" \"&A745))","v":"Пусто"},{"$f":"TRIM(IF('Информация о пользователе'!D746=\"\",F745&\"@edu54.ru\",'Информация о пользователе'!D746))","v":"pusto@edu54.ru"},{"$f":"TRIM(IF('Информация о пользователе'!E746=\"\",\"\",'Информация о пользователе'!E746))","v":""},{"$f":"IF('Информация о пользователе'!F746=\"\",TRIM(Translit.Translit(A745)&TRIM(LEFT(Translit.Translit(Service!E744),1))&TRIM(LEFT(Translit.Translit(Service!F744),1))),TRIM('Информация о пользователе'!F746))","v":"pusto"},{"$f":"IF('Информация о пользователе'!G746=\"\",TRIM(LEFT(Translit.Translit(Service!E744),2))&INDEX(Service!H744:H762,RANDBETWEEN(1,19),1)&RANDBETWEEN(1,9)&IF(Service!F744=\"\",TRIM(LEFT(Translit.Translit(Service!E744),3))&INDEX(Service!A744:A769,RANDBETWEEN(1,26),1),TRIM(LEFT(Translit.Translit(Service!F744),2))&INDEX(Service!H744:H762,RANDBETWEEN(1,19),1)&INDEX(Service!A744:A769,RANDBETWEEN(1,26),1)),'Информация о пользователе'!G746)","v":{"$error":"#NAME?"}}]
[{"$f":"TRIM(IF('Информация о пользователе'!A747=\"\",\"Пусто\",'Информация о пользователе'!A747))","v":"Пусто"},{"$f":"TRIM(IF('Информация о пользователе'!B747=\"\",\" \",'Информация о пользователе'!B747&\" \"&'Информация о пользователе'!C747))","v":""},{"$f":"TRIM(IF(AD!A746=\"\",\"\",AD!B746&\" \"&A746))","v":"Пусто"},{"$f":"TRIM(IF('Информация о пользователе'!D747=\"\",F746&\"@edu54.ru\",'Информация о пользователе'!D747))","v":"pusto@edu54.ru"},{"$f":"TRIM(IF('Информация о пользователе'!E747=\"\",\"\",'Информация о пользователе'!E747))","v":""},{"$f":"IF('Информация о пользователе'!F747=\"\",TRIM(Translit.Translit(A746)&TRIM(LEFT(Translit.Translit(Service!E745),1))&TRIM(LEFT(Translit.Translit(Service!F745),1))),TRIM('Информация о пользователе'!F747))","v":"pusto"},{"$f":"IF('Информация о пользователе'!G747=\"\",TRIM(LEFT(Translit.Translit(Service!E745),2))&INDEX(Service!H745:H763,RANDBETWEEN(1,19),1)&RANDBETWEEN(1,9)&IF(Service!F745=\"\",TRIM(LEFT(Translit.Translit(Service!E745),3))&INDEX(Service!A745:A770,RANDBETWEEN(1,26),1),TRIM(LEFT(Translit.Translit(Service!F745),2))&INDEX(Service!H745:H763,RANDBETWEEN(1,19),1)&INDEX(Service!A745:A770,RANDBETWEEN(1,26),1)),'Информация о пользователе'!G747)","v":{"$error":"#NAME?"}}]
[{"$f":"TRIM(IF('Информация о пользователе'!A748=\"\",\"Пусто\",'Информация о пользователе'!A748))","v":"Пусто"},{"$f":"TRIM(IF('Информация о пользователе'!B748=\"\",\" \",'Информация о пользователе'!B748&\" \"&'Информация о пользователе'!C748))","v":""},{"$f":"TRIM(IF(AD!A747=\"\",\"\",AD!B747&\" \"&A747))","v":"Пусто"},{"$f":"TRIM(IF('Информация о пользователе'!D748=\"\",F747&\"@edu54.ru\",'Информация о пользователе'!D748))","v":"pusto@edu54.ru"},{"$f":"TRIM(IF('Информация о пользователе'!E748=\"\",\"\",'Информация о пользователе'!E748))","v":""},{"$f":"IF('Информация о пользователе'!F748=\"\",TRIM(Translit.Translit(A747)&TRIM(LEFT(Translit.Translit(Service!E746),1))&TRIM(LEFT(Translit.Translit(Service!F746),1))),TRIM('Информация о пользователе'!F748))","v":"pusto"},{"$f":"IF('Информация о пользователе'!G748=\"\",TRIM(LEFT(Translit.Translit(Service!E746),2))&INDEX(Service!H746:H764,RANDBETWEEN(1,19),1)&RANDBETWEEN(1,9)&IF(Service!F746=\"\",TRIM(LEFT(Translit.Translit(Service!E746),3))&INDEX(Service!A746:A771,RANDBETWEEN(1,26),1),TRIM(LEFT(Translit.Translit(Service!F746),2))&INDEX(Service!H746:H764,RANDBETWEEN(1,19),1)&INDEX(Service!A746:A771,RANDBETWEEN(1,26),1)),'Информация о пользователе'!G748)","v":{"$error":"#NAME?"}}]
[{"$f":"TRIM(IF('Информация о пользователе'!A749=\"\",\"Пусто\",'Информация о пользователе'!A749))","v":"Пусто"},{"$f":"TRIM(IF('Информация о пользователе'!B749=\"\",\" \",'Информация о пользователе'!B749&\" \"&'Информация о пользователе'!C749))","v":""},{"$f":"TRIM(IF(AD!A748=\"\",\"\",AD!B748&\" \"&A748))","v":"Пусто"},{"$f":"TRIM(IF('Информация о пользователе'!D749=\"\",F748&\"@edu54.ru\",'Информация о пользователе'!D749))","v":"pusto@edu54.ru"},{"$f":"TRIM(IF('Информация о пользователе'!E749=\"\",\"\",'Информация о пользователе'!E749))","v":""},{"$f":"IF('Информация о пользователе'!F749=\"\",TRIM(Translit.Translit(A748)&TRIM(LEFT(Translit.Translit(Service!E747),1))&TRIM(LEFT(Translit.Translit(Service!F747),1))),TRIM('Информация о пользователе'!F749))","v":"pusto"},{"$f":"IF('Информация о пользователе'!G749=\"\",TRIM(LEFT(Translit.Translit(Service!E747),2))&INDEX(Service!H747:H765,RANDBETWEEN(1,19),1)&RANDBETWEEN(1,9)&IF(Service!F747=\"\",TRIM(LEFT(Translit.Translit(Service!E747),3))&INDEX(Service!A747:A772,RANDBETWEEN(1,26),1),TRIM(LEFT(Translit.Translit(Service!F747),2))&INDEX(Service!H747:H765,RANDBETWEEN(1,19),1)&INDEX(Service!A747:A772,RANDBETWEEN(1,26),1)),'Информация о пользователе'!G749)","v":{"$error":"#NAME?"}}]
[{"$f":"TRIM(IF('Информация о пользователе'!A750=\"\",\"Пусто\",'Информация о пользователе'!A750))","v":"Пусто"},{"$f":"TRIM(IF('Информация о пользователе'!B750=\"\",\" \",'Информация о пользователе'!B750&\" \"&'Информация о пользователе'!C750))","v":""},{"$f":"TRIM(IF(AD!A749=\"\",\"\",AD!B749&\" \"&A749))","v":"Пусто"},{"$f":"TRIM(IF('Информация о пользователе'!D750=\"\",F749&\"@edu54.ru\",'Информация о пользователе'!D750))","v":"pusto@edu54.ru"},{"$f":"TRIM(IF('Информация о пользователе'!E750=\"\",\"\",'Информация о пользователе'!E750))","v":""},{"$f":"IF('Информация о пользователе'!F750=\"\",TRIM(Translit.Translit(A749)&TRIM(LEFT(Translit.Translit(Service!E748),1))&TRIM(LEFT(Translit.Translit(Service!F748),1))),TRIM('Информация о пользователе'!F750))","v":"pusto"},{"$f":"IF('Информация о пользователе'!G750=\"\",TRIM(LEFT(Translit.Translit(Service!E748),2))&INDEX(Service!H748:H766,RANDBETWEEN(1,19),1)&RANDBETWEEN(1,9)&IF(Service!F748=\"\",TRIM(LEFT(Translit.Translit(Service!E748),3))&INDEX(Service!A748:A773,RANDBETWEEN(1,26),1),TRIM(LEFT(Translit.Translit(Service!F748),2))&INDEX(Service!H748:H766,RANDBETWEEN(1,19),1)&INDEX(Service!A748:A773,RANDBETWEEN(1,26),1)),'Информация о пользователе'!G750)","v":{"$error":"#NAME?"}}]
[{"$f":"TRIM(IF('Информация о пользователе'!A751=\"\",\"Пусто\",'Информация о пользователе'!A751))","v":"Пусто"},{"$f":"TRIM(IF('Информация о пользователе'!B751=\"\",\" \",'Информация о пользователе'!B751&\" \"&'Информация о пользователе'!C751))","v":""},{"$f":"TRIM(IF(AD!A750=\"\",\"\",AD!B750&\" \"&A750))","v":"Пусто"},{"$f":"TRIM(IF('Информация о пользователе'!D751=\"\",F750&\"@edu54.ru\",'Информация о пользователе'!D751))","v":"pusto@edu54.ru"},{"$f":"TRIM(IF('Информация о пользователе'!E751=\"\",\"\",'Информация о пользователе'!E751))","v":""},{"$f":"IF('Информация о пользователе'!F751=\"\",TRIM(Translit.Translit(A750)&TRIM(LEFT(Translit.Translit(Service!E749),1))&TRIM(LEFT(Translit.Translit(Service!F749),1))),TRIM('Информация о пользователе'!F751))","v":"pusto"},{"$f":"IF('Информация о пользователе'!G751=\"\",TRIM(LEFT(Translit.Translit(Service!E749),2))&INDEX(Service!H749:H767,RANDBETWEEN(1,19),1)&RANDBETWEEN(1,9)&IF(Service!F749=\"\",TRIM(LEFT(Translit.Translit(Service!E749),3))&INDEX(Service!A749:A774,RANDBETWEEN(1,26),1),TRIM(LEFT(Translit.Translit(Service!F749),2))&INDEX(Service!H749:H767,RANDBETWEEN(1,19),1)&INDEX(Service!A749:A774,RANDBETWEEN(1,26),1)),'Информация о пользователе'!G751)","v":{"$error":"#NAME?"}}]
[{"$f":"TRIM(IF('Информация о пользователе'!A752=\"\",\"Пусто\",'Информация о пользователе'!A752))","v":"Пусто"},{"$f":"TRIM(IF('Информация о пользователе'!B752=\"\",\" \",'Информация о пользователе'!B752&\" \"&'Информация о пользователе'!C752))","v":""},{"$f":"TRIM(IF(AD!A751=\"\",\"\",AD!B751&\" \"&A751))","v":"Пусто"},{"$f":"TRIM(IF('Информация о пользователе'!D752=\"\",F751&\"@edu54.ru\",'Информация о пользователе'!D752))","v":"pusto@edu54.ru"},{"$f":"TRIM(IF('Информация о пользователе'!E752=\"\",\"\",'Информация о пользователе'!E752))","v":""},{"$f":"IF('Информация о пользователе'!F752=\"\",TRIM(Translit.Translit(A751)&TRIM(LEFT(Translit.Translit(Service!E750),1))&TRIM(LEFT(Translit.Translit(Service!F750),1))),TRIM('Информация о пользователе'!F752))","v":"pusto"},{"$f":"IF('Информация о пользователе'!G752=\"\",TRIM(LEFT(Translit.Translit(Service!E750),2))&INDEX(Service!H750:H768,RANDBETWEEN(1,19),1)&RANDBETWEEN(1,9)&IF(Service!F750=\"\",TRIM(LEFT(Translit.Translit(Service!E750),3))&INDEX(Service!A750:A775,RANDBETWEEN(1,26),1),TRIM(LEFT(Translit.Translit(Service!F750),2))&INDEX(Service!H750:H768,RANDBETWEEN(1,19),1)&INDEX(Service!A750:A775,RANDBETWEEN(1,26),1)),'Информация о пользователе'!G752)","v":{"$error":"#NAME?"}}]
[{"$f":"TRIM(IF('Информация о пользователе'!A753=\"\",\"Пусто\",'Информация о пользователе'!A753))","v":"Пусто"},{"$f":"TRIM(IF('Информация о пользователе'!B753=\"\",\" \",'Информация о пользователе'!B753&\" \"&'Информация о пользователе'!C753))","v":""},{"$f":"TRIM(IF(AD!A752=\"\",\"\",AD!B752&\" \"&A752))","v":"Пусто"},{"$f":"TRIM(IF('Информация о пользователе'!D753=\"\",F752&\"@edu54.ru\",'Информация о пользователе'!D753))","v":"pusto@edu54.ru"},{"$f":"TRIM(IF('Информация о пользователе'!E753=\"\",\"\",'Информация о пользователе'!E753))","v":""},{"$f":"IF('Информация о пользователе'!F753=\"\",TRIM(Translit.Translit(A752)&TRIM(LEFT(Translit.Translit(Service!E751),1))&TRIM(LEFT(Translit.Translit(Service!F751),1))),TRIM('Информация о пользователе'!F753))","v":"pusto"},{"$f":"IF('Информация о пользователе'!G753=\"\",TRIM(LEFT(Translit.Translit(Service!E751),2))&INDEX(Service!H751:H769,RANDBETWEEN(1,19),1)&RANDBETWEEN(1,9)&IF(Service!F751=\"\",TRIM(LEFT(Translit.Translit(Service!E751),3))&INDEX(Service!A751:A776,RANDBETWEEN(1,26),1),TRIM(LEFT(Translit.Translit(Service!F751),2))&INDEX(Service!H751:H769,RANDBETWEEN(1,19),1)&INDEX(Service!A751:A776,RANDBETWEEN(1,26),1)),'Информация о пользователе'!G753)","v":{"$error":"#NAME?"}}]
[{"$f":"TRIM(IF('Информация о пользователе'!A754=\"\",\"Пусто\",'Информация о пользователе'!A754))","v":"Пусто"},{"$f":"TRIM(IF('Информация о пользователе'!B754=\"\",\" \",'Информация о пользователе'!B754&\" \"&'Информация о пользователе'!C754))","v":""},{"$f":"TRIM(IF(AD!A753=\"\",\"\",AD!B753&\" \"&A753))","v":"Пусто"},{"$f":"TRIM(IF('Информация о пользователе'!D754=\"\",F753&\"@edu54.ru\",'Информация о пользователе'!D754))","v":"pusto@edu54.ru"},{"$f":"TRIM(IF('Информация о пользователе'!E754=\"\",\"\",'Информация о пользователе'!E754))","v":""},{"$f":"IF('Информация о пользователе'!F754=\"\",TRIM(Translit.Translit(A753)&TRIM(LEFT(Translit.Translit(Service!E752),1))&TRIM(LEFT(Translit.Translit(Service!F752),1))),TRIM('Информация о пользователе'!F754))","v":"pusto"},{"$f":"IF('Информация о пользователе'!G754=\"\",TRIM(LEFT(Translit.Translit(Service!E752),2))&INDEX(Service!H752:H770,RANDBETWEEN(1,19),1)&RANDBETWEEN(1,9)&IF(Service!F752=\"\",TRIM(LEFT(Translit.Translit(Service!E752),3))&INDEX(Service!A752:A777,RANDBETWEEN(1,26),1),TRIM(LEFT(Translit.Translit(Service!F752),2))&INDEX(Service!H752:H770,RANDBETWEEN(1,19),1)&INDEX(Service!A752:A777,RANDBETWEEN(1,26),1)),'Информация о пользователе'!G754)","v":{"$error":"#NAME?"}}]
[{"$f":"TRIM(IF('Информация о пользователе'!A755=\"\",\"Пусто\",'Информация о пользователе'!A755))","v":"Пусто"},{"$f":"TRIM(IF('Информация о пользователе'!B755=\"\",\" \",'Информация о пользователе'!B755&\" \"&'Информация о пользователе'!C755))","v":""},{"$f":"TRIM(IF(AD!A754=\"\",\"\",AD!B754&\" \"&A754))","v":"Пусто"},{"$f":"TRIM(IF('Информация о пользователе'!D755=\"\",F754&\"@edu54.ru\",'Информация о пользователе'!D755))","v":"pusto@edu54.ru"},{"$f":"TRIM(IF('Информация о пользователе'!E755=\"\",\"\",'Информация о пользователе'!E755))","v":""},{"$f":"IF('Информация о пользователе'!F755=\"\",TRIM(Translit.Translit(A754)&TRIM(LEFT(Translit.Translit(Service!E753),1))&TRIM(LEFT(Translit.Translit(Service!F753),1))),TRIM('Информация о пользователе'!F755))","v":"pusto"},{"$f":"IF('Информация о пользователе'!G755=\"\",TRIM(LEFT(Translit.Translit(Service!E753),2))&INDEX(Service!H753:H771,RANDBETWEEN(1,19),1)&RANDBETWEEN(1,9)&IF(Service!F753=\"\",TRIM(LEFT(Translit.Translit(Service!E753),3))&INDEX(Service!A753:A778,RANDBETWEEN(1,26),1),TRIM(LEFT(Translit.Translit(Service!F753),2))&INDEX(Service!H753:H771,RANDBETWEEN(1,19),1)&INDEX(Service!A753:A778,RANDBETWEEN(1,26),1)),'Информация о пользователе'!G755)","v":{"$error":"#NAME?"}}]
[{"$f":"TRIM(IF('Информация о пользователе'!A756=\"\",\"Пусто\",'Информация о пользователе'!A756))","v":"Пусто"},{"$f":"TRIM(IF('Информация о пользователе'!B756=\"\",\" \",'Информация о пользователе'!B756&\" \"&'Информация о пользователе'!C756))","v":""},{"$f":"TRIM(IF(AD!A755=\"\",\"\",AD!B755&\" \"&A755))","v":"Пусто"},{"$f":"TRIM(IF('Информация о пользователе'!D756=\"\",F755&\"@edu54.ru\",'Информация о пользователе'!D756))","v":"pusto@edu54.ru"},{"$f":"TRIM(IF('Информация о пользователе'!E756=\"\",\"\",'Информация о пользователе'!E756))","v":""},{"$f":"IF('Информация о пользователе'!F756=\"\",TRIM(Translit.Translit(A755)&TRIM(LEFT(Translit.Translit(Service!E754),1))&TRIM(LEFT(Translit.Translit(Service!F754),1))),TRIM('Информация о пользователе'!F756))","v":"pusto"},{"$f":"IF('Информация о пользователе'!G756=\"\",TRIM(LEFT(Translit.Translit(Service!E754),2))&INDEX(Service!H754:H772,RANDBETWEEN(1,19),1)&RANDBETWEEN(1,9)&IF(Service!F754=\"\",TRIM(LEFT(Translit.Translit(Service!E754),3))&INDEX(Service!A754:A779,RANDBETWEEN(1,26),1),TRIM(LEFT(Translit.Translit(Service!F754),2))&INDEX(Service!H754:H772,RANDBETWEEN(1,19),1)&INDEX(Service!A754:A779,RANDBETWEEN(1,26),1)),'Информация о пользователе'!G756)","v":{"$error":"#NAME?"}}]
[{"$f":"TRIM(IF('Информация о пользователе'!A757=\"\",\"Пусто\",'Информация о пользователе'!A757))","v":"Пусто"},{"$f":"TRIM(IF('Информация о пользователе'!B757=\"\",\" \",'Информация о пользователе'!B757&\" \"&'Информация о пользователе'!C757))","v":""},{"$f":"TRIM(IF(AD!A756=\"\",\"\",AD!B756&\" \"&A756))","v":"Пусто"},{"$f":"TRIM(IF('Информация о пользователе'!D757=\"\",F756&\"@edu54.ru\",'Информация о пользователе'!D757))","v":"pusto@edu54.ru"},{"$f":"TRIM(IF('Информация о пользователе'!E757=\"\",\"\",'Информация о пользователе'!E757))","v":""},{"$f":"IF('Информация о пользователе'!F757=\"\",TRIM(Translit.Translit(A756)&TRIM(LEFT(Translit.Translit(Service!E755),1))&TRIM(LEFT(Translit.Translit(Service!F755),1))),TRIM('Информация о пользователе'!F757))","v":"pusto"},{"$f":"IF('Информация о пользователе'!G757=\"\",TRIM(LEFT(Translit.Translit(Service!E755),2))&INDEX(Service!H755:H773,RANDBETWEEN(1,19),1)&RANDBETWEEN(1,9)&IF(Service!F755=\"\",TRIM(LEFT(Translit.Translit(Service!E755),3))&INDEX(Service!A755:A780,RANDBETWEEN(1,26),1),TRIM(LEFT(Translit.Translit(Service!F755),2))&INDEX(Service!H755:H773,RANDBETWEEN(1,19),1)&INDEX(Service!A755:A780,RANDBETWEEN(1,26),1)),'Информация о пользователе'!G757)","v":{"$error":"#NAME?"}}]
[{"$f":"TRIM(IF('Информация о пользователе'!A758=\"\",\"Пусто\",'Информация о пользователе'!A758))","v":"Пусто"},{"$f":"TRIM(IF('Информация о пользователе'!B758=\"\",\" \",'Информация о пользователе'!B758&\" \"&'Информация о пользователе'!C758))","v":""},{"$f":"TRIM(IF(AD!A757=\"\",\"\",AD!B757&\" \"&A757))","v":"Пусто"},{"$f":"TRIM(IF('Информация о пользователе'!D758=\"\",F757&\"@edu54.ru\",'Информация о пользователе'!D758))","v":"pusto@edu54.ru"},{"$f":"TRIM(IF('Информация о пользователе'!E758=\"\",\"\",'Информация о пользователе'!E758))","v":""},{"$f":"IF('Информация о пользователе'!F758=\"\",TRIM(Translit.Translit(A757)&TRIM(LEFT(Translit.Translit(Service!E756),1))&TRIM(LEFT(Translit.Translit(Service!F756),1))),TRIM('Информация о пользователе'!F758))","v":"pusto"},{"$f":"IF('Информация о пользователе'!G758=\"\",TRIM(LEFT(Translit.Translit(Service!E756),2))&INDEX(Service!H756:H774,RANDBETWEEN(1,19),1)&RANDBETWEEN(1,9)&IF(Service!F756=\"\",TRIM(LEFT(Translit.Translit(Service!E756),3))&INDEX(Service!A756:A781,RANDBETWEEN(1,26),1),TRIM(LEFT(Translit.Translit(Service!F756),2))&INDEX(Service!H756:H774,RANDBETWEEN(1,19),1)&INDEX(Service!A756:A781,RANDBETWEEN(1,26),1)),'Информация о пользователе'!G758)","v":{"$error":"#NAME?"}}]
[{"$f":"TRIM(IF('Информация о пользователе'!A759=\"\",\"Пусто\",'Информация о пользователе'!A759))","v":"Пусто"},{"$f":"TRIM(IF('Информация о пользователе'!B759=\"\",\" \",'Информация о пользователе'!B759&\" \"&'Информация о пользователе'!C759))","v":""},{"$f":"TRIM(IF(AD!A758=\"\",\"\",AD!B758&\" \"&A758))","v":"Пусто"},{"$f":"TRIM(IF('Информация о пользователе'!D759=\"\",F758&\"@edu54.ru\",'Информация о пользователе'!D759))","v":"pusto@edu54.ru"},{"$f":"TRIM(IF('Информация о пользователе'!E759=\"\",\"\",'Информация о пользователе'!E759))","v":""},{"$f":"IF('Информация о пользователе'!F759=\"\",TRIM(Translit.Translit(A758)&TRIM(LEFT(Translit.Translit(Service!E757),1))&TRIM(LEFT(Translit.Translit(Service!F757),1))),TRIM('Информация о пользователе'!F759))","v":"pusto"},{"$f":"IF('Информация о пользователе'!G759=\"\",TRIM(LEFT(Translit.Translit(Service!E757),2))&INDEX(Service!H757:H775,RANDBETWEEN(1,19),1)&RANDBETWEEN(1,9)&IF(Service!F757=\"\",TRIM(LEFT(Translit.Translit(Service!E757),3))&INDEX(Service!A757:A782,RANDBETWEEN(1,26),1),TRIM(LEFT(Translit.Translit(Service!F757),2))&INDEX(Service!H757:H775,RANDBETWEEN(1,19),1)&INDEX(Service!A757:A782,RANDBETWEEN(1,26),1)),'Информация о пользователе'!G759)","v":{"$error":"#NAME?"}}]
[{"$f":"TRIM(IF('Информация о пользователе'!A760=\"\",\"Пусто\",'Информация о пользователе'!A760))","v":"Пусто"},{"$f":"TRIM(IF('Информация о пользователе'!B760=\"\",\" \",'Информация о пользователе'!B760&\" \"&'Информация о пользователе'!C760))","v":""},{"$f":"TRIM(IF(AD!A759=\"\",\"\",AD!B759&\" \"&A759))","v":"Пусто"},{"$f":"TRIM(IF('Информация о пользователе'!D760=\"\",F759&\"@edu54.ru\",'Информация о пользователе'!D760))","v":"pusto@edu54.ru"},{"$f":"TRIM(IF('Информация о пользователе'!E760=\"\",\"\",'Информация о пользователе'!E760))","v":""},{"$f":"IF('Информация о пользователе'!F760=\"\",TRIM(Translit.Translit(A759)&TRIM(LEFT(Translit.Translit(Service!E758),1))&TRIM(LEFT(Translit.Translit(Service!F758),1))),TRIM('Информация о пользователе'!F760))","v":"pusto"},{"$f":"IF('Информация о пользователе'!G760=\"\",TRIM(LEFT(Translit.Translit(Service!E758),2))&INDEX(Service!H758:H776,RANDBETWEEN(1,19),1)&RANDBETWEEN(1,9)&IF(Service!F758=\"\",TRIM(LEFT(Translit.Translit(Service!E758),3))&INDEX(Service!A758:A783,RANDBETWEEN(1,26),1),TRIM(LEFT(Translit.Translit(Service!F758),2))&INDEX(Service!H758:H776,RANDBETWEEN(1,19),1)&INDEX(Service!A758:A783,RANDBETWEEN(1,26),1)),'Информация о пользователе'!G760)","v":{"$error":"#NAME?"}}]
[{"$f":"TRIM(IF('Информация о пользователе'!A761=\"\",\"Пусто\",'Информация о пользователе'!A761))","v":"Пусто"},{"$f":"TRIM(IF('Информация о пользователе'!B761=\"\",\" \",'Информация о пользователе'!B761&\" \"&'Информация о пользователе'!C761))","v":""},{"$f":"TRIM(IF(AD!A760=\"\",\"\",AD!B760&\" \"&A760))","v":"Пусто"},{"$f":"TRIM(IF('Информация о пользователе'!D761=\"\",F760&\"@edu54.ru\",'Информация о пользователе'!D761))","v":"pusto@edu54.ru"},{"$f":"TRIM(IF('Информация о пользователе'!E761=\"\",\"\",'Информация о пользователе'!E761))","v":""},{"$f":"IF('Информация о пользователе'!F761=\"\",TRIM(Translit.Translit(A760)&TRIM(LEFT(Translit.Translit(Service!E759),1))&TRIM(LEFT(Translit.Translit(Service!F759),1))),TRIM('Информация о пользователе'!F761))","v":"pusto"},{"$f":"IF('Информация о пользователе'!G761=\"\",TRIM(LEFT(Translit.Translit(Service!E759),2))&INDEX(Service!H759:H777,RANDBETWEEN(1,19),1)&RANDBETWEEN(1,9)&IF(Service!F759=\"\",TRIM(LEFT(Translit.Translit(Service!E759),3))&INDEX(Service!A759:A784,RANDBETWEEN(1,26),1),TRIM(LEFT(Translit.Translit(Service!F759),2))&INDEX(Service!H759:H777,RANDBETWEEN(1,19),1)&INDEX(Service!A759:A784,RANDBETWEEN(1,26),1)),'Информация о пользователе'!G761)","v":{"$error":"#NAME?"}}]
[{"$f":"TRIM(IF('Информация о пользователе'!A762=\"\",\"Пусто\",'Информация о пользователе'!A762))","v":"Пусто"},{"$f":"TRIM(IF('Информация о пользователе'!B762=\"\",\" \",'Информация о пользователе'!B762&\" \"&'Информация о пользователе'!C762))","v":""},{"$f":"TRIM(IF(AD!A761=\"\",\"\",AD!B761&\" \"&A761))","v":"Пусто"},{"$f":"TRIM(IF('Информация о пользователе'!D762=\"\",F761&\"@edu54.ru\",'Информация о пользователе'!D762))","v":"pusto@edu54.ru"},{"$f":"TRIM(IF('Информация о пользователе'!E762=\"\",\"\",'Информация о пользователе'!E762))","v":""},{"$f":"IF('Информация о пользователе'!F762=\"\",TRIM(Translit.Translit(A761)&TRIM(LEFT(Translit.Translit(Service!E760),1))&TRIM(LEFT(Translit.Translit(Service!F760),1))),TRIM('Информация о пользователе'!F762))","v":"pusto"},{"$f":"IF('Информация о пользователе'!G762=\"\",TRIM(LEFT(Translit.Translit(Service!E760),2))&INDEX(Service!H760:H778,RANDBETWEEN(1,19),1)&RANDBETWEEN(1,9)&IF(Service!F760=\"\",TRIM(LEFT(Translit.Translit(Service!E760),3))&INDEX(Service!A760:A785,RANDBETWEEN(1,26),1),TRIM(LEFT(Translit.Translit(Service!F760),2))&INDEX(Service!H760:H778,RANDBETWEEN(1,19),1)&INDEX(Service!A760:A785,RANDBETWEEN(1,26),1)),'Информация о пользователе'!G762)","v":{"$error":"#NAME?"}}]
[{"$f":"TRIM(IF('Информация о пользователе'!A763=\"\",\"Пусто\",'Информация о пользователе'!A763))","v":"Пусто"},{"$f":"TRIM(IF('Информация о пользователе'!B763=\"\",\" \",'Информация о пользователе'!B763&\" \"&'Информация о пользователе'!C763))","v":""},{"$f":"TRIM(IF(AD!A762=\"\",\"\",AD!B762&\" \"&A762))","v":"Пусто"},{"$f":"TRIM(IF('Информация о пользователе'!D763=\"\",F762&\"@edu54.ru\",'Информация о пользователе'!D763))","v":"pusto@edu54.ru"},{"$f":"TRIM(IF('Информация о пользователе'!E763=\"\",\"\",'Информация о пользователе'!E763))","v":""},{"$f":"IF('Информация о пользователе'!F763=\"\",TRIM(Translit.Translit(A762)&TRIM(LEFT(Translit.Translit(Service!E761),1))&TRIM(LEFT(Translit.Translit(Service!F761),1))),TRIM('Информация о пользователе'!F763))","v":"pusto"},{"$f":"IF('Информация о пользователе'!G763=\"\",TRIM(LEFT(Translit.Translit(Service!E761),2))&INDEX(Service!H761:H779,RANDBETWEEN(1,19),1)&RANDBETWEEN(1,9)&IF(Service!F761=\"\",TRIM(LEFT(Translit.Translit(Service!E761),3))&INDEX(Service!A761:A786,RANDBETWEEN(1,26),1),TRIM(LEFT(Translit.Translit(Service!F761),2))&INDEX(Service!H761:H779,RANDBETWEEN(1,19),1)&INDEX(Service!A761:A786,RANDBETWEEN(1,26),1)),'Информация о пользователе'!G763)","v":{"$error":"#NAME?"}}]
[{"$f":"TRIM(IF('Информация о пользователе'!A764=\"\",\"Пусто\",'Информация о пользователе'!A764))","v":"Пусто"},{"$f":"TRIM(IF('Информация о пользователе'!B764=\"\",\" \",'Информация о пользователе'!B764&\" \"&'Информация о пользователе'!C764))","v":""},{"$f":"TRIM(IF(AD!A763=\"\",\"\",AD!B763&\" \"&A763))","v":"Пусто"},{"$f":"TRIM(IF('Информация о пользователе'!D764=\"\",F763&\"@edu54.ru\",'Информация о пользователе'!D764))","v":"pusto@edu54.ru"},{"$f":"TRIM(IF('Информация о пользователе'!E764=\"\",\"\",'Информация о пользователе'!E764))","v":""},{"$f":"IF('Информация о пользователе'!F764=\"\",TRIM(Translit.Translit(A763)&TRIM(LEFT(Translit.Translit(Service!E762),1))&TRIM(LEFT(Translit.Translit(Service!F762),1))),TRIM('Информация о пользователе'!F764))","v":"pusto"},{"$f":"IF('Информация о пользователе'!G764=\"\",TRIM(LEFT(Translit.Translit(Service!E762),2))&INDEX(Service!H762:H780,RANDBETWEEN(1,19),1)&RANDBETWEEN(1,9)&IF(Service!F762=\"\",TRIM(LEFT(Translit.Translit(Service!E762),3))&INDEX(Service!A762:A787,RANDBETWEEN(1,26),1),TRIM(LEFT(Translit.Translit(Service!F762),2))&INDEX(Service!H762:H780,RANDBETWEEN(1,19),1)&INDEX(Service!A762:A787,RANDBETWEEN(1,26),1)),'Информация о пользователе'!G764)","v":{"$error":"#NAME?"}}]
[{"$f":"TRIM(IF('Информация о пользователе'!A765=\"\",\"Пусто\",'Информация о пользователе'!A765))","v":"Пусто"},{"$f":"TRIM(IF('Информация о пользователе'!B765=\"\",\" \",'Информация о пользователе'!B765&\" \"&'Информация о пользователе'!C765))","v":""},{"$f":"TRIM(IF(AD!A764=\"\",\"\",AD!B764&\" \"&A764))","v":"Пусто"},{"$f":"TRIM(IF('Информация о пользователе'!D765=\"\",F764&\"@edu54.ru\",'Информация о пользователе'!D765))","v":"pusto@edu54.ru"},{"$f":"TRIM(IF('Информация о пользователе'!E765=\"\",\"\",'Информация о пользователе'!E765))","v":""},{"$f":"IF('Информация о пользователе'!F765=\"\",TRIM(Translit.Translit(A764)&TRIM(LEFT(Translit.Translit(Service!E763),1))&TRIM(LEFT(Translit.Translit(Service!F763),1))),TRIM('Информация о пользователе'!F765))","v":"pusto"},{"$f":"IF('Информация о пользователе'!G765=\"\",TRIM(LEFT(Translit.Translit(Service!E763),2))&INDEX(Service!H763:H781,RANDBETWEEN(1,19),1)&RANDBETWEEN(1,9)&IF(Service!F763=\"\",TRIM(LEFT(Translit.Translit(Service!E763),3))&INDEX(Service!A763:A788,RANDBETWEEN(1,26),1),TRIM(LEFT(Translit.Translit(Service!F763),2))&INDEX(Service!H763:H781,RANDBETWEEN(1,19),1)&INDEX(Service!A763:A788,RANDBETWEEN(1,26),1)),'Информация о пользователе'!G765)","v":{"$error":"#NAME?"}}]
[{"$f":"TRIM(IF('Информация о пользователе'!A766=\"\",\"Пусто\",'Информация о пользователе'!A766))","v":"Пусто"},{"$f":"TRIM(IF('Информация о пользователе'!B766=\"\",\" \",'Информация о пользователе'!B766&\" \"&'Информация о пользователе'!C766))","v":""},{"$f":"TRIM(IF(AD!A765=\"\",\"\",AD!B765&\" \"&A765))","v":"Пусто"},{"$f":"TRIM(IF('Информация о пользователе'!D766=\"\",F765&\"@edu54.ru\",'Информация о пользователе'!D766))","v":"pusto@edu54.ru"},{"$f":"TRIM(IF('Информация о пользователе'!E766=\"\",\"\",'Информация о пользователе'!E766))","v":""},{"$f":"IF('Информация о пользователе'!F766=\"\",TRIM(Translit.Translit(A765)&TRIM(LEFT(Translit.Translit(Service!E764),1))&TRIM(LEFT(Translit.Translit(Service!F764),1))),TRIM('Информация о пользователе'!F766))","v":"pusto"},{"$f":"IF('Информация о пользователе'!G766=\"\",TRIM(LEFT(Translit.Translit(Service!E764),2))&INDEX(Service!H764:H782,RANDBETWEEN(1,19),1)&RANDBETWEEN(1,9)&IF(Service!F764=\"\",TRIM(LEFT(Translit.Translit(Service!E764),3))&INDEX(Service!A764:A789,RANDBETWEEN(1,26),1),TRIM(LEFT(Translit.Translit(Service!F764),2))&INDEX(Service!H764:H782,RANDBETWEEN(1,19),1)&INDEX(Service!A764:A789,RANDBETWEEN(1,26),1)),'Информация о пользователе'!G766)","v":{"$error":"#NAME?"}}]
[{"$f":"TRIM(IF('Информация о пользователе'!A767=\"\",\"Пусто\",'Информация о пользователе'!A767))","v":"Пусто"},{"$f":"TRIM(IF('Информация о пользователе'!B767=\"\",\" \",'Информация о пользователе'!B767&\" \"&'Информация о пользователе'!C767))","v":""},{"$f":"TRIM(IF(AD!A766=\"\",\"\",AD!B766&\" \"&A766))","v":"Пусто"},{"$f":"TRIM(IF('Информация о пользователе'!D767=\"\",F766&\"@edu54.ru\",'Информация о пользователе'!D767))","v":"pusto@edu54.ru"},{"$f":"TRIM(IF('Информация о пользователе'!E767=\"\",\"\",'Информация о пользователе'!E767))","v":""},{"$f":"IF('Информация о пользователе'!F767=\"\",TRIM(Translit.Translit(A766)&TRIM(LEFT(Translit.Translit(Service!E765),1))&TRIM(LEFT(Translit.Translit(Service!F765),1))),TRIM('Информация о пользователе'!F767))","v":"pusto"},{"$f":"IF('Информация о пользователе'!G767=\"\",TRIM(LEFT(Translit.Translit(Service!E765),2))&INDEX(Service!H765:H783,RANDBETWEEN(1,19),1)&RANDBETWEEN(1,9)&IF(Service!F765=\"\",TRIM(LEFT(Translit.Translit(Service!E765),3))&INDEX(Service!A765:A790,RANDBETWEEN(1,26),1),TRIM(LEFT(Translit.Translit(Service!F765),2))&INDEX(Service!H765:H783,RANDBETWEEN(1,19),1)&INDEX(Service!A765:A790,RANDBETWEEN(1,26),1)),'Информация о пользователе'!G767)","v":{"$error":"#NAME?"}}]
[{"$f":"TRIM(IF('Информация о пользователе'!A768=\"\",\"Пусто\",'Информация о пользователе'!A768))","v":"Пусто"},{"$f":"TRIM(IF('Информация о пользователе'!B768=\"\",\" \",'Информация о пользователе'!B768&\" \"&'Информация о пользователе'!C768))","v":""},{"$f":"TRIM(IF(AD!A767=\"\",\"\",AD!B767&\" \"&A767))","v":"Пусто"},{"$f":"TRIM(IF('Информация о пользователе'!D768=\"\",F767&\"@edu54.ru\",'Информация о пользователе'!D768))","v":"pusto@edu54.ru"},{"$f":"TRIM(IF('Информация о пользователе'!E768=\"\",\"\",'Информация о пользователе'!E768))","v":""},{"$f":"IF('Информация о пользователе'!F768=\"\",TRIM(Translit.Translit(A767)&TRIM(LEFT(Translit.Translit(Service!E766),1))&TRIM(LEFT(Translit.Translit(Service!F766),1))),TRIM('Информация о пользователе'!F768))","v":"pusto"},{"$f":"IF('Информация о пользователе'!G768=\"\",TRIM(LEFT(Translit.Translit(Service!E766),2))&INDEX(Service!H766:H784,RANDBETWEEN(1,19),1)&RANDBETWEEN(1,9)&IF(Service!F766=\"\",TRIM(LEFT(Translit.Translit(Service!E766),3))&INDEX(Service!A766:A791,RANDBETWEEN(1,26),1),TRIM(LEFT(Translit.Translit(Service!F766),2))&INDEX(Service!H766:H784,RANDBETWEEN(1,19),1)&INDEX(Service!A766:A791,RANDBETWEEN(1,26),1)),'Информация о пользователе'!G768)","v":{"$error":"#NAME?"}}]
[{"$f":"TRIM(IF('Информация о пользователе'!A769=\"\",\"Пусто\",'Информация о пользователе'!A769))","v":"Пусто"},{"$f":"TRIM(IF('Информация о пользователе'!B769=\"\",\" \",'Информация о пользователе'!B769&\" \"&'Информация о пользователе'!C769))","v":""},{"$f":"TRIM(IF(AD!A768=\"\",\"\",AD!B768&\" \"&A768))","v":"Пусто"},{"$f":"TRIM(IF('Информация о пользователе'!D769=\"\",F768&\"@edu54.ru\",'Информация о пользователе'!D769))","v":"pusto@edu54.ru"},{"$f":"TRIM(IF('Информация о пользователе'!E769=\"\",\"\",'Информация о пользователе'!E769))","v":""},{"$f":"IF('Информация о пользователе'!F769=\"\",TRIM(Translit.Translit(A768)&TRIM(LEFT(Translit.Translit(Service!E767),1))&TRIM(LEFT(Translit.Translit(Service!F767),1))),TRIM('Информация о пользователе'!F769))","v":"pusto"},{"$f":"IF('Информация о пользователе'!G769=\"\",TRIM(LEFT(Translit.Translit(Service!E767),2))&INDEX(Service!H767:H785,RANDBETWEEN(1,19),1)&RANDBETWEEN(1,9)&IF(Service!F767=\"\",TRIM(LEFT(Translit.Translit(Service!E767),3))&INDEX(Service!A767:A792,RANDBETWEEN(1,26),1),TRIM(LEFT(Translit.Translit(Service!F767),2))&INDEX(Service!H767:H785,RANDBETWEEN(1,19),1)&INDEX(Service!A767:A792,RANDBETWEEN(1,26),1)),'Информация о пользователе'!G769)","v":{"$error":"#NAME?"}}]
[{"$f":"TRIM(IF('Информация о пользователе'!A770=\"\",\"Пусто\",'Информация о пользователе'!A770))","v":"Пусто"},{"$f":"TRIM(IF('Информация о пользователе'!B770=\"\",\" \",'Информация о пользователе'!B770&\" \"&'Информация о пользователе'!C770))","v":""},{"$f":"TRIM(IF(AD!A769=\"\",\"\",AD!B769&\" \"&A769))","v":"Пусто"},{"$f":"TRIM(IF('Информация о пользователе'!D770=\"\",F769&\"@edu54.ru\",'Информация о пользователе'!D770))","v":"pusto@edu54.ru"},{"$f":"TRIM(IF('Информация о пользователе'!E770=\"\",\"\",'Информация о пользователе'!E770))","v":""},{"$f":"IF('Информация о пользователе'!F770=\"\",TRIM(Translit.Translit(A769)&TRIM(LEFT(Translit.Translit(Service!E768),1))&TRIM(LEFT(Translit.Translit(Service!F768),1))),TRIM('Информация о пользователе'!F770))","v":"pusto"},{"$f":"IF('Информация о пользователе'!G770=\"\",TRIM(LEFT(Translit.Translit(Service!E768),2))&INDEX(Service!H768:H786,RANDBETWEEN(1,19),1)&RANDBETWEEN(1,9)&IF(Service!F768=\"\",TRIM(LEFT(Translit.Translit(Service!E768),3))&INDEX(Service!A768:A793,RANDBETWEEN(1,26),1),TRIM(LEFT(Translit.Translit(Service!F768),2))&INDEX(Service!H768:H786,RANDBETWEEN(1,19),1)&INDEX(Service!A768:A793,RANDBETWEEN(1,26),1)),'Информация о пользователе'!G770)","v":{"$error":"#NAME?"}}]
[{"$f":"TRIM(IF('Информация о пользователе'!A771=\"\",\"Пусто\",'Информация о пользователе'!A771))","v":"Пусто"},{"$f":"TRIM(IF('Информация о пользователе'!B771=\"\",\" \",'Информация о пользователе'!B771&\" \"&'Информация о пользователе'!C771))","v":""},{"$f":"TRIM(IF(AD!A770=\"\",\"\",AD!B770&\" \"&A770))","v":"Пусто"},{"$f":"TRIM(IF('Информация о пользователе'!D771=\"\",F770&\"@edu54.ru\",'Информация о пользователе'!D771))","v":"pusto@edu54.ru"},{"$f":"TRIM(IF('Информация о пользователе'!E771=\"\",\"\",'Информация о пользователе'!E771))","v":""},{"$f":"IF('Информация о пользователе'!F771=\"\",TRIM(Translit.Translit(A770)&TRIM(LEFT(Translit.Translit(Service!E769),1))&TRIM(LEFT(Translit.Translit(Service!F769),1))),TRIM('Информация о пользователе'!F771))","v":"pusto"},{"$f":"IF('Информация о пользователе'!G771=\"\",TRIM(LEFT(Translit.Translit(Service!E769),2))&INDEX(Service!H769:H787,RANDBETWEEN(1,19),1)&RANDBETWEEN(1,9)&IF(Service!F769=\"\",TRIM(LEFT(Translit.Translit(Service!E769),3))&INDEX(Service!A769:A794,RANDBETWEEN(1,26),1),TRIM(LEFT(Translit.Translit(Service!F769),2))&INDEX(Service!H769:H787,RANDBETWEEN(1,19),1)&INDEX(Service!A769:A794,RANDBETWEEN(1,26),1)),'Информация о пользователе'!G771)","v":{"$error":"#NAME?"}}]
[{"$f":"TRIM(IF('Информация о пользователе'!A772=\"\",\"Пусто\",'Информация о пользователе'!A772))","v":"Пусто"},{"$f":"TRIM(IF('Информация о пользователе'!B772=\"\",\" \",'Информация о пользователе'!B772&\" \"&'Информация о пользователе'!C772))","v":""},{"$f":"TRIM(IF(AD!A771=\"\",\"\",AD!B771&\" \"&A771))","v":"Пусто"},{"$f":"TRIM(IF('Информация о пользователе'!D772=\"\",F771&\"@edu54.ru\",'Информация о пользователе'!D772))","v":"pusto@edu54.ru"},{"$f":"TRIM(IF('Информация о пользователе'!E772=\"\",\"\",'Информация о пользователе'!E772))","v":""},{"$f":"IF('Информация о пользователе'!F772=\"\",TRIM(Translit.Translit(A771)&TRIM(LEFT(Translit.Translit(Service!E770),1))&TRIM(LEFT(Translit.Translit(Service!F770),1))),TRIM('Информация о пользователе'!F772))","v":"pusto"},{"$f":"IF('Информация о пользователе'!G772=\"\",TRIM(LEFT(Translit.Translit(Service!E770),2))&INDEX(Service!H770:H788,RANDBETWEEN(1,19),1)&RANDBETWEEN(1,9)&IF(Service!F770=\"\",TRIM(LEFT(Translit.Translit(Service!E770),3))&INDEX(Service!A770:A795,RANDBETWEEN(1,26),1),TRIM(LEFT(Translit.Translit(Service!F770),2))&INDEX(Service!H770:H788,RANDBETWEEN(1,19),1)&INDEX(Service!A770:A795,RANDBETWEEN(1,26),1)),'Информация о пользователе'!G772)","v":{"$error":"#NAME?"}}]
[{"$f":"TRIM(IF('Информация о пользователе'!A773=\"\",\"Пусто\",'Информация о пользователе'!A773))","v":"Пусто"},{"$f":"TRIM(IF('Информация о пользователе'!B773=\"\",\" \",'Информация о пользователе'!B773&\" \"&'Информация о пользователе'!C773))","v":""},{"$f":"TRIM(IF(AD!A772=\"\",\"\",AD!B772&\" \"&A772))","v":"Пусто"},{"$f":"TRIM(IF('Информация о пользователе'!D773=\"\",F772&\"@edu54.ru\",'Информация о пользователе'!D773))","v":"pusto@edu54.ru"},{"$f":"TRIM(IF('Информация о пользователе'!E773=\"\",\"\",'Информация о пользователе'!E773))","v":""},{"$f":"IF('Информация о пользователе'!F773=\"\",TRIM(Translit.Translit(A772)&TRIM(LEFT(Translit.Translit(Service!E771),1))&TRIM(LEFT(Translit.Translit(Service!F771),1))),TRIM('Информация о пользователе'!F773))","v":"pusto"},{"$f":"IF('Информация о пользователе'!G773=\"\",TRIM(LEFT(Translit.Translit(Service!E771),2))&INDEX(Service!H771:H789,RANDBETWEEN(1,19),1)&RANDBETWEEN(1,9)&IF(Service!F771=\"\",TRIM(LEFT(Translit.Translit(Service!E771),3))&INDEX(Service!A771:A796,RANDBETWEEN(1,26),1),TRIM(LEFT(Translit.Translit(Service!F771),2))&INDEX(Service!H771:H789,RANDBETWEEN(1,19),1)&INDEX(Service!A771:A796,RANDBETWEEN(1,26),1)),'Информация о пользователе'!G773)","v":{"$error":"#NAME?"}}]
[{"$f":"TRIM(IF('Информация о пользователе'!A774=\"\",\"Пусто\",'Информация о пользователе'!A774))","v":"Пусто"},{"$f":"TRIM(IF('Информация о пользователе'!B774=\"\",\" \",'Информация о пользователе'!B774&\" \"&'Информация о пользователе'!C774))","v":""},{"$f":"TRIM(IF(AD!A773=\"\",\"\",AD!B773&\" \"&A773))","v":"Пусто"},{"$f":"TRIM(IF('Информация о пользователе'!D774=\"\",F773&\"@edu54.ru\",'Информация о пользователе'!D774))","v":"pusto@edu54.ru"},{"$f":"TRIM(IF('Информация о пользователе'!E774=\"\",\"\",'Информация о пользователе'!E774))","v":""},{"$f":"IF('Информация о пользователе'!F774=\"\",TRIM(Translit.Translit(A773)&TRIM(LEFT(Translit.Translit(Service!E772),1))&TRIM(LEFT(Translit.Translit(Service!F772),1))),TRIM('Информация о пользователе'!F774))","v":"pusto"},{"$f":"IF('Информация о пользователе'!G774=\"\",TRIM(LEFT(Translit.Translit(Service!E772),2))&INDEX(Service!H772:H790,RANDBETWEEN(1,19),1)&RANDBETWEEN(1,9)&IF(Service!F772=\"\",TRIM(LEFT(Translit.Translit(Service!E772),3))&INDEX(Service!A772:A797,RANDBETWEEN(1,26),1),TRIM(LEFT(Translit.Translit(Service!F772),2))&INDEX(Service!H772:H790,RANDBETWEEN(1,19),1)&INDEX(Service!A772:A797,RANDBETWEEN(1,26),1)),'Информация о пользователе'!G774)","v":{"$error":"#NAME?"}}]
[{"$f":"TRIM(IF('Информация о пользователе'!A775=\"\",\"Пусто\",'Информация о пользователе'!A775))","v":"Пусто"},{"$f":"TRIM(IF('Информация о пользователе'!B775=\"\",\" \",'Информация о пользователе'!B775&\" \"&'Информация о пользователе'!C775))","v":""},{"$f":"TRIM(IF(AD!A774=\"\",\"\",AD!B774&\" \"&A774))","v":"Пусто"},{"$f":"TRIM(IF('Информация о пользователе'!D775=\"\",F774&\"@edu54.ru\",'Информация о пользователе'!D775))","v":"pusto@edu54.ru"},{"$f":"TRIM(IF('Информация о пользователе'!E775=\"\",\"\",'Информация о пользователе'!E775))","v":""},{"$f":"IF('Информация о пользователе'!F775=\"\",TRIM(Translit.Translit(A774)&TRIM(LEFT(Translit.Translit(Service!E773),1))&TRIM(LEFT(Translit.Translit(Service!F773),1))),TRIM('Информация о пользователе'!F775))","v":"pusto"},{"$f":"IF('Информация о пользователе'!G775=\"\",TRIM(LEFT(Translit.Translit(Service!E773),2))&INDEX(Service!H773:H791,RANDBETWEEN(1,19),1)&RANDBETWEEN(1,9)&IF(Service!F773=\"\",TRIM(LEFT(Translit.Translit(Service!E773),3))&INDEX(Service!A773:A798,RANDBETWEEN(1,26),1),TRIM(LEFT(Translit.Translit(Service!F773),2))&INDEX(Service!H773:H791,RANDBETWEEN(1,19),1)&INDEX(Service!A773:A798,RANDBETWEEN(1,26),1)),'Информация о пользователе'!G775)","v":{"$error":"#NAME?"}}]
[{"$f":"TRIM(IF('Информация о пользователе'!A776=\"\",\"Пусто\",'Информация о пользователе'!A776))","v":"Пусто"},{"$f":"TRIM(IF('Информация о пользователе'!B776=\"\",\" \",'Информация о пользователе'!B776&\" \"&'Информация о пользователе'!C776))","v":""},{"$f":"TRIM(IF(AD!A775=\"\",\"\",AD!B775&\" \"&A775))","v":"Пусто"},{"$f":"TRIM(IF('Информация о пользователе'!D776=\"\",F775&\"@edu54.ru\",'Информация о пользователе'!D776))","v":"pusto@edu54.ru"},{"$f":"TRIM(IF('Информация о пользователе'!E776=\"\",\"\",'Информация о пользователе'!E776))","v":""},{"$f":"IF('Информация о пользователе'!F776=\"\",TRIM(Translit.Translit(A775)&TRIM(LEFT(Translit.Translit(Service!E774),1))&TRIM(LEFT(Translit.Translit(Service!F774),1))),TRIM('Информация о пользователе'!F776))","v":"pusto"},{"$f":"IF('Информация о пользователе'!G776=\"\",TRIM(LEFT(Translit.Translit(Service!E774),2))&INDEX(Service!H774:H792,RANDBETWEEN(1,19),1)&RANDBETWEEN(1,9)&IF(Service!F774=\"\",TRIM(LEFT(Translit.Translit(Service!E774),3))&INDEX(Service!A774:A799,RANDBETWEEN(1,26),1),TRIM(LEFT(Translit.Translit(Service!F774),2))&INDEX(Service!H774:H792,RANDBETWEEN(1,19),1)&INDEX(Service!A774:A799,RANDBETWEEN(1,26),1)),'Информация о пользователе'!G776)","v":{"$error":"#NAME?"}}]
[{"$f":"TRIM(IF('Информация о пользователе'!A777=\"\",\"Пусто\",'Информация о пользователе'!A777))","v":"Пусто"},{"$f":"TRIM(IF('Информация о пользователе'!B777=\"\",\" \",'Информация о пользователе'!B777&\" \"&'Информация о пользователе'!C777))","v":""},{"$f":"TRIM(IF(AD!A776=\"\",\"\",AD!B776&\" \"&A776))","v":"Пусто"},{"$f":"TRIM(IF('Информация о пользователе'!D777=\"\",F776&\"@edu54.ru\",'Информация о пользователе'!D777))","v":"pusto@edu54.ru"},{"$f":"TRIM(IF('Информация о пользователе'!E777=\"\",\"\",'Информация о пользователе'!E777))","v":""},{"$f":"IF('Информация о пользователе'!F777=\"\",TRIM(Translit.Translit(A776)&TRIM(LEFT(Translit.Translit(Service!E775),1))&TRIM(LEFT(Translit.Translit(Service!F775),1))),TRIM('Информация о пользователе'!F777))","v":"pusto"},{"$f":"IF('Информация о пользователе'!G777=\"\",TRIM(LEFT(Translit.Translit(Service!E775),2))&INDEX(Service!H775:H793,RANDBETWEEN(1,19),1)&RANDBETWEEN(1,9)&IF(Service!F775=\"\",TRIM(LEFT(Translit.Translit(Service!E775),3))&INDEX(Service!A775:A800,RANDBETWEEN(1,26),1),TRIM(LEFT(Translit.Translit(Service!F775),2))&INDEX(Service!H775:H793,RANDBETWEEN(1,19),1)&INDEX(Service!A775:A800,RANDBETWEEN(1,26),1)),'Информация о пользователе'!G777)","v":{"$error":"#NAME?"}}]
[{"$f":"TRIM(IF('Информация о пользователе'!A778=\"\",\"Пусто\",'Информация о пользователе'!A778))","v":"Пусто"},{"$f":"TRIM(IF('Информация о пользователе'!B778=\"\",\" \",'Информация о пользователе'!B778&\" \"&'Информация о пользователе'!C778))","v":""},{"$f":"TRIM(IF(AD!A777=\"\",\"\",AD!B777&\" \"&A777))","v":"Пусто"},{"$f":"TRIM(IF('Информация о пользователе'!D778=\"\",F777&\"@edu54.ru\",'Информация о пользователе'!D778))","v":"pusto@edu54.ru"},{"$f":"TRIM(IF('Информация о пользователе'!E778=\"\",\"\",'Информация о пользователе'!E778))","v":""},{"$f":"IF('Информация о пользователе'!F778=\"\",TRIM(Translit.Translit(A777)&TRIM(LEFT(Translit.Translit(Service!E776),1))&TRIM(LEFT(Translit.Translit(Service!F776),1))),TRIM('Информация о пользователе'!F778))","v":"pusto"},{"$f":"IF('Информация о пользователе'!G778=\"\",TRIM(LEFT(Translit.Translit(Service!E776),2))&INDEX(Service!H776:H794,RANDBETWEEN(1,19),1)&RANDBETWEEN(1,9)&IF(Service!F776=\"\",TRIM(LEFT(Translit.Translit(Service!E776),3))&INDEX(Service!A776:A801,RANDBETWEEN(1,26),1),TRIM(LEFT(Translit.Translit(Service!F776),2))&INDEX(Service!H776:H794,RANDBETWEEN(1,19),1)&INDEX(Service!A776:A801,RANDBETWEEN(1,26),1)),'Информация о пользователе'!G778)","v":{"$error":"#NAME?"}}]
[{"$f":"TRIM(IF('Информация о пользователе'!A779=\"\",\"Пусто\",'Информация о пользователе'!A779))","v":"Пусто"},{"$f":"TRIM(IF('Информация о пользователе'!B779=\"\",\" \",'Информация о пользователе'!B779&\" \"&'Информация о пользователе'!C779))","v":""},{"$f":"TRIM(IF(AD!A778=\"\",\"\",AD!B778&\" \"&A778))","v":"Пусто"},{"$f":"TRIM(IF('Информация о пользователе'!D779=\"\",F778&\"@edu54.ru\",'Информация о пользователе'!D779))","v":"pusto@edu54.ru"},{"$f":"TRIM(IF('Информация о пользователе'!E779=\"\",\"\",'Информация о пользователе'!E779))","v":""},{"$f":"IF('Информация о пользователе'!F779=\"\",TRIM(Translit.Translit(A778)&TRIM(LEFT(Translit.Translit(Service!E777),1))&TRIM(LEFT(Translit.Translit(Service!F777),1))),TRIM('Информация о пользователе'!F779))","v":"pusto"},{"$f":"IF('Информация о пользователе'!G779=\"\",TRIM(LEFT(Translit.Translit(Service!E777),2))&INDEX(Service!H777:H795,RANDBETWEEN(1,19),1)&RANDBETWEEN(1,9)&IF(Service!F777=\"\",TRIM(LEFT(Translit.Translit(Service!E777),3))&INDEX(Service!A777:A802,RANDBETWEEN(1,26),1),TRIM(LEFT(Translit.Translit(Service!F777),2))&INDEX(Service!H777:H795,RANDBETWEEN(1,19),1)&INDEX(Service!A777:A802,RANDBETWEEN(1,26),1)),'Информация о пользователе'!G779)","v":{"$error":"#NAME?"}}]
[{"$f":"TRIM(IF('Информация о пользователе'!A780=\"\",\"Пусто\",'Информация о пользователе'!A780))","v":"Пусто"},{"$f":"TRIM(IF('Информация о пользователе'!B780=\"\",\" \",'Информация о пользователе'!B780&\" \"&'Информация о пользователе'!C780))","v":""},{"$f":"TRIM(IF(AD!A779=\"\",\"\",AD!B779&\" \"&A779))","v":"Пусто"},{"$f":"TRIM(IF('Информация о пользователе'!D780=\"\",F779&\"@edu54.ru\",'Информация о пользователе'!D780))","v":"pusto@edu54.ru"},{"$f":"TRIM(IF('Информация о пользователе'!E780=\"\",\"\",'Информация о пользователе'!E780))","v":""},{"$f":"IF('Информация о пользователе'!F780=\"\",TRIM(Translit.Translit(A779)&TRIM(LEFT(Translit.Translit(Service!E778),1))&TRIM(LEFT(Translit.Translit(Service!F778),1))),TRIM('Информация о пользователе'!F780))","v":"pusto"},{"$f":"IF('Информация о пользователе'!G780=\"\",TRIM(LEFT(Translit.Translit(Service!E778),2))&INDEX(Service!H778:H796,RANDBETWEEN(1,19),1)&RANDBETWEEN(1,9)&IF(Service!F778=\"\",TRIM(LEFT(Translit.Translit(Service!E778),3))&INDEX(Service!A778:A803,RANDBETWEEN(1,26),1),TRIM(LEFT(Translit.Translit(Service!F778),2))&INDEX(Service!H778:H796,RANDBETWEEN(1,19),1)&INDEX(Service!A778:A803,RANDBETWEEN(1,26),1)),'Информация о пользователе'!G780)","v":{"$error":"#NAME?"}}]
[{"$f":"TRIM(IF('Информация о пользователе'!A781=\"\",\"Пусто\",'Информация о пользователе'!A781))","v":"Пусто"},{"$f":"TRIM(IF('Информация о пользователе'!B781=\"\",\" \",'Информация о пользователе'!B781&\" \"&'Информация о пользователе'!C781))","v":""},{"$f":"TRIM(IF(AD!A780=\"\",\"\",AD!B780&\" \"&A780))","v":"Пусто"},{"$f":"TRIM(IF('Информация о пользователе'!D781=\"\",F780&\"@edu54.ru\",'Информация о пользователе'!D781))","v":"pusto@edu54.ru"},{"$f":"TRIM(IF('Информация о пользователе'!E781=\"\",\"\",'Информация о пользователе'!E781))","v":""},{"$f":"IF('Информация о пользователе'!F781=\"\",TRIM(Translit.Translit(A780)&TRIM(LEFT(Translit.Translit(Service!E779),1))&TRIM(LEFT(Translit.Translit(Service!F779),1))),TRIM('Информация о пользователе'!F781))","v":"pusto"},{"$f":"IF('Информация о пользователе'!G781=\"\",TRIM(LEFT(Translit.Translit(Service!E779),2))&INDEX(Service!H779:H797,RANDBETWEEN(1,19),1)&RANDBETWEEN(1,9)&IF(Service!F779=\"\",TRIM(LEFT(Translit.Translit(Service!E779),3))&INDEX(Service!A779:A804,RANDBETWEEN(1,26),1),TRIM(LEFT(Translit.Translit(Service!F779),2))&INDEX(Service!H779:H797,RANDBETWEEN(1,19),1)&INDEX(Service!A779:A804,RANDBETWEEN(1,26),1)),'Информация о пользователе'!G781)","v":{"$error":"#NAME?"}}]
[{"$f":"TRIM(IF('Информация о пользователе'!A782=\"\",\"Пусто\",'Информация о пользователе'!A782))","v":"Пусто"},{"$f":"TRIM(IF('Информация о пользователе'!B782=\"\",\" \",'Информация о пользователе'!B782&\" \"&'Информация о пользователе'!C782))","v":""},{"$f":"TRIM(IF(AD!A781=\"\",\"\",AD!B781&\" \"&A781))","v":"Пусто"},{"$f":"TRIM(IF('Информация о пользователе'!D782=\"\",F781&\"@edu54.ru\",'Информация о пользователе'!D782))","v":"pusto@edu54.ru"},{"$f":"TRIM(IF('Информация о пользователе'!E782=\"\",\"\",'Информация о пользователе'!E782))","v":""},{"$f":"IF('Информация о пользователе'!F782=\"\",TRIM(Translit.Translit(A781)&TRIM(LEFT(Translit.Translit(Service!E780),1))&TRIM(LEFT(Translit.Translit(Service!F780),1))),TRIM('Информация о пользователе'!F782))","v":"pusto"},{"$f":"IF('Информация о пользователе'!G782=\"\",TRIM(LEFT(Translit.Translit(Service!E780),2))&INDEX(Service!H780:H798,RANDBETWEEN(1,19),1)&RANDBETWEEN(1,9)&IF(Service!F780=\"\",TRIM(LEFT(Translit.Translit(Service!E780),3))&INDEX(Service!A780:A805,RANDBETWEEN(1,26),1),TRIM(LEFT(Translit.Translit(Service!F780),2))&INDEX(Service!H780:H798,RANDBETWEEN(1,19),1)&INDEX(Service!A780:A805,RANDBETWEEN(1,26),1)),'Информация о пользователе'!G782)","v":{"$error":"#NAME?"}}]
[{"$f":"TRIM(IF('Информация о пользователе'!A783=\"\",\"Пусто\",'Информация о пользователе'!A783))","v":"Пусто"},{"$f":"TRIM(IF('Информация о пользователе'!B783=\"\",\" \",'Информация о пользователе'!B783&\" \"&'Информация о пользователе'!C783))","v":""},{"$f":"TRIM(IF(AD!A782=\"\",\"\",AD!B782&\" \"&A782))","v":"Пусто"},{"$f":"TRIM(IF('Информация о пользователе'!D783=\"\",F782&\"@edu54.ru\",'Информация о пользователе'!D783))","v":"pusto@edu54.ru"},{"$f":"TRIM(IF('Информация о пользователе'!E783=\"\",\"\",'Информация о пользователе'!E783))","v":""},{"$f":"IF('Информация о пользователе'!F783=\"\",TRIM(Translit.Translit(A782)&TRIM(LEFT(Translit.Translit(Service!E781),1))&TRIM(LEFT(Translit.Translit(Service!F781),1))),TRIM('Информация о пользователе'!F783))","v":"pusto"},{"$f":"IF('Информация о пользователе'!G783=\"\",TRIM(LEFT(Translit.Translit(Service!E781),2))&INDEX(Service!H781:H799,RANDBETWEEN(1,19),1)&RANDBETWEEN(1,9)&IF(Service!F781=\"\",TRIM(LEFT(Translit.Translit(Service!E781),3))&INDEX(Service!A781:A806,RANDBETWEEN(1,26),1),TRIM(LEFT(Translit.Translit(Service!F781),2))&INDEX(Service!H781:H799,RANDBETWEEN(1,19),1)&INDEX(Service!A781:A806,RANDBETWEEN(1,26),1)),'Информация о пользователе'!G783)","v":{"$error":"#NAME?"}}]
[{"$f":"TRIM(IF('Информация о пользователе'!A784=\"\",\"Пусто\",'Информация о пользователе'!A784))","v":"Пусто"},{"$f":"TRIM(IF('Информация о пользователе'!B784=\"\",\" \",'Информация о пользователе'!B784&\" \"&'Информация о пользователе'!C784))","v":""},{"$f":"TRIM(IF(AD!A783=\"\",\"\",AD!B783&\" \"&A783))","v":"Пусто"},{"$f":"TRIM(IF('Информация о пользователе'!D784=\"\",F783&\"@edu54.ru\",'Информация о пользователе'!D784))","v":"pusto@edu54.ru"},{"$f":"TRIM(IF('Информация о пользователе'!E784=\"\",\"\",'Информация о пользователе'!E784))","v":""},{"$f":"IF('Информация о пользователе'!F784=\"\",TRIM(Translit.Translit(A783)&TRIM(LEFT(Translit.Translit(Service!E782),1))&TRIM(LEFT(Translit.Translit(Service!F782),1))),TRIM('Информация о пользователе'!F784))","v":"pusto"},{"$f":"IF('Информация о пользователе'!G784=\"\",TRIM(LEFT(Translit.Translit(Service!E782),2))&INDEX(Service!H782:H800,RANDBETWEEN(1,19),1)&RANDBETWEEN(1,9)&IF(Service!F782=\"\",TRIM(LEFT(Translit.Translit(Service!E782),3))&INDEX(Service!A782:A807,RANDBETWEEN(1,26),1),TRIM(LEFT(Translit.Translit(Service!F782),2))&INDEX(Service!H782:H800,RANDBETWEEN(1,19),1)&INDEX(Service!A782:A807,RANDBETWEEN(1,26),1)),'Информация о пользователе'!G784)","v":{"$error":"#NAME?"}}]
[{"$f":"TRIM(IF('Информация о пользователе'!A785=\"\",\"Пусто\",'Информация о пользователе'!A785))","v":"Пусто"},{"$f":"TRIM(IF('Информация о пользователе'!B785=\"\",\" \",'Информация о пользователе'!B785&\" \"&'Информация о пользователе'!C785))","v":""},{"$f":"TRIM(IF(AD!A784=\"\",\"\",AD!B784&\" \"&A784))","v":"Пусто"},{"$f":"TRIM(IF('Информация о пользователе'!D785=\"\",F784&\"@edu54.ru\",'Информация о пользователе'!D785))","v":"pusto@edu54.ru"},{"$f":"TRIM(IF('Информация о пользователе'!E785=\"\",\"\",'Информация о пользователе'!E785))","v":""},{"$f":"IF('Информация о пользователе'!F785=\"\",TRIM(Translit.Translit(A784)&TRIM(LEFT(Translit.Translit(Service!E783),1))&TRIM(LEFT(Translit.Translit(Service!F783),1))),TRIM('Информация о пользователе'!F785))","v":"pusto"},{"$f":"IF('Информация о пользователе'!G785=\"\",TRIM(LEFT(Translit.Translit(Service!E783),2))&INDEX(Service!H783:H801,RANDBETWEEN(1,19),1)&RANDBETWEEN(1,9)&IF(Service!F783=\"\",TRIM(LEFT(Translit.Translit(Service!E783),3))&INDEX(Service!A783:A808,RANDBETWEEN(1,26),1),TRIM(LEFT(Translit.Translit(Service!F783),2))&INDEX(Service!H783:H801,RANDBETWEEN(1,19),1)&INDEX(Service!A783:A808,RANDBETWEEN(1,26),1)),'Информация о пользователе'!G785)","v":{"$error":"#NAME?"}}]
[{"$f":"TRIM(IF('Информация о пользователе'!A786=\"\",\"Пусто\",'Информация о пользователе'!A786))","v":"Пусто"},{"$f":"TRIM(IF('Информация о пользователе'!B786=\"\",\" \",'Информация о пользователе'!B786&\" \"&'Информация о пользователе'!C786))","v":""},{"$f":"TRIM(IF(AD!A785=\"\",\"\",AD!B785&\" \"&A785))","v":"Пусто"},{"$f":"TRIM(IF('Информация о пользователе'!D786=\"\",F785&\"@edu54.ru\",'Информация о пользователе'!D786))","v":"pusto@edu54.ru"},{"$f":"TRIM(IF('Информация о пользователе'!E786=\"\",\"\",'Информация о пользователе'!E786))","v":""},{"$f":"IF('Информация о пользователе'!F786=\"\",TRIM(Translit.Translit(A785)&TRIM(LEFT(Translit.Translit(Service!E784),1))&TRIM(LEFT(Translit.Translit(Service!F784),1))),TRIM('Информация о пользователе'!F786))","v":"pusto"},{"$f":"IF('Информация о пользователе'!G786=\"\",TRIM(LEFT(Translit.Translit(Service!E784),2))&INDEX(Service!H784:H802,RANDBETWEEN(1,19),1)&RANDBETWEEN(1,9)&IF(Service!F784=\"\",TRIM(LEFT(Translit.Translit(Service!E784),3))&INDEX(Service!A784:A809,RANDBETWEEN(1,26),1),TRIM(LEFT(Translit.Translit(Service!F784),2))&INDEX(Service!H784:H802,RANDBETWEEN(1,19),1)&INDEX(Service!A784:A809,RANDBETWEEN(1,26),1)),'Информация о пользователе'!G786)","v":{"$error":"#NAME?"}}]
[{"$f":"TRIM(IF('Информация о пользователе'!A787=\"\",\"Пусто\",'Информация о пользователе'!A787))","v":"Пусто"},{"$f":"TRIM(IF('Информация о пользователе'!B787=\"\",\" \",'Информация о пользователе'!B787&\" \"&'Информация о пользователе'!C787))","v":""},{"$f":"TRIM(IF(AD!A786=\"\",\"\",AD!B786&\" \"&A786))","v":"Пусто"},{"$f":"TRIM(IF('Информация о пользователе'!D787=\"\",F786&\"@edu54.ru\",'Информация о пользователе'!D787))","v":"pusto@edu54.ru"},{"$f":"TRIM(IF('Информация о пользователе'!E787=\"\",\"\",'Информация о пользователе'!E787))","v":""},{"$f":"IF('Информация о пользователе'!F787=\"\",TRIM(Translit.Translit(A786)&TRIM(LEFT(Translit.Translit(Service!E785),1))&TRIM(LEFT(Translit.Translit(Service!F785),1))),TRIM('Информация о пользователе'!F787))","v":"pusto"},{"$f":"IF('Информация о пользователе'!G787=\"\",TRIM(LEFT(Translit.Translit(Service!E785),2))&INDEX(Service!H785:H803,RANDBETWEEN(1,19),1)&RANDBETWEEN(1,9)&IF(Service!F785=\"\",TRIM(LEFT(Translit.Translit(Service!E785),3))&INDEX(Service!A785:A810,RANDBETWEEN(1,26),1),TRIM(LEFT(Translit.Translit(Service!F785),2))&INDEX(Service!H785:H803,RANDBETWEEN(1,19),1)&INDEX(Service!A785:A810,RANDBETWEEN(1,26),1)),'Информация о пользователе'!G787)","v":{"$error":"#NAME?"}}]
[{"$f":"TRIM(IF('Информация о пользователе'!A788=\"\",\"Пусто\",'Информация о пользователе'!A788))","v":"Пусто"},{"$f":"TRIM(IF('Информация о пользователе'!B788=\"\",\" \",'Информация о пользователе'!B788&\" \"&'Информация о пользователе'!C788))","v":""},{"$f":"TRIM(IF(AD!A787=\"\",\"\",AD!B787&\" \"&A787))","v":"Пусто"},{"$f":"TRIM(IF('Информация о пользователе'!D788=\"\",F787&\"@edu54.ru\",'Информация о пользователе'!D788))","v":"pusto@edu54.ru"},{"$f":"TRIM(IF('Информация о пользователе'!E788=\"\",\"\",'Информация о пользователе'!E788))","v":""},{"$f":"IF('Информация о пользователе'!F788=\"\",TRIM(Translit.Translit(A787)&TRIM(LEFT(Translit.Translit(Service!E786),1))&TRIM(LEFT(Translit.Translit(Service!F786),1))),TRIM('Информация о пользователе'!F788))","v":"pusto"},{"$f":"IF('Информация о пользователе'!G788=\"\",TRIM(LEFT(Translit.Translit(Service!E786),2))&INDEX(Service!H786:H804,RANDBETWEEN(1,19),1)&RANDBETWEEN(1,9)&IF(Service!F786=\"\",TRIM(LEFT(Translit.Translit(Service!E786),3))&INDEX(Service!A786:A811,RANDBETWEEN(1,26),1),TRIM(LEFT(Translit.Translit(Service!F786),2))&INDEX(Service!H786:H804,RANDBETWEEN(1,19),1)&INDEX(Service!A786:A811,RANDBETWEEN(1,26),1)),'Информация о пользователе'!G788)","v":{"$error":"#NAME?"}}]
[{"$f":"TRIM(IF('Информация о пользователе'!A789=\"\",\"Пусто\",'Информация о пользователе'!A789))","v":"Пусто"},{"$f":"TRIM(IF('Информация о пользователе'!B789=\"\",\" \",'Информация о пользователе'!B789&\" \"&'Информация о пользователе'!C789))","v":""},{"$f":"TRIM(IF(AD!A788=\"\",\"\",AD!B788&\" \"&A788))","v":"Пусто"},{"$f":"TRIM(IF('Информация о пользователе'!D789=\"\",F788&\"@edu54.ru\",'Информация о пользователе'!D789))","v":"pusto@edu54.ru"},{"$f":"TRIM(IF('Информация о пользователе'!E789=\"\",\"\",'Информация о пользователе'!E789))","v":""},{"$f":"IF('Информация о пользователе'!F789=\"\",TRIM(Translit.Translit(A788)&TRIM(LEFT(Translit.Translit(Service!E787),1))&TRIM(LEFT(Translit.Translit(Service!F787),1))),TRIM('Информация о пользователе'!F789))","v":"pusto"},{"$f":"IF('Информация о пользователе'!G789=\"\",TRIM(LEFT(Translit.Translit(Service!E787),2))&INDEX(Service!H787:H805,RANDBETWEEN(1,19),1)&RANDBETWEEN(1,9)&IF(Service!F787=\"\",TRIM(LEFT(Translit.Translit(Service!E787),3))&INDEX(Service!A787:A812,RANDBETWEEN(1,26),1),TRIM(LEFT(Translit.Translit(Service!F787),2))&INDEX(Service!H787:H805,RANDBETWEEN(1,19),1)&INDEX(Service!A787:A812,RANDBETWEEN(1,26),1)),'Информация о пользователе'!G789)","v":{"$error":"#NAME?"}}]
[{"$f":"TRIM(IF('Информация о пользователе'!A790=\"\",\"Пусто\",'Информация о пользователе'!A790))","v":"Пусто"},{"$f":"TRIM(IF('Информация о пользователе'!B790=\"\",\" \",'Информация о пользователе'!B790&\" \"&'Информация о пользователе'!C790))","v":""},{"$f":"TRIM(IF(AD!A789=\"\",\"\",AD!B789&\" \"&A789))","v":"Пусто"},{"$f":"TRIM(IF('Информация о пользователе'!D790=\"\",F789&\"@edu54.ru\",'Информация о пользователе'!D790))","v":"pusto@edu54.ru"},{"$f":"TRIM(IF('Информация о пользователе'!E790=\"\",\"\",'Информация о пользователе'!E790))","v":""},{"$f":"IF('Информация о пользователе'!F790=\"\",TRIM(Translit.Translit(A789)&TRIM(LEFT(Translit.Translit(Service!E788),1))&TRIM(LEFT(Translit.Translit(Service!F788),1))),TRIM('Информация о пользователе'!F790))","v":"pusto"},{"$f":"IF('Информация о пользователе'!G790=\"\",TRIM(LEFT(Translit.Translit(Service!E788),2))&INDEX(Service!H788:H806,RANDBETWEEN(1,19),1)&RANDBETWEEN(1,9)&IF(Service!F788=\"\",TRIM(LEFT(Translit.Translit(Service!E788),3))&INDEX(Service!A788:A813,RANDBETWEEN(1,26),1),TRIM(LEFT(Translit.Translit(Service!F788),2))&INDEX(Service!H788:H806,RANDBETWEEN(1,19),1)&INDEX(Service!A788:A813,RANDBETWEEN(1,26),1)),'Информация о пользователе'!G790)","v":{"$error":"#NAME?"}}]
[{"$f":"TRIM(IF('Информация о пользователе'!A791=\"\",\"Пусто\",'Информация о пользователе'!A791))","v":"Пусто"},{"$f":"TRIM(IF('Информация о пользователе'!B791=\"\",\" \",'Информация о пользователе'!B791&\" \"&'Информация о пользователе'!C791))","v":""},{"$f":"TRIM(IF(AD!A790=\"\",\"\",AD!B790&\" \"&A790))","v":"Пусто"},{"$f":"TRIM(IF('Информация о пользователе'!D791=\"\",F790&\"@edu54.ru\",'Информация о пользователе'!D791))","v":"pusto@edu54.ru"},{"$f":"TRIM(IF('Информация о пользователе'!E791=\"\",\"\",'Информация о пользователе'!E791))","v":""},{"$f":"IF('Информация о пользователе'!F791=\"\",TRIM(Translit.Translit(A790)&TRIM(LEFT(Translit.Translit(Service!E789),1))&TRIM(LEFT(Translit.Translit(Service!F789),1))),TRIM('Информация о пользователе'!F791))","v":"pusto"},{"$f":"IF('Информация о пользователе'!G791=\"\",TRIM(LEFT(Translit.Translit(Service!E789),2))&INDEX(Service!H789:H807,RANDBETWEEN(1,19),1)&RANDBETWEEN(1,9)&IF(Service!F789=\"\",TRIM(LEFT(Translit.Translit(Service!E789),3))&INDEX(Service!A789:A814,RANDBETWEEN(1,26),1),TRIM(LEFT(Translit.Translit(Service!F789),2))&INDEX(Service!H789:H807,RANDBETWEEN(1,19),1)&INDEX(Service!A789:A814,RANDBETWEEN(1,26),1)),'Информация о пользователе'!G791)","v":{"$error":"#NAME?"}}]
[{"$f":"TRIM(IF('Информация о пользователе'!A792=\"\",\"Пусто\",'Информация о пользователе'!A792))","v":"Пусто"},{"$f":"TRIM(IF('Информация о пользователе'!B792=\"\",\" \",'Информация о пользователе'!B792&\" \"&'Информация о пользователе'!C792))","v":""},{"$f":"TRIM(IF(AD!A791=\"\",\"\",AD!B791&\" \"&A791))","v":"Пусто"},{"$f":"TRIM(IF('Информация о пользователе'!D792=\"\",F791&\"@edu54.ru\",'Информация о пользователе'!D792))","v":"pusto@edu54.ru"},{"$f":"TRIM(IF('Информация о пользователе'!E792=\"\",\"\",'Информация о пользователе'!E792))","v":""},{"$f":"IF('Информация о пользователе'!F792=\"\",TRIM(Translit.Translit(A791)&TRIM(LEFT(Translit.Translit(Service!E790),1))&TRIM(LEFT(Translit.Translit(Service!F790),1))),TRIM('Информация о пользователе'!F792))","v":"pusto"},{"$f":"IF('Информация о пользователе'!G792=\"\",TRIM(LEFT(Translit.Translit(Service!E790),2))&INDEX(Service!H790:H808,RANDBETWEEN(1,19),1)&RANDBETWEEN(1,9)&IF(Service!F790=\"\",TRIM(LEFT(Translit.Translit(Service!E790),3))&INDEX(Service!A790:A815,RANDBETWEEN(1,26),1),TRIM(LEFT(Translit.Translit(Service!F790),2))&INDEX(Service!H790:H808,RANDBETWEEN(1,19),1)&INDEX(Service!A790:A815,RANDBETWEEN(1,26),1)),'Информация о пользователе'!G792)","v":{"$error":"#NAME?"}}]
[{"$f":"TRIM(IF('Информация о пользователе'!A793=\"\",\"Пусто\",'Информация о пользователе'!A793))","v":"Пусто"},{"$f":"TRIM(IF('Информация о пользователе'!B793=\"\",\" \",'Информация о пользователе'!B793&\" \"&'Информация о пользователе'!C793))","v":""},{"$f":"TRIM(IF(AD!A792=\"\",\"\",AD!B792&\" \"&A792))","v":"Пусто"},{"$f":"TRIM(IF('Информация о пользователе'!D793=\"\",F792&\"@edu54.ru\",'Информация о пользователе'!D793))","v":"pusto@edu54.ru"},{"$f":"TRIM(IF('Информация о пользователе'!E793=\"\",\"\",'Информация о пользователе'!E793))","v":""},{"$f":"IF('Информация о пользователе'!F793=\"\",TRIM(Translit.Translit(A792)&TRIM(LEFT(Translit.Translit(Service!E791),1))&TRIM(LEFT(Translit.Translit(Service!F791),1))),TRIM('Информация о пользователе'!F793))","v":"pusto"},{"$f":"IF('Информация о пользователе'!G793=\"\",TRIM(LEFT(Translit.Translit(Service!E791),2))&INDEX(Service!H791:H809,RANDBETWEEN(1,19),1)&RANDBETWEEN(1,9)&IF(Service!F791=\"\",TRIM(LEFT(Translit.Translit(Service!E791),3))&INDEX(Service!A791:A816,RANDBETWEEN(1,26),1),TRIM(LEFT(Translit.Translit(Service!F791),2))&INDEX(Service!H791:H809,RANDBETWEEN(1,19),1)&INDEX(Service!A791:A816,RANDBETWEEN(1,26),1)),'Информация о пользователе'!G793)","v":{"$error":"#NAME?"}}]
[{"$f":"TRIM(IF('Информация о пользователе'!A794=\"\",\"Пусто\",'Информация о пользователе'!A794))","v":"Пусто"},{"$f":"TRIM(IF('Информация о пользователе'!B794=\"\",\" \",'Информация о пользователе'!B794&\" \"&'Информация о пользователе'!C794))","v":""},{"$f":"TRIM(IF(AD!A793=\"\",\"\",AD!B793&\" \"&A793))","v":"Пусто"},{"$f":"TRIM(IF('Информация о пользователе'!D794=\"\",F793&\"@edu54.ru\",'Информация о пользователе'!D794))","v":"pusto@edu54.ru"},{"$f":"TRIM(IF('Информация о пользователе'!E794=\"\",\"\",'Информация о пользователе'!E794))","v":""},{"$f":"IF('Информация о пользователе'!F794=\"\",TRIM(Translit.Translit(A793)&TRIM(LEFT(Translit.Translit(Service!E792),1))&TRIM(LEFT(Translit.Translit(Service!F792),1))),TRIM('Информация о пользователе'!F794))","v":"pusto"},{"$f":"IF('Информация о пользователе'!G794=\"\",TRIM(LEFT(Translit.Translit(Service!E792),2))&INDEX(Service!H792:H810,RANDBETWEEN(1,19),1)&RANDBETWEEN(1,9)&IF(Service!F792=\"\",TRIM(LEFT(Translit.Translit(Service!E792),3))&INDEX(Service!A792:A817,RANDBETWEEN(1,26),1),TRIM(LEFT(Translit.Translit(Service!F792),2))&INDEX(Service!H792:H810,RANDBETWEEN(1,19),1)&INDEX(Service!A792:A817,RANDBETWEEN(1,26),1)),'Информация о пользователе'!G794)","v":{"$error":"#NAME?"}}]
[{"$f":"TRIM(IF('Информация о пользователе'!A795=\"\",\"Пусто\",'Информация о пользователе'!A795))","v":"Пусто"},{"$f":"TRIM(IF('Информация о пользователе'!B795=\"\",\" \",'Информация о пользователе'!B795&\" \"&'Информация о пользователе'!C795))","v":""},{"$f":"TRIM(IF(AD!A794=\"\",\"\",AD!B794&\" \"&A794))","v":"Пусто"},{"$f":"TRIM(IF('Информация о пользователе'!D795=\"\",F794&\"@edu54.ru\",'Информация о пользователе'!D795))","v":"pusto@edu54.ru"},{"$f":"TRIM(IF('Информация о пользователе'!E795=\"\",\"\",'Информация о пользователе'!E795))","v":""},{"$f":"IF('Информация о пользователе'!F795=\"\",TRIM(Translit.Translit(A794)&TRIM(LEFT(Translit.Translit(Service!E793),1))&TRIM(LEFT(Translit.Translit(Service!F793),1))),TRIM('Информация о пользователе'!F795))","v":"pusto"},{"$f":"IF('Информация о пользователе'!G795=\"\",TRIM(LEFT(Translit.Translit(Service!E793),2))&INDEX(Service!H793:H811,RANDBETWEEN(1,19),1)&RANDBETWEEN(1,9)&IF(Service!F793=\"\",TRIM(LEFT(Translit.Translit(Service!E793),3))&INDEX(Service!A793:A818,RANDBETWEEN(1,26),1),TRIM(LEFT(Translit.Translit(Service!F793),2))&INDEX(Service!H793:H811,RANDBETWEEN(1,19),1)&INDEX(Service!A793:A818,RANDBETWEEN(1,26),1)),'Информация о пользователе'!G795)","v":{"$error":"#NAME?"}}]
[{"$f":"TRIM(IF('Информация о пользователе'!A796=\"\",\"Пусто\",'Информация о пользователе'!A796))","v":"Пусто"},{"$f":"TRIM(IF('Информация о пользователе'!B796=\"\",\" \",'Информация о пользователе'!B796&\" \"&'Информация о пользователе'!C796))","v":""},{"$f":"TRIM(IF(AD!A795=\"\",\"\",AD!B795&\" \"&A795))","v":"Пусто"},{"$f":"TRIM(IF('Информация о пользователе'!D796=\"\",F795&\"@edu54.ru\",'Информация о пользователе'!D796))","v":"pusto@edu54.ru"},{"$f":"TRIM(IF('Информация о пользователе'!E796=\"\",\"\",'Информация о пользователе'!E796))","v":""},{"$f":"IF('Информация о пользователе'!F796=\"\",TRIM(Translit.Translit(A795)&TRIM(LEFT(Translit.Translit(Service!E794),1))&TRIM(LEFT(Translit.Translit(Service!F794),1))),TRIM('Информация о пользователе'!F796))","v":"pusto"},{"$f":"IF('Информация о пользователе'!G796=\"\",TRIM(LEFT(Translit.Translit(Service!E794),2))&INDEX(Service!H794:H812,RANDBETWEEN(1,19),1)&RANDBETWEEN(1,9)&IF(Service!F794=\"\",TRIM(LEFT(Translit.Translit(Service!E794),3))&INDEX(Service!A794:A819,RANDBETWEEN(1,26),1),TRIM(LEFT(Translit.Translit(Service!F794),2))&INDEX(Service!H794:H812,RANDBETWEEN(1,19),1)&INDEX(Service!A794:A819,RANDBETWEEN(1,26),1)),'Информация о пользователе'!G796)","v":{"$error":"#NAME?"}}]
[{"$f":"TRIM(IF('Информация о пользователе'!A797=\"\",\"Пусто\",'Информация о пользователе'!A797))","v":"Пусто"},{"$f":"TRIM(IF('Информация о пользователе'!B797=\"\",\" \",'Информация о пользователе'!B797&\" \"&'Информация о пользователе'!C797))","v":""},{"$f":"TRIM(IF(AD!A796=\"\",\"\",AD!B796&\" \"&A796))","v":"Пусто"},{"$f":"TRIM(IF('Информация о пользователе'!D797=\"\",F796&\"@edu54.ru\",'Информация о пользователе'!D797))","v":"pusto@edu54.ru"},{"$f":"TRIM(IF('Информация о пользователе'!E797=\"\",\"\",'Информация о пользователе'!E797))","v":""},{"$f":"IF('Информация о пользователе'!F797=\"\",TRIM(Translit.Translit(A796)&TRIM(LEFT(Translit.Translit(Service!E795),1))&TRIM(LEFT(Translit.Translit(Service!F795),1))),TRIM('Информация о пользователе'!F797))","v":"pusto"},{"$f":"IF('Информация о пользователе'!G797=\"\",TRIM(LEFT(Translit.Translit(Service!E795),2))&INDEX(Service!H795:H813,RANDBETWEEN(1,19),1)&RANDBETWEEN(1,9)&IF(Service!F795=\"\",TRIM(LEFT(Translit.Translit(Service!E795),3))&INDEX(Service!A795:A820,RANDBETWEEN(1,26),1),TRIM(LEFT(Translit.Translit(Service!F795),2))&INDEX(Service!H795:H813,RANDBETWEEN(1,19),1)&INDEX(Service!A795:A820,RANDBETWEEN(1,26),1)),'Информация о пользователе'!G797)","v":{"$error":"#NAME?"}}]
[{"$f":"TRIM(IF('Информация о пользователе'!A798=\"\",\"Пусто\",'Информация о пользователе'!A798))","v":"Пусто"},{"$f":"TRIM(IF('Информация о пользователе'!B798=\"\",\" \",'Информация о пользователе'!B798&\" \"&'Информация о пользователе'!C798))","v":""},{"$f":"TRIM(IF(AD!A797=\"\",\"\",AD!B797&\" \"&A797))","v":"Пусто"},{"$f":"TRIM(IF('Информация о пользователе'!D798=\"\",F797&\"@edu54.ru\",'Информация о пользователе'!D798))","v":"pusto@edu54.ru"},{"$f":"TRIM(IF('Информация о пользователе'!E798=\"\",\"\",'Информация о пользователе'!E798))","v":""},{"$f":"IF('Информация о пользователе'!F798=\"\",TRIM(Translit.Translit(A797)&TRIM(LEFT(Translit.Translit(Service!E796),1))&TRIM(LEFT(Translit.Translit(Service!F796),1))),TRIM('Информация о пользователе'!F798))","v":"pusto"},{"$f":"IF('Информация о пользователе'!G798=\"\",TRIM(LEFT(Translit.Translit(Service!E796),2))&INDEX(Service!H796:H814,RANDBETWEEN(1,19),1)&RANDBETWEEN(1,9)&IF(Service!F796=\"\",TRIM(LEFT(Translit.Translit(Service!E796),3))&INDEX(Service!A796:A821,RANDBETWEEN(1,26),1),TRIM(LEFT(Translit.Translit(Service!F796),2))&INDEX(Service!H796:H814,RANDBETWEEN(1,19),1)&INDEX(Service!A796:A821,RANDBETWEEN(1,26),1)),'Информация о пользователе'!G798)","v":{"$error":"#NAME?"}}]
[{"$f":"TRIM(IF('Информация о пользователе'!A799=\"\",\"Пусто\",'Информация о пользователе'!A799))","v":"Пусто"},{"$f":"TRIM(IF('Информация о пользователе'!B799=\"\",\" \",'Информация о пользователе'!B799&\" \"&'Информация о пользователе'!C799))","v":""},{"$f":"TRIM(IF(AD!A798=\"\",\"\",AD!B798&\" \"&A798))","v":"Пусто"},{"$f":"TRIM(IF('Информация о пользователе'!D799=\"\",F798&\"@edu54.ru\",'Информация о пользователе'!D799))","v":"pusto@edu54.ru"},{"$f":"TRIM(IF('Информация о пользователе'!E799=\"\",\"\",'Информация о пользователе'!E799))","v":""},{"$f":"IF('Информация о пользователе'!F799=\"\",TRIM(Translit.Translit(A798)&TRIM(LEFT(Translit.Translit(Service!E797),1))&TRIM(LEFT(Translit.Translit(Service!F797),1))),TRIM('Информация о пользователе'!F799))","v":"pusto"},{"$f":"IF('Информация о пользователе'!G799=\"\",TRIM(LEFT(Translit.Translit(Service!E797),2))&INDEX(Service!H797:H815,RANDBETWEEN(1,19),1)&RANDBETWEEN(1,9)&IF(Service!F797=\"\",TRIM(LEFT(Translit.Translit(Service!E797),3))&INDEX(Service!A797:A822,RANDBETWEEN(1,26),1),TRIM(LEFT(Translit.Translit(Service!F797),2))&INDEX(Service!H797:H815,RANDBETWEEN(1,19),1)&INDEX(Service!A797:A822,RANDBETWEEN(1,26),1)),'Информация о пользователе'!G799)","v":{"$error":"#NAME?"}}]
[{"$f":"TRIM(IF('Информация о пользователе'!A800=\"\",\"Пусто\",'Информация о пользователе'!A800))","v":"Пусто"},{"$f":"TRIM(IF('Информация о пользователе'!B800=\"\",\" \",'Информация о пользователе'!B800&\" \"&'Информация о пользователе'!C800))","v":""},{"$f":"TRIM(IF(AD!A799=\"\",\"\",AD!B799&\" \"&A799))","v":"Пусто"},{"$f":"TRIM(IF('Информация о пользователе'!D800=\"\",F799&\"@edu54.ru\",'Информация о пользователе'!D800))","v":"pusto@edu54.ru"},{"$f":"TRIM(IF('Информация о пользователе'!E800=\"\",\"\",'Информация о пользователе'!E800))","v":""},{"$f":"IF('Информация о пользователе'!F800=\"\",TRIM(Translit.Translit(A799)&TRIM(LEFT(Translit.Translit(Service!E798),1))&TRIM(LEFT(Translit.Translit(Service!F798),1))),TRIM('Информация о пользователе'!F800))","v":"pusto"},{"$f":"IF('Информация о пользователе'!G800=\"\",TRIM(LEFT(Translit.Translit(Service!E798),2))&INDEX(Service!H798:H816,RANDBETWEEN(1,19),1)&RANDBETWEEN(1,9)&IF(Service!F798=\"\",TRIM(LEFT(Translit.Translit(Service!E798),3))&INDEX(Service!A798:A823,RANDBETWEEN(1,26),1),TRIM(LEFT(Translit.Translit(Service!F798),2))&INDEX(Service!H798:H816,RANDBETWEEN(1,19),1)&INDEX(Service!A798:A823,RANDBETWEEN(1,26),1)),'Информация о пользователе'!G800)","v":{"$error":"#NAME?"}}]
[{"$f":"TRIM(IF('Информация о пользователе'!A801=\"\",\"Пусто\",'Информация о пользователе'!A801))","v":"Пусто"},{"$f":"TRIM(IF('Информация о пользователе'!B801=\"\",\" \",'Информация о пользователе'!B801&\" \"&'Информация о пользователе'!C801))","v":""},{"$f":"TRIM(IF(AD!A800=\"\",\"\",AD!B800&\" \"&A800))","v":"Пусто"},{"$f":"TRIM(IF('Информация о пользователе'!D801=\"\",F800&\"@edu54.ru\",'Информация о пользователе'!D801))","v":"pusto@edu54.ru"},{"$f":"TRIM(IF('Информация о пользователе'!E801=\"\",\"\",'Информация о пользователе'!E801))","v":""},{"$f":"IF('Информация о пользователе'!F801=\"\",TRIM(Translit.Translit(A800)&TRIM(LEFT(Translit.Translit(Service!E799),1))&TRIM(LEFT(Translit.Translit(Service!F799),1))),TRIM('Информация о пользователе'!F801))","v":"pusto"},{"$f":"IF('Информация о пользователе'!G801=\"\",TRIM(LEFT(Translit.Translit(Service!E799),2))&INDEX(Service!H799:H817,RANDBETWEEN(1,19),1)&RANDBETWEEN(1,9)&IF(Service!F799=\"\",TRIM(LEFT(Translit.Translit(Service!E799),3))&INDEX(Service!A799:A824,RANDBETWEEN(1,26),1),TRIM(LEFT(Translit.Translit(Service!F799),2))&INDEX(Service!H799:H817,RANDBETWEEN(1,19),1)&INDEX(Service!A799:A824,RANDBETWEEN(1,26),1)),'Информация о пользователе'!G801)","v":{"$error":"#NAME?"}}]
[{"$f":"TRIM(IF('Информация о пользователе'!A802=\"\",\"Пусто\",'Информация о пользователе'!A802))","v":"Пусто"},{"$f":"TRIM(IF('Информация о пользователе'!B802=\"\",\" \",'Информация о пользователе'!B802&\" \"&'Информация о пользователе'!C802))","v":""},{"$f":"TRIM(IF(AD!A801=\"\",\"\",AD!B801&\" \"&A801))","v":"Пусто"},{"$f":"TRIM(IF('Информация о пользователе'!D802=\"\",F801&\"@edu54.ru\",'Информация о пользователе'!D802))","v":"pusto@edu54.ru"},{"$f":"TRIM(IF('Информация о пользователе'!E802=\"\",\"\",'Информация о пользователе'!E802))","v":""},{"$f":"IF('Информация о пользователе'!F802=\"\",TRIM(Translit.Translit(A801)&TRIM(LEFT(Translit.Translit(Service!E800),1))&TRIM(LEFT(Translit.Translit(Service!F800),1))),TRIM('Информация о пользователе'!F802))","v":"pusto"},{"$f":"IF('Информация о пользователе'!G802=\"\",TRIM(LEFT(Translit.Translit(Service!E800),2))&INDEX(Service!H800:H818,RANDBETWEEN(1,19),1)&RANDBETWEEN(1,9)&IF(Service!F800=\"\",TRIM(LEFT(Translit.Translit(Service!E800),3))&INDEX(Service!A800:A825,RANDBETWEEN(1,26),1),TRIM(LEFT(Translit.Translit(Service!F800),2))&INDEX(Service!H800:H818,RANDBETWEEN(1,19),1)&INDEX(Service!A800:A825,RANDBETWEEN(1,26),1)),'Информация о пользователе'!G802)","v":{"$error":"#NAME?"}}]
[{"$f":"TRIM(IF('Информация о пользователе'!A803=\"\",\"Пусто\",'Информация о пользователе'!A803))","v":"Пусто"},{"$f":"TRIM(IF('Информация о пользователе'!B803=\"\",\" \",'Информация о пользователе'!B803&\" \"&'Информация о пользователе'!C803))","v":""},{"$f":"TRIM(IF(AD!A802=\"\",\"\",AD!B802&\" \"&A802))","v":"Пусто"},{"$f":"TRIM(IF('Информация о пользователе'!D803=\"\",F802&\"@edu54.ru\",'Информация о пользователе'!D803))","v":"pusto@edu54.ru"},{"$f":"TRIM(IF('Информация о пользователе'!E803=\"\",\"\",'Информация о пользователе'!E803))","v":""},{"$f":"IF('Информация о пользователе'!F803=\"\",TRIM(Translit.Translit(A802)&TRIM(LEFT(Translit.Translit(Service!E801),1))&TRIM(LEFT(Translit.Translit(Service!F801),1))),TRIM('Информация о пользователе'!F803))","v":"pusto"},{"$f":"IF('Информация о пользователе'!G803=\"\",TRIM(LEFT(Translit.Translit(Service!E801),2))&INDEX(Service!H801:H819,RANDBETWEEN(1,19),1)&RANDBETWEEN(1,9)&IF(Service!F801=\"\",TRIM(LEFT(Translit.Translit(Service!E801),3))&INDEX(Service!A801:A826,RANDBETWEEN(1,26),1),TRIM(LEFT(Translit.Translit(Service!F801),2))&INDEX(Service!H801:H819,RANDBETWEEN(1,19),1)&INDEX(Service!A801:A826,RANDBETWEEN(1,26),1)),'Информация о пользователе'!G803)","v":{"$error":"#NAME?"}}]
[{"$f":"TRIM(IF('Информация о пользователе'!A804=\"\",\"Пусто\",'Информация о пользователе'!A804))","v":"Пусто"},{"$f":"TRIM(IF('Информация о пользователе'!B804=\"\",\" \",'Информация о пользователе'!B804&\" \"&'Информация о пользователе'!C804))","v":""},{"$f":"TRIM(IF(AD!A803=\"\",\"\",AD!B803&\" \"&A803))","v":"Пусто"},{"$f":"TRIM(IF('Информация о пользователе'!D804=\"\",F803&\"@edu54.ru\",'Информация о пользователе'!D804))","v":"pusto@edu54.ru"},{"$f":"TRIM(IF('Информация о пользователе'!E804=\"\",\"\",'Информация о пользователе'!E804))","v":""},{"$f":"IF('Информация о пользователе'!F804=\"\",TRIM(Translit.Translit(A803)&TRIM(LEFT(Translit.Translit(Service!E802),1))&TRIM(LEFT(Translit.Translit(Service!F802),1))),TRIM('Информация о пользователе'!F804))","v":"pusto"},{"$f":"IF('Информация о пользователе'!G804=\"\",TRIM(LEFT(Translit.Translit(Service!E802),2))&INDEX(Service!H802:H820,RANDBETWEEN(1,19),1)&RANDBETWEEN(1,9)&IF(Service!F802=\"\",TRIM(LEFT(Translit.Translit(Service!E802),3))&INDEX(Service!A802:A827,RANDBETWEEN(1,26),1),TRIM(LEFT(Translit.Translit(Service!F802),2))&INDEX(Service!H802:H820,RANDBETWEEN(1,19),1)&INDEX(Service!A802:A827,RANDBETWEEN(1,26),1)),'Информация о пользователе'!G804)","v":{"$error":"#NAME?"}}]
[{"$f":"TRIM(IF('Информация о пользователе'!A805=\"\",\"Пусто\",'Информация о пользователе'!A805))","v":"Пусто"},{"$f":"TRIM(IF('Информация о пользователе'!B805=\"\",\" \",'Информация о пользователе'!B805&\" \"&'Информация о пользователе'!C805))","v":""},{"$f":"TRIM(IF(AD!A804=\"\",\"\",AD!B804&\" \"&A804))","v":"Пусто"},{"$f":"TRIM(IF('Информация о пользователе'!D805=\"\",F804&\"@edu54.ru\",'Информация о пользователе'!D805))","v":"pusto@edu54.ru"},{"$f":"TRIM(IF('Информация о пользователе'!E805=\"\",\"\",'Информация о пользователе'!E805))","v":""},{"$f":"IF('Информация о пользователе'!F805=\"\",TRIM(Translit.Translit(A804)&TRIM(LEFT(Translit.Translit(Service!E803),1))&TRIM(LEFT(Translit.Translit(Service!F803),1))),TRIM('Информация о пользователе'!F805))","v":"pusto"},{"$f":"IF('Информация о пользователе'!G805=\"\",TRIM(LEFT(Translit.Translit(Service!E803),2))&INDEX(Service!H803:H821,RANDBETWEEN(1,19),1)&RANDBETWEEN(1,9)&IF(Service!F803=\"\",TRIM(LEFT(Translit.Translit(Service!E803),3))&INDEX(Service!A803:A828,RANDBETWEEN(1,26),1),TRIM(LEFT(Translit.Translit(Service!F803),2))&INDEX(Service!H803:H821,RANDBETWEEN(1,19),1)&INDEX(Service!A803:A828,RANDBETWEEN(1,26),1)),'Информация о пользователе'!G805)","v":{"$error":"#NAME?"}}]
[{"$f":"TRIM(IF('Информация о пользователе'!A806=\"\",\"Пусто\",'Информация о пользователе'!A806))","v":"Пусто"},{"$f":"TRIM(IF('Информация о пользователе'!B806=\"\",\" \",'Информация о пользователе'!B806&\" \"&'Информация о пользователе'!C806))","v":""},{"$f":"TRIM(IF(AD!A805=\"\",\"\",AD!B805&\" \"&A805))","v":"Пусто"},{"$f":"TRIM(IF('Информация о пользователе'!D806=\"\",F805&\"@edu54.ru\",'Информация о пользователе'!D806))","v":"pusto@edu54.ru"},{"$f":"TRIM(IF('Информация о пользователе'!E806=\"\",\"\",'Информация о пользователе'!E806))","v":""},{"$f":"IF('Информация о пользователе'!F806=\"\",TRIM(Translit.Translit(A805)&TRIM(LEFT(Translit.Translit(Service!E804),1))&TRIM(LEFT(Translit.Translit(Service!F804),1))),TRIM('Информация о пользователе'!F806))","v":"pusto"},{"$f":"IF('Информация о пользователе'!G806=\"\",TRIM(LEFT(Translit.Translit(Service!E804),2))&INDEX(Service!H804:H822,RANDBETWEEN(1,19),1)&RANDBETWEEN(1,9)&IF(Service!F804=\"\",TRIM(LEFT(Translit.Translit(Service!E804),3))&INDEX(Service!A804:A829,RANDBETWEEN(1,26),1),TRIM(LEFT(Translit.Translit(Service!F804),2))&INDEX(Service!H804:H822,RANDBETWEEN(1,19),1)&INDEX(Service!A804:A829,RANDBETWEEN(1,26),1)),'Информация о пользователе'!G806)","v":{"$error":"#NAME?"}}]
[{"$f":"TRIM(IF('Информация о пользователе'!A807=\"\",\"Пусто\",'Информация о пользователе'!A807))","v":"Пусто"},{"$f":"TRIM(IF('Информация о пользователе'!B807=\"\",\" \",'Информация о пользователе'!B807&\" \"&'Информация о пользователе'!C807))","v":""},{"$f":"TRIM(IF(AD!A806=\"\",\"\",AD!B806&\" \"&A806))","v":"Пусто"},{"$f":"TRIM(IF('Информация о пользователе'!D807=\"\",F806&\"@edu54.ru\",'Информация о пользователе'!D807))","v":"pusto@edu54.ru"},{"$f":"TRIM(IF('Информация о пользователе'!E807=\"\",\"\",'Информация о пользователе'!E807))","v":""},{"$f":"IF('Информация о пользователе'!F807=\"\",TRIM(Translit.Translit(A806)&TRIM(LEFT(Translit.Translit(Service!E805),1))&TRIM(LEFT(Translit.Translit(Service!F805),1))),TRIM('Информация о пользователе'!F807))","v":"pusto"},{"$f":"IF('Информация о пользователе'!G807=\"\",TRIM(LEFT(Translit.Translit(Service!E805),2))&INDEX(Service!H805:H823,RANDBETWEEN(1,19),1)&RANDBETWEEN(1,9)&IF(Service!F805=\"\",TRIM(LEFT(Translit.Translit(Service!E805),3))&INDEX(Service!A805:A830,RANDBETWEEN(1,26),1),TRIM(LEFT(Translit.Translit(Service!F805),2))&INDEX(Service!H805:H823,RANDBETWEEN(1,19),1)&INDEX(Service!A805:A830,RANDBETWEEN(1,26),1)),'Информация о пользователе'!G807)","v":{"$error":"#NAME?"}}]
[{"$f":"TRIM(IF('Информация о пользователе'!A808=\"\",\"Пусто\",'Информация о пользователе'!A808))","v":"Пусто"},{"$f":"TRIM(IF('Информация о пользователе'!B808=\"\",\" \",'Информация о пользователе'!B808&\" \"&'Информация о пользователе'!C808))","v":""},{"$f":"TRIM(IF(AD!A807=\"\",\"\",AD!B807&\" \"&A807))","v":"Пусто"},{"$f":"TRIM(IF('Информация о пользователе'!D808=\"\",F807&\"@edu54.ru\",'Информация о пользователе'!D808))","v":"pusto@edu54.ru"},{"$f":"TRIM(IF('Информация о пользователе'!E808=\"\",\"\",'Информация о пользователе'!E808))","v":""},{"$f":"IF('Информация о пользователе'!F808=\"\",TRIM(Translit.Translit(A807)&TRIM(LEFT(Translit.Translit(Service!E806),1))&TRIM(LEFT(Translit.Translit(Service!F806),1))),TRIM('Информация о пользователе'!F808))","v":"pusto"},{"$f":"IF('Информация о пользователе'!G808=\"\",TRIM(LEFT(Translit.Translit(Service!E806),2))&INDEX(Service!H806:H824,RANDBETWEEN(1,19),1)&RANDBETWEEN(1,9)&IF(Service!F806=\"\",TRIM(LEFT(Translit.Translit(Service!E806),3))&INDEX(Service!A806:A831,RANDBETWEEN(1,26),1),TRIM(LEFT(Translit.Translit(Service!F806),2))&INDEX(Service!H806:H824,RANDBETWEEN(1,19),1)&INDEX(Service!A806:A831,RANDBETWEEN(1,26),1)),'Информация о пользователе'!G808)","v":{"$error":"#NAME?"}}]
[{"$f":"TRIM(IF('Информация о пользователе'!A809=\"\",\"Пусто\",'Информация о пользователе'!A809))","v":"Пусто"},{"$f":"TRIM(IF('Информация о пользователе'!B809=\"\",\" \",'Информация о пользователе'!B809&\" \"&'Информация о пользователе'!C809))","v":""},{"$f":"TRIM(IF(AD!A808=\"\",\"\",AD!B808&\" \"&A808))","v":"Пусто"},{"$f":"TRIM(IF('Информация о пользователе'!D809=\"\",F808&\"@edu54.ru\",'Информация о пользователе'!D809))","v":"pusto@edu54.ru"},{"$f":"TRIM(IF('Информация о пользователе'!E809=\"\",\"\",'Информация о пользователе'!E809))","v":""},{"$f":"IF('Информация о пользователе'!F809=\"\",TRIM(Translit.Translit(A808)&TRIM(LEFT(Translit.Translit(Service!E807),1))&TRIM(LEFT(Translit.Translit(Service!F807),1))),TRIM('Информация о пользователе'!F809))","v":"pusto"},{"$f":"IF('Информация о пользователе'!G809=\"\",TRIM(LEFT(Translit.Translit(Service!E807),2))&INDEX(Service!H807:H825,RANDBETWEEN(1,19),1)&RANDBETWEEN(1,9)&IF(Service!F807=\"\",TRIM(LEFT(Translit.Translit(Service!E807),3))&INDEX(Service!A807:A832,RANDBETWEEN(1,26),1),TRIM(LEFT(Translit.Translit(Service!F807),2))&INDEX(Service!H807:H825,RANDBETWEEN(1,19),1)&INDEX(Service!A807:A832,RANDBETWEEN(1,26),1)),'Информация о пользователе'!G809)","v":{"$error":"#NAME?"}}]
[{"$f":"TRIM(IF('Информация о пользователе'!A810=\"\",\"Пусто\",'Информация о пользователе'!A810))","v":"Пусто"},{"$f":"TRIM(IF('Информация о пользователе'!B810=\"\",\" \",'Информация о пользователе'!B810&\" \"&'Информация о пользователе'!C810))","v":""},{"$f":"TRIM(IF(AD!A809=\"\",\"\",AD!B809&\" \"&A809))","v":"Пусто"},{"$f":"TRIM(IF('Информация о пользователе'!D810=\"\",F809&\"@edu54.ru\",'Информация о пользователе'!D810))","v":"pusto@edu54.ru"},{"$f":"TRIM(IF('Информация о пользователе'!E810=\"\",\"\",'Информация о пользователе'!E810))","v":""},{"$f":"IF('Информация о пользователе'!F810=\"\",TRIM(Translit.Translit(A809)&TRIM(LEFT(Translit.Translit(Service!E808),1))&TRIM(LEFT(Translit.Translit(Service!F808),1))),TRIM('Информация о пользователе'!F810))","v":"pusto"},{"$f":"IF('Информация о пользователе'!G810=\"\",TRIM(LEFT(Translit.Translit(Service!E808),2))&INDEX(Service!H808:H826,RANDBETWEEN(1,19),1)&RANDBETWEEN(1,9)&IF(Service!F808=\"\",TRIM(LEFT(Translit.Translit(Service!E808),3))&INDEX(Service!A808:A833,RANDBETWEEN(1,26),1),TRIM(LEFT(Translit.Translit(Service!F808),2))&INDEX(Service!H808:H826,RANDBETWEEN(1,19),1)&INDEX(Service!A808:A833,RANDBETWEEN(1,26),1)),'Информация о пользователе'!G810)","v":{"$error":"#NAME?"}}]
[{"$f":"TRIM(IF('Информация о пользователе'!A811=\"\",\"Пусто\",'Информация о пользователе'!A811))","v":"Пусто"},{"$f":"TRIM(IF('Информация о пользователе'!B811=\"\",\" \",'Информация о пользователе'!B811&\" \"&'Информация о пользователе'!C811))","v":""},{"$f":"TRIM(IF(AD!A810=\"\",\"\",AD!B810&\" \"&A810))","v":"Пусто"},{"$f":"TRIM(IF('Информация о пользователе'!D811=\"\",F810&\"@edu54.ru\",'Информация о пользователе'!D811))","v":"pusto@edu54.ru"},{"$f":"TRIM(IF('Информация о пользователе'!E811=\"\",\"\",'Информация о пользователе'!E811))","v":""},{"$f":"IF('Информация о пользователе'!F811=\"\",TRIM(Translit.Translit(A810)&TRIM(LEFT(Translit.Translit(Service!E809),1))&TRIM(LEFT(Translit.Translit(Service!F809),1))),TRIM('Информация о пользователе'!F811))","v":"pusto"},{"$f":"IF('Информация о пользователе'!G811=\"\",TRIM(LEFT(Translit.Translit(Service!E809),2))&INDEX(Service!H809:H827,RANDBETWEEN(1,19),1)&RANDBETWEEN(1,9)&IF(Service!F809=\"\",TRIM(LEFT(Translit.Translit(Service!E809),3))&INDEX(Service!A809:A834,RANDBETWEEN(1,26),1),TRIM(LEFT(Translit.Translit(Service!F809),2))&INDEX(Service!H809:H827,RANDBETWEEN(1,19),1)&INDEX(Service!A809:A834,RANDBETWEEN(1,26),1)),'Информация о пользователе'!G811)","v":{"$error":"#NAME?"}}]
[{"$f":"TRIM(IF('Информация о пользователе'!A812=\"\",\"Пусто\",'Информация о пользователе'!A812))","v":"Пусто"},{"$f":"TRIM(IF('Информация о пользователе'!B812=\"\",\" \",'Информация о пользователе'!B812&\" \"&'Информация о пользователе'!C812))","v":""},{"$f":"TRIM(IF(AD!A811=\"\",\"\",AD!B811&\" \"&A811))","v":"Пусто"},{"$f":"TRIM(IF('Информация о пользователе'!D812=\"\",F811&\"@edu54.ru\",'Информация о пользователе'!D812))","v":"pusto@edu54.ru"},{"$f":"TRIM(IF('Информация о пользователе'!E812=\"\",\"\",'Информация о пользователе'!E812))","v":""},{"$f":"IF('Информация о пользователе'!F812=\"\",TRIM(Translit.Translit(A811)&TRIM(LEFT(Translit.Translit(Service!E810),1))&TRIM(LEFT(Translit.Translit(Service!F810),1))),TRIM('Информация о пользователе'!F812))","v":"pusto"},{"$f":"IF('Информация о пользователе'!G812=\"\",TRIM(LEFT(Translit.Translit(Service!E810),2))&INDEX(Service!H810:H828,RANDBETWEEN(1,19),1)&RANDBETWEEN(1,9)&IF(Service!F810=\"\",TRIM(LEFT(Translit.Translit(Service!E810),3))&INDEX(Service!A810:A835,RANDBETWEEN(1,26),1),TRIM(LEFT(Translit.Translit(Service!F810),2))&INDEX(Service!H810:H828,RANDBETWEEN(1,19),1)&INDEX(Service!A810:A835,RANDBETWEEN(1,26),1)),'Информация о пользователе'!G812)","v":{"$error":"#NAME?"}}]
[{"$f":"TRIM(IF('Информация о пользователе'!A813=\"\",\"Пусто\",'Информация о пользователе'!A813))","v":"Пусто"},{"$f":"TRIM(IF('Информация о пользователе'!B813=\"\",\" \",'Информация о пользователе'!B813&\" \"&'Информация о пользователе'!C813))","v":""},{"$f":"TRIM(IF(AD!A812=\"\",\"\",AD!B812&\" \"&A812))","v":"Пусто"},{"$f":"TRIM(IF('Информация о пользователе'!D813=\"\",F812&\"@edu54.ru\",'Информация о пользователе'!D813))","v":"pusto@edu54.ru"},{"$f":"TRIM(IF('Информация о пользователе'!E813=\"\",\"\",'Информация о пользователе'!E813))","v":""},{"$f":"IF('Информация о пользователе'!F813=\"\",TRIM(Translit.Translit(A812)&TRIM(LEFT(Translit.Translit(Service!E811),1))&TRIM(LEFT(Translit.Translit(Service!F811),1))),TRIM('Информация о пользователе'!F813))","v":"pusto"},{"$f":"IF('Информация о пользователе'!G813=\"\",TRIM(LEFT(Translit.Translit(Service!E811),2))&INDEX(Service!H811:H829,RANDBETWEEN(1,19),1)&RANDBETWEEN(1,9)&IF(Service!F811=\"\",TRIM(LEFT(Translit.Translit(Service!E811),3))&INDEX(Service!A811:A836,RANDBETWEEN(1,26),1),TRIM(LEFT(Translit.Translit(Service!F811),2))&INDEX(Service!H811:H829,RANDBETWEEN(1,19),1)&INDEX(Service!A811:A836,RANDBETWEEN(1,26),1)),'Информация о пользователе'!G813)","v":{"$error":"#NAME?"}}]
[{"$f":"TRIM(IF('Информация о пользователе'!A814=\"\",\"Пусто\",'Информация о пользователе'!A814))","v":"Пусто"},{"$f":"TRIM(IF('Информация о пользователе'!B814=\"\",\" \",'Информация о пользователе'!B814&\" \"&'Информация о пользователе'!C814))","v":""},{"$f":"TRIM(IF(AD!A813=\"\",\"\",AD!B813&\" \"&A813))","v":"Пусто"},{"$f":"TRIM(IF('Информация о пользователе'!D814=\"\",F813&\"@edu54.ru\",'Информация о пользователе'!D814))","v":"pusto@edu54.ru"},{"$f":"TRIM(IF('Информация о пользователе'!E814=\"\",\"\",'Информация о пользователе'!E814))","v":""},{"$f":"IF('Информация о пользователе'!F814=\"\",TRIM(Translit.Translit(A813)&TRIM(LEFT(Translit.Translit(Service!E812),1))&TRIM(LEFT(Translit.Translit(Service!F812),1))),TRIM('Информация о пользователе'!F814))","v":"pusto"},{"$f":"IF('Информация о пользователе'!G814=\"\",TRIM(LEFT(Translit.Translit(Service!E812),2))&INDEX(Service!H812:H830,RANDBETWEEN(1,19),1)&RANDBETWEEN(1,9)&IF(Service!F812=\"\",TRIM(LEFT(Translit.Translit(Service!E812),3))&INDEX(Service!A812:A837,RANDBETWEEN(1,26),1),TRIM(LEFT(Translit.Translit(Service!F812),2))&INDEX(Service!H812:H830,RANDBETWEEN(1,19),1)&INDEX(Service!A812:A837,RANDBETWEEN(1,26),1)),'Информация о пользователе'!G814)","v":{"$error":"#NAME?"}}]
[{"$f":"TRIM(IF('Информация о пользователе'!A815=\"\",\"Пусто\",'Информация о пользователе'!A815))","v":"Пусто"},{"$f":"TRIM(IF('Информация о пользователе'!B815=\"\",\" \",'Информация о пользователе'!B815&\" \"&'Информация о пользователе'!C815))","v":""},{"$f":"TRIM(IF(AD!A814=\"\",\"\",AD!B814&\" \"&A814))","v":"Пусто"},{"$f":"TRIM(IF('Информация о пользователе'!D815=\"\",F814&\"@edu54.ru\",'Информация о пользователе'!D815))","v":"pusto@edu54.ru"},{"$f":"TRIM(IF('Информация о пользователе'!E815=\"\",\"\",'Информация о пользователе'!E815))","v":""},{"$f":"IF('Информация о пользователе'!F815=\"\",TRIM(Translit.Translit(A814)&TRIM(LEFT(Translit.Translit(Service!E813),1))&TRIM(LEFT(Translit.Translit(Service!F813),1))),TRIM('Информация о пользователе'!F815))","v":"pusto"},{"$f":"IF('Информация о пользователе'!G815=\"\",TRIM(LEFT(Translit.Translit(Service!E813),2))&INDEX(Service!H813:H831,RANDBETWEEN(1,19),1)&RANDBETWEEN(1,9)&IF(Service!F813=\"\",TRIM(LEFT(Translit.Translit(Service!E813),3))&INDEX(Service!A813:A838,RANDBETWEEN(1,26),1),TRIM(LEFT(Translit.Translit(Service!F813),2))&INDEX(Service!H813:H831,RANDBETWEEN(1,19),1)&INDEX(Service!A813:A838,RANDBETWEEN(1,26),1)),'Информация о пользователе'!G815)","v":{"$error":"#NAME?"}}]
[{"$f":"TRIM(IF('Информация о пользователе'!A816=\"\",\"Пусто\",'Информация о пользователе'!A816))","v":"Пусто"},{"$f":"TRIM(IF('Информация о пользователе'!B816=\"\",\" \",'Информация о пользователе'!B816&\" \"&'Информация о пользователе'!C816))","v":""},{"$f":"TRIM(IF(AD!A815=\"\",\"\",AD!B815&\" \"&A815))","v":"Пусто"},{"$f":"TRIM(IF('Информация о пользователе'!D816=\"\",F815&\"@edu54.ru\",'Информация о пользователе'!D816))","v":"pusto@edu54.ru"},{"$f":"TRIM(IF('Информация о пользователе'!E816=\"\",\"\",'Информация о пользователе'!E816))","v":""},{"$f":"IF('Информация о пользователе'!F816=\"\",TRIM(Translit.Translit(A815)&TRIM(LEFT(Translit.Translit(Service!E814),1))&TRIM(LEFT(Translit.Translit(Service!F814),1))),TRIM('Информация о пользователе'!F816))","v":"pusto"},{"$f":"IF('Информация о пользователе'!G816=\"\",TRIM(LEFT(Translit.Translit(Service!E814),2))&INDEX(Service!H814:H832,RANDBETWEEN(1,19),1)&RANDBETWEEN(1,9)&IF(Service!F814=\"\",TRIM(LEFT(Translit.Translit(Service!E814),3))&INDEX(Service!A814:A839,RANDBETWEEN(1,26),1),TRIM(LEFT(Translit.Translit(Service!F814),2))&INDEX(Service!H814:H832,RANDBETWEEN(1,19),1)&INDEX(Service!A814:A839,RANDBETWEEN(1,26),1)),'Информация о пользователе'!G816)","v":{"$error":"#NAME?"}}]
[{"$f":"TRIM(IF('Информация о пользователе'!A817=\"\",\"Пусто\",'Информация о пользователе'!A817))","v":"Пусто"},{"$f":"TRIM(IF('Информация о пользователе'!B817=\"\",\" \",'Информация о пользователе'!B817&\" \"&'Информация о пользователе'!C817))","v":""},{"$f":"TRIM(IF(AD!A816=\"\",\"\",AD!B816&\" \"&A816))","v":"Пусто"},{"$f":"TRIM(IF('Информация о пользователе'!D817=\"\",F816&\"@edu54.ru\",'Информация о пользователе'!D817))","v":"pusto@edu54.ru"},{"$f":"TRIM(IF('Информация о пользователе'!E817=\"\",\"\",'Информация о пользователе'!E817))","v":""},{"$f":"IF('Информация о пользователе'!F817=\"\",TRIM(Translit.Translit(A816)&TRIM(LEFT(Translit.Translit(Service!E815),1))&TRIM(LEFT(Translit.Translit(Service!F815),1))),TRIM('Информация о пользователе'!F817))","v":"pusto"},{"$f":"IF('Информация о пользователе'!G817=\"\",TRIM(LEFT(Translit.Translit(Service!E815),2))&INDEX(Service!H815:H833,RANDBETWEEN(1,19),1)&RANDBETWEEN(1,9)&IF(Service!F815=\"\",TRIM(LEFT(Translit.Translit(Service!E815),3))&INDEX(Service!A815:A840,RANDBETWEEN(1,26),1),TRIM(LEFT(Translit.Translit(Service!F815),2))&INDEX(Service!H815:H833,RANDBETWEEN(1,19),1)&INDEX(Service!A815:A840,RANDBETWEEN(1,26),1)),'Информация о пользователе'!G817)","v":{"$error":"#NAME?"}}]
[{"$f":"TRIM(IF('Информация о пользователе'!A818=\"\",\"Пусто\",'Информация о пользователе'!A818))","v":"Пусто"},{"$f":"TRIM(IF('Информация о пользователе'!B818=\"\",\" \",'Информация о пользователе'!B818&\" \"&'Информация о пользователе'!C818))","v":""},{"$f":"TRIM(IF(AD!A817=\"\",\"\",AD!B817&\" \"&A817))","v":"Пусто"},{"$f":"TRIM(IF('Информация о пользователе'!D818=\"\",F817&\"@edu54.ru\",'Информация о пользователе'!D818))","v":"pusto@edu54.ru"},{"$f":"TRIM(IF('Информация о пользователе'!E818=\"\",\"\",'Информация о пользователе'!E818))","v":""},{"$f":"IF('Информация о пользователе'!F818=\"\",TRIM(Translit.Translit(A817)&TRIM(LEFT(Translit.Translit(Service!E816),1))&TRIM(LEFT(Translit.Translit(Service!F816),1))),TRIM('Информация о пользователе'!F818))","v":"pusto"},{"$f":"IF('Информация о пользователе'!G818=\"\",TRIM(LEFT(Translit.Translit(Service!E816),2))&INDEX(Service!H816:H834,RANDBETWEEN(1,19),1)&RANDBETWEEN(1,9)&IF(Service!F816=\"\",TRIM(LEFT(Translit.Translit(Service!E816),3))&INDEX(Service!A816:A841,RANDBETWEEN(1,26),1),TRIM(LEFT(Translit.Translit(Service!F816),2))&INDEX(Service!H816:H834,RANDBETWEEN(1,19),1)&INDEX(Service!A816:A841,RANDBETWEEN(1,26),1)),'Информация о пользователе'!G818)","v":{"$error":"#NAME?"}}]
[{"$f":"TRIM(IF('Информация о пользователе'!A819=\"\",\"Пусто\",'Информация о пользователе'!A819))","v":"Пусто"},{"$f":"TRIM(IF('Информация о пользователе'!B819=\"\",\" \",'Информация о пользователе'!B819&\" \"&'Информация о пользователе'!C819))","v":""},{"$f":"TRIM(IF(AD!A818=\"\",\"\",AD!B818&\" \"&A818))","v":"Пусто"},{"$f":"TRIM(IF('Информация о пользователе'!D819=\"\",F818&\"@edu54.ru\",'Информация о пользователе'!D819))","v":"pusto@edu54.ru"},{"$f":"TRIM(IF('Информация о пользователе'!E819=\"\",\"\",'Информация о пользователе'!E819))","v":""},{"$f":"IF('Информация о пользователе'!F819=\"\",TRIM(Translit.Translit(A818)&TRIM(LEFT(Translit.Translit(Service!E817),1))&TRIM(LEFT(Translit.Translit(Service!F817),1))),TRIM('Информация о пользователе'!F819))","v":"pusto"},{"$f":"IF('Информация о пользователе'!G819=\"\",TRIM(LEFT(Translit.Translit(Service!E817),2))&INDEX(Service!H817:H835,RANDBETWEEN(1,19),1)&RANDBETWEEN(1,9)&IF(Service!F817=\"\",TRIM(LEFT(Translit.Translit(Service!E817),3))&INDEX(Service!A817:A842,RANDBETWEEN(1,26),1),TRIM(LEFT(Translit.Translit(Service!F817),2))&INDEX(Service!H817:H835,RANDBETWEEN(1,19),1)&INDEX(Service!A817:A842,RANDBETWEEN(1,26),1)),'Информация о пользователе'!G819)","v":{"$error":"#NAME?"}}]
[{"$f":"TRIM(IF('Информация о пользователе'!A820=\"\",\"Пусто\",'Информация о пользователе'!A820))","v":"Пусто"},{"$f":"TRIM(IF('Информация о пользователе'!B820=\"\",\" \",'Информация о пользователе'!B820&\" \"&'Информация о пользователе'!C820))","v":""},{"$f":"TRIM(IF(AD!A819=\"\",\"\",AD!B819&\" \"&A819))","v":"Пусто"},{"$f":"TRIM(IF('Информация о пользователе'!D820=\"\",F819&\"@edu54.ru\",'Информация о пользователе'!D820))","v":"pusto@edu54.ru"},{"$f":"TRIM(IF('Информация о пользователе'!E820=\"\",\"\",'Информация о пользователе'!E820))","v":""},{"$f":"IF('Информация о пользователе'!F820=\"\",TRIM(Translit.Translit(A819)&TRIM(LEFT(Translit.Translit(Service!E818),1))&TRIM(LEFT(Translit.Translit(Service!F818),1))),TRIM('Информация о пользователе'!F820))","v":"pusto"},{"$f":"IF('Информация о пользователе'!G820=\"\",TRIM(LEFT(Translit.Translit(Service!E818),2))&INDEX(Service!H818:H836,RANDBETWEEN(1,19),1)&RANDBETWEEN(1,9)&IF(Service!F818=\"\",TRIM(LEFT(Translit.Translit(Service!E818),3))&INDEX(Service!A818:A843,RANDBETWEEN(1,26),1),TRIM(LEFT(Translit.Translit(Service!F818),2))&INDEX(Service!H818:H836,RANDBETWEEN(1,19),1)&INDEX(Service!A818:A843,RANDBETWEEN(1,26),1)),'Информация о пользователе'!G820)","v":{"$error":"#NAME?"}}]
[{"$f":"TRIM(IF('Информация о пользователе'!A821=\"\",\"Пусто\",'Информация о пользователе'!A821))","v":"Пусто"},{"$f":"TRIM(IF('Информация о пользователе'!B821=\"\",\" \",'Информация о пользователе'!B821&\" \"&'Информация о пользователе'!C821))","v":""},{"$f":"TRIM(IF(AD!A820=\"\",\"\",AD!B820&\" \"&A820))","v":"Пусто"},{"$f":"TRIM(IF('Информация о пользователе'!D821=\"\",F820&\"@edu54.ru\",'Информация о пользователе'!D821))","v":"pusto@edu54.ru"},{"$f":"TRIM(IF('Информация о пользователе'!E821=\"\",\"\",'Информация о пользователе'!E821))","v":""},{"$f":"IF('Информация о пользователе'!F821=\"\",TRIM(Translit.Translit(A820)&TRIM(LEFT(Translit.Translit(Service!E819),1))&TRIM(LEFT(Translit.Translit(Service!F819),1))),TRIM('Информация о пользователе'!F821))","v":"pusto"},{"$f":"IF('Информация о пользователе'!G821=\"\",TRIM(LEFT(Translit.Translit(Service!E819),2))&INDEX(Service!H819:H837,RANDBETWEEN(1,19),1)&RANDBETWEEN(1,9)&IF(Service!F819=\"\",TRIM(LEFT(Translit.Translit(Service!E819),3))&INDEX(Service!A819:A844,RANDBETWEEN(1,26),1),TRIM(LEFT(Translit.Translit(Service!F819),2))&INDEX(Service!H819:H837,RANDBETWEEN(1,19),1)&INDEX(Service!A819:A844,RANDBETWEEN(1,26),1)),'Информация о пользователе'!G821)","v":{"$error":"#NAME?"}}]
[{"$f":"TRIM(IF('Информация о пользователе'!A822=\"\",\"Пусто\",'Информация о пользователе'!A822))","v":"Пусто"},{"$f":"TRIM(IF('Информация о пользователе'!B822=\"\",\" \",'Информация о пользователе'!B822&\" \"&'Информация о пользователе'!C822))","v":""},{"$f":"TRIM(IF(AD!A821=\"\",\"\",AD!B821&\" \"&A821))","v":"Пусто"},{"$f":"TRIM(IF('Информация о пользователе'!D822=\"\",F821&\"@edu54.ru\",'Информация о пользователе'!D822))","v":"pusto@edu54.ru"},{"$f":"TRIM(IF('Информация о пользователе'!E822=\"\",\"\",'Информация о пользователе'!E822))","v":""},{"$f":"IF('Информация о пользователе'!F822=\"\",TRIM(Translit.Translit(A821)&TRIM(LEFT(Translit.Translit(Service!E820),1))&TRIM(LEFT(Translit.Translit(Service!F820),1))),TRIM('Информация о пользователе'!F822))","v":"pusto"},{"$f":"IF('Информация о пользователе'!G822=\"\",TRIM(LEFT(Translit.Translit(Service!E820),2))&INDEX(Service!H820:H838,RANDBETWEEN(1,19),1)&RANDBETWEEN(1,9)&IF(Service!F820=\"\",TRIM(LEFT(Translit.Translit(Service!E820),3))&INDEX(Service!A820:A845,RANDBETWEEN(1,26),1),TRIM(LEFT(Translit.Translit(Service!F820),2))&INDEX(Service!H820:H838,RANDBETWEEN(1,19),1)&INDEX(Service!A820:A845,RANDBETWEEN(1,26),1)),'Информация о пользователе'!G822)","v":{"$error":"#NAME?"}}]
[{"$f":"TRIM(IF('Информация о пользователе'!A823=\"\",\"Пусто\",'Информация о пользователе'!A823))","v":"Пусто"},{"$f":"TRIM(IF('Информация о пользователе'!B823=\"\",\" \",'Информация о пользователе'!B823&\" \"&'Информация о пользователе'!C823))","v":""},{"$f":"TRIM(IF(AD!A822=\"\",\"\",AD!B822&\" \"&A822))","v":"Пусто"},{"$f":"TRIM(IF('Информация о пользователе'!D823=\"\",F822&\"@edu54.ru\",'Информация о пользователе'!D823))","v":"pusto@edu54.ru"},{"$f":"TRIM(IF('Информация о пользователе'!E823=\"\",\"\",'Информация о пользователе'!E823))","v":""},{"$f":"IF('Информация о пользователе'!F823=\"\",TRIM(Translit.Translit(A822)&TRIM(LEFT(Translit.Translit(Service!E821),1))&TRIM(LEFT(Translit.Translit(Service!F821),1))),TRIM('Информация о пользователе'!F823))","v":"pusto"},{"$f":"IF('Информация о пользователе'!G823=\"\",TRIM(LEFT(Translit.Translit(Service!E821),2))&INDEX(Service!H821:H839,RANDBETWEEN(1,19),1)&RANDBETWEEN(1,9)&IF(Service!F821=\"\",TRIM(LEFT(Translit.Translit(Service!E821),3))&INDEX(Service!A821:A846,RANDBETWEEN(1,26),1),TRIM(LEFT(Translit.Translit(Service!F821),2))&INDEX(Service!H821:H839,RANDBETWEEN(1,19),1)&INDEX(Service!A821:A846,RANDBETWEEN(1,26),1)),'Информация о пользователе'!G823)","v":{"$error":"#NAME?"}}]
[{"$f":"TRIM(IF('Информация о пользователе'!A824=\"\",\"Пусто\",'Информация о пользователе'!A824))","v":"Пусто"},{"$f":"TRIM(IF('Информация о пользователе'!B824=\"\",\" \",'Информация о пользователе'!B824&\" \"&'Информация о пользователе'!C824))","v":""},{"$f":"TRIM(IF(AD!A823=\"\",\"\",AD!B823&\" \"&A823))","v":"Пусто"},{"$f":"TRIM(IF('Информация о пользователе'!D824=\"\",F823&\"@edu54.ru\",'Информация о пользователе'!D824))","v":"pusto@edu54.ru"},{"$f":"TRIM(IF('Информация о пользователе'!E824=\"\",\"\",'Информация о пользователе'!E824))","v":""},{"$f":"IF('Информация о пользователе'!F824=\"\",TRIM(Translit.Translit(A823)&TRIM(LEFT(Translit.Translit(Service!E822),1))&TRIM(LEFT(Translit.Translit(Service!F822),1))),TRIM('Информация о пользователе'!F824))","v":"pusto"},{"$f":"IF('Информация о пользователе'!G824=\"\",TRIM(LEFT(Translit.Translit(Service!E822),2))&INDEX(Service!H822:H840,RANDBETWEEN(1,19),1)&RANDBETWEEN(1,9)&IF(Service!F822=\"\",TRIM(LEFT(Translit.Translit(Service!E822),3))&INDEX(Service!A822:A847,RANDBETWEEN(1,26),1),TRIM(LEFT(Translit.Translit(Service!F822),2))&INDEX(Service!H822:H840,RANDBETWEEN(1,19),1)&INDEX(Service!A822:A847,RANDBETWEEN(1,26),1)),'Информация о пользователе'!G824)","v":{"$error":"#NAME?"}}]
[{"$f":"TRIM(IF('Информация о пользователе'!A825=\"\",\"Пусто\",'Информация о пользователе'!A825))","v":"Пусто"},{"$f":"TRIM(IF('Информация о пользователе'!B825=\"\",\" \",'Информация о пользователе'!B825&\" \"&'Информация о пользователе'!C825))","v":""},{"$f":"TRIM(IF(AD!A824=\"\",\"\",AD!B824&\" \"&A824))","v":"Пусто"},{"$f":"TRIM(IF('Информация о пользователе'!D825=\"\",F824&\"@edu54.ru\",'Информация о пользователе'!D825))","v":"pusto@edu54.ru"},{"$f":"TRIM(IF('Информация о пользователе'!E825=\"\",\"\",'Информация о пользователе'!E825))","v":""},{"$f":"IF('Информация о пользователе'!F825=\"\",TRIM(Translit.Translit(A824)&TRIM(LEFT(Translit.Translit(Service!E823),1))&TRIM(LEFT(Translit.Translit(Service!F823),1))),TRIM('Информация о пользователе'!F825))","v":"pusto"},{"$f":"IF('Информация о пользователе'!G825=\"\",TRIM(LEFT(Translit.Translit(Service!E823),2))&INDEX(Service!H823:H841,RANDBETWEEN(1,19),1)&RANDBETWEEN(1,9)&IF(Service!F823=\"\",TRIM(LEFT(Translit.Translit(Service!E823),3))&INDEX(Service!A823:A848,RANDBETWEEN(1,26),1),TRIM(LEFT(Translit.Translit(Service!F823),2))&INDEX(Service!H823:H841,RANDBETWEEN(1,19),1)&INDEX(Service!A823:A848,RANDBETWEEN(1,26),1)),'Информация о пользователе'!G825)","v":{"$error":"#NAME?"}}]
[{"$f":"TRIM(IF('Информация о пользователе'!A826=\"\",\"Пусто\",'Информация о пользователе'!A826))","v":"Пусто"},{"$f":"TRIM(IF('Информация о пользователе'!B826=\"\",\" \",'Информация о пользователе'!B826&\" \"&'Информация о пользователе'!C826))","v":""},{"$f":"TRIM(IF(AD!A825=\"\",\"\",AD!B825&\" \"&A825))","v":"Пусто"},{"$f":"TRIM(IF('Информация о пользователе'!D826=\"\",F825&\"@edu54.ru\",'Информация о пользователе'!D826))","v":"pusto@edu54.ru"},{"$f":"TRIM(IF('Информация о пользователе'!E826=\"\",\"\",'Информация о пользователе'!E826))","v":""},{"$f":"IF('Информация о пользователе'!F826=\"\",TRIM(Translit.Translit(A825)&TRIM(LEFT(Translit.Translit(Service!E824),1))&TRIM(LEFT(Translit.Translit(Service!F824),1))),TRIM('Информация о пользователе'!F826))","v":"pusto"},{"$f":"IF('Информация о пользователе'!G826=\"\",TRIM(LEFT(Translit.Translit(Service!E824),2))&INDEX(Service!H824:H842,RANDBETWEEN(1,19),1)&RANDBETWEEN(1,9)&IF(Service!F824=\"\",TRIM(LEFT(Translit.Translit(Service!E824),3))&INDEX(Service!A824:A849,RANDBETWEEN(1,26),1),TRIM(LEFT(Translit.Translit(Service!F824),2))&INDEX(Service!H824:H842,RANDBETWEEN(1,19),1)&INDEX(Service!A824:A849,RANDBETWEEN(1,26),1)),'Информация о пользователе'!G826)","v":{"$error":"#NAME?"}}]
[{"$f":"TRIM(IF('Информация о пользователе'!A827=\"\",\"Пусто\",'Информация о пользователе'!A827))","v":"Пусто"},{"$f":"TRIM(IF('Информация о пользователе'!B827=\"\",\" \",'Информация о пользователе'!B827&\" \"&'Информация о пользователе'!C827))","v":""},{"$f":"TRIM(IF(AD!A826=\"\",\"\",AD!B826&\" \"&A826))","v":"Пусто"},{"$f":"TRIM(IF('Информация о пользователе'!D827=\"\",F826&\"@edu54.ru\",'Информация о пользователе'!D827))","v":"pusto@edu54.ru"},{"$f":"TRIM(IF('Информация о пользователе'!E827=\"\",\"\",'Информация о пользователе'!E827))","v":""},{"$f":"IF('Информация о пользователе'!F827=\"\",TRIM(Translit.Translit(A826)&TRIM(LEFT(Translit.Translit(Service!E825),1))&TRIM(LEFT(Translit.Translit(Service!F825),1))),TRIM('Информация о пользователе'!F827))","v":"pusto"},{"$f":"IF('Информация о пользователе'!G827=\"\",TRIM(LEFT(Translit.Translit(Service!E825),2))&INDEX(Service!H825:H843,RANDBETWEEN(1,19),1)&RANDBETWEEN(1,9)&IF(Service!F825=\"\",TRIM(LEFT(Translit.Translit(Service!E825),3))&INDEX(Service!A825:A850,RANDBETWEEN(1,26),1),TRIM(LEFT(Translit.Translit(Service!F825),2))&INDEX(Service!H825:H843,RANDBETWEEN(1,19),1)&INDEX(Service!A825:A850,RANDBETWEEN(1,26),1)),'Информация о пользователе'!G827)","v":{"$error":"#NAME?"}}]
[{"$f":"TRIM(IF('Информация о пользователе'!A828=\"\",\"Пусто\",'Информация о пользователе'!A828))","v":"Пусто"},{"$f":"TRIM(IF('Информация о пользователе'!B828=\"\",\" \",'Информация о пользователе'!B828&\" \"&'Информация о пользователе'!C828))","v":""},{"$f":"TRIM(IF(AD!A827=\"\",\"\",AD!B827&\" \"&A827))","v":"Пусто"},{"$f":"TRIM(IF('Информация о пользователе'!D828=\"\",F827&\"@edu54.ru\",'Информация о пользователе'!D828))","v":"pusto@edu54.ru"},{"$f":"TRIM(IF('Информация о пользователе'!E828=\"\",\"\",'Информация о пользователе'!E828))","v":""},{"$f":"IF('Информация о пользователе'!F828=\"\",TRIM(Translit.Translit(A827)&TRIM(LEFT(Translit.Translit(Service!E826),1))&TRIM(LEFT(Translit.Translit(Service!F826),1))),TRIM('Информация о пользователе'!F828))","v":"pusto"},{"$f":"IF('Информация о пользователе'!G828=\"\",TRIM(LEFT(Translit.Translit(Service!E826),2))&INDEX(Service!H826:H844,RANDBETWEEN(1,19),1)&RANDBETWEEN(1,9)&IF(Service!F826=\"\",TRIM(LEFT(Translit.Translit(Service!E826),3))&INDEX(Service!A826:A851,RANDBETWEEN(1,26),1),TRIM(LEFT(Translit.Translit(Service!F826),2))&INDEX(Service!H826:H844,RANDBETWEEN(1,19),1)&INDEX(Service!A826:A851,RANDBETWEEN(1,26),1)),'Информация о пользователе'!G828)","v":{"$error":"#NAME?"}}]
[{"$f":"TRIM(IF('Информация о пользователе'!A829=\"\",\"Пусто\",'Информация о пользователе'!A829))","v":"Пусто"},{"$f":"TRIM(IF('Информация о пользователе'!B829=\"\",\" \",'Информация о пользователе'!B829&\" \"&'Информация о пользователе'!C829))","v":""},{"$f":"TRIM(IF(AD!A828=\"\",\"\",AD!B828&\" \"&A828))","v":"Пусто"},{"$f":"TRIM(IF('Информация о пользователе'!D829=\"\",F828&\"@edu54.ru\",'Информация о пользователе'!D829))","v":"pusto@edu54.ru"},{"$f":"TRIM(IF('Информация о пользователе'!E829=\"\",\"\",'Информация о пользователе'!E829))","v":""},{"$f":"IF('Информация о пользователе'!F829=\"\",TRIM(Translit.Translit(A828)&TRIM(LEFT(Translit.Translit(Service!E827),1))&TRIM(LEFT(Translit.Translit(Service!F827),1))),TRIM('Информация о пользователе'!F829))","v":"pusto"},{"$f":"IF('Информация о пользователе'!G829=\"\",TRIM(LEFT(Translit.Translit(Service!E827),2))&INDEX(Service!H827:H845,RANDBETWEEN(1,19),1)&RANDBETWEEN(1,9)&IF(Service!F827=\"\",TRIM(LEFT(Translit.Translit(Service!E827),3))&INDEX(Service!A827:A852,RANDBETWEEN(1,26),1),TRIM(LEFT(Translit.Translit(Service!F827),2))&INDEX(Service!H827:H845,RANDBETWEEN(1,19),1)&INDEX(Service!A827:A852,RANDBETWEEN(1,26),1)),'Информация о пользователе'!G829)","v":{"$error":"#NAME?"}}]
[{"$f":"TRIM(IF('Информация о пользователе'!A830=\"\",\"Пусто\",'Информация о пользователе'!A830))","v":"Пусто"},{"$f":"TRIM(IF('Информация о пользователе'!B830=\"\",\" \",'Информация о пользователе'!B830&\" \"&'Информация о пользователе'!C830))","v":""},{"$f":"TRIM(IF(AD!A829=\"\",\"\",AD!B829&\" \"&A829))","v":"Пусто"},{"$f":"TRIM(IF('Информация о пользователе'!D830=\"\",F829&\"@edu54.ru\",'Информация о пользователе'!D830))","v":"pusto@edu54.ru"},{"$f":"TRIM(IF('Информация о пользователе'!E830=\"\",\"\",'Информация о пользователе'!E830))","v":""},{"$f":"IF('Информация о пользователе'!F830=\"\",TRIM(Translit.Translit(A829)&TRIM(LEFT(Translit.Translit(Service!E828),1))&TRIM(LEFT(Translit.Translit(Service!F828),1))),TRIM('Информация о пользователе'!F830))","v":"pusto"},{"$f":"IF('Информация о пользователе'!G830=\"\",TRIM(LEFT(Translit.Translit(Service!E828),2))&INDEX(Service!H828:H846,RANDBETWEEN(1,19),1)&RANDBETWEEN(1,9)&IF(Service!F828=\"\",TRIM(LEFT(Translit.Translit(Service!E828),3))&INDEX(Service!A828:A853,RANDBETWEEN(1,26),1),TRIM(LEFT(Translit.Translit(Service!F828),2))&INDEX(Service!H828:H846,RANDBETWEEN(1,19),1)&INDEX(Service!A828:A853,RANDBETWEEN(1,26),1)),'Информация о пользователе'!G830)","v":{"$error":"#NAME?"}}]
[{"$f":"TRIM(IF('Информация о пользователе'!A831=\"\",\"Пусто\",'Информация о пользователе'!A831))","v":"Пусто"},{"$f":"TRIM(IF('Информация о пользователе'!B831=\"\",\" \",'Информация о пользователе'!B831&\" \"&'Информация о пользователе'!C831))","v":""},{"$f":"TRIM(IF(AD!A830=\"\",\"\",AD!B830&\" \"&A830))","v":"Пусто"},{"$f":"TRIM(IF('Информация о пользователе'!D831=\"\",F830&\"@edu54.ru\",'Информация о пользователе'!D831))","v":"pusto@edu54.ru"},{"$f":"TRIM(IF('Информация о пользователе'!E831=\"\",\"\",'Информация о пользователе'!E831))","v":""},{"$f":"IF('Информация о пользователе'!F831=\"\",TRIM(Translit.Translit(A830)&TRIM(LEFT(Translit.Translit(Service!E829),1))&TRIM(LEFT(Translit.Translit(Service!F829),1))),TRIM('Информация о пользователе'!F831))","v":"pusto"},{"$f":"IF('Информация о пользователе'!G831=\"\",TRIM(LEFT(Translit.Translit(Service!E829),2))&INDEX(Service!H829:H847,RANDBETWEEN(1,19),1)&RANDBETWEEN(1,9)&IF(Service!F829=\"\",TRIM(LEFT(Translit.Translit(Service!E829),3))&INDEX(Service!A829:A854,RANDBETWEEN(1,26),1),TRIM(LEFT(Translit.Translit(Service!F829),2))&INDEX(Service!H829:H847,RANDBETWEEN(1,19),1)&INDEX(Service!A829:A854,RANDBETWEEN(1,26),1)),'Информация о пользователе'!G831)","v":{"$error":"#NAME?"}}]
[{"$f":"TRIM(IF('Информация о пользователе'!A832=\"\",\"Пусто\",'Информация о пользователе'!A832))","v":"Пусто"},{"$f":"TRIM(IF('Информация о пользователе'!B832=\"\",\" \",'Информация о пользователе'!B832&\" \"&'Информация о пользователе'!C832))","v":""},{"$f":"TRIM(IF(AD!A831=\"\",\"\",AD!B831&\" \"&A831))","v":"Пусто"},{"$f":"TRIM(IF('Информация о пользователе'!D832=\"\",F831&\"@edu54.ru\",'Информация о пользователе'!D832))","v":"pusto@edu54.ru"},{"$f":"TRIM(IF('Информация о пользователе'!E832=\"\",\"\",'Информация о пользователе'!E832))","v":""},{"$f":"IF('Информация о пользователе'!F832=\"\",TRIM(Translit.Translit(A831)&TRIM(LEFT(Translit.Translit(Service!E830),1))&TRIM(LEFT(Translit.Translit(Service!F830),1))),TRIM('Информация о пользователе'!F832))","v":"pusto"},{"$f":"IF('Информация о пользователе'!G832=\"\",TRIM(LEFT(Translit.Translit(Service!E830),2))&INDEX(Service!H830:H848,RANDBETWEEN(1,19),1)&RANDBETWEEN(1,9)&IF(Service!F830=\"\",TRIM(LEFT(Translit.Translit(Service!E830),3))&INDEX(Service!A830:A855,RANDBETWEEN(1,26),1),TRIM(LEFT(Translit.Translit(Service!F830),2))&INDEX(Service!H830:H848,RANDBETWEEN(1,19),1)&INDEX(Service!A830:A855,RANDBETWEEN(1,26),1)),'Информация о пользователе'!G832)","v":{"$error":"#NAME?"}}]
[{"$f":"TRIM(IF('Информация о пользователе'!A833=\"\",\"Пусто\",'Информация о пользователе'!A833))","v":"Пусто"},{"$f":"TRIM(IF('Информация о пользователе'!B833=\"\",\" \",'Информация о пользователе'!B833&\" \"&'Информация о пользователе'!C833))","v":""},{"$f":"TRIM(IF(AD!A832=\"\",\"\",AD!B832&\" \"&A832))","v":"Пусто"},{"$f":"TRIM(IF('Информация о пользователе'!D833=\"\",F832&\"@edu54.ru\",'Информация о пользователе'!D833))","v":"pusto@edu54.ru"},{"$f":"TRIM(IF('Информация о пользователе'!E833=\"\",\"\",'Информация о пользователе'!E833))","v":""},{"$f":"IF('Информация о пользователе'!F833=\"\",TRIM(Translit.Translit(A832)&TRIM(LEFT(Translit.Translit(Service!E831),1))&TRIM(LEFT(Translit.Translit(Service!F831),1))),TRIM('Информация о пользователе'!F833))","v":"pusto"},{"$f":"IF('Информация о пользователе'!G833=\"\",TRIM(LEFT(Translit.Translit(Service!E831),2))&INDEX(Service!H831:H849,RANDBETWEEN(1,19),1)&RANDBETWEEN(1,9)&IF(Service!F831=\"\",TRIM(LEFT(Translit.Translit(Service!E831),3))&INDEX(Service!A831:A856,RANDBETWEEN(1,26),1),TRIM(LEFT(Translit.Translit(Service!F831),2))&INDEX(Service!H831:H849,RANDBETWEEN(1,19),1)&INDEX(Service!A831:A856,RANDBETWEEN(1,26),1)),'Информация о пользователе'!G833)","v":{"$error":"#NAME?"}}]
[{"$f":"TRIM(IF('Информация о пользователе'!A834=\"\",\"Пусто\",'Информация о пользователе'!A834))","v":"Пусто"},{"$f":"TRIM(IF('Информация о пользователе'!B834=\"\",\" \",'Информация о пользователе'!B834&\" \"&'Информация о пользователе'!C834))","v":""},{"$f":"TRIM(IF(AD!A833=\"\",\"\",AD!B833&\" \"&A833))","v":"Пусто"},{"$f":"TRIM(IF('Информация о пользователе'!D834=\"\",F833&\"@edu54.ru\",'Информация о пользователе'!D834))","v":"pusto@edu54.ru"},{"$f":"TRIM(IF('Информация о пользователе'!E834=\"\",\"\",'Информация о пользователе'!E834))","v":""},{"$f":"IF('Информация о пользователе'!F834=\"\",TRIM(Translit.Translit(A833)&TRIM(LEFT(Translit.Translit(Service!E832),1))&TRIM(LEFT(Translit.Translit(Service!F832),1))),TRIM('Информация о пользователе'!F834))","v":"pusto"},{"$f":"IF('Информация о пользователе'!G834=\"\",TRIM(LEFT(Translit.Translit(Service!E832),2))&INDEX(Service!H832:H850,RANDBETWEEN(1,19),1)&RANDBETWEEN(1,9)&IF(Service!F832=\"\",TRIM(LEFT(Translit.Translit(Service!E832),3))&INDEX(Service!A832:A857,RANDBETWEEN(1,26),1),TRIM(LEFT(Translit.Translit(Service!F832),2))&INDEX(Service!H832:H850,RANDBETWEEN(1,19),1)&INDEX(Service!A832:A857,RANDBETWEEN(1,26),1)),'Информация о пользователе'!G834)","v":{"$error":"#NAME?"}}]
[{"$f":"TRIM(IF('Информация о пользователе'!A835=\"\",\"Пусто\",'Информация о пользователе'!A835))","v":"Пусто"},{"$f":"TRIM(IF('Информация о пользователе'!B835=\"\",\" \",'Информация о пользователе'!B835&\" \"&'Информация о пользователе'!C835))","v":""},{"$f":"TRIM(IF(AD!A834=\"\",\"\",AD!B834&\" \"&A834))","v":"Пусто"},{"$f":"TRIM(IF('Информация о пользователе'!D835=\"\",F834&\"@edu54.ru\",'Информация о пользователе'!D835))","v":"pusto@edu54.ru"},{"$f":"TRIM(IF('Информация о пользователе'!E835=\"\",\"\",'Информация о пользователе'!E835))","v":""},{"$f":"IF('Информация о пользователе'!F835=\"\",TRIM(Translit.Translit(A834)&TRIM(LEFT(Translit.Translit(Service!E833),1))&TRIM(LEFT(Translit.Translit(Service!F833),1))),TRIM('Информация о пользователе'!F835))","v":"pusto"},{"$f":"IF('Информация о пользователе'!G835=\"\",TRIM(LEFT(Translit.Translit(Service!E833),2))&INDEX(Service!H833:H851,RANDBETWEEN(1,19),1)&RANDBETWEEN(1,9)&IF(Service!F833=\"\",TRIM(LEFT(Translit.Translit(Service!E833),3))&INDEX(Service!A833:A858,RANDBETWEEN(1,26),1),TRIM(LEFT(Translit.Translit(Service!F833),2))&INDEX(Service!H833:H851,RANDBETWEEN(1,19),1)&INDEX(Service!A833:A858,RANDBETWEEN(1,26),1)),'Информация о пользователе'!G835)","v":{"$error":"#NAME?"}}]
[{"$f":"TRIM(IF('Информация о пользователе'!A836=\"\",\"Пусто\",'Информация о пользователе'!A836))","v":"Пусто"},{"$f":"TRIM(IF('Информация о пользователе'!B836=\"\",\" \",'Информация о пользователе'!B836&\" \"&'Информация о пользователе'!C836))","v":""},{"$f":"TRIM(IF(AD!A835=\"\",\"\",AD!B835&\" \"&A835))","v":"Пусто"},{"$f":"TRIM(IF('Информация о пользователе'!D836=\"\",F835&\"@edu54.ru\",'Информация о пользователе'!D836))","v":"pusto@edu54.ru"},{"$f":"TRIM(IF('Информация о пользователе'!E836=\"\",\"\",'Информация о пользователе'!E836))","v":""},{"$f":"IF('Информация о пользователе'!F836=\"\",TRIM(Translit.Translit(A835)&TRIM(LEFT(Translit.Translit(Service!E834),1))&TRIM(LEFT(Translit.Translit(Service!F834),1))),TRIM('Информация о пользователе'!F836))","v":"pusto"},{"$f":"IF('Информация о пользователе'!G836=\"\",TRIM(LEFT(Translit.Translit(Service!E834),2))&INDEX(Service!H834:H852,RANDBETWEEN(1,19),1)&RANDBETWEEN(1,9)&IF(Service!F834=\"\",TRIM(LEFT(Translit.Translit(Service!E834),3))&INDEX(Service!A834:A859,RANDBETWEEN(1,26),1),TRIM(LEFT(Translit.Translit(Service!F834),2))&INDEX(Service!H834:H852,RANDBETWEEN(1,19),1)&INDEX(Service!A834:A859,RANDBETWEEN(1,26),1)),'Информация о пользователе'!G836)","v":{"$error":"#NAME?"}}]
[{"$f":"TRIM(IF('Информация о пользователе'!A837=\"\",\"Пусто\",'Информация о пользователе'!A837))","v":"Пусто"},{"$f":"TRIM(IF('Информация о пользователе'!B837=\"\",\" \",'Информация о пользователе'!B837&\" \"&'Информация о пользователе'!C837))","v":""},{"$f":"TRIM(IF(AD!A836=\"\",\"\",AD!B836&\" \"&A836))","v":"Пусто"},{"$f":"TRIM(IF('Информация о пользователе'!D837=\"\",F836&\"@edu54.ru\",'Информация о пользователе'!D837))","v":"pusto@edu54.ru"},{"$f":"TRIM(IF('Информация о пользователе'!E837=\"\",\"\",'Информация о пользователе'!E837))","v":""},{"$f":"IF('Информация о пользователе'!F837=\"\",TRIM(Translit.Translit(A836)&TRIM(LEFT(Translit.Translit(Service!E835),1))&TRIM(LEFT(Translit.Translit(Service!F835),1))),TRIM('Информация о пользователе'!F837))","v":"pusto"},{"$f":"IF('Информация о пользователе'!G837=\"\",TRIM(LEFT(Translit.Translit(Service!E835),2))&INDEX(Service!H835:H853,RANDBETWEEN(1,19),1)&RANDBETWEEN(1,9)&IF(Service!F835=\"\",TRIM(LEFT(Translit.Translit(Service!E835),3))&INDEX(Service!A835:A860,RANDBETWEEN(1,26),1),TRIM(LEFT(Translit.Translit(Service!F835),2))&INDEX(Service!H835:H853,RANDBETWEEN(1,19),1)&INDEX(Service!A835:A860,RANDBETWEEN(1,26),1)),'Информация о пользователе'!G837)","v":{"$error":"#NAME?"}}]
[{"$f":"TRIM(IF('Информация о пользователе'!A838=\"\",\"Пусто\",'Информация о пользователе'!A838))","v":"Пусто"},{"$f":"TRIM(IF('Информация о пользователе'!B838=\"\",\" \",'Информация о пользователе'!B838&\" \"&'Информация о пользователе'!C838))","v":""},{"$f":"TRIM(IF(AD!A837=\"\",\"\",AD!B837&\" \"&A837))","v":"Пусто"},{"$f":"TRIM(IF('Информация о пользователе'!D838=\"\",F837&\"@edu54.ru\",'Информация о пользователе'!D838))","v":"pusto@edu54.ru"},{"$f":"TRIM(IF('Информация о пользователе'!E838=\"\",\"\",'Информация о пользователе'!E838))","v":""},{"$f":"IF('Информация о пользователе'!F838=\"\",TRIM(Translit.Translit(A837)&TRIM(LEFT(Translit.Translit(Service!E836),1))&TRIM(LEFT(Translit.Translit(Service!F836),1))),TRIM('Информация о пользователе'!F838))","v":"pusto"},{"$f":"IF('Информация о пользователе'!G838=\"\",TRIM(LEFT(Translit.Translit(Service!E836),2))&INDEX(Service!H836:H854,RANDBETWEEN(1,19),1)&RANDBETWEEN(1,9)&IF(Service!F836=\"\",TRIM(LEFT(Translit.Translit(Service!E836),3))&INDEX(Service!A836:A861,RANDBETWEEN(1,26),1),TRIM(LEFT(Translit.Translit(Service!F836),2))&INDEX(Service!H836:H854,RANDBETWEEN(1,19),1)&INDEX(Service!A836:A861,RANDBETWEEN(1,26),1)),'Информация о пользователе'!G838)","v":{"$error":"#NAME?"}}]
[{"$f":"TRIM(IF('Информация о пользователе'!A839=\"\",\"Пусто\",'Информация о пользователе'!A839))","v":"Пусто"},{"$f":"TRIM(IF('Информация о пользователе'!B839=\"\",\" \",'Информация о пользователе'!B839&\" \"&'Информация о пользователе'!C839))","v":""},{"$f":"TRIM(IF(AD!A838=\"\",\"\",AD!B838&\" \"&A838))","v":"Пусто"},{"$f":"TRIM(IF('Информация о пользователе'!D839=\"\",F838&\"@edu54.ru\",'Информация о пользователе'!D839))","v":"pusto@edu54.ru"},{"$f":"TRIM(IF('Информация о пользователе'!E839=\"\",\"\",'Информация о пользователе'!E839))","v":""},{"$f":"IF('Информация о пользователе'!F839=\"\",TRIM(Translit.Translit(A838)&TRIM(LEFT(Translit.Translit(Service!E837),1))&TRIM(LEFT(Translit.Translit(Service!F837),1))),TRIM('Информация о пользователе'!F839))","v":"pusto"},{"$f":"IF('Информация о пользователе'!G839=\"\",TRIM(LEFT(Translit.Translit(Service!E837),2))&INDEX(Service!H837:H855,RANDBETWEEN(1,19),1)&RANDBETWEEN(1,9)&IF(Service!F837=\"\",TRIM(LEFT(Translit.Translit(Service!E837),3))&INDEX(Service!A837:A862,RANDBETWEEN(1,26),1),TRIM(LEFT(Translit.Translit(Service!F837),2))&INDEX(Service!H837:H855,RANDBETWEEN(1,19),1)&INDEX(Service!A837:A862,RANDBETWEEN(1,26),1)),'Информация о пользователе'!G839)","v":{"$error":"#NAME?"}}]
[{"$f":"TRIM(IF('Информация о пользователе'!A840=\"\",\"Пусто\",'Информация о пользователе'!A840))","v":"Пусто"},{"$f":"TRIM(IF('Информация о пользователе'!B840=\"\",\" \",'Информация о пользователе'!B840&\" \"&'Информация о пользователе'!C840))","v":""},{"$f":"TRIM(IF(AD!A839=\"\",\"\",AD!B839&\" \"&A839))","v":"Пусто"},{"$f":"TRIM(IF('Информация о пользователе'!D840=\"\",F839&\"@edu54.ru\",'Информация о пользователе'!D840))","v":"pusto@edu54.ru"},{"$f":"TRIM(IF('Информация о пользователе'!E840=\"\",\"\",'Информация о пользователе'!E840))","v":""},{"$f":"IF('Информация о пользователе'!F840=\"\",TRIM(Translit.Translit(A839)&TRIM(LEFT(Translit.Translit(Service!E838),1))&TRIM(LEFT(Translit.Translit(Service!F838),1))),TRIM('Информация о пользователе'!F840))","v":"pusto"},{"$f":"IF('Информация о пользователе'!G840=\"\",TRIM(LEFT(Translit.Translit(Service!E838),2))&INDEX(Service!H838:H856,RANDBETWEEN(1,19),1)&RANDBETWEEN(1,9)&IF(Service!F838=\"\",TRIM(LEFT(Translit.Translit(Service!E838),3))&INDEX(Service!A838:A863,RANDBETWEEN(1,26),1),TRIM(LEFT(Translit.Translit(Service!F838),2))&INDEX(Service!H838:H856,RANDBETWEEN(1,19),1)&INDEX(Service!A838:A863,RANDBETWEEN(1,26),1)),'Информация о пользователе'!G840)","v":{"$error":"#NAME?"}}]
[{"$f":"TRIM(IF('Информация о пользователе'!A841=\"\",\"Пусто\",'Информация о пользователе'!A841))","v":"Пусто"},{"$f":"TRIM(IF('Информация о пользователе'!B841=\"\",\" \",'Информация о пользователе'!B841&\" \"&'Информация о пользователе'!C841))","v":""},{"$f":"TRIM(IF(AD!A840=\"\",\"\",AD!B840&\" \"&A840))","v":"Пусто"},{"$f":"TRIM(IF('Информация о пользователе'!D841=\"\",F840&\"@edu54.ru\",'Информация о пользователе'!D841))","v":"pusto@edu54.ru"},{"$f":"TRIM(IF('Информация о пользователе'!E841=\"\",\"\",'Информация о пользователе'!E841))","v":""},{"$f":"IF('Информация о пользователе'!F841=\"\",TRIM(Translit.Translit(A840)&TRIM(LEFT(Translit.Translit(Service!E839),1))&TRIM(LEFT(Translit.Translit(Service!F839),1))),TRIM('Информация о пользователе'!F841))","v":"pusto"},{"$f":"IF('Информация о пользователе'!G841=\"\",TRIM(LEFT(Translit.Translit(Service!E839),2))&INDEX(Service!H839:H857,RANDBETWEEN(1,19),1)&RANDBETWEEN(1,9)&IF(Service!F839=\"\",TRIM(LEFT(Translit.Translit(Service!E839),3))&INDEX(Service!A839:A864,RANDBETWEEN(1,26),1),TRIM(LEFT(Translit.Translit(Service!F839),2))&INDEX(Service!H839:H857,RANDBETWEEN(1,19),1)&INDEX(Service!A839:A864,RANDBETWEEN(1,26),1)),'Информация о пользователе'!G841)","v":{"$error":"#NAME?"}}]
[{"$f":"TRIM(IF('Информация о пользователе'!A842=\"\",\"Пусто\",'Информация о пользователе'!A842))","v":"Пусто"},{"$f":"TRIM(IF('Информация о пользователе'!B842=\"\",\" \",'Информация о пользователе'!B842&\" \"&'Информация о пользователе'!C842))","v":""},{"$f":"TRIM(IF(AD!A841=\"\",\"\",AD!B841&\" \"&A841))","v":"Пусто"},{"$f":"TRIM(IF('Информация о пользователе'!D842=\"\",F841&\"@edu54.ru\",'Информация о пользователе'!D842))","v":"pusto@edu54.ru"},{"$f":"TRIM(IF('Информация о пользователе'!E842=\"\",\"\",'Информация о пользователе'!E842))","v":""},{"$f":"IF('Информация о пользователе'!F842=\"\",TRIM(Translit.Translit(A841)&TRIM(LEFT(Translit.Translit(Service!E840),1))&TRIM(LEFT(Translit.Translit(Service!F840),1))),TRIM('Информация о пользователе'!F842))","v":"pusto"},{"$f":"IF('Информация о пользователе'!G842=\"\",TRIM(LEFT(Translit.Translit(Service!E840),2))&INDEX(Service!H840:H858,RANDBETWEEN(1,19),1)&RANDBETWEEN(1,9)&IF(Service!F840=\"\",TRIM(LEFT(Translit.Translit(Service!E840),3))&INDEX(Service!A840:A865,RANDBETWEEN(1,26),1),TRIM(LEFT(Translit.Translit(Service!F840),2))&INDEX(Service!H840:H858,RANDBETWEEN(1,19),1)&INDEX(Service!A840:A865,RANDBETWEEN(1,26),1)),'Информация о пользователе'!G842)","v":{"$error":"#NAME?"}}]
[{"$f":"TRIM(IF('Информация о пользователе'!A843=\"\",\"Пусто\",'Информация о пользователе'!A843))","v":"Пусто"},{"$f":"TRIM(IF('Информация о пользователе'!B843=\"\",\" \",'Информация о пользователе'!B843&\" \"&'Информация о пользователе'!C843))","v":""},{"$f":"TRIM(IF(AD!A842=\"\",\"\",AD!B842&\" \"&A842))","v":"Пусто"},{"$f":"TRIM(IF('Информация о пользователе'!D843=\"\",F842&\"@edu54.ru\",'Информация о пользователе'!D843))","v":"pusto@edu54.ru"},{"$f":"TRIM(IF('Информация о пользователе'!E843=\"\",\"\",'Информация о пользователе'!E843))","v":""},{"$f":"IF('Информация о пользователе'!F843=\"\",TRIM(Translit.Translit(A842)&TRIM(LEFT(Translit.Translit(Service!E841),1))&TRIM(LEFT(Translit.Translit(Service!F841),1))),TRIM('Информация о пользователе'!F843))","v":"pusto"},{"$f":"IF('Информация о пользователе'!G843=\"\",TRIM(LEFT(Translit.Translit(Service!E841),2))&INDEX(Service!H841:H859,RANDBETWEEN(1,19),1)&RANDBETWEEN(1,9)&IF(Service!F841=\"\",TRIM(LEFT(Translit.Translit(Service!E841),3))&INDEX(Service!A841:A866,RANDBETWEEN(1,26),1),TRIM(LEFT(Translit.Translit(Service!F841),2))&INDEX(Service!H841:H859,RANDBETWEEN(1,19),1)&INDEX(Service!A841:A866,RANDBETWEEN(1,26),1)),'Информация о пользователе'!G843)","v":{"$error":"#NAME?"}}]
[{"$f":"TRIM(IF('Информация о пользователе'!A844=\"\",\"Пусто\",'Информация о пользователе'!A844))","v":"Пусто"},{"$f":"TRIM(IF('Информация о пользователе'!B844=\"\",\" \",'Информация о пользователе'!B844&\" \"&'Информация о пользователе'!C844))","v":""},{"$f":"TRIM(IF(AD!A843=\"\",\"\",AD!B843&\" \"&A843))","v":"Пусто"},{"$f":"TRIM(IF('Информация о пользователе'!D844=\"\",F843&\"@edu54.ru\",'Информация о пользователе'!D844))","v":"pusto@edu54.ru"},{"$f":"TRIM(IF('Информация о пользователе'!E844=\"\",\"\",'Информация о пользователе'!E844))","v":""},{"$f":"IF('Информация о пользователе'!F844=\"\",TRIM(Translit.Translit(A843)&TRIM(LEFT(Translit.Translit(Service!E842),1))&TRIM(LEFT(Translit.Translit(Service!F842),1))),TRIM('Информация о пользователе'!F844))","v":"pusto"},{"$f":"IF('Информация о пользователе'!G844=\"\",TRIM(LEFT(Translit.Translit(Service!E842),2))&INDEX(Service!H842:H860,RANDBETWEEN(1,19),1)&RANDBETWEEN(1,9)&IF(Service!F842=\"\",TRIM(LEFT(Translit.Translit(Service!E842),3))&INDEX(Service!A842:A867,RANDBETWEEN(1,26),1),TRIM(LEFT(Translit.Translit(Service!F842),2))&INDEX(Service!H842:H860,RANDBETWEEN(1,19),1)&INDEX(Service!A842:A867,RANDBETWEEN(1,26),1)),'Информация о пользователе'!G844)","v":{"$error":"#NAME?"}}]
[{"$f":"TRIM(IF('Информация о пользователе'!A845=\"\",\"Пусто\",'Информация о пользователе'!A845))","v":"Пусто"},{"$f":"TRIM(IF('Информация о пользователе'!B845=\"\",\" \",'Информация о пользователе'!B845&\" \"&'Информация о пользователе'!C845))","v":""},{"$f":"TRIM(IF(AD!A844=\"\",\"\",AD!B844&\" \"&A844))","v":"Пусто"},{"$f":"TRIM(IF('Информация о пользователе'!D845=\"\",F844&\"@edu54.ru\",'Информация о пользователе'!D845))","v":"pusto@edu54.ru"},{"$f":"TRIM(IF('Информация о пользователе'!E845=\"\",\"\",'Информация о пользователе'!E845))","v":""},{"$f":"IF('Информация о пользователе'!F845=\"\",TRIM(Translit.Translit(A844)&TRIM(LEFT(Translit.Translit(Service!E843),1))&TRIM(LEFT(Translit.Translit(Service!F843),1))),TRIM('Информация о пользователе'!F845))","v":"pusto"},{"$f":"IF('Информация о пользователе'!G845=\"\",TRIM(LEFT(Translit.Translit(Service!E843),2))&INDEX(Service!H843:H861,RANDBETWEEN(1,19),1)&RANDBETWEEN(1,9)&IF(Service!F843=\"\",TRIM(LEFT(Translit.Translit(Service!E843),3))&INDEX(Service!A843:A868,RANDBETWEEN(1,26),1),TRIM(LEFT(Translit.Translit(Service!F843),2))&INDEX(Service!H843:H861,RANDBETWEEN(1,19),1)&INDEX(Service!A843:A868,RANDBETWEEN(1,26),1)),'Информация о пользователе'!G845)","v":{"$error":"#NAME?"}}]
[{"$f":"TRIM(IF('Информация о пользователе'!A846=\"\",\"Пусто\",'Информация о пользователе'!A846))","v":"Пусто"},{"$f":"TRIM(IF('Информация о пользователе'!B846=\"\",\" \",'Информация о пользователе'!B846&\" \"&'Информация о пользователе'!C846))","v":""},{"$f":"TRIM(IF(AD!A845=\"\",\"\",AD!B845&\" \"&A845))","v":"Пусто"},{"$f":"TRIM(IF('Информация о пользователе'!D846=\"\",F845&\"@edu54.ru\",'Информация о пользователе'!D846))","v":"pusto@edu54.ru"},{"$f":"TRIM(IF('Информация о пользователе'!E846=\"\",\"\",'Информация о пользователе'!E846))","v":""},{"$f":"IF('Информация о пользователе'!F846=\"\",TRIM(Translit.Translit(A845)&TRIM(LEFT(Translit.Translit(Service!E844),1))&TRIM(LEFT(Translit.Translit(Service!F844),1))),TRIM('Информация о пользователе'!F846))","v":"pusto"},{"$f":"IF('Информация о пользователе'!G846=\"\",TRIM(LEFT(Translit.Translit(Service!E844),2))&INDEX(Service!H844:H862,RANDBETWEEN(1,19),1)&RANDBETWEEN(1,9)&IF(Service!F844=\"\",TRIM(LEFT(Translit.Translit(Service!E844),3))&INDEX(Service!A844:A869,RANDBETWEEN(1,26),1),TRIM(LEFT(Translit.Translit(Service!F844),2))&INDEX(Service!H844:H862,RANDBETWEEN(1,19),1)&INDEX(Service!A844:A869,RANDBETWEEN(1,26),1)),'Информация о пользователе'!G846)","v":{"$error":"#NAME?"}}]
[{"$f":"TRIM(IF('Информация о пользователе'!A847=\"\",\"Пусто\",'Информация о пользователе'!A847))","v":"Пусто"},{"$f":"TRIM(IF('Информация о пользователе'!B847=\"\",\" \",'Информация о пользователе'!B847&\" \"&'Информация о пользователе'!C847))","v":""},{"$f":"TRIM(IF(AD!A846=\"\",\"\",AD!B846&\" \"&A846))","v":"Пусто"},{"$f":"TRIM(IF('Информация о пользователе'!D847=\"\",F846&\"@edu54.ru\",'Информация о пользователе'!D847))","v":"pusto@edu54.ru"},{"$f":"TRIM(IF('Информация о пользователе'!E847=\"\",\"\",'Информация о пользователе'!E847))","v":""},{"$f":"IF('Информация о пользователе'!F847=\"\",TRIM(Translit.Translit(A846)&TRIM(LEFT(Translit.Translit(Service!E845),1))&TRIM(LEFT(Translit.Translit(Service!F845),1))),TRIM('Информация о пользователе'!F847))","v":"pusto"},{"$f":"IF('Информация о пользователе'!G847=\"\",TRIM(LEFT(Translit.Translit(Service!E845),2))&INDEX(Service!H845:H863,RANDBETWEEN(1,19),1)&RANDBETWEEN(1,9)&IF(Service!F845=\"\",TRIM(LEFT(Translit.Translit(Service!E845),3))&INDEX(Service!A845:A870,RANDBETWEEN(1,26),1),TRIM(LEFT(Translit.Translit(Service!F845),2))&INDEX(Service!H845:H863,RANDBETWEEN(1,19),1)&INDEX(Service!A845:A870,RANDBETWEEN(1,26),1)),'Информация о пользователе'!G847)","v":{"$error":"#NAME?"}}]
[{"$f":"TRIM(IF('Информация о пользователе'!A848=\"\",\"Пусто\",'Информация о пользователе'!A848))","v":"Пусто"},{"$f":"TRIM(IF('Информация о пользователе'!B848=\"\",\" \",'Информация о пользователе'!B848&\" \"&'Информация о пользователе'!C848))","v":""},{"$f":"TRIM(IF(AD!A847=\"\",\"\",AD!B847&\" \"&A847))","v":"Пусто"},{"$f":"TRIM(IF('Информация о пользователе'!D848=\"\",F847&\"@edu54.ru\",'Информация о пользователе'!D848))","v":"pusto@edu54.ru"},{"$f":"TRIM(IF('Информация о пользователе'!E848=\"\",\"\",'Информация о пользователе'!E848))","v":""},{"$f":"IF('Информация о пользователе'!F848=\"\",TRIM(Translit.Translit(A847)&TRIM(LEFT(Translit.Translit(Service!E846),1))&TRIM(LEFT(Translit.Translit(Service!F846),1))),TRIM('Информация о пользователе'!F848))","v":"pusto"},{"$f":"IF('Информация о пользователе'!G848=\"\",TRIM(LEFT(Translit.Translit(Service!E846),2))&INDEX(Service!H846:H864,RANDBETWEEN(1,19),1)&RANDBETWEEN(1,9)&IF(Service!F846=\"\",TRIM(LEFT(Translit.Translit(Service!E846),3))&INDEX(Service!A846:A871,RANDBETWEEN(1,26),1),TRIM(LEFT(Translit.Translit(Service!F846),2))&INDEX(Service!H846:H864,RANDBETWEEN(1,19),1)&INDEX(Service!A846:A871,RANDBETWEEN(1,26),1)),'Информация о пользователе'!G848)","v":{"$error":"#NAME?"}}]
[{"$f":"TRIM(IF('Информация о пользователе'!A849=\"\",\"Пусто\",'Информация о пользователе'!A849))","v":"Пусто"},{"$f":"TRIM(IF('Информация о пользователе'!B849=\"\",\" \",'Информация о пользователе'!B849&\" \"&'Информация о пользователе'!C849))","v":""},{"$f":"TRIM(IF(AD!A848=\"\",\"\",AD!B848&\" \"&A848))","v":"Пусто"},{"$f":"TRIM(IF('Информация о пользователе'!D849=\"\",F848&\"@edu54.ru\",'Информация о пользователе'!D849))","v":"pusto@edu54.ru"},{"$f":"TRIM(IF('Информация о пользователе'!E849=\"\",\"\",'Информация о пользователе'!E849))","v":""},{"$f":"IF('Информация о пользователе'!F849=\"\",TRIM(Translit.Translit(A848)&TRIM(LEFT(Translit.Translit(Service!E847),1))&TRIM(LEFT(Translit.Translit(Service!F847),1))),TRIM('Информация о пользователе'!F849))","v":"pusto"},{"$f":"IF('Информация о пользователе'!G849=\"\",TRIM(LEFT(Translit.Translit(Service!E847),2))&INDEX(Service!H847:H865,RANDBETWEEN(1,19),1)&RANDBETWEEN(1,9)&IF(Service!F847=\"\",TRIM(LEFT(Translit.Translit(Service!E847),3))&INDEX(Service!A847:A872,RANDBETWEEN(1,26),1),TRIM(LEFT(Translit.Translit(Service!F847),2))&INDEX(Service!H847:H865,RANDBETWEEN(1,19),1)&INDEX(Service!A847:A872,RANDBETWEEN(1,26),1)),'Информация о пользователе'!G849)","v":{"$error":"#NAME?"}}]
[{"$f":"TRIM(IF('Информация о пользователе'!A850=\"\",\"Пусто\",'Информация о пользователе'!A850))","v":"Пусто"},{"$f":"TRIM(IF('Информация о пользователе'!B850=\"\",\" \",'Информация о пользователе'!B850&\" \"&'Информация о пользователе'!C850))","v":""},{"$f":"TRIM(IF(AD!A849=\"\",\"\",AD!B849&\" \"&A849))","v":"Пусто"},{"$f":"TRIM(IF('Информация о пользователе'!D850=\"\",F849&\"@edu54.ru\",'Информация о пользователе'!D850))","v":"pusto@edu54.ru"},{"$f":"TRIM(IF('Информация о пользователе'!E850=\"\",\"\",'Информация о пользователе'!E850))","v":""},{"$f":"IF('Информация о пользователе'!F850=\"\",TRIM(Translit.Translit(A849)&TRIM(LEFT(Translit.Translit(Service!E848),1))&TRIM(LEFT(Translit.Translit(Service!F848),1))),TRIM('Информация о пользователе'!F850))","v":"pusto"},{"$f":"IF('Информация о пользователе'!G850=\"\",TRIM(LEFT(Translit.Translit(Service!E848),2))&INDEX(Service!H848:H866,RANDBETWEEN(1,19),1)&RANDBETWEEN(1,9)&IF(Service!F848=\"\",TRIM(LEFT(Translit.Translit(Service!E848),3))&INDEX(Service!A848:A873,RANDBETWEEN(1,26),1),TRIM(LEFT(Translit.Translit(Service!F848),2))&INDEX(Service!H848:H866,RANDBETWEEN(1,19),1)&INDEX(Service!A848:A873,RANDBETWEEN(1,26),1)),'Информация о пользователе'!G850)","v":{"$error":"#NAME?"}}]
[{"$f":"TRIM(IF('Информация о пользователе'!A851=\"\",\"Пусто\",'Информация о пользователе'!A851))","v":"Пусто"},{"$f":"TRIM(IF('Информация о пользователе'!B851=\"\",\" \",'Информация о пользователе'!B851&\" \"&'Информация о пользователе'!C851))","v":""},{"$f":"TRIM(IF(AD!A850=\"\",\"\",AD!B850&\" \"&A850))","v":"Пусто"},{"$f":"TRIM(IF('Информация о пользователе'!D851=\"\",F850&\"@edu54.ru\",'Информация о пользователе'!D851))","v":"pusto@edu54.ru"},{"$f":"TRIM(IF('Информация о пользователе'!E851=\"\",\"\",'Информация о пользователе'!E851))","v":""},{"$f":"IF('Информация о пользователе'!F851=\"\",TRIM(Translit.Translit(A850)&TRIM(LEFT(Translit.Translit(Service!E849),1))&TRIM(LEFT(Translit.Translit(Service!F849),1))),TRIM('Информация о пользователе'!F851))","v":"pusto"},{"$f":"IF('Информация о пользователе'!G851=\"\",TRIM(LEFT(Translit.Translit(Service!E849),2))&INDEX(Service!H849:H867,RANDBETWEEN(1,19),1)&RANDBETWEEN(1,9)&IF(Service!F849=\"\",TRIM(LEFT(Translit.Translit(Service!E849),3))&INDEX(Service!A849:A874,RANDBETWEEN(1,26),1),TRIM(LEFT(Translit.Translit(Service!F849),2))&INDEX(Service!H849:H867,RANDBETWEEN(1,19),1)&INDEX(Service!A849:A874,RANDBETWEEN(1,26),1)),'Информация о пользователе'!G851)","v":{"$error":"#NAME?"}}]
[{"$f":"TRIM(IF('Информация о пользователе'!A852=\"\",\"Пусто\",'Информация о пользователе'!A852))","v":"Пусто"},{"$f":"TRIM(IF('Информация о пользователе'!B852=\"\",\" \",'Информация о пользователе'!B852&\" \"&'Информация о пользователе'!C852))","v":""},{"$f":"TRIM(IF(AD!A851=\"\",\"\",AD!B851&\" \"&A851))","v":"Пусто"},{"$f":"TRIM(IF('Информация о пользователе'!D852=\"\",F851&\"@edu54.ru\",'Информация о пользователе'!D852))","v":"pusto@edu54.ru"},{"$f":"TRIM(IF('Информация о пользователе'!E852=\"\",\"\",'Информация о пользователе'!E852))","v":""},{"$f":"IF('Информация о пользователе'!F852=\"\",TRIM(Translit.Translit(A851)&TRIM(LEFT(Translit.Translit(Service!E850),1))&TRIM(LEFT(Translit.Translit(Service!F850),1))),TRIM('Информация о пользователе'!F852))","v":"pusto"},{"$f":"IF('Информация о пользователе'!G852=\"\",TRIM(LEFT(Translit.Translit(Service!E850),2))&INDEX(Service!H850:H868,RANDBETWEEN(1,19),1)&RANDBETWEEN(1,9)&IF(Service!F850=\"\",TRIM(LEFT(Translit.Translit(Service!E850),3))&INDEX(Service!A850:A875,RANDBETWEEN(1,26),1),TRIM(LEFT(Translit.Translit(Service!F850),2))&INDEX(Service!H850:H868,RANDBETWEEN(1,19),1)&INDEX(Service!A850:A875,RANDBETWEEN(1,26),1)),'Информация о пользователе'!G852)","v":{"$error":"#NAME?"}}]
[{"$f":"TRIM(IF('Информация о пользователе'!A853=\"\",\"Пусто\",'Информация о пользователе'!A853))","v":"Пусто"},{"$f":"TRIM(IF('Информация о пользователе'!B853=\"\",\" \",'Информация о пользователе'!B853&\" \"&'Информация о пользователе'!C853))","v":""},{"$f":"TRIM(IF(AD!A852=\"\",\"\",AD!B852&\" \"&A852))","v":"Пусто"},{"$f":"TRIM(IF('Информация о пользователе'!D853=\"\",F852&\"@edu54.ru\",'Информация о пользователе'!D853))","v":"pusto@edu54.ru"},{"$f":"TRIM(IF('Информация о пользователе'!E853=\"\",\"\",'Информация о пользователе'!E853))","v":""},{"$f":"IF('Информация о пользователе'!F853=\"\",TRIM(Translit.Translit(A852)&TRIM(LEFT(Translit.Translit(Service!E851),1))&TRIM(LEFT(Translit.Translit(Service!F851),1))),TRIM('Информация о пользователе'!F853))","v":"pusto"},{"$f":"IF('Информация о пользователе'!G853=\"\",TRIM(LEFT(Translit.Translit(Service!E851),2))&INDEX(Service!H851:H869,RANDBETWEEN(1,19),1)&RANDBETWEEN(1,9)&IF(Service!F851=\"\",TRIM(LEFT(Translit.Translit(Service!E851),3))&INDEX(Service!A851:A876,RANDBETWEEN(1,26),1),TRIM(LEFT(Translit.Translit(Service!F851),2))&INDEX(Service!H851:H869,RANDBETWEEN(1,19),1)&INDEX(Service!A851:A876,RANDBETWEEN(1,26),1)),'Информация о пользователе'!G853)","v":{"$error":"#NAME?"}}]
[{"$f":"TRIM(IF('Информация о пользователе'!A854=\"\",\"Пусто\",'Информация о пользователе'!A854))","v":"Пусто"},{"$f":"TRIM(IF('Информация о пользователе'!B854=\"\",\" \",'Информация о пользователе'!B854&\" \"&'Информация о пользователе'!C854))","v":""},{"$f":"TRIM(IF(AD!A853=\"\",\"\",AD!B853&\" \"&A853))","v":"Пусто"},{"$f":"TRIM(IF('Информация о пользователе'!D854=\"\",F853&\"@edu54.ru\",'Информация о пользователе'!D854))","v":"pusto@edu54.ru"},{"$f":"TRIM(IF('Информация о пользователе'!E854=\"\",\"\",'Информация о пользователе'!E854))","v":""},{"$f":"IF('Информация о пользователе'!F854=\"\",TRIM(Translit.Translit(A853)&TRIM(LEFT(Translit.Translit(Service!E852),1))&TRIM(LEFT(Translit.Translit(Service!F852),1))),TRIM('Информация о пользователе'!F854))","v":"pusto"},{"$f":"IF('Информация о пользователе'!G854=\"\",TRIM(LEFT(Translit.Translit(Service!E852),2))&INDEX(Service!H852:H870,RANDBETWEEN(1,19),1)&RANDBETWEEN(1,9)&IF(Service!F852=\"\",TRIM(LEFT(Translit.Translit(Service!E852),3))&INDEX(Service!A852:A877,RANDBETWEEN(1,26),1),TRIM(LEFT(Translit.Translit(Service!F852),2))&INDEX(Service!H852:H870,RANDBETWEEN(1,19),1)&INDEX(Service!A852:A877,RANDBETWEEN(1,26),1)),'Информация о пользователе'!G854)","v":{"$error":"#NAME?"}}]
[{"$f":"TRIM(IF('Информация о пользователе'!A855=\"\",\"Пусто\",'Информация о пользователе'!A855))","v":"Пусто"},{"$f":"TRIM(IF('Информация о пользователе'!B855=\"\",\" \",'Информация о пользователе'!B855&\" \"&'Информация о пользователе'!C855))","v":""},{"$f":"TRIM(IF(AD!A854=\"\",\"\",AD!B854&\" \"&A854))","v":"Пусто"},{"$f":"TRIM(IF('Информация о пользователе'!D855=\"\",F854&\"@edu54.ru\",'Информация о пользователе'!D855))","v":"pusto@edu54.ru"},{"$f":"TRIM(IF('Информация о пользователе'!E855=\"\",\"\",'Информация о пользователе'!E855))","v":""},{"$f":"IF('Информация о пользователе'!F855=\"\",TRIM(Translit.Translit(A854)&TRIM(LEFT(Translit.Translit(Service!E853),1))&TRIM(LEFT(Translit.Translit(Service!F853),1))),TRIM('Информация о пользователе'!F855))","v":"pusto"},{"$f":"IF('Информация о пользователе'!G855=\"\",TRIM(LEFT(Translit.Translit(Service!E853),2))&INDEX(Service!H853:H871,RANDBETWEEN(1,19),1)&RANDBETWEEN(1,9)&IF(Service!F853=\"\",TRIM(LEFT(Translit.Translit(Service!E853),3))&INDEX(Service!A853:A878,RANDBETWEEN(1,26),1),TRIM(LEFT(Translit.Translit(Service!F853),2))&INDEX(Service!H853:H871,RANDBETWEEN(1,19),1)&INDEX(Service!A853:A878,RANDBETWEEN(1,26),1)),'Информация о пользователе'!G855)","v":{"$error":"#NAME?"}}]
[{"$f":"TRIM(IF('Информация о пользователе'!A856=\"\",\"Пусто\",'Информация о пользователе'!A856))","v":"Пусто"},{"$f":"TRIM(IF('Информация о пользователе'!B856=\"\",\" \",'Информация о пользователе'!B856&\" \"&'Информация о пользователе'!C856))","v":""},{"$f":"TRIM(IF(AD!A855=\"\",\"\",AD!B855&\" \"&A855))","v":"Пусто"},{"$f":"TRIM(IF('Информация о пользователе'!D856=\"\",F855&\"@edu54.ru\",'Информация о пользователе'!D856))","v":"pusto@edu54.ru"},{"$f":"TRIM(IF('Информация о пользователе'!E856=\"\",\"\",'Информация о пользователе'!E856))","v":""},{"$f":"IF('Информация о пользователе'!F856=\"\",TRIM(Translit.Translit(A855)&TRIM(LEFT(Translit.Translit(Service!E854),1))&TRIM(LEFT(Translit.Translit(Service!F854),1))),TRIM('Информация о пользователе'!F856))","v":"pusto"},{"$f":"IF('Информация о пользователе'!G856=\"\",TRIM(LEFT(Translit.Translit(Service!E854),2))&INDEX(Service!H854:H872,RANDBETWEEN(1,19),1)&RANDBETWEEN(1,9)&IF(Service!F854=\"\",TRIM(LEFT(Translit.Translit(Service!E854),3))&INDEX(Service!A854:A879,RANDBETWEEN(1,26),1),TRIM(LEFT(Translit.Translit(Service!F854),2))&INDEX(Service!H854:H872,RANDBETWEEN(1,19),1)&INDEX(Service!A854:A879,RANDBETWEEN(1,26),1)),'Информация о пользователе'!G856)","v":{"$error":"#NAME?"}}]
[{"$f":"TRIM(IF('Информация о пользователе'!A857=\"\",\"Пусто\",'Информация о пользователе'!A857))","v":"Пусто"},{"$f":"TRIM(IF('Информация о пользователе'!B857=\"\",\" \",'Информация о пользователе'!B857&\" \"&'Информация о пользователе'!C857))","v":""},{"$f":"TRIM(IF(AD!A856=\"\",\"\",AD!B856&\" \"&A856))","v":"Пусто"},{"$f":"TRIM(IF('Информация о пользователе'!D857=\"\",F856&\"@edu54.ru\",'Информация о пользователе'!D857))","v":"pusto@edu54.ru"},{"$f":"TRIM(IF('Информация о пользователе'!E857=\"\",\"\",'Информация о пользователе'!E857))","v":""},{"$f":"IF('Информация о пользователе'!F857=\"\",TRIM(Translit.Translit(A856)&TRIM(LEFT(Translit.Translit(Service!E855),1))&TRIM(LEFT(Translit.Translit(Service!F855),1))),TRIM('Информация о пользователе'!F857))","v":"pusto"},{"$f":"IF('Информация о пользователе'!G857=\"\",TRIM(LEFT(Translit.Translit(Service!E855),2))&INDEX(Service!H855:H873,RANDBETWEEN(1,19),1)&RANDBETWEEN(1,9)&IF(Service!F855=\"\",TRIM(LEFT(Translit.Translit(Service!E855),3))&INDEX(Service!A855:A880,RANDBETWEEN(1,26),1),TRIM(LEFT(Translit.Translit(Service!F855),2))&INDEX(Service!H855:H873,RANDBETWEEN(1,19),1)&INDEX(Service!A855:A880,RANDBETWEEN(1,26),1)),'Информация о пользователе'!G857)","v":{"$error":"#NAME?"}}]
[{"$f":"TRIM(IF('Информация о пользователе'!A858=\"\",\"Пусто\",'Информация о пользователе'!A858))","v":"Пусто"},{"$f":"TRIM(IF('Информация о пользователе'!B858=\"\",\" \",'Информация о пользователе'!B858&\" \"&'Информация о пользователе'!C858))","v":""},{"$f":"TRIM(IF(AD!A857=\"\",\"\",AD!B857&\" \"&A857))","v":"Пусто"},{"$f":"TRIM(IF('Информация о пользователе'!D858=\"\",F857&\"@edu54.ru\",'Информация о пользователе'!D858))","v":"pusto@edu54.ru"},{"$f":"TRIM(IF('Информация о пользователе'!E858=\"\",\"\",'Информация о пользователе'!E858))","v":""},{"$f":"IF('Информация о пользователе'!F858=\"\",TRIM(Translit.Translit(A857)&TRIM(LEFT(Translit.Translit(Service!E856),1))&TRIM(LEFT(Translit.Translit(Service!F856),1))),TRIM('Информация о пользователе'!F858))","v":"pusto"},{"$f":"IF('Информация о пользователе'!G858=\"\",TRIM(LEFT(Translit.Translit(Service!E856),2))&INDEX(Service!H856:H874,RANDBETWEEN(1,19),1)&RANDBETWEEN(1,9)&IF(Service!F856=\"\",TRIM(LEFT(Translit.Translit(Service!E856),3))&INDEX(Service!A856:A881,RANDBETWEEN(1,26),1),TRIM(LEFT(Translit.Translit(Service!F856),2))&INDEX(Service!H856:H874,RANDBETWEEN(1,19),1)&INDEX(Service!A856:A881,RANDBETWEEN(1,26),1)),'Информация о пользователе'!G858)","v":{"$error":"#NAME?"}}]
[{"$f":"TRIM(IF('Информация о пользователе'!A859=\"\",\"Пусто\",'Информация о пользователе'!A859))","v":"Пусто"},{"$f":"TRIM(IF('Информация о пользователе'!B859=\"\",\" \",'Информация о пользователе'!B859&\" \"&'Информация о пользователе'!C859))","v":""},{"$f":"TRIM(IF(AD!A858=\"\",\"\",AD!B858&\" \"&A858))","v":"Пусто"},{"$f":"TRIM(IF('Информация о пользователе'!D859=\"\",F858&\"@edu54.ru\",'Информация о пользователе'!D859))","v":"pusto@edu54.ru"},{"$f":"TRIM(IF('Информация о пользователе'!E859=\"\",\"\",'Информация о пользователе'!E859))","v":""},{"$f":"IF('Информация о пользователе'!F859=\"\",TRIM(Translit.Translit(A858)&TRIM(LEFT(Translit.Translit(Service!E857),1))&TRIM(LEFT(Translit.Translit(Service!F857),1))),TRIM('Информация о пользователе'!F859))","v":"pusto"},{"$f":"IF('Информация о пользователе'!G859=\"\",TRIM(LEFT(Translit.Translit(Service!E857),2))&INDEX(Service!H857:H875,RANDBETWEEN(1,19),1)&RANDBETWEEN(1,9)&IF(Service!F857=\"\",TRIM(LEFT(Translit.Translit(Service!E857),3))&INDEX(Service!A857:A882,RANDBETWEEN(1,26),1),TRIM(LEFT(Translit.Translit(Service!F857),2))&INDEX(Service!H857:H875,RANDBETWEEN(1,19),1)&INDEX(Service!A857:A882,RANDBETWEEN(1,26),1)),'Информация о пользователе'!G859)","v":{"$error":"#NAME?"}}]
[{"$f":"TRIM(IF('Информация о пользователе'!A860=\"\",\"Пусто\",'Информация о пользователе'!A860))","v":"Пусто"},{"$f":"TRIM(IF('Информация о пользователе'!B860=\"\",\" \",'Информация о пользователе'!B860&\" \"&'Информация о пользователе'!C860))","v":""},{"$f":"TRIM(IF(AD!A859=\"\",\"\",AD!B859&\" \"&A859))","v":"Пусто"},{"$f":"TRIM(IF('Информация о пользователе'!D860=\"\",F859&\"@edu54.ru\",'Информация о пользователе'!D860))","v":"pusto@edu54.ru"},{"$f":"TRIM(IF('Информация о пользователе'!E860=\"\",\"\",'Информация о пользователе'!E860))","v":""},{"$f":"IF('Информация о пользователе'!F860=\"\",TRIM(Translit.Translit(A859)&TRIM(LEFT(Translit.Translit(Service!E858),1))&TRIM(LEFT(Translit.Translit(Service!F858),1))),TRIM('Информация о пользователе'!F860))","v":"pusto"},{"$f":"IF('Информация о пользователе'!G860=\"\",TRIM(LEFT(Translit.Translit(Service!E858),2))&INDEX(Service!H858:H876,RANDBETWEEN(1,19),1)&RANDBETWEEN(1,9)&IF(Service!F858=\"\",TRIM(LEFT(Translit.Translit(Service!E858),3))&INDEX(Service!A858:A883,RANDBETWEEN(1,26),1),TRIM(LEFT(Translit.Translit(Service!F858),2))&INDEX(Service!H858:H876,RANDBETWEEN(1,19),1)&INDEX(Service!A858:A883,RANDBETWEEN(1,26),1)),'Информация о пользователе'!G860)","v":{"$error":"#NAME?"}}]
[{"$f":"TRIM(IF('Информация о пользователе'!A861=\"\",\"Пусто\",'Информация о пользователе'!A861))","v":"Пусто"},{"$f":"TRIM(IF('Информация о пользователе'!B861=\"\",\" \",'Информация о пользователе'!B861&\" \"&'Информация о пользователе'!C861))","v":""},{"$f":"TRIM(IF(AD!A860=\"\",\"\",AD!B860&\" \"&A860))","v":"Пусто"},{"$f":"TRIM(IF('Информация о пользователе'!D861=\"\",F860&\"@edu54.ru\",'Информация о пользователе'!D861))","v":"pusto@edu54.ru"},{"$f":"TRIM(IF('Информация о пользователе'!E861=\"\",\"\",'Информация о пользователе'!E861))","v":""},{"$f":"IF('Информация о пользователе'!F861=\"\",TRIM(Translit.Translit(A860)&TRIM(LEFT(Translit.Translit(Service!E859),1))&TRIM(LEFT(Translit.Translit(Service!F859),1))),TRIM('Информация о пользователе'!F861))","v":"pusto"},{"$f":"IF('Информация о пользователе'!G861=\"\",TRIM(LEFT(Translit.Translit(Service!E859),2))&INDEX(Service!H859:H877,RANDBETWEEN(1,19),1)&RANDBETWEEN(1,9)&IF(Service!F859=\"\",TRIM(LEFT(Translit.Translit(Service!E859),3))&INDEX(Service!A859:A884,RANDBETWEEN(1,26),1),TRIM(LEFT(Translit.Translit(Service!F859),2))&INDEX(Service!H859:H877,RANDBETWEEN(1,19),1)&INDEX(Service!A859:A884,RANDBETWEEN(1,26),1)),'Информация о пользователе'!G861)","v":{"$error":"#NAME?"}}]
[{"$f":"TRIM(IF('Информация о пользователе'!A862=\"\",\"Пусто\",'Информация о пользователе'!A862))","v":"Пусто"},{"$f":"TRIM(IF('Информация о пользователе'!B862=\"\",\" \",'Информация о пользователе'!B862&\" \"&'Информация о пользователе'!C862))","v":""},{"$f":"TRIM(IF(AD!A861=\"\",\"\",AD!B861&\" \"&A861))","v":"Пусто"},{"$f":"TRIM(IF('Информация о пользователе'!D862=\"\",F861&\"@edu54.ru\",'Информация о пользователе'!D862))","v":"pusto@edu54.ru"},{"$f":"TRIM(IF('Информация о пользователе'!E862=\"\",\"\",'Информация о пользователе'!E862))","v":""},{"$f":"IF('Информация о пользователе'!F862=\"\",TRIM(Translit.Translit(A861)&TRIM(LEFT(Translit.Translit(Service!E860),1))&TRIM(LEFT(Translit.Translit(Service!F860),1))),TRIM('Информация о пользователе'!F862))","v":"pusto"},{"$f":"IF('Информация о пользователе'!G862=\"\",TRIM(LEFT(Translit.Translit(Service!E860),2))&INDEX(Service!H860:H878,RANDBETWEEN(1,19),1)&RANDBETWEEN(1,9)&IF(Service!F860=\"\",TRIM(LEFT(Translit.Translit(Service!E860),3))&INDEX(Service!A860:A885,RANDBETWEEN(1,26),1),TRIM(LEFT(Translit.Translit(Service!F860),2))&INDEX(Service!H860:H878,RANDBETWEEN(1,19),1)&INDEX(Service!A860:A885,RANDBETWEEN(1,26),1)),'Информация о пользователе'!G862)","v":{"$error":"#NAME?"}}]
[{"$f":"TRIM(IF('Информация о пользователе'!A863=\"\",\"Пусто\",'Информация о пользователе'!A863))","v":"Пусто"},{"$f":"TRIM(IF('Информация о пользователе'!B863=\"\",\" \",'Информация о пользователе'!B863&\" \"&'Информация о пользователе'!C863))","v":""},{"$f":"TRIM(IF(AD!A862=\"\",\"\",AD!B862&\" \"&A862))","v":"Пусто"},{"$f":"TRIM(IF('Информация о пользователе'!D863=\"\",F862&\"@edu54.ru\",'Информация о пользователе'!D863))","v":"pusto@edu54.ru"},{"$f":"TRIM(IF('Информация о пользователе'!E863=\"\",\"\",'Информация о пользователе'!E863))","v":""},{"$f":"IF('Информация о пользователе'!F863=\"\",TRIM(Translit.Translit(A862)&TRIM(LEFT(Translit.Translit(Service!E861),1))&TRIM(LEFT(Translit.Translit(Service!F861),1))),TRIM('Информация о пользователе'!F863))","v":"pusto"},{"$f":"IF('Информация о пользователе'!G863=\"\",TRIM(LEFT(Translit.Translit(Service!E861),2))&INDEX(Service!H861:H879,RANDBETWEEN(1,19),1)&RANDBETWEEN(1,9)&IF(Service!F861=\"\",TRIM(LEFT(Translit.Translit(Service!E861),3))&INDEX(Service!A861:A886,RANDBETWEEN(1,26),1),TRIM(LEFT(Translit.Translit(Service!F861),2))&INDEX(Service!H861:H879,RANDBETWEEN(1,19),1)&INDEX(Service!A861:A886,RANDBETWEEN(1,26),1)),'Информация о пользователе'!G863)","v":{"$error":"#NAME?"}}]
[{"$f":"TRIM(IF('Информация о пользователе'!A864=\"\",\"Пусто\",'Информация о пользователе'!A864))","v":"Пусто"},{"$f":"TRIM(IF('Информация о пользователе'!B864=\"\",\" \",'Информация о пользователе'!B864&\" \"&'Информация о пользователе'!C864))","v":""},{"$f":"TRIM(IF(AD!A863=\"\",\"\",AD!B863&\" \"&A863))","v":"Пусто"},{"$f":"TRIM(IF('Информация о пользователе'!D864=\"\",F863&\"@edu54.ru\",'Информация о пользователе'!D864))","v":"pusto@edu54.ru"},{"$f":"TRIM(IF('Информация о пользователе'!E864=\"\",\"\",'Информация о пользователе'!E864))","v":""},{"$f":"IF('Информация о пользователе'!F864=\"\",TRIM(Translit.Translit(A863)&TRIM(LEFT(Translit.Translit(Service!E862),1))&TRIM(LEFT(Translit.Translit(Service!F862),1))),TRIM('Информация о пользователе'!F864))","v":"pusto"},{"$f":"IF('Информация о пользователе'!G864=\"\",TRIM(LEFT(Translit.Translit(Service!E862),2))&INDEX(Service!H862:H880,RANDBETWEEN(1,19),1)&RANDBETWEEN(1,9)&IF(Service!F862=\"\",TRIM(LEFT(Translit.Translit(Service!E862),3))&INDEX(Service!A862:A887,RANDBETWEEN(1,26),1),TRIM(LEFT(Translit.Translit(Service!F862),2))&INDEX(Service!H862:H880,RANDBETWEEN(1,19),1)&INDEX(Service!A862:A887,RANDBETWEEN(1,26),1)),'Информация о пользователе'!G864)","v":{"$error":"#NAME?"}}]
[{"$f":"TRIM(IF('Информация о пользователе'!A865=\"\",\"Пусто\",'Информация о пользователе'!A865))","v":"Пусто"},{"$f":"TRIM(IF('Информация о пользователе'!B865=\"\",\" \",'Информация о пользователе'!B865&\" \"&'Информация о пользователе'!C865))","v":""},{"$f":"TRIM(IF(AD!A864=\"\",\"\",AD!B864&\" \"&A864))","v":"Пусто"},{"$f":"TRIM(IF('Информация о пользователе'!D865=\"\",F864&\"@edu54.ru\",'Информация о пользователе'!D865))","v":"pusto@edu54.ru"},{"$f":"TRIM(IF('Информация о пользователе'!E865=\"\",\"\",'Информация о пользователе'!E865))","v":""},{"$f":"IF('Информация о пользователе'!F865=\"\",TRIM(Translit.Translit(A864)&TRIM(LEFT(Translit.Translit(Service!E863),1))&TRIM(LEFT(Translit.Translit(Service!F863),1))),TRIM('Информация о пользователе'!F865))","v":"pusto"},{"$f":"IF('Информация о пользователе'!G865=\"\",TRIM(LEFT(Translit.Translit(Service!E863),2))&INDEX(Service!H863:H881,RANDBETWEEN(1,19),1)&RANDBETWEEN(1,9)&IF(Service!F863=\"\",TRIM(LEFT(Translit.Translit(Service!E863),3))&INDEX(Service!A863:A888,RANDBETWEEN(1,26),1),TRIM(LEFT(Translit.Translit(Service!F863),2))&INDEX(Service!H863:H881,RANDBETWEEN(1,19),1)&INDEX(Service!A863:A888,RANDBETWEEN(1,26),1)),'Информация о пользователе'!G865)","v":{"$error":"#NAME?"}}]
[{"$f":"TRIM(IF('Информация о пользователе'!A866=\"\",\"Пусто\",'Информация о пользователе'!A866))","v":"Пусто"},{"$f":"TRIM(IF('Информация о пользователе'!B866=\"\",\" \",'Информация о пользователе'!B866&\" \"&'Информация о пользователе'!C866))","v":""},{"$f":"TRIM(IF(AD!A865=\"\",\"\",AD!B865&\" \"&A865))","v":"Пусто"},{"$f":"TRIM(IF('Информация о пользователе'!D866=\"\",F865&\"@edu54.ru\",'Информация о пользователе'!D866))","v":"pusto@edu54.ru"},{"$f":"TRIM(IF('Информация о пользователе'!E866=\"\",\"\",'Информация о пользователе'!E866))","v":""},{"$f":"IF('Информация о пользователе'!F866=\"\",TRIM(Translit.Translit(A865)&TRIM(LEFT(Translit.Translit(Service!E864),1))&TRIM(LEFT(Translit.Translit(Service!F864),1))),TRIM('Информация о пользователе'!F866))","v":"pusto"},{"$f":"IF('Информация о пользователе'!G866=\"\",TRIM(LEFT(Translit.Translit(Service!E864),2))&INDEX(Service!H864:H882,RANDBETWEEN(1,19),1)&RANDBETWEEN(1,9)&IF(Service!F864=\"\",TRIM(LEFT(Translit.Translit(Service!E864),3))&INDEX(Service!A864:A889,RANDBETWEEN(1,26),1),TRIM(LEFT(Translit.Translit(Service!F864),2))&INDEX(Service!H864:H882,RANDBETWEEN(1,19),1)&INDEX(Service!A864:A889,RANDBETWEEN(1,26),1)),'Информация о пользователе'!G866)","v":{"$error":"#NAME?"}}]
[{"$f":"TRIM(IF('Информация о пользователе'!A867=\"\",\"Пусто\",'Информация о пользователе'!A867))","v":"Пусто"},{"$f":"TRIM(IF('Информация о пользователе'!B867=\"\",\" \",'Информация о пользователе'!B867&\" \"&'Информация о пользователе'!C867))","v":""},{"$f":"TRIM(IF(AD!A866=\"\",\"\",AD!B866&\" \"&A866))","v":"Пусто"},{"$f":"TRIM(IF('Информация о пользователе'!D867=\"\",F866&\"@edu54.ru\",'Информация о пользователе'!D867))","v":"pusto@edu54.ru"},{"$f":"TRIM(IF('Информация о пользователе'!E867=\"\",\"\",'Информация о пользователе'!E867))","v":""},{"$f":"IF('Информация о пользователе'!F867=\"\",TRIM(Translit.Translit(A866)&TRIM(LEFT(Translit.Translit(Service!E865),1))&TRIM(LEFT(Translit.Translit(Service!F865),1))),TRIM('Информация о пользователе'!F867))","v":"pusto"},{"$f":"IF('Информация о пользователе'!G867=\"\",TRIM(LEFT(Translit.Translit(Service!E865),2))&INDEX(Service!H865:H883,RANDBETWEEN(1,19),1)&RANDBETWEEN(1,9)&IF(Service!F865=\"\",TRIM(LEFT(Translit.Translit(Service!E865),3))&INDEX(Service!A865:A890,RANDBETWEEN(1,26),1),TRIM(LEFT(Translit.Translit(Service!F865),2))&INDEX(Service!H865:H883,RANDBETWEEN(1,19),1)&INDEX(Service!A865:A890,RANDBETWEEN(1,26),1)),'Информация о пользователе'!G867)","v":{"$error":"#NAME?"}}]
[{"$f":"TRIM(IF('Информация о пользователе'!A868=\"\",\"Пусто\",'Информация о пользователе'!A868))","v":"Пусто"},{"$f":"TRIM(IF('Информация о пользователе'!B868=\"\",\" \",'Информация о пользователе'!B868&\" \"&'Информация о пользователе'!C868))","v":""},{"$f":"TRIM(IF(AD!A867=\"\",\"\",AD!B867&\" \"&A867))","v":"Пусто"},{"$f":"TRIM(IF('Информация о пользователе'!D868=\"\",F867&\"@edu54.ru\",'Информация о пользователе'!D868))","v":"pusto@edu54.ru"},{"$f":"TRIM(IF('Информация о пользователе'!E868=\"\",\"\",'Информация о пользователе'!E868))","v":""},{"$f":"IF('Информация о пользователе'!F868=\"\",TRIM(Translit.Translit(A867)&TRIM(LEFT(Translit.Translit(Service!E866),1))&TRIM(LEFT(Translit.Translit(Service!F866),1))),TRIM('Информация о пользователе'!F868))","v":"pusto"},{"$f":"IF('Информация о пользователе'!G868=\"\",TRIM(LEFT(Translit.Translit(Service!E866),2))&INDEX(Service!H866:H884,RANDBETWEEN(1,19),1)&RANDBETWEEN(1,9)&IF(Service!F866=\"\",TRIM(LEFT(Translit.Translit(Service!E866),3))&INDEX(Service!A866:A891,RANDBETWEEN(1,26),1),TRIM(LEFT(Translit.Translit(Service!F866),2))&INDEX(Service!H866:H884,RANDBETWEEN(1,19),1)&INDEX(Service!A866:A891,RANDBETWEEN(1,26),1)),'Информация о пользователе'!G868)","v":{"$error":"#NAME?"}}]
[{"$f":"TRIM(IF('Информация о пользователе'!A869=\"\",\"Пусто\",'Информация о пользователе'!A869))","v":"Пусто"},{"$f":"TRIM(IF('Информация о пользователе'!B869=\"\",\" \",'Информация о пользователе'!B869&\" \"&'Информация о пользователе'!C869))","v":""},{"$f":"TRIM(IF(AD!A868=\"\",\"\",AD!B868&\" \"&A868))","v":"Пусто"},{"$f":"TRIM(IF('Информация о пользователе'!D869=\"\",F868&\"@edu54.ru\",'Информация о пользователе'!D869))","v":"pusto@edu54.ru"},{"$f":"TRIM(IF('Информация о пользователе'!E869=\"\",\"\",'Информация о пользователе'!E869))","v":""},{"$f":"IF('Информация о пользователе'!F869=\"\",TRIM(Translit.Translit(A868)&TRIM(LEFT(Translit.Translit(Service!E867),1))&TRIM(LEFT(Translit.Translit(Service!F867),1))),TRIM('Информация о пользователе'!F869))","v":"pusto"},{"$f":"IF('Информация о пользователе'!G869=\"\",TRIM(LEFT(Translit.Translit(Service!E867),2))&INDEX(Service!H867:H885,RANDBETWEEN(1,19),1)&RANDBETWEEN(1,9)&IF(Service!F867=\"\",TRIM(LEFT(Translit.Translit(Service!E867),3))&INDEX(Service!A867:A892,RANDBETWEEN(1,26),1),TRIM(LEFT(Translit.Translit(Service!F867),2))&INDEX(Service!H867:H885,RANDBETWEEN(1,19),1)&INDEX(Service!A867:A892,RANDBETWEEN(1,26),1)),'Информация о пользователе'!G869)","v":{"$error":"#NAME?"}}]
[{"$f":"TRIM(IF('Информация о пользователе'!A870=\"\",\"Пусто\",'Информация о пользователе'!A870))","v":"Пусто"},{"$f":"TRIM(IF('Информация о пользователе'!B870=\"\",\" \",'Информация о пользователе'!B870&\" \"&'Информация о пользователе'!C870))","v":""},{"$f":"TRIM(IF(AD!A869=\"\",\"\",AD!B869&\" \"&A869))","v":"Пусто"},{"$f":"TRIM(IF('Информация о пользователе'!D870=\"\",F869&\"@edu54.ru\",'Информация о пользователе'!D870))","v":"pusto@edu54.ru"},{"$f":"TRIM(IF('Информация о пользователе'!E870=\"\",\"\",'Информация о пользователе'!E870))","v":""},{"$f":"IF('Информация о пользователе'!F870=\"\",TRIM(Translit.Translit(A869)&TRIM(LEFT(Translit.Translit(Service!E868),1))&TRIM(LEFT(Translit.Translit(Service!F868),1))),TRIM('Информация о пользователе'!F870))","v":"pusto"},{"$f":"IF('Информация о пользователе'!G870=\"\",TRIM(LEFT(Translit.Translit(Service!E868),2))&INDEX(Service!H868:H886,RANDBETWEEN(1,19),1)&RANDBETWEEN(1,9)&IF(Service!F868=\"\",TRIM(LEFT(Translit.Translit(Service!E868),3))&INDEX(Service!A868:A893,RANDBETWEEN(1,26),1),TRIM(LEFT(Translit.Translit(Service!F868),2))&INDEX(Service!H868:H886,RANDBETWEEN(1,19),1)&INDEX(Service!A868:A893,RANDBETWEEN(1,26),1)),'Информация о пользователе'!G870)","v":{"$error":"#NAME?"}}]
[{"$f":"TRIM(IF('Информация о пользователе'!A871=\"\",\"Пусто\",'Информация о пользователе'!A871))","v":"Пусто"},{"$f":"TRIM(IF('Информация о пользователе'!B871=\"\",\" \",'Информация о пользователе'!B871&\" \"&'Информация о пользователе'!C871))","v":""},{"$f":"TRIM(IF(AD!A870=\"\",\"\",AD!B870&\" \"&A870))","v":"Пусто"},{"$f":"TRIM(IF('Информация о пользователе'!D871=\"\",F870&\"@edu54.ru\",'Информация о пользователе'!D871))","v":"pusto@edu54.ru"},{"$f":"TRIM(IF('Информация о пользователе'!E871=\"\",\"\",'Информация о пользователе'!E871))","v":""},{"$f":"IF('Информация о пользователе'!F871=\"\",TRIM(Translit.Translit(A870)&TRIM(LEFT(Translit.Translit(Service!E869),1))&TRIM(LEFT(Translit.Translit(Service!F869),1))),TRIM('Информация о пользователе'!F871))","v":"pusto"},{"$f":"IF('Информация о пользователе'!G871=\"\",TRIM(LEFT(Translit.Translit(Service!E869),2))&INDEX(Service!H869:H887,RANDBETWEEN(1,19),1)&RANDBETWEEN(1,9)&IF(Service!F869=\"\",TRIM(LEFT(Translit.Translit(Service!E869),3))&INDEX(Service!A869:A894,RANDBETWEEN(1,26),1),TRIM(LEFT(Translit.Translit(Service!F869),2))&INDEX(Service!H869:H887,RANDBETWEEN(1,19),1)&INDEX(Service!A869:A894,RANDBETWEEN(1,26),1)),'Информация о пользователе'!G871)","v":{"$error":"#NAME?"}}]
[{"$f":"TRIM(IF('Информация о пользователе'!A872=\"\",\"Пусто\",'Информация о пользователе'!A872))","v":"Пусто"},{"$f":"TRIM(IF('Информация о пользователе'!B872=\"\",\" \",'Информация о пользователе'!B872&\" \"&'Информация о пользователе'!C872))","v":""},{"$f":"TRIM(IF(AD!A871=\"\",\"\",AD!B871&\" \"&A871))","v":"Пусто"},{"$f":"TRIM(IF('Информация о пользователе'!D872=\"\",F871&\"@edu54.ru\",'Информация о пользователе'!D872))","v":"pusto@edu54.ru"},{"$f":"TRIM(IF('Информация о пользователе'!E872=\"\",\"\",'Информация о пользователе'!E872))","v":""},{"$f":"IF('Информация о пользователе'!F872=\"\",TRIM(Translit.Translit(A871)&TRIM(LEFT(Translit.Translit(Service!E870),1))&TRIM(LEFT(Translit.Translit(Service!F870),1))),TRIM('Информация о пользователе'!F872))","v":"pusto"},{"$f":"IF('Информация о пользователе'!G872=\"\",TRIM(LEFT(Translit.Translit(Service!E870),2))&INDEX(Service!H870:H888,RANDBETWEEN(1,19),1)&RANDBETWEEN(1,9)&IF(Service!F870=\"\",TRIM(LEFT(Translit.Translit(Service!E870),3))&INDEX(Service!A870:A895,RANDBETWEEN(1,26),1),TRIM(LEFT(Translit.Translit(Service!F870),2))&INDEX(Service!H870:H888,RANDBETWEEN(1,19),1)&INDEX(Service!A870:A895,RANDBETWEEN(1,26),1)),'Информация о пользователе'!G872)","v":{"$error":"#NAME?"}}]
[{"$f":"TRIM(IF('Информация о пользователе'!A873=\"\",\"Пусто\",'Информация о пользователе'!A873))","v":"Пусто"},{"$f":"TRIM(IF('Информация о пользователе'!B873=\"\",\" \",'Информация о пользователе'!B873&\" \"&'Информация о пользователе'!C873))","v":""},{"$f":"TRIM(IF(AD!A872=\"\",\"\",AD!B872&\" \"&A872))","v":"Пусто"},{"$f":"TRIM(IF('Информация о пользователе'!D873=\"\",F872&\"@edu54.ru\",'Информация о пользователе'!D873))","v":"pusto@edu54.ru"},{"$f":"TRIM(IF('Информация о пользователе'!E873=\"\",\"\",'Информация о пользователе'!E873))","v":""},{"$f":"IF('Информация о пользователе'!F873=\"\",TRIM(Translit.Translit(A872)&TRIM(LEFT(Translit.Translit(Service!E871),1))&TRIM(LEFT(Translit.Translit(Service!F871),1))),TRIM('Информация о пользователе'!F873))","v":"pusto"},{"$f":"IF('Информация о пользователе'!G873=\"\",TRIM(LEFT(Translit.Translit(Service!E871),2))&INDEX(Service!H871:H889,RANDBETWEEN(1,19),1)&RANDBETWEEN(1,9)&IF(Service!F871=\"\",TRIM(LEFT(Translit.Translit(Service!E871),3))&INDEX(Service!A871:A896,RANDBETWEEN(1,26),1),TRIM(LEFT(Translit.Translit(Service!F871),2))&INDEX(Service!H871:H889,RANDBETWEEN(1,19),1)&INDEX(Service!A871:A896,RANDBETWEEN(1,26),1)),'Информация о пользователе'!G873)","v":{"$error":"#NAME?"}}]
[{"$f":"TRIM(IF('Информация о пользователе'!A874=\"\",\"Пусто\",'Информация о пользователе'!A874))","v":"Пусто"},{"$f":"TRIM(IF('Информация о пользователе'!B874=\"\",\" \",'Информация о пользователе'!B874&\" \"&'Информация о пользователе'!C874))","v":""},{"$f":"TRIM(IF(AD!A873=\"\",\"\",AD!B873&\" \"&A873))","v":"Пусто"},{"$f":"TRIM(IF('Информация о пользователе'!D874=\"\",F873&\"@edu54.ru\",'Информация о пользователе'!D874))","v":"pusto@edu54.ru"},{"$f":"TRIM(IF('Информация о пользователе'!E874=\"\",\"\",'Информация о пользователе'!E874))","v":""},{"$f":"IF('Информация о пользователе'!F874=\"\",TRIM(Translit.Translit(A873)&TRIM(LEFT(Translit.Translit(Service!E872),1))&TRIM(LEFT(Translit.Translit(Service!F872),1))),TRIM('Информация о пользователе'!F874))","v":"pusto"},{"$f":"IF('Информация о пользователе'!G874=\"\",TRIM(LEFT(Translit.Translit(Service!E872),2))&INDEX(Service!H872:H890,RANDBETWEEN(1,19),1)&RANDBETWEEN(1,9)&IF(Service!F872=\"\",TRIM(LEFT(Translit.Translit(Service!E872),3))&INDEX(Service!A872:A897,RANDBETWEEN(1,26),1),TRIM(LEFT(Translit.Translit(Service!F872),2))&INDEX(Service!H872:H890,RANDBETWEEN(1,19),1)&INDEX(Service!A872:A897,RANDBETWEEN(1,26),1)),'Информация о пользователе'!G874)","v":{"$error":"#NAME?"}}]
[{"$f":"TRIM(IF('Информация о пользователе'!A875=\"\",\"Пусто\",'Информация о пользователе'!A875))","v":"Пусто"},{"$f":"TRIM(IF('Информация о пользователе'!B875=\"\",\" \",'Информация о пользователе'!B875&\" \"&'Информация о пользователе'!C875))","v":""},{"$f":"TRIM(IF(AD!A874=\"\",\"\",AD!B874&\" \"&A874))","v":"Пусто"},{"$f":"TRIM(IF('Информация о пользователе'!D875=\"\",F874&\"@edu54.ru\",'Информация о пользователе'!D875))","v":"pusto@edu54.ru"},{"$f":"TRIM(IF('Информация о пользователе'!E875=\"\",\"\",'Информация о пользователе'!E875))","v":""},{"$f":"IF('Информация о пользователе'!F875=\"\",TRIM(Translit.Translit(A874)&TRIM(LEFT(Translit.Translit(Service!E873),1))&TRIM(LEFT(Translit.Translit(Service!F873),1))),TRIM('Информация о пользователе'!F875))","v":"pusto"},{"$f":"IF('Информация о пользователе'!G875=\"\",TRIM(LEFT(Translit.Translit(Service!E873),2))&INDEX(Service!H873:H891,RANDBETWEEN(1,19),1)&RANDBETWEEN(1,9)&IF(Service!F873=\"\",TRIM(LEFT(Translit.Translit(Service!E873),3))&INDEX(Service!A873:A898,RANDBETWEEN(1,26),1),TRIM(LEFT(Translit.Translit(Service!F873),2))&INDEX(Service!H873:H891,RANDBETWEEN(1,19),1)&INDEX(Service!A873:A898,RANDBETWEEN(1,26),1)),'Информация о пользователе'!G875)","v":{"$error":"#NAME?"}}]
[{"$f":"TRIM(IF('Информация о пользователе'!A876=\"\",\"Пусто\",'Информация о пользователе'!A876))","v":"Пусто"},{"$f":"TRIM(IF('Информация о пользователе'!B876=\"\",\" \",'Информация о пользователе'!B876&\" \"&'Информация о пользователе'!C876))","v":""},{"$f":"TRIM(IF(AD!A875=\"\",\"\",AD!B875&\" \"&A875))","v":"Пусто"},{"$f":"TRIM(IF('Информация о пользователе'!D876=\"\",F875&\"@edu54.ru\",'Информация о пользователе'!D876))","v":"pusto@edu54.ru"},{"$f":"TRIM(IF('Информация о пользователе'!E876=\"\",\"\",'Информация о пользователе'!E876))","v":""},{"$f":"IF('Информация о пользователе'!F876=\"\",TRIM(Translit.Translit(A875)&TRIM(LEFT(Translit.Translit(Service!E874),1))&TRIM(LEFT(Translit.Translit(Service!F874),1))),TRIM('Информация о пользователе'!F876))","v":"pusto"},{"$f":"IF('Информация о пользователе'!G876=\"\",TRIM(LEFT(Translit.Translit(Service!E874),2))&INDEX(Service!H874:H892,RANDBETWEEN(1,19),1)&RANDBETWEEN(1,9)&IF(Service!F874=\"\",TRIM(LEFT(Translit.Translit(Service!E874),3))&INDEX(Service!A874:A899,RANDBETWEEN(1,26),1),TRIM(LEFT(Translit.Translit(Service!F874),2))&INDEX(Service!H874:H892,RANDBETWEEN(1,19),1)&INDEX(Service!A874:A899,RANDBETWEEN(1,26),1)),'Информация о пользователе'!G876)","v":{"$error":"#NAME?"}}]
[{"$f":"TRIM(IF('Информация о пользователе'!A877=\"\",\"Пусто\",'Информация о пользователе'!A877))","v":"Пусто"},{"$f":"TRIM(IF('Информация о пользователе'!B877=\"\",\" \",'Информация о пользователе'!B877&\" \"&'Информация о пользователе'!C877))","v":""},{"$f":"TRIM(IF(AD!A876=\"\",\"\",AD!B876&\" \"&A876))","v":"Пусто"},{"$f":"TRIM(IF('Информация о пользователе'!D877=\"\",F876&\"@edu54.ru\",'Информация о пользователе'!D877))","v":"pusto@edu54.ru"},{"$f":"TRIM(IF('Информация о пользователе'!E877=\"\",\"\",'Информация о пользователе'!E877))","v":""},{"$f":"IF('Информация о пользователе'!F877=\"\",TRIM(Translit.Translit(A876)&TRIM(LEFT(Translit.Translit(Service!E875),1))&TRIM(LEFT(Translit.Translit(Service!F875),1))),TRIM('Информация о пользователе'!F877))","v":"pusto"},{"$f":"IF('Информация о пользователе'!G877=\"\",TRIM(LEFT(Translit.Translit(Service!E875),2))&INDEX(Service!H875:H893,RANDBETWEEN(1,19),1)&RANDBETWEEN(1,9)&IF(Service!F875=\"\",TRIM(LEFT(Translit.Translit(Service!E875),3))&INDEX(Service!A875:A900,RANDBETWEEN(1,26),1),TRIM(LEFT(Translit.Translit(Service!F875),2))&INDEX(Service!H875:H893,RANDBETWEEN(1,19),1)&INDEX(Service!A875:A900,RANDBETWEEN(1,26),1)),'Информация о пользователе'!G877)","v":{"$error":"#NAME?"}}]
[{"$f":"TRIM(IF('Информация о пользователе'!A878=\"\",\"Пусто\",'Информация о пользователе'!A878))","v":"Пусто"},{"$f":"TRIM(IF('Информация о пользователе'!B878=\"\",\" \",'Информация о пользователе'!B878&\" \"&'Информация о пользователе'!C878))","v":""},{"$f":"TRIM(IF(AD!A877=\"\",\"\",AD!B877&\" \"&A877))","v":"Пусто"},{"$f":"TRIM(IF('Информация о пользователе'!D878=\"\",F877&\"@edu54.ru\",'Информация о пользователе'!D878))","v":"pusto@edu54.ru"},{"$f":"TRIM(IF('Информация о пользователе'!E878=\"\",\"\",'Информация о пользователе'!E878))","v":""},{"$f":"IF('Информация о пользователе'!F878=\"\",TRIM(Translit.Translit(A877)&TRIM(LEFT(Translit.Translit(Service!E876),1))&TRIM(LEFT(Translit.Translit(Service!F876),1))),TRIM('Информация о пользователе'!F878))","v":"pusto"},{"$f":"IF('Информация о пользователе'!G878=\"\",TRIM(LEFT(Translit.Translit(Service!E876),2))&INDEX(Service!H876:H894,RANDBETWEEN(1,19),1)&RANDBETWEEN(1,9)&IF(Service!F876=\"\",TRIM(LEFT(Translit.Translit(Service!E876),3))&INDEX(Service!A876:A901,RANDBETWEEN(1,26),1),TRIM(LEFT(Translit.Translit(Service!F876),2))&INDEX(Service!H876:H894,RANDBETWEEN(1,19),1)&INDEX(Service!A876:A901,RANDBETWEEN(1,26),1)),'Информация о пользователе'!G878)","v":{"$error":"#NAME?"}}]
[{"$f":"TRIM(IF('Информация о пользователе'!A879=\"\",\"Пусто\",'Информация о пользователе'!A879))","v":"Пусто"},{"$f":"TRIM(IF('Информация о пользователе'!B879=\"\",\" \",'Информация о пользователе'!B879&\" \"&'Информация о пользователе'!C879))","v":""},{"$f":"TRIM(IF(AD!A878=\"\",\"\",AD!B878&\" \"&A878))","v":"Пусто"},{"$f":"TRIM(IF('Информация о пользователе'!D879=\"\",F878&\"@edu54.ru\",'Информация о пользователе'!D879))","v":"pusto@edu54.ru"},{"$f":"TRIM(IF('Информация о пользователе'!E879=\"\",\"\",'Информация о пользователе'!E879))","v":""},{"$f":"IF('Информация о пользователе'!F879=\"\",TRIM(Translit.Translit(A878)&TRIM(LEFT(Translit.Translit(Service!E877),1))&TRIM(LEFT(Translit.Translit(Service!F877),1))),TRIM('Информация о пользователе'!F879))","v":"pusto"},{"$f":"IF('Информация о пользователе'!G879=\"\",TRIM(LEFT(Translit.Translit(Service!E877),2))&INDEX(Service!H877:H895,RANDBETWEEN(1,19),1)&RANDBETWEEN(1,9)&IF(Service!F877=\"\",TRIM(LEFT(Translit.Translit(Service!E877),3))&INDEX(Service!A877:A902,RANDBETWEEN(1,26),1),TRIM(LEFT(Translit.Translit(Service!F877),2))&INDEX(Service!H877:H895,RANDBETWEEN(1,19),1)&INDEX(Service!A877:A902,RANDBETWEEN(1,26),1)),'Информация о пользователе'!G879)","v":{"$error":"#NAME?"}}]
[{"$f":"TRIM(IF('Информация о пользователе'!A880=\"\",\"Пусто\",'Информация о пользователе'!A880))","v":"Пусто"},{"$f":"TRIM(IF('Информация о пользователе'!B880=\"\",\" \",'Информация о пользователе'!B880&\" \"&'Информация о пользователе'!C880))","v":""},{"$f":"TRIM(IF(AD!A879=\"\",\"\",AD!B879&\" \"&A879))","v":"Пусто"},{"$f":"TRIM(IF('Информация о пользователе'!D880=\"\",F879&\"@edu54.ru\",'Информация о пользователе'!D880))","v":"pusto@edu54.ru"},{"$f":"TRIM(IF('Информация о пользователе'!E880=\"\",\"\",'Информация о пользователе'!E880))","v":""},{"$f":"IF('Информация о пользователе'!F880=\"\",TRIM(Translit.Translit(A879)&TRIM(LEFT(Translit.Translit(Service!E878),1))&TRIM(LEFT(Translit.Translit(Service!F878),1))),TRIM('Информация о пользователе'!F880))","v":"pusto"},{"$f":"IF('Информация о пользователе'!G880=\"\",TRIM(LEFT(Translit.Translit(Service!E878),2))&INDEX(Service!H878:H896,RANDBETWEEN(1,19),1)&RANDBETWEEN(1,9)&IF(Service!F878=\"\",TRIM(LEFT(Translit.Translit(Service!E878),3))&INDEX(Service!A878:A903,RANDBETWEEN(1,26),1),TRIM(LEFT(Translit.Translit(Service!F878),2))&INDEX(Service!H878:H896,RANDBETWEEN(1,19),1)&INDEX(Service!A878:A903,RANDBETWEEN(1,26),1)),'Информация о пользователе'!G880)","v":{"$error":"#NAME?"}}]
[{"$f":"TRIM(IF('Информация о пользователе'!A881=\"\",\"Пусто\",'Информация о пользователе'!A881))","v":"Пусто"},{"$f":"TRIM(IF('Информация о пользователе'!B881=\"\",\" \",'Информация о пользователе'!B881&\" \"&'Информация о пользователе'!C881))","v":""},{"$f":"TRIM(IF(AD!A880=\"\",\"\",AD!B880&\" \"&A880))","v":"Пусто"},{"$f":"TRIM(IF('Информация о пользователе'!D881=\"\",F880&\"@edu54.ru\",'Информация о пользователе'!D881))","v":"pusto@edu54.ru"},{"$f":"TRIM(IF('Информация о пользователе'!E881=\"\",\"\",'Информация о пользователе'!E881))","v":""},{"$f":"IF('Информация о пользователе'!F881=\"\",TRIM(Translit.Translit(A880)&TRIM(LEFT(Translit.Translit(Service!E879),1))&TRIM(LEFT(Translit.Translit(Service!F879),1))),TRIM('Информация о пользователе'!F881))","v":"pusto"},{"$f":"IF('Информация о пользователе'!G881=\"\",TRIM(LEFT(Translit.Translit(Service!E879),2))&INDEX(Service!H879:H897,RANDBETWEEN(1,19),1)&RANDBETWEEN(1,9)&IF(Service!F879=\"\",TRIM(LEFT(Translit.Translit(Service!E879),3))&INDEX(Service!A879:A904,RANDBETWEEN(1,26),1),TRIM(LEFT(Translit.Translit(Service!F879),2))&INDEX(Service!H879:H897,RANDBETWEEN(1,19),1)&INDEX(Service!A879:A904,RANDBETWEEN(1,26),1)),'Информация о пользователе'!G881)","v":{"$error":"#NAME?"}}]
[{"$f":"TRIM(IF('Информация о пользователе'!A882=\"\",\"Пусто\",'Информация о пользователе'!A882))","v":"Пусто"},{"$f":"TRIM(IF('Информация о пользователе'!B882=\"\",\" \",'Информация о пользователе'!B882&\" \"&'Информация о пользователе'!C882))","v":""},{"$f":"TRIM(IF(AD!A881=\"\",\"\",AD!B881&\" \"&A881))","v":"Пусто"},{"$f":"TRIM(IF('Информация о пользователе'!D882=\"\",F881&\"@edu54.ru\",'Информация о пользователе'!D882))","v":"pusto@edu54.ru"},{"$f":"TRIM(IF('Информация о пользователе'!E882=\"\",\"\",'Информация о пользователе'!E882))","v":""},{"$f":"IF('Информация о пользователе'!F882=\"\",TRIM(Translit.Translit(A881)&TRIM(LEFT(Translit.Translit(Service!E880),1))&TRIM(LEFT(Translit.Translit(Service!F880),1))),TRIM('Информация о пользователе'!F882))","v":"pusto"},{"$f":"IF('Информация о пользователе'!G882=\"\",TRIM(LEFT(Translit.Translit(Service!E880),2))&INDEX(Service!H880:H898,RANDBETWEEN(1,19),1)&RANDBETWEEN(1,9)&IF(Service!F880=\"\",TRIM(LEFT(Translit.Translit(Service!E880),3))&INDEX(Service!A880:A905,RANDBETWEEN(1,26),1),TRIM(LEFT(Translit.Translit(Service!F880),2))&INDEX(Service!H880:H898,RANDBETWEEN(1,19),1)&INDEX(Service!A880:A905,RANDBETWEEN(1,26),1)),'Информация о пользователе'!G882)","v":{"$error":"#NAME?"}}]
[{"$f":"TRIM(IF('Информация о пользователе'!A883=\"\",\"Пусто\",'Информация о пользователе'!A883))","v":"Пусто"},{"$f":"TRIM(IF('Информация о пользователе'!B883=\"\",\" \",'Информация о пользователе'!B883&\" \"&'Информация о пользователе'!C883))","v":""},{"$f":"TRIM(IF(AD!A882=\"\",\"\",AD!B882&\" \"&A882))","v":"Пусто"},{"$f":"TRIM(IF('Информация о пользователе'!D883=\"\",F882&\"@edu54.ru\",'Информация о пользователе'!D883))","v":"pusto@edu54.ru"},{"$f":"TRIM(IF('Информация о пользователе'!E883=\"\",\"\",'Информация о пользователе'!E883))","v":""},{"$f":"IF('Информация о пользователе'!F883=\"\",TRIM(Translit.Translit(A882)&TRIM(LEFT(Translit.Translit(Service!E881),1))&TRIM(LEFT(Translit.Translit(Service!F881),1))),TRIM('Информация о пользователе'!F883))","v":"pusto"},{"$f":"IF('Информация о пользователе'!G883=\"\",TRIM(LEFT(Translit.Translit(Service!E881),2))&INDEX(Service!H881:H899,RANDBETWEEN(1,19),1)&RANDBETWEEN(1,9)&IF(Service!F881=\"\",TRIM(LEFT(Translit.Translit(Service!E881),3))&INDEX(Service!A881:A906,RANDBETWEEN(1,26),1),TRIM(LEFT(Translit.Translit(Service!F881),2))&INDEX(Service!H881:H899,RANDBETWEEN(1,19),1)&INDEX(Service!A881:A906,RANDBETWEEN(1,26),1)),'Информация о пользователе'!G883)","v":{"$error":"#NAME?"}}]
[{"$f":"TRIM(IF('Информация о пользователе'!A884=\"\",\"Пусто\",'Информация о пользователе'!A884))","v":"Пусто"},{"$f":"TRIM(IF('Информация о пользователе'!B884=\"\",\" \",'Информация о пользователе'!B884&\" \"&'Информация о пользователе'!C884))","v":""},{"$f":"TRIM(IF(AD!A883=\"\",\"\",AD!B883&\" \"&A883))","v":"Пусто"},{"$f":"TRIM(IF('Информация о пользователе'!D884=\"\",F883&\"@edu54.ru\",'Информация о пользователе'!D884))","v":"pusto@edu54.ru"},{"$f":"TRIM(IF('Информация о пользователе'!E884=\"\",\"\",'Информация о пользователе'!E884))","v":""},{"$f":"IF('Информация о пользователе'!F884=\"\",TRIM(Translit.Translit(A883)&TRIM(LEFT(Translit.Translit(Service!E882),1))&TRIM(LEFT(Translit.Translit(Service!F882),1))),TRIM('Информация о пользователе'!F884))","v":"pusto"},{"$f":"IF('Информация о пользователе'!G884=\"\",TRIM(LEFT(Translit.Translit(Service!E882),2))&INDEX(Service!H882:H900,RANDBETWEEN(1,19),1)&RANDBETWEEN(1,9)&IF(Service!F882=\"\",TRIM(LEFT(Translit.Translit(Service!E882),3))&INDEX(Service!A882:A907,RANDBETWEEN(1,26),1),TRIM(LEFT(Translit.Translit(Service!F882),2))&INDEX(Service!H882:H900,RANDBETWEEN(1,19),1)&INDEX(Service!A882:A907,RANDBETWEEN(1,26),1)),'Информация о пользователе'!G884)","v":{"$error":"#NAME?"}}]
[{"$f":"TRIM(IF('Информация о пользователе'!A885=\"\",\"Пусто\",'Информация о пользователе'!A885))","v":"Пусто"},{"$f":"TRIM(IF('Информация о пользователе'!B885=\"\",\" \",'Информация о пользователе'!B885&\" \"&'Информация о пользователе'!C885))","v":""},{"$f":"TRIM(IF(AD!A884=\"\",\"\",AD!B884&\" \"&A884))","v":"Пусто"},{"$f":"TRIM(IF('Информация о пользователе'!D885=\"\",F884&\"@edu54.ru\",'Информация о пользователе'!D885))","v":"pusto@edu54.ru"},{"$f":"TRIM(IF('Информация о пользователе'!E885=\"\",\"\",'Информация о пользователе'!E885))","v":""},{"$f":"IF('Информация о пользователе'!F885=\"\",TRIM(Translit.Translit(A884)&TRIM(LEFT(Translit.Translit(Service!E883),1))&TRIM(LEFT(Translit.Translit(Service!F883),1))),TRIM('Информация о пользователе'!F885))","v":"pusto"},{"$f":"IF('Информация о пользователе'!G885=\"\",TRIM(LEFT(Translit.Translit(Service!E883),2))&INDEX(Service!H883:H901,RANDBETWEEN(1,19),1)&RANDBETWEEN(1,9)&IF(Service!F883=\"\",TRIM(LEFT(Translit.Translit(Service!E883),3))&INDEX(Service!A883:A908,RANDBETWEEN(1,26),1),TRIM(LEFT(Translit.Translit(Service!F883),2))&INDEX(Service!H883:H901,RANDBETWEEN(1,19),1)&INDEX(Service!A883:A908,RANDBETWEEN(1,26),1)),'Информация о пользователе'!G885)","v":{"$error":"#NAME?"}}]
[{"$f":"TRIM(IF('Информация о пользователе'!A886=\"\",\"Пусто\",'Информация о пользователе'!A886))","v":"Пусто"},{"$f":"TRIM(IF('Информация о пользователе'!B886=\"\",\" \",'Информация о пользователе'!B886&\" \"&'Информация о пользователе'!C886))","v":""},{"$f":"TRIM(IF(AD!A885=\"\",\"\",AD!B885&\" \"&A885))","v":"Пусто"},{"$f":"TRIM(IF('Информация о пользователе'!D886=\"\",F885&\"@edu54.ru\",'Информация о пользователе'!D886))","v":"pusto@edu54.ru"},{"$f":"TRIM(IF('Информация о пользователе'!E886=\"\",\"\",'Информация о пользователе'!E886))","v":""},{"$f":"IF('Информация о пользователе'!F886=\"\",TRIM(Translit.Translit(A885)&TRIM(LEFT(Translit.Translit(Service!E884),1))&TRIM(LEFT(Translit.Translit(Service!F884),1))),TRIM('Информация о пользователе'!F886))","v":"pusto"},{"$f":"IF('Информация о пользователе'!G886=\"\",TRIM(LEFT(Translit.Translit(Service!E884),2))&INDEX(Service!H884:H902,RANDBETWEEN(1,19),1)&RANDBETWEEN(1,9)&IF(Service!F884=\"\",TRIM(LEFT(Translit.Translit(Service!E884),3))&INDEX(Service!A884:A909,RANDBETWEEN(1,26),1),TRIM(LEFT(Translit.Translit(Service!F884),2))&INDEX(Service!H884:H902,RANDBETWEEN(1,19),1)&INDEX(Service!A884:A909,RANDBETWEEN(1,26),1)),'Информация о пользователе'!G886)","v":{"$error":"#NAME?"}}]
[{"$f":"TRIM(IF('Информация о пользователе'!A887=\"\",\"Пусто\",'Информация о пользователе'!A887))","v":"Пусто"},{"$f":"TRIM(IF('Информация о пользователе'!B887=\"\",\" \",'Информация о пользователе'!B887&\" \"&'Информация о пользователе'!C887))","v":""},{"$f":"TRIM(IF(AD!A886=\"\",\"\",AD!B886&\" \"&A886))","v":"Пусто"},{"$f":"TRIM(IF('Информация о пользователе'!D887=\"\",F886&\"@edu54.ru\",'Информация о пользователе'!D887))","v":"pusto@edu54.ru"},{"$f":"TRIM(IF('Информация о пользователе'!E887=\"\",\"\",'Информация о пользователе'!E887))","v":""},{"$f":"IF('Информация о пользователе'!F887=\"\",TRIM(Translit.Translit(A886)&TRIM(LEFT(Translit.Translit(Service!E885),1))&TRIM(LEFT(Translit.Translit(Service!F885),1))),TRIM('Информация о пользователе'!F887))","v":"pusto"},{"$f":"IF('Информация о пользователе'!G887=\"\",TRIM(LEFT(Translit.Translit(Service!E885),2))&INDEX(Service!H885:H903,RANDBETWEEN(1,19),1)&RANDBETWEEN(1,9)&IF(Service!F885=\"\",TRIM(LEFT(Translit.Translit(Service!E885),3))&INDEX(Service!A885:A910,RANDBETWEEN(1,26),1),TRIM(LEFT(Translit.Translit(Service!F885),2))&INDEX(Service!H885:H903,RANDBETWEEN(1,19),1)&INDEX(Service!A885:A910,RANDBETWEEN(1,26),1)),'Информация о пользователе'!G887)","v":{"$error":"#NAME?"}}]
[{"$f":"TRIM(IF('Информация о пользователе'!A888=\"\",\"Пусто\",'Информация о пользователе'!A888))","v":"Пусто"},{"$f":"TRIM(IF('Информация о пользователе'!B888=\"\",\" \",'Информация о пользователе'!B888&\" \"&'Информация о пользователе'!C888))","v":""},{"$f":"TRIM(IF(AD!A887=\"\",\"\",AD!B887&\" \"&A887))","v":"Пусто"},{"$f":"TRIM(IF('Информация о пользователе'!D888=\"\",F887&\"@edu54.ru\",'Информация о пользователе'!D888))","v":"pusto@edu54.ru"},{"$f":"TRIM(IF('Информация о пользователе'!E888=\"\",\"\",'Информация о пользователе'!E888))","v":""},{"$f":"IF('Информация о пользователе'!F888=\"\",TRIM(Translit.Translit(A887)&TRIM(LEFT(Translit.Translit(Service!E886),1))&TRIM(LEFT(Translit.Translit(Service!F886),1))),TRIM('Информация о пользователе'!F888))","v":"pusto"},{"$f":"IF('Информация о пользователе'!G888=\"\",TRIM(LEFT(Translit.Translit(Service!E886),2))&INDEX(Service!H886:H904,RANDBETWEEN(1,19),1)&RANDBETWEEN(1,9)&IF(Service!F886=\"\",TRIM(LEFT(Translit.Translit(Service!E886),3))&INDEX(Service!A886:A911,RANDBETWEEN(1,26),1),TRIM(LEFT(Translit.Translit(Service!F886),2))&INDEX(Service!H886:H904,RANDBETWEEN(1,19),1)&INDEX(Service!A886:A911,RANDBETWEEN(1,26),1)),'Информация о пользователе'!G888)","v":{"$error":"#NAME?"}}]
[{"$f":"TRIM(IF('Информация о пользователе'!A889=\"\",\"Пусто\",'Информация о пользователе'!A889))","v":"Пусто"},{"$f":"TRIM(IF('Информация о пользователе'!B889=\"\",\" \",'Информация о пользователе'!B889&\" \"&'Информация о пользователе'!C889))","v":""},{"$f":"TRIM(IF(AD!A888=\"\",\"\",AD!B888&\" \"&A888))","v":"Пусто"},{"$f":"TRIM(IF('Информация о пользователе'!D889=\"\",F888&\"@edu54.ru\",'Информация о пользователе'!D889))","v":"pusto@edu54.ru"},{"$f":"TRIM(IF('Информация о пользователе'!E889=\"\",\"\",'Информация о пользователе'!E889))","v":""},{"$f":"IF('Информация о пользователе'!F889=\"\",TRIM(Translit.Translit(A888)&TRIM(LEFT(Translit.Translit(Service!E887),1))&TRIM(LEFT(Translit.Translit(Service!F887),1))),TRIM('Информация о пользователе'!F889))","v":"pusto"},{"$f":"IF('Информация о пользователе'!G889=\"\",TRIM(LEFT(Translit.Translit(Service!E887),2))&INDEX(Service!H887:H905,RANDBETWEEN(1,19),1)&RANDBETWEEN(1,9)&IF(Service!F887=\"\",TRIM(LEFT(Translit.Translit(Service!E887),3))&INDEX(Service!A887:A912,RANDBETWEEN(1,26),1),TRIM(LEFT(Translit.Translit(Service!F887),2))&INDEX(Service!H887:H905,RANDBETWEEN(1,19),1)&INDEX(Service!A887:A912,RANDBETWEEN(1,26),1)),'Информация о пользователе'!G889)","v":{"$error":"#NAME?"}}]
[{"$f":"TRIM(IF('Информация о пользователе'!A890=\"\",\"Пусто\",'Информация о пользователе'!A890))","v":"Пусто"},{"$f":"TRIM(IF('Информация о пользователе'!B890=\"\",\" \",'Информация о пользователе'!B890&\" \"&'Информация о пользователе'!C890))","v":""},{"$f":"TRIM(IF(AD!A889=\"\",\"\",AD!B889&\" \"&A889))","v":"Пусто"},{"$f":"TRIM(IF('Информация о пользователе'!D890=\"\",F889&\"@edu54.ru\",'Информация о пользователе'!D890))","v":"pusto@edu54.ru"},{"$f":"TRIM(IF('Информация о пользователе'!E890=\"\",\"\",'Информация о пользователе'!E890))","v":""},{"$f":"IF('Информация о пользователе'!F890=\"\",TRIM(Translit.Translit(A889)&TRIM(LEFT(Translit.Translit(Service!E888),1))&TRIM(LEFT(Translit.Translit(Service!F888),1))),TRIM('Информация о пользователе'!F890))","v":"pusto"},{"$f":"IF('Информация о пользователе'!G890=\"\",TRIM(LEFT(Translit.Translit(Service!E888),2))&INDEX(Service!H888:H906,RANDBETWEEN(1,19),1)&RANDBETWEEN(1,9)&IF(Service!F888=\"\",TRIM(LEFT(Translit.Translit(Service!E888),3))&INDEX(Service!A888:A913,RANDBETWEEN(1,26),1),TRIM(LEFT(Translit.Translit(Service!F888),2))&INDEX(Service!H888:H906,RANDBETWEEN(1,19),1)&INDEX(Service!A888:A913,RANDBETWEEN(1,26),1)),'Информация о пользователе'!G890)","v":{"$error":"#NAME?"}}]
[{"$f":"TRIM(IF('Информация о пользователе'!A891=\"\",\"Пусто\",'Информация о пользователе'!A891))","v":"Пусто"},{"$f":"TRIM(IF('Информация о пользователе'!B891=\"\",\" \",'Информация о пользователе'!B891&\" \"&'Информация о пользователе'!C891))","v":""},{"$f":"TRIM(IF(AD!A890=\"\",\"\",AD!B890&\" \"&A890))","v":"Пусто"},{"$f":"TRIM(IF('Информация о пользователе'!D891=\"\",F890&\"@edu54.ru\",'Информация о пользователе'!D891))","v":"pusto@edu54.ru"},{"$f":"TRIM(IF('Информация о пользователе'!E891=\"\",\"\",'Информация о пользователе'!E891))","v":""},{"$f":"IF('Информация о пользователе'!F891=\"\",TRIM(Translit.Translit(A890)&TRIM(LEFT(Translit.Translit(Service!E889),1))&TRIM(LEFT(Translit.Translit(Service!F889),1))),TRIM('Информация о пользователе'!F891))","v":"pusto"},{"$f":"IF('Информация о пользователе'!G891=\"\",TRIM(LEFT(Translit.Translit(Service!E889),2))&INDEX(Service!H889:H907,RANDBETWEEN(1,19),1)&RANDBETWEEN(1,9)&IF(Service!F889=\"\",TRIM(LEFT(Translit.Translit(Service!E889),3))&INDEX(Service!A889:A914,RANDBETWEEN(1,26),1),TRIM(LEFT(Translit.Translit(Service!F889),2))&INDEX(Service!H889:H907,RANDBETWEEN(1,19),1)&INDEX(Service!A889:A914,RANDBETWEEN(1,26),1)),'Информация о пользователе'!G891)","v":{"$error":"#NAME?"}}]
[{"$f":"TRIM(IF('Информация о пользователе'!A892=\"\",\"Пусто\",'Информация о пользователе'!A892))","v":"Пусто"},{"$f":"TRIM(IF('Информация о пользователе'!B892=\"\",\" \",'Информация о пользователе'!B892&\" \"&'Информация о пользователе'!C892))","v":""},{"$f":"TRIM(IF(AD!A891=\"\",\"\",AD!B891&\" \"&A891))","v":"Пусто"},{"$f":"TRIM(IF('Информация о пользователе'!D892=\"\",F891&\"@edu54.ru\",'Информация о пользователе'!D892))","v":"pusto@edu54.ru"},{"$f":"TRIM(IF('Информация о пользователе'!E892=\"\",\"\",'Информация о пользователе'!E892))","v":""},{"$f":"IF('Информация о пользователе'!F892=\"\",TRIM(Translit.Translit(A891)&TRIM(LEFT(Translit.Translit(Service!E890),1))&TRIM(LEFT(Translit.Translit(Service!F890),1))),TRIM('Информация о пользователе'!F892))","v":"pusto"},{"$f":"IF('Информация о пользователе'!G892=\"\",TRIM(LEFT(Translit.Translit(Service!E890),2))&INDEX(Service!H890:H908,RANDBETWEEN(1,19),1)&RANDBETWEEN(1,9)&IF(Service!F890=\"\",TRIM(LEFT(Translit.Translit(Service!E890),3))&INDEX(Service!A890:A915,RANDBETWEEN(1,26),1),TRIM(LEFT(Translit.Translit(Service!F890),2))&INDEX(Service!H890:H908,RANDBETWEEN(1,19),1)&INDEX(Service!A890:A915,RANDBETWEEN(1,26),1)),'Информация о пользователе'!G892)","v":{"$error":"#NAME?"}}]
[{"$f":"TRIM(IF('Информация о пользователе'!A893=\"\",\"Пусто\",'Информация о пользователе'!A893))","v":"Пусто"},{"$f":"TRIM(IF('Информация о пользователе'!B893=\"\",\" \",'Информация о пользователе'!B893&\" \"&'Информация о пользователе'!C893))","v":""},{"$f":"TRIM(IF(AD!A892=\"\",\"\",AD!B892&\" \"&A892))","v":"Пусто"},{"$f":"TRIM(IF('Информация о пользователе'!D893=\"\",F892&\"@edu54.ru\",'Информация о пользователе'!D893))","v":"pusto@edu54.ru"},{"$f":"TRIM(IF('Информация о пользователе'!E893=\"\",\"\",'Информация о пользователе'!E893))","v":""},{"$f":"IF('Информация о пользователе'!F893=\"\",TRIM(Translit.Translit(A892)&TRIM(LEFT(Translit.Translit(Service!E891),1))&TRIM(LEFT(Translit.Translit(Service!F891),1))),TRIM('Информация о пользователе'!F893))","v":"pusto"},{"$f":"IF('Информация о пользователе'!G893=\"\",TRIM(LEFT(Translit.Translit(Service!E891),2))&INDEX(Service!H891:H909,RANDBETWEEN(1,19),1)&RANDBETWEEN(1,9)&IF(Service!F891=\"\",TRIM(LEFT(Translit.Translit(Service!E891),3))&INDEX(Service!A891:A916,RANDBETWEEN(1,26),1),TRIM(LEFT(Translit.Translit(Service!F891),2))&INDEX(Service!H891:H909,RANDBETWEEN(1,19),1)&INDEX(Service!A891:A916,RANDBETWEEN(1,26),1)),'Информация о пользователе'!G893)","v":{"$error":"#NAME?"}}]
[{"$f":"TRIM(IF('Информация о пользователе'!A894=\"\",\"Пусто\",'Информация о пользователе'!A894))","v":"Пусто"},{"$f":"TRIM(IF('Информация о пользователе'!B894=\"\",\" \",'Информация о пользователе'!B894&\" \"&'Информация о пользователе'!C894))","v":""},{"$f":"TRIM(IF(AD!A893=\"\",\"\",AD!B893&\" \"&A893))","v":"Пусто"},{"$f":"TRIM(IF('Информация о пользователе'!D894=\"\",F893&\"@edu54.ru\",'Информация о пользователе'!D894))","v":"pusto@edu54.ru"},{"$f":"TRIM(IF('Информация о пользователе'!E894=\"\",\"\",'Информация о пользователе'!E894))","v":""},{"$f":"IF('Информация о пользователе'!F894=\"\",TRIM(Translit.Translit(A893)&TRIM(LEFT(Translit.Translit(Service!E892),1))&TRIM(LEFT(Translit.Translit(Service!F892),1))),TRIM('Информация о пользователе'!F894))","v":"pusto"},{"$f":"IF('Информация о пользователе'!G894=\"\",TRIM(LEFT(Translit.Translit(Service!E892),2))&INDEX(Service!H892:H910,RANDBETWEEN(1,19),1)&RANDBETWEEN(1,9)&IF(Service!F892=\"\",TRIM(LEFT(Translit.Translit(Service!E892),3))&INDEX(Service!A892:A917,RANDBETWEEN(1,26),1),TRIM(LEFT(Translit.Translit(Service!F892),2))&INDEX(Service!H892:H910,RANDBETWEEN(1,19),1)&INDEX(Service!A892:A917,RANDBETWEEN(1,26),1)),'Информация о пользователе'!G894)","v":{"$error":"#NAME?"}}]
[{"$f":"TRIM(IF('Информация о пользователе'!A895=\"\",\"Пусто\",'Информация о пользователе'!A895))","v":"Пусто"},{"$f":"TRIM(IF('Информация о пользователе'!B895=\"\",\" \",'Информация о пользователе'!B895&\" \"&'Информация о пользователе'!C895))","v":""},{"$f":"TRIM(IF(AD!A894=\"\",\"\",AD!B894&\" \"&A894))","v":"Пусто"},{"$f":"TRIM(IF('Информация о пользователе'!D895=\"\",F894&\"@edu54.ru\",'Информация о пользователе'!D895))","v":"pusto@edu54.ru"},{"$f":"TRIM(IF('Информация о пользователе'!E895=\"\",\"\",'Информация о пользователе'!E895))","v":""},{"$f":"IF('Информация о пользователе'!F895=\"\",TRIM(Translit.Translit(A894)&TRIM(LEFT(Translit.Translit(Service!E893),1))&TRIM(LEFT(Translit.Translit(Service!F893),1))),TRIM('Информация о пользователе'!F895))","v":"pusto"},{"$f":"IF('Информация о пользователе'!G895=\"\",TRIM(LEFT(Translit.Translit(Service!E893),2))&INDEX(Service!H893:H911,RANDBETWEEN(1,19),1)&RANDBETWEEN(1,9)&IF(Service!F893=\"\",TRIM(LEFT(Translit.Translit(Service!E893),3))&INDEX(Service!A893:A918,RANDBETWEEN(1,26),1),TRIM(LEFT(Translit.Translit(Service!F893),2))&INDEX(Service!H893:H911,RANDBETWEEN(1,19),1)&INDEX(Service!A893:A918,RANDBETWEEN(1,26),1)),'Информация о пользователе'!G895)","v":{"$error":"#NAME?"}}]
[{"$f":"TRIM(IF('Информация о пользователе'!A896=\"\",\"Пусто\",'Информация о пользователе'!A896))","v":"Пусто"},{"$f":"TRIM(IF('Информация о пользователе'!B896=\"\",\" \",'Информация о пользователе'!B896&\" \"&'Информация о пользователе'!C896))","v":""},{"$f":"TRIM(IF(AD!A895=\"\",\"\",AD!B895&\" \"&A895))","v":"Пусто"},{"$f":"TRIM(IF('Информация о пользователе'!D896=\"\",F895&\"@edu54.ru\",'Информация о пользователе'!D896))","v":"pusto@edu54.ru"},{"$f":"TRIM(IF('Информация о пользователе'!E896=\"\",\"\",'Информация о пользователе'!E896))","v":""},{"$f":"IF('Информация о пользователе'!F896=\"\",TRIM(Translit.Translit(A895)&TRIM(LEFT(Translit.Translit(Service!E894),1))&TRIM(LEFT(Translit.Translit(Service!F894),1))),TRIM('Информация о пользователе'!F896))","v":"pusto"},{"$f":"IF('Информация о пользователе'!G896=\"\",TRIM(LEFT(Translit.Translit(Service!E894),2))&INDEX(Service!H894:H912,RANDBETWEEN(1,19),1)&RANDBETWEEN(1,9)&IF(Service!F894=\"\",TRIM(LEFT(Translit.Translit(Service!E894),3))&INDEX(Service!A894:A919,RANDBETWEEN(1,26),1),TRIM(LEFT(Translit.Translit(Service!F894),2))&INDEX(Service!H894:H912,RANDBETWEEN(1,19),1)&INDEX(Service!A894:A919,RANDBETWEEN(1,26),1)),'Информация о пользователе'!G896)","v":{"$error":"#NAME?"}}]
[{"$f":"TRIM(IF('Информация о пользователе'!A897=\"\",\"Пусто\",'Информация о пользователе'!A897))","v":"Пусто"},{"$f":"TRIM(IF('Информация о пользователе'!B897=\"\",\" \",'Информация о пользователе'!B897&\" \"&'Информация о пользователе'!C897))","v":""},{"$f":"TRIM(IF(AD!A896=\"\",\"\",AD!B896&\" \"&A896))","v":"Пусто"},{"$f":"TRIM(IF('Информация о пользователе'!D897=\"\",F896&\"@edu54.ru\",'Информация о пользователе'!D897))","v":"pusto@edu54.ru"},{"$f":"TRIM(IF('Информация о пользователе'!E897=\"\",\"\",'Информация о пользователе'!E897))","v":""},{"$f":"IF('Информация о пользователе'!F897=\"\",TRIM(Translit.Translit(A896)&TRIM(LEFT(Translit.Translit(Service!E895),1))&TRIM(LEFT(Translit.Translit(Service!F895),1))),TRIM('Информация о пользователе'!F897))","v":"pusto"},{"$f":"IF('Информация о пользователе'!G897=\"\",TRIM(LEFT(Translit.Translit(Service!E895),2))&INDEX(Service!H895:H913,RANDBETWEEN(1,19),1)&RANDBETWEEN(1,9)&IF(Service!F895=\"\",TRIM(LEFT(Translit.Translit(Service!E895),3))&INDEX(Service!A895:A920,RANDBETWEEN(1,26),1),TRIM(LEFT(Translit.Translit(Service!F895),2))&INDEX(Service!H895:H913,RANDBETWEEN(1,19),1)&INDEX(Service!A895:A920,RANDBETWEEN(1,26),1)),'Информация о пользователе'!G897)","v":{"$error":"#NAME?"}}]
[{"$f":"TRIM(IF('Информация о пользователе'!A898=\"\",\"Пусто\",'Информация о пользователе'!A898))","v":"Пусто"},{"$f":"TRIM(IF('Информация о пользователе'!B898=\"\",\" \",'Информация о пользователе'!B898&\" \"&'Информация о пользователе'!C898))","v":""},{"$f":"TRIM(IF(AD!A897=\"\",\"\",AD!B897&\" \"&A897))","v":"Пусто"},{"$f":"TRIM(IF('Информация о пользователе'!D898=\"\",F897&\"@edu54.ru\",'Информация о пользователе'!D898))","v":"pusto@edu54.ru"},{"$f":"TRIM(IF('Информация о пользователе'!E898=\"\",\"\",'Информация о пользователе'!E898))","v":""},{"$f":"IF('Информация о пользователе'!F898=\"\",TRIM(Translit.Translit(A897)&TRIM(LEFT(Translit.Translit(Service!E896),1))&TRIM(LEFT(Translit.Translit(Service!F896),1))),TRIM('Информация о пользователе'!F898))","v":"pusto"},{"$f":"IF('Информация о пользователе'!G898=\"\",TRIM(LEFT(Translit.Translit(Service!E896),2))&INDEX(Service!H896:H914,RANDBETWEEN(1,19),1)&RANDBETWEEN(1,9)&IF(Service!F896=\"\",TRIM(LEFT(Translit.Translit(Service!E896),3))&INDEX(Service!A896:A921,RANDBETWEEN(1,26),1),TRIM(LEFT(Translit.Translit(Service!F896),2))&INDEX(Service!H896:H914,RANDBETWEEN(1,19),1)&INDEX(Service!A896:A921,RANDBETWEEN(1,26),1)),'Информация о пользователе'!G898)","v":{"$error":"#NAME?"}}]
[{"$f":"TRIM(IF('Информация о пользователе'!A899=\"\",\"Пусто\",'Информация о пользователе'!A899))","v":"Пусто"},{"$f":"TRIM(IF('Информация о пользователе'!B899=\"\",\" \",'Информация о пользователе'!B899&\" \"&'Информация о пользователе'!C899))","v":""},{"$f":"TRIM(IF(AD!A898=\"\",\"\",AD!B898&\" \"&A898))","v":"Пусто"},{"$f":"TRIM(IF('Информация о пользователе'!D899=\"\",F898&\"@edu54.ru\",'Информация о пользователе'!D899))","v":"pusto@edu54.ru"},{"$f":"TRIM(IF('Информация о пользователе'!E899=\"\",\"\",'Информация о пользователе'!E899))","v":""},{"$f":"IF('Информация о пользователе'!F899=\"\",TRIM(Translit.Translit(A898)&TRIM(LEFT(Translit.Translit(Service!E897),1))&TRIM(LEFT(Translit.Translit(Service!F897),1))),TRIM('Информация о пользователе'!F899))","v":"pusto"},{"$f":"IF('Информация о пользователе'!G899=\"\",TRIM(LEFT(Translit.Translit(Service!E897),2))&INDEX(Service!H897:H915,RANDBETWEEN(1,19),1)&RANDBETWEEN(1,9)&IF(Service!F897=\"\",TRIM(LEFT(Translit.Translit(Service!E897),3))&INDEX(Service!A897:A922,RANDBETWEEN(1,26),1),TRIM(LEFT(Translit.Translit(Service!F897),2))&INDEX(Service!H897:H915,RANDBETWEEN(1,19),1)&INDEX(Service!A897:A922,RANDBETWEEN(1,26),1)),'Информация о пользователе'!G899)","v":{"$error":"#NAME?"}}]
[{"$f":"TRIM(IF('Информация о пользователе'!A900=\"\",\"Пусто\",'Информация о пользователе'!A900))","v":"Пусто"},{"$f":"TRIM(IF('Информация о пользователе'!B900=\"\",\" \",'Информация о пользователе'!B900&\" \"&'Информация о пользователе'!C900))","v":""},{"$f":"TRIM(IF(AD!A899=\"\",\"\",AD!B899&\" \"&A899))","v":"Пусто"},{"$f":"TRIM(IF('Информация о пользователе'!D900=\"\",F899&\"@edu54.ru\",'Информация о пользователе'!D900))","v":"pusto@edu54.ru"},{"$f":"TRIM(IF('Информация о пользователе'!E900=\"\",\"\",'Информация о пользователе'!E900))","v":""},{"$f":"IF('Информация о пользователе'!F900=\"\",TRIM(Translit.Translit(A899)&TRIM(LEFT(Translit.Translit(Service!E898),1))&TRIM(LEFT(Translit.Translit(Service!F898),1))),TRIM('Информация о пользователе'!F900))","v":"pusto"},{"$f":"IF('Информация о пользователе'!G900=\"\",TRIM(LEFT(Translit.Translit(Service!E898),2))&INDEX(Service!H898:H916,RANDBETWEEN(1,19),1)&RANDBETWEEN(1,9)&IF(Service!F898=\"\",TRIM(LEFT(Translit.Translit(Service!E898),3))&INDEX(Service!A898:A923,RANDBETWEEN(1,26),1),TRIM(LEFT(Translit.Translit(Service!F898),2))&INDEX(Service!H898:H916,RANDBETWEEN(1,19),1)&INDEX(Service!A898:A923,RANDBETWEEN(1,26),1)),'Информация о пользователе'!G900)","v":{"$error":"#NAME?"}}]
[{"$f":"TRIM(IF('Информация о пользователе'!A901=\"\",\"Пусто\",'Информация о пользователе'!A901))","v":"Пусто"},{"$f":"TRIM(IF('Информация о пользователе'!B901=\"\",\" \",'Информация о пользователе'!B901&\" \"&'Информация о пользователе'!C901))","v":""},{"$f":"TRIM(IF(AD!A900=\"\",\"\",AD!B900&\" \"&A900))","v":"Пусто"},{"$f":"TRIM(IF('Информация о пользователе'!D901=\"\",F900&\"@edu54.ru\",'Информация о пользователе'!D901))","v":"pusto@edu54.ru"},{"$f":"TRIM(IF('Информация о пользователе'!E901=\"\",\"\",'Информация о пользователе'!E901))","v":""},{"$f":"IF('Информация о пользователе'!F901=\"\",TRIM(Translit.Translit(A900)&TRIM(LEFT(Translit.Translit(Service!E899),1))&TRIM(LEFT(Translit.Translit(Service!F899),1))),TRIM('Информация о пользователе'!F901))","v":"pusto"},{"$f":"IF('Информация о пользователе'!G901=\"\",TRIM(LEFT(Translit.Translit(Service!E899),2))&INDEX(Service!H899:H917,RANDBETWEEN(1,19),1)&RANDBETWEEN(1,9)&IF(Service!F899=\"\",TRIM(LEFT(Translit.Translit(Service!E899),3))&INDEX(Service!A899:A924,RANDBETWEEN(1,26),1),TRIM(LEFT(Translit.Translit(Service!F899),2))&INDEX(Service!H899:H917,RANDBETWEEN(1,19),1)&INDEX(Service!A899:A924,RANDBETWEEN(1,26),1)),'Информация о пользователе'!G901)","v":{"$error":"#NAME?"}}]
[{"$f":"TRIM(IF('Информация о пользователе'!A902=\"\",\"Пусто\",'Информация о пользователе'!A902))","v":"Пусто"},{"$f":"TRIM(IF('Информация о пользователе'!B902=\"\",\" \",'Информация о пользователе'!B902&\" \"&'Информация о пользователе'!C902))","v":""},{"$f":"TRIM(IF(AD!A901=\"\",\"\",AD!B901&\" \"&A901))","v":"Пусто"},{"$f":"TRIM(IF('Информация о пользователе'!D902=\"\",F901&\"@edu54.ru\",'Информация о пользователе'!D902))","v":"pusto@edu54.ru"},{"$f":"TRIM(IF('Информация о пользователе'!E902=\"\",\"\",'Информация о пользователе'!E902))","v":""},{"$f":"IF('Информация о пользователе'!F902=\"\",TRIM(Translit.Translit(A901)&TRIM(LEFT(Translit.Translit(Service!E900),1))&TRIM(LEFT(Translit.Translit(Service!F900),1))),TRIM('Информация о пользователе'!F902))","v":"pusto"},{"$f":"IF('Информация о пользователе'!G902=\"\",TRIM(LEFT(Translit.Translit(Service!E900),2))&INDEX(Service!H900:H918,RANDBETWEEN(1,19),1)&RANDBETWEEN(1,9)&IF(Service!F900=\"\",TRIM(LEFT(Translit.Translit(Service!E900),3))&INDEX(Service!A900:A925,RANDBETWEEN(1,26),1),TRIM(LEFT(Translit.Translit(Service!F900),2))&INDEX(Service!H900:H918,RANDBETWEEN(1,19),1)&INDEX(Service!A900:A925,RANDBETWEEN(1,26),1)),'Информация о пользователе'!G902)","v":{"$error":"#NAME?"}}]
[{"$f":"TRIM(IF('Информация о пользователе'!A903=\"\",\"Пусто\",'Информация о пользователе'!A903))","v":"Пусто"},{"$f":"TRIM(IF('Информация о пользователе'!B903=\"\",\" \",'Информация о пользователе'!B903&\" \"&'Информация о пользователе'!C903))","v":""},{"$f":"TRIM(IF(AD!A902=\"\",\"\",AD!B902&\" \"&A902))","v":"Пусто"},{"$f":"TRIM(IF('Информация о пользователе'!D903=\"\",F902&\"@edu54.ru\",'Информация о пользователе'!D903))","v":"pusto@edu54.ru"},{"$f":"TRIM(IF('Информация о пользователе'!E903=\"\",\"\",'Информация о пользователе'!E903))","v":""},{"$f":"IF('Информация о пользователе'!F903=\"\",TRIM(Translit.Translit(A902)&TRIM(LEFT(Translit.Translit(Service!E901),1))&TRIM(LEFT(Translit.Translit(Service!F901),1))),TRIM('Информация о пользователе'!F903))","v":"pusto"},{"$f":"IF('Информация о пользователе'!G903=\"\",TRIM(LEFT(Translit.Translit(Service!E901),2))&INDEX(Service!H901:H919,RANDBETWEEN(1,19),1)&RANDBETWEEN(1,9)&IF(Service!F901=\"\",TRIM(LEFT(Translit.Translit(Service!E901),3))&INDEX(Service!A901:A926,RANDBETWEEN(1,26),1),TRIM(LEFT(Translit.Translit(Service!F901),2))&INDEX(Service!H901:H919,RANDBETWEEN(1,19),1)&INDEX(Service!A901:A926,RANDBETWEEN(1,26),1)),'Информация о пользователе'!G903)","v":{"$error":"#NAME?"}}]
[{"$f":"TRIM(IF('Информация о пользователе'!A904=\"\",\"Пусто\",'Информация о пользователе'!A904))","v":"Пусто"},{"$f":"TRIM(IF('Информация о пользователе'!B904=\"\",\" \",'Информация о пользователе'!B904&\" \"&'Информация о пользователе'!C904))","v":""},{"$f":"TRIM(IF(AD!A903=\"\",\"\",AD!B903&\" \"&A903))","v":"Пусто"},{"$f":"TRIM(IF('Информация о пользователе'!D904=\"\",F903&\"@edu54.ru\",'Информация о пользователе'!D904))","v":"pusto@edu54.ru"},{"$f":"TRIM(IF('Информация о пользователе'!E904=\"\",\"\",'Информация о пользователе'!E904))","v":""},{"$f":"IF('Информация о пользователе'!F904=\"\",TRIM(Translit.Translit(A903)&TRIM(LEFT(Translit.Translit(Service!E902),1))&TRIM(LEFT(Translit.Translit(Service!F902),1))),TRIM('Информация о пользователе'!F904))","v":"pusto"},{"$f":"IF('Информация о пользователе'!G904=\"\",TRIM(LEFT(Translit.Translit(Service!E902),2))&INDEX(Service!H902:H920,RANDBETWEEN(1,19),1)&RANDBETWEEN(1,9)&IF(Service!F902=\"\",TRIM(LEFT(Translit.Translit(Service!E902),3))&INDEX(Service!A902:A927,RANDBETWEEN(1,26),1),TRIM(LEFT(Translit.Translit(Service!F902),2))&INDEX(Service!H902:H920,RANDBETWEEN(1,19),1)&INDEX(Service!A902:A927,RANDBETWEEN(1,26),1)),'Информация о пользователе'!G904)","v":{"$error":"#NAME?"}}]
[{"$f":"TRIM(IF('Информация о пользователе'!A905=\"\",\"Пусто\",'Информация о пользователе'!A905))","v":"Пусто"},{"$f":"TRIM(IF('Информация о пользователе'!B905=\"\",\" \",'Информация о пользователе'!B905&\" \"&'Информация о пользователе'!C905))","v":""},{"$f":"TRIM(IF(AD!A904=\"\",\"\",AD!B904&\" \"&A904))","v":"Пусто"},{"$f":"TRIM(IF('Информация о пользователе'!D905=\"\",F904&\"@edu54.ru\",'Информация о пользователе'!D905))","v":"pusto@edu54.ru"},{"$f":"TRIM(IF('Информация о пользователе'!E905=\"\",\"\",'Информация о пользователе'!E905))","v":""},{"$f":"IF('Информация о пользователе'!F905=\"\",TRIM(Translit.Translit(A904)&TRIM(LEFT(Translit.Translit(Service!E903),1))&TRIM(LEFT(Translit.Translit(Service!F903),1))),TRIM('Информация о пользователе'!F905))","v":"pusto"},{"$f":"IF('Информация о пользователе'!G905=\"\",TRIM(LEFT(Translit.Translit(Service!E903),2))&INDEX(Service!H903:H921,RANDBETWEEN(1,19),1)&RANDBETWEEN(1,9)&IF(Service!F903=\"\",TRIM(LEFT(Translit.Translit(Service!E903),3))&INDEX(Service!A903:A928,RANDBETWEEN(1,26),1),TRIM(LEFT(Translit.Translit(Service!F903),2))&INDEX(Service!H903:H921,RANDBETWEEN(1,19),1)&INDEX(Service!A903:A928,RANDBETWEEN(1,26),1)),'Информация о пользователе'!G905)","v":{"$error":"#NAME?"}}]
[{"$f":"TRIM(IF('Информация о пользователе'!A906=\"\",\"Пусто\",'Информация о пользователе'!A906))","v":"Пусто"},{"$f":"TRIM(IF('Информация о пользователе'!B906=\"\",\" \",'Информация о пользователе'!B906&\" \"&'Информация о пользователе'!C906))","v":""},{"$f":"TRIM(IF(AD!A905=\"\",\"\",AD!B905&\" \"&A905))","v":"Пусто"},{"$f":"TRIM(IF('Информация о пользователе'!D906=\"\",F905&\"@edu54.ru\",'Информация о пользователе'!D906))","v":"pusto@edu54.ru"},{"$f":"TRIM(IF('Информация о пользователе'!E906=\"\",\"\",'Информация о пользователе'!E906))","v":""},{"$f":"IF('Информация о пользователе'!F906=\"\",TRIM(Translit.Translit(A905)&TRIM(LEFT(Translit.Translit(Service!E904),1))&TRIM(LEFT(Translit.Translit(Service!F904),1))),TRIM('Информация о пользователе'!F906))","v":"pusto"},{"$f":"IF('Информация о пользователе'!G906=\"\",TRIM(LEFT(Translit.Translit(Service!E904),2))&INDEX(Service!H904:H922,RANDBETWEEN(1,19),1)&RANDBETWEEN(1,9)&IF(Service!F904=\"\",TRIM(LEFT(Translit.Translit(Service!E904),3))&INDEX(Service!A904:A929,RANDBETWEEN(1,26),1),TRIM(LEFT(Translit.Translit(Service!F904),2))&INDEX(Service!H904:H922,RANDBETWEEN(1,19),1)&INDEX(Service!A904:A929,RANDBETWEEN(1,26),1)),'Информация о пользователе'!G906)","v":{"$error":"#NAME?"}}]
[{"$f":"TRIM(IF('Информация о пользователе'!A907=\"\",\"Пусто\",'Информация о пользователе'!A907))","v":"Пусто"},{"$f":"TRIM(IF('Информация о пользователе'!B907=\"\",\" \",'Информация о пользователе'!B907&\" \"&'Информация о пользователе'!C907))","v":""},{"$f":"TRIM(IF(AD!A906=\"\",\"\",AD!B906&\" \"&A906))","v":"Пусто"},{"$f":"TRIM(IF('Информация о пользователе'!D907=\"\",F906&\"@edu54.ru\",'Информация о пользователе'!D907))","v":"pusto@edu54.ru"},{"$f":"TRIM(IF('Информация о пользователе'!E907=\"\",\"\",'Информация о пользователе'!E907))","v":""},{"$f":"IF('Информация о пользователе'!F907=\"\",TRIM(Translit.Translit(A906)&TRIM(LEFT(Translit.Translit(Service!E905),1))&TRIM(LEFT(Translit.Translit(Service!F905),1))),TRIM('Информация о пользователе'!F907))","v":"pusto"},{"$f":"IF('Информация о пользователе'!G907=\"\",TRIM(LEFT(Translit.Translit(Service!E905),2))&INDEX(Service!H905:H923,RANDBETWEEN(1,19),1)&RANDBETWEEN(1,9)&IF(Service!F905=\"\",TRIM(LEFT(Translit.Translit(Service!E905),3))&INDEX(Service!A905:A930,RANDBETWEEN(1,26),1),TRIM(LEFT(Translit.Translit(Service!F905),2))&INDEX(Service!H905:H923,RANDBETWEEN(1,19),1)&INDEX(Service!A905:A930,RANDBETWEEN(1,26),1)),'Информация о пользователе'!G907)","v":{"$error":"#NAME?"}}]
[{"$f":"TRIM(IF('Информация о пользователе'!A908=\"\",\"Пусто\",'Информация о пользователе'!A908))","v":"Пусто"},{"$f":"TRIM(IF('Информация о пользователе'!B908=\"\",\" \",'Информация о пользователе'!B908&\" \"&'Информация о пользователе'!C908))","v":""},{"$f":"TRIM(IF(AD!A907=\"\",\"\",AD!B907&\" \"&A907))","v":"Пусто"},{"$f":"TRIM(IF('Информация о пользователе'!D908=\"\",F907&\"@edu54.ru\",'Информация о пользователе'!D908))","v":"pusto@edu54.ru"},{"$f":"TRIM(IF('Информация о пользователе'!E908=\"\",\"\",'Информация о пользователе'!E908))","v":""},{"$f":"IF('Информация о пользователе'!F908=\"\",TRIM(Translit.Translit(A907)&TRIM(LEFT(Translit.Translit(Service!E906),1))&TRIM(LEFT(Translit.Translit(Service!F906),1))),TRIM('Информация о пользователе'!F908))","v":"pusto"},{"$f":"IF('Информация о пользователе'!G908=\"\",TRIM(LEFT(Translit.Translit(Service!E906),2))&INDEX(Service!H906:H924,RANDBETWEEN(1,19),1)&RANDBETWEEN(1,9)&IF(Service!F906=\"\",TRIM(LEFT(Translit.Translit(Service!E906),3))&INDEX(Service!A906:A931,RANDBETWEEN(1,26),1),TRIM(LEFT(Translit.Translit(Service!F906),2))&INDEX(Service!H906:H924,RANDBETWEEN(1,19),1)&INDEX(Service!A906:A931,RANDBETWEEN(1,26),1)),'Информация о пользователе'!G908)","v":{"$error":"#NAME?"}}]
[{"$f":"TRIM(IF('Информация о пользователе'!A909=\"\",\"Пусто\",'Информация о пользователе'!A909))","v":"Пусто"},{"$f":"TRIM(IF('Информация о пользователе'!B909=\"\",\" \",'Информация о пользователе'!B909&\" \"&'Информация о пользователе'!C909))","v":""},{"$f":"TRIM(IF(AD!A908=\"\",\"\",AD!B908&\" \"&A908))","v":"Пусто"},{"$f":"TRIM(IF('Информация о пользователе'!D909=\"\",F908&\"@edu54.ru\",'Информация о пользователе'!D909))","v":"pusto@edu54.ru"},{"$f":"TRIM(IF('Информация о пользователе'!E909=\"\",\"\",'Информация о пользователе'!E909))","v":""},{"$f":"IF('Информация о пользователе'!F909=\"\",TRIM(Translit.Translit(A908)&TRIM(LEFT(Translit.Translit(Service!E907),1))&TRIM(LEFT(Translit.Translit(Service!F907),1))),TRIM('Информация о пользователе'!F909))","v":"pusto"},{"$f":"IF('Информация о пользователе'!G909=\"\",TRIM(LEFT(Translit.Translit(Service!E907),2))&INDEX(Service!H907:H925,RANDBETWEEN(1,19),1)&RANDBETWEEN(1,9)&IF(Service!F907=\"\",TRIM(LEFT(Translit.Translit(Service!E907),3))&INDEX(Service!A907:A932,RANDBETWEEN(1,26),1),TRIM(LEFT(Translit.Translit(Service!F907),2))&INDEX(Service!H907:H925,RANDBETWEEN(1,19),1)&INDEX(Service!A907:A932,RANDBETWEEN(1,26),1)),'Информация о пользователе'!G909)","v":{"$error":"#NAME?"}}]
[{"$f":"TRIM(IF('Информация о пользователе'!A910=\"\",\"Пусто\",'Информация о пользователе'!A910))","v":"Пусто"},{"$f":"TRIM(IF('Информация о пользователе'!B910=\"\",\" \",'Информация о пользователе'!B910&\" \"&'Информация о пользователе'!C910))","v":""},{"$f":"TRIM(IF(AD!A909=\"\",\"\",AD!B909&\" \"&A909))","v":"Пусто"},{"$f":"TRIM(IF('Информация о пользователе'!D910=\"\",F909&\"@edu54.ru\",'Информация о пользователе'!D910))","v":"pusto@edu54.ru"},{"$f":"TRIM(IF('Информация о пользователе'!E910=\"\",\"\",'Информация о пользователе'!E910))","v":""},{"$f":"IF('Информация о пользователе'!F910=\"\",TRIM(Translit.Translit(A909)&TRIM(LEFT(Translit.Translit(Service!E908),1))&TRIM(LEFT(Translit.Translit(Service!F908),1))),TRIM('Информация о пользователе'!F910))","v":"pusto"},{"$f":"IF('Информация о пользователе'!G910=\"\",TRIM(LEFT(Translit.Translit(Service!E908),2))&INDEX(Service!H908:H926,RANDBETWEEN(1,19),1)&RANDBETWEEN(1,9)&IF(Service!F908=\"\",TRIM(LEFT(Translit.Translit(Service!E908),3))&INDEX(Service!A908:A933,RANDBETWEEN(1,26),1),TRIM(LEFT(Translit.Translit(Service!F908),2))&INDEX(Service!H908:H926,RANDBETWEEN(1,19),1)&INDEX(Service!A908:A933,RANDBETWEEN(1,26),1)),'Информация о пользователе'!G910)","v":{"$error":"#NAME?"}}]
[{"$f":"TRIM(IF('Информация о пользователе'!A911=\"\",\"Пусто\",'Информация о пользователе'!A911))","v":"Пусто"},{"$f":"TRIM(IF('Информация о пользователе'!B911=\"\",\" \",'Информация о пользователе'!B911&\" \"&'Информация о пользователе'!C911))","v":""},{"$f":"TRIM(IF(AD!A910=\"\",\"\",AD!B910&\" \"&A910))","v":"Пусто"},{"$f":"TRIM(IF('Информация о пользователе'!D911=\"\",F910&\"@edu54.ru\",'Информация о пользователе'!D911))","v":"pusto@edu54.ru"},{"$f":"TRIM(IF('Информация о пользователе'!E911=\"\",\"\",'Информация о пользователе'!E911))","v":""},{"$f":"IF('Информация о пользователе'!F911=\"\",TRIM(Translit.Translit(A910)&TRIM(LEFT(Translit.Translit(Service!E909),1))&TRIM(LEFT(Translit.Translit(Service!F909),1))),TRIM('Информация о пользователе'!F911))","v":"pusto"},{"$f":"IF('Информация о пользователе'!G911=\"\",TRIM(LEFT(Translit.Translit(Service!E909),2))&INDEX(Service!H909:H927,RANDBETWEEN(1,19),1)&RANDBETWEEN(1,9)&IF(Service!F909=\"\",TRIM(LEFT(Translit.Translit(Service!E909),3))&INDEX(Service!A909:A934,RANDBETWEEN(1,26),1),TRIM(LEFT(Translit.Translit(Service!F909),2))&INDEX(Service!H909:H927,RANDBETWEEN(1,19),1)&INDEX(Service!A909:A934,RANDBETWEEN(1,26),1)),'Информация о пользователе'!G911)","v":{"$error":"#NAME?"}}]
[{"$f":"TRIM(IF('Информация о пользователе'!A912=\"\",\"Пусто\",'Информация о пользователе'!A912))","v":"Пусто"},{"$f":"TRIM(IF('Информация о пользователе'!B912=\"\",\" \",'Информация о пользователе'!B912&\" \"&'Информация о пользователе'!C912))","v":""},{"$f":"TRIM(IF(AD!A911=\"\",\"\",AD!B911&\" \"&A911))","v":"Пусто"},{"$f":"TRIM(IF('Информация о пользователе'!D912=\"\",F911&\"@edu54.ru\",'Информация о пользователе'!D912))","v":"pusto@edu54.ru"},{"$f":"TRIM(IF('Информация о пользователе'!E912=\"\",\"\",'Информация о пользователе'!E912))","v":""},{"$f":"IF('Информация о пользователе'!F912=\"\",TRIM(Translit.Translit(A911)&TRIM(LEFT(Translit.Translit(Service!E910),1))&TRIM(LEFT(Translit.Translit(Service!F910),1))),TRIM('Информация о пользователе'!F912))","v":"pusto"},{"$f":"IF('Информация о пользователе'!G912=\"\",TRIM(LEFT(Translit.Translit(Service!E910),2))&INDEX(Service!H910:H928,RANDBETWEEN(1,19),1)&RANDBETWEEN(1,9)&IF(Service!F910=\"\",TRIM(LEFT(Translit.Translit(Service!E910),3))&INDEX(Service!A910:A935,RANDBETWEEN(1,26),1),TRIM(LEFT(Translit.Translit(Service!F910),2))&INDEX(Service!H910:H928,RANDBETWEEN(1,19),1)&INDEX(Service!A910:A935,RANDBETWEEN(1,26),1)),'Информация о пользователе'!G912)","v":{"$error":"#NAME?"}}]
[{"$f":"TRIM(IF('Информация о пользователе'!A913=\"\",\"Пусто\",'Информация о пользователе'!A913))","v":"Пусто"},{"$f":"TRIM(IF('Информация о пользователе'!B913=\"\",\" \",'Информация о пользователе'!B913&\" \"&'Информация о пользователе'!C913))","v":""},{"$f":"TRIM(IF(AD!A912=\"\",\"\",AD!B912&\" \"&A912))","v":"Пусто"},{"$f":"TRIM(IF('Информация о пользователе'!D913=\"\",F912&\"@edu54.ru\",'Информация о пользователе'!D913))","v":"pusto@edu54.ru"},{"$f":"TRIM(IF('Информация о пользователе'!E913=\"\",\"\",'Информация о пользователе'!E913))","v":""},{"$f":"IF('Информация о пользователе'!F913=\"\",TRIM(Translit.Translit(A912)&TRIM(LEFT(Translit.Translit(Service!E911),1))&TRIM(LEFT(Translit.Translit(Service!F911),1))),TRIM('Информация о пользователе'!F913))","v":"pusto"},{"$f":"IF('Информация о пользователе'!G913=\"\",TRIM(LEFT(Translit.Translit(Service!E911),2))&INDEX(Service!H911:H929,RANDBETWEEN(1,19),1)&RANDBETWEEN(1,9)&IF(Service!F911=\"\",TRIM(LEFT(Translit.Translit(Service!E911),3))&INDEX(Service!A911:A936,RANDBETWEEN(1,26),1),TRIM(LEFT(Translit.Translit(Service!F911),2))&INDEX(Service!H911:H929,RANDBETWEEN(1,19),1)&INDEX(Service!A911:A936,RANDBETWEEN(1,26),1)),'Информация о пользователе'!G913)","v":{"$error":"#NAME?"}}]
[{"$f":"TRIM(IF('Информация о пользователе'!A914=\"\",\"Пусто\",'Информация о пользователе'!A914))","v":"Пусто"},{"$f":"TRIM(IF('Информация о пользователе'!B914=\"\",\" \",'Информация о пользователе'!B914&\" \"&'Информация о пользователе'!C914))","v":""},{"$f":"TRIM(IF(AD!A913=\"\",\"\",AD!B913&\" \"&A913))","v":"Пусто"},{"$f":"TRIM(IF('Информация о пользователе'!D914=\"\",F913&\"@edu54.ru\",'Информация о пользователе'!D914))","v":"pusto@edu54.ru"},{"$f":"TRIM(IF('Информация о пользователе'!E914=\"\",\"\",'Информация о пользователе'!E914))","v":""},{"$f":"IF('Информация о пользователе'!F914=\"\",TRIM(Translit.Translit(A913)&TRIM(LEFT(Translit.Translit(Service!E912),1))&TRIM(LEFT(Translit.Translit(Service!F912),1))),TRIM('Информация о пользователе'!F914))","v":"pusto"},{"$f":"IF('Информация о пользователе'!G914=\"\",TRIM(LEFT(Translit.Translit(Service!E912),2))&INDEX(Service!H912:H930,RANDBETWEEN(1,19),1)&RANDBETWEEN(1,9)&IF(Service!F912=\"\",TRIM(LEFT(Translit.Translit(Service!E912),3))&INDEX(Service!A912:A937,RANDBETWEEN(1,26),1),TRIM(LEFT(Translit.Translit(Service!F912),2))&INDEX(Service!H912:H930,RANDBETWEEN(1,19),1)&INDEX(Service!A912:A937,RANDBETWEEN(1,26),1)),'Информация о пользователе'!G914)","v":{"$error":"#NAME?"}}]
[{"$f":"TRIM(IF('Информация о пользователе'!A915=\"\",\"Пусто\",'Информация о пользователе'!A915))","v":"Пусто"},{"$f":"TRIM(IF('Информация о пользователе'!B915=\"\",\" \",'Информация о пользователе'!B915&\" \"&'Информация о пользователе'!C915))","v":""},{"$f":"TRIM(IF(AD!A914=\"\",\"\",AD!B914&\" \"&A914))","v":"Пусто"},{"$f":"TRIM(IF('Информация о пользователе'!D915=\"\",F914&\"@edu54.ru\",'Информация о пользователе'!D915))","v":"pusto@edu54.ru"},{"$f":"TRIM(IF('Информация о пользователе'!E915=\"\",\"\",'Информация о пользователе'!E915))","v":""},{"$f":"IF('Информация о пользователе'!F915=\"\",TRIM(Translit.Translit(A914)&TRIM(LEFT(Translit.Translit(Service!E913),1))&TRIM(LEFT(Translit.Translit(Service!F913),1))),TRIM('Информация о пользователе'!F915))","v":"pusto"},{"$f":"IF('Информация о пользователе'!G915=\"\",TRIM(LEFT(Translit.Translit(Service!E913),2))&INDEX(Service!H913:H931,RANDBETWEEN(1,19),1)&RANDBETWEEN(1,9)&IF(Service!F913=\"\",TRIM(LEFT(Translit.Translit(Service!E913),3))&INDEX(Service!A913:A938,RANDBETWEEN(1,26),1),TRIM(LEFT(Translit.Translit(Service!F913),2))&INDEX(Service!H913:H931,RANDBETWEEN(1,19),1)&INDEX(Service!A913:A938,RANDBETWEEN(1,26),1)),'Информация о пользователе'!G915)","v":{"$error":"#NAME?"}}]
[{"$f":"TRIM(IF('Информация о пользователе'!A916=\"\",\"Пусто\",'Информация о пользователе'!A916))","v":"Пусто"},{"$f":"TRIM(IF('Информация о пользователе'!B916=\"\",\" \",'Информация о пользователе'!B916&\" \"&'Информация о пользователе'!C916))","v":""},{"$f":"TRIM(IF(AD!A915=\"\",\"\",AD!B915&\" \"&A915))","v":"Пусто"},{"$f":"TRIM(IF('Информация о пользователе'!D916=\"\",F915&\"@edu54.ru\",'Информация о пользователе'!D916))","v":"pusto@edu54.ru"},{"$f":"TRIM(IF('Информация о пользователе'!E916=\"\",\"\",'Информация о пользователе'!E916))","v":""},{"$f":"IF('Информация о пользователе'!F916=\"\",TRIM(Translit.Translit(A915)&TRIM(LEFT(Translit.Translit(Service!E914),1))&TRIM(LEFT(Translit.Translit(Service!F914),1))),TRIM('Информация о пользователе'!F916))","v":"pusto"},{"$f":"IF('Информация о пользователе'!G916=\"\",TRIM(LEFT(Translit.Translit(Service!E914),2))&INDEX(Service!H914:H932,RANDBETWEEN(1,19),1)&RANDBETWEEN(1,9)&IF(Service!F914=\"\",TRIM(LEFT(Translit.Translit(Service!E914),3))&INDEX(Service!A914:A939,RANDBETWEEN(1,26),1),TRIM(LEFT(Translit.Translit(Service!F914),2))&INDEX(Service!H914:H932,RANDBETWEEN(1,19),1)&INDEX(Service!A914:A939,RANDBETWEEN(1,26),1)),'Информация о пользователе'!G916)","v":{"$error":"#NAME?"}}]
[{"$f":"TRIM(IF('Информация о пользователе'!A917=\"\",\"Пусто\",'Информация о пользователе'!A917))","v":"Пусто"},{"$f":"TRIM(IF('Информация о пользователе'!B917=\"\",\" \",'Информация о пользователе'!B917&\" \"&'Информация о пользователе'!C917))","v":""},{"$f":"TRIM(IF(AD!A916=\"\",\"\",AD!B916&\" \"&A916))","v":"Пусто"},{"$f":"TRIM(IF('Информация о пользователе'!D917=\"\",F916&\"@edu54.ru\",'Информация о пользователе'!D917))","v":"pusto@edu54.ru"},{"$f":"TRIM(IF('Информация о пользователе'!E917=\"\",\"\",'Информация о пользователе'!E917))","v":""},{"$f":"IF('Информация о пользователе'!F917=\"\",TRIM(Translit.Translit(A916)&TRIM(LEFT(Translit.Translit(Service!E915),1))&TRIM(LEFT(Translit.Translit(Service!F915),1))),TRIM('Информация о пользователе'!F917))","v":"pusto"},{"$f":"IF('Информация о пользователе'!G917=\"\",TRIM(LEFT(Translit.Translit(Service!E915),2))&INDEX(Service!H915:H933,RANDBETWEEN(1,19),1)&RANDBETWEEN(1,9)&IF(Service!F915=\"\",TRIM(LEFT(Translit.Translit(Service!E915),3))&INDEX(Service!A915:A940,RANDBETWEEN(1,26),1),TRIM(LEFT(Translit.Translit(Service!F915),2))&INDEX(Service!H915:H933,RANDBETWEEN(1,19),1)&INDEX(Service!A915:A940,RANDBETWEEN(1,26),1)),'Информация о пользователе'!G917)","v":{"$error":"#NAME?"}}]
[{"$f":"TRIM(IF('Информация о пользователе'!A918=\"\",\"Пусто\",'Информация о пользователе'!A918))","v":"Пусто"},{"$f":"TRIM(IF('Информация о пользователе'!B918=\"\",\" \",'Информация о пользователе'!B918&\" \"&'Информация о пользователе'!C918))","v":""},{"$f":"TRIM(IF(AD!A917=\"\",\"\",AD!B917&\" \"&A917))","v":"Пусто"},{"$f":"TRIM(IF('Информация о пользователе'!D918=\"\",F917&\"@edu54.ru\",'Информация о пользователе'!D918))","v":"pusto@edu54.ru"},{"$f":"TRIM(IF('Информация о пользователе'!E918=\"\",\"\",'Информация о пользователе'!E918))","v":""},{"$f":"IF('Информация о пользователе'!F918=\"\",TRIM(Translit.Translit(A917)&TRIM(LEFT(Translit.Translit(Service!E916),1))&TRIM(LEFT(Translit.Translit(Service!F916),1))),TRIM('Информация о пользователе'!F918))","v":"pusto"},{"$f":"IF('Информация о пользователе'!G918=\"\",TRIM(LEFT(Translit.Translit(Service!E916),2))&INDEX(Service!H916:H934,RANDBETWEEN(1,19),1)&RANDBETWEEN(1,9)&IF(Service!F916=\"\",TRIM(LEFT(Translit.Translit(Service!E916),3))&INDEX(Service!A916:A941,RANDBETWEEN(1,26),1),TRIM(LEFT(Translit.Translit(Service!F916),2))&INDEX(Service!H916:H934,RANDBETWEEN(1,19),1)&INDEX(Service!A916:A941,RANDBETWEEN(1,26),1)),'Информация о пользователе'!G918)","v":{"$error":"#NAME?"}}]
[{"$f":"TRIM(IF('Информация о пользователе'!A919=\"\",\"Пусто\",'Информация о пользователе'!A919))","v":"Пусто"},{"$f":"TRIM(IF('Информация о пользователе'!B919=\"\",\" \",'Информация о пользователе'!B919&\" \"&'Информация о пользователе'!C919))","v":""},{"$f":"TRIM(IF(AD!A918=\"\",\"\",AD!B918&\" \"&A918))","v":"Пусто"},{"$f":"TRIM(IF('Информация о пользователе'!D919=\"\",F918&\"@edu54.ru\",'Информация о пользователе'!D919))","v":"pusto@edu54.ru"},{"$f":"TRIM(IF('Информация о пользователе'!E919=\"\",\"\",'Информация о пользователе'!E919))","v":""},{"$f":"IF('Информация о пользователе'!F919=\"\",TRIM(Translit.Translit(A918)&TRIM(LEFT(Translit.Translit(Service!E917),1))&TRIM(LEFT(Translit.Translit(Service!F917),1))),TRIM('Информация о пользователе'!F919))","v":"pusto"},{"$f":"IF('Информация о пользователе'!G919=\"\",TRIM(LEFT(Translit.Translit(Service!E917),2))&INDEX(Service!H917:H935,RANDBETWEEN(1,19),1)&RANDBETWEEN(1,9)&IF(Service!F917=\"\",TRIM(LEFT(Translit.Translit(Service!E917),3))&INDEX(Service!A917:A942,RANDBETWEEN(1,26),1),TRIM(LEFT(Translit.Translit(Service!F917),2))&INDEX(Service!H917:H935,RANDBETWEEN(1,19),1)&INDEX(Service!A917:A942,RANDBETWEEN(1,26),1)),'Информация о пользователе'!G919)","v":{"$error":"#NAME?"}}]
[{"$f":"TRIM(IF('Информация о пользователе'!A920=\"\",\"Пусто\",'Информация о пользователе'!A920))","v":"Пусто"},{"$f":"TRIM(IF('Информация о пользователе'!B920=\"\",\" \",'Информация о пользователе'!B920&\" \"&'Информация о пользователе'!C920))","v":""},{"$f":"TRIM(IF(AD!A919=\"\",\"\",AD!B919&\" \"&A919))","v":"Пусто"},{"$f":"TRIM(IF('Информация о пользователе'!D920=\"\",F919&\"@edu54.ru\",'Информация о пользователе'!D920))","v":"pusto@edu54.ru"},{"$f":"TRIM(IF('Информация о пользователе'!E920=\"\",\"\",'Информация о пользователе'!E920))","v":""},{"$f":"IF('Информация о пользователе'!F920=\"\",TRIM(Translit.Translit(A919)&TRIM(LEFT(Translit.Translit(Service!E918),1))&TRIM(LEFT(Translit.Translit(Service!F918),1))),TRIM('Информация о пользователе'!F920))","v":"pusto"},{"$f":"IF('Информация о пользователе'!G920=\"\",TRIM(LEFT(Translit.Translit(Service!E918),2))&INDEX(Service!H918:H936,RANDBETWEEN(1,19),1)&RANDBETWEEN(1,9)&IF(Service!F918=\"\",TRIM(LEFT(Translit.Translit(Service!E918),3))&INDEX(Service!A918:A943,RANDBETWEEN(1,26),1),TRIM(LEFT(Translit.Translit(Service!F918),2))&INDEX(Service!H918:H936,RANDBETWEEN(1,19),1)&INDEX(Service!A918:A943,RANDBETWEEN(1,26),1)),'Информация о пользователе'!G920)","v":{"$error":"#NAME?"}}]
[{"$f":"TRIM(IF('Информация о пользователе'!A921=\"\",\"Пусто\",'Информация о пользователе'!A921))","v":"Пусто"},{"$f":"TRIM(IF('Информация о пользователе'!B921=\"\",\" \",'Информация о пользователе'!B921&\" \"&'Информация о пользователе'!C921))","v":""},{"$f":"TRIM(IF(AD!A920=\"\",\"\",AD!B920&\" \"&A920))","v":"Пусто"},{"$f":"TRIM(IF('Информация о пользователе'!D921=\"\",F920&\"@edu54.ru\",'Информация о пользователе'!D921))","v":"pusto@edu54.ru"},{"$f":"TRIM(IF('Информация о пользователе'!E921=\"\",\"\",'Информация о пользователе'!E921))","v":""},{"$f":"IF('Информация о пользователе'!F921=\"\",TRIM(Translit.Translit(A920)&TRIM(LEFT(Translit.Translit(Service!E919),1))&TRIM(LEFT(Translit.Translit(Service!F919),1))),TRIM('Информация о пользователе'!F921))","v":"pusto"},{"$f":"IF('Информация о пользователе'!G921=\"\",TRIM(LEFT(Translit.Translit(Service!E919),2))&INDEX(Service!H919:H937,RANDBETWEEN(1,19),1)&RANDBETWEEN(1,9)&IF(Service!F919=\"\",TRIM(LEFT(Translit.Translit(Service!E919),3))&INDEX(Service!A919:A944,RANDBETWEEN(1,26),1),TRIM(LEFT(Translit.Translit(Service!F919),2))&INDEX(Service!H919:H937,RANDBETWEEN(1,19),1)&INDEX(Service!A919:A944,RANDBETWEEN(1,26),1)),'Информация о пользователе'!G921)","v":{"$error":"#NAME?"}}]
[{"$f":"TRIM(IF('Информация о пользователе'!A922=\"\",\"Пусто\",'Информация о пользователе'!A922))","v":"Пусто"},{"$f":"TRIM(IF('Информация о пользователе'!B922=\"\",\" \",'Информация о пользователе'!B922&\" \"&'Информация о пользователе'!C922))","v":""},{"$f":"TRIM(IF(AD!A921=\"\",\"\",AD!B921&\" \"&A921))","v":"Пусто"},{"$f":"TRIM(IF('Информация о пользователе'!D922=\"\",F921&\"@edu54.ru\",'Информация о пользователе'!D922))","v":"pusto@edu54.ru"},{"$f":"TRIM(IF('Информация о пользователе'!E922=\"\",\"\",'Информация о пользователе'!E922))","v":""},{"$f":"IF('Информация о пользователе'!F922=\"\",TRIM(Translit.Translit(A921)&TRIM(LEFT(Translit.Translit(Service!E920),1))&TRIM(LEFT(Translit.Translit(Service!F920),1))),TRIM('Информация о пользователе'!F922))","v":"pusto"},{"$f":"IF('Информация о пользователе'!G922=\"\",TRIM(LEFT(Translit.Translit(Service!E920),2))&INDEX(Service!H920:H938,RANDBETWEEN(1,19),1)&RANDBETWEEN(1,9)&IF(Service!F920=\"\",TRIM(LEFT(Translit.Translit(Service!E920),3))&INDEX(Service!A920:A945,RANDBETWEEN(1,26),1),TRIM(LEFT(Translit.Translit(Service!F920),2))&INDEX(Service!H920:H938,RANDBETWEEN(1,19),1)&INDEX(Service!A920:A945,RANDBETWEEN(1,26),1)),'Информация о пользователе'!G922)","v":{"$error":"#NAME?"}}]
[{"$f":"TRIM(IF('Информация о пользователе'!A923=\"\",\"Пусто\",'Информация о пользователе'!A923))","v":"Пусто"},{"$f":"TRIM(IF('Информация о пользователе'!B923=\"\",\" \",'Информация о пользователе'!B923&\" \"&'Информация о пользователе'!C923))","v":""},{"$f":"TRIM(IF(AD!A922=\"\",\"\",AD!B922&\" \"&A922))","v":"Пусто"},{"$f":"TRIM(IF('Информация о пользователе'!D923=\"\",F922&\"@edu54.ru\",'Информация о пользователе'!D923))","v":"pusto@edu54.ru"},{"$f":"TRIM(IF('Информация о пользователе'!E923=\"\",\"\",'Информация о пользователе'!E923))","v":""},{"$f":"IF('Информация о пользователе'!F923=\"\",TRIM(Translit.Translit(A922)&TRIM(LEFT(Translit.Translit(Service!E921),1))&TRIM(LEFT(Translit.Translit(Service!F921),1))),TRIM('Информация о пользователе'!F923))","v":"pusto"},{"$f":"IF('Информация о пользователе'!G923=\"\",TRIM(LEFT(Translit.Translit(Service!E921),2))&INDEX(Service!H921:H939,RANDBETWEEN(1,19),1)&RANDBETWEEN(1,9)&IF(Service!F921=\"\",TRIM(LEFT(Translit.Translit(Service!E921),3))&INDEX(Service!A921:A946,RANDBETWEEN(1,26),1),TRIM(LEFT(Translit.Translit(Service!F921),2))&INDEX(Service!H921:H939,RANDBETWEEN(1,19),1)&INDEX(Service!A921:A946,RANDBETWEEN(1,26),1)),'Информация о пользователе'!G923)","v":{"$error":"#NAME?"}}]
[{"$f":"TRIM(IF('Информация о пользователе'!A924=\"\",\"Пусто\",'Информация о пользователе'!A924))","v":"Пусто"},{"$f":"TRIM(IF('Информация о пользователе'!B924=\"\",\" \",'Информация о пользователе'!B924&\" \"&'Информация о пользователе'!C924))","v":""},{"$f":"TRIM(IF(AD!A923=\"\",\"\",AD!B923&\" \"&A923))","v":"Пусто"},{"$f":"TRIM(IF('Информация о пользователе'!D924=\"\",F923&\"@edu54.ru\",'Информация о пользователе'!D924))","v":"pusto@edu54.ru"},{"$f":"TRIM(IF('Информация о пользователе'!E924=\"\",\"\",'Информация о пользователе'!E924))","v":""},{"$f":"IF('Информация о пользователе'!F924=\"\",TRIM(Translit.Translit(A923)&TRIM(LEFT(Translit.Translit(Service!E922),1))&TRIM(LEFT(Translit.Translit(Service!F922),1))),TRIM('Информация о пользователе'!F924))","v":"pusto"},{"$f":"IF('Информация о пользователе'!G924=\"\",TRIM(LEFT(Translit.Translit(Service!E922),2))&INDEX(Service!H922:H940,RANDBETWEEN(1,19),1)&RANDBETWEEN(1,9)&IF(Service!F922=\"\",TRIM(LEFT(Translit.Translit(Service!E922),3))&INDEX(Service!A922:A947,RANDBETWEEN(1,26),1),TRIM(LEFT(Translit.Translit(Service!F922),2))&INDEX(Service!H922:H940,RANDBETWEEN(1,19),1)&INDEX(Service!A922:A947,RANDBETWEEN(1,26),1)),'Информация о пользователе'!G924)","v":{"$error":"#NAME?"}}]
[{"$f":"TRIM(IF('Информация о пользователе'!A925=\"\",\"Пусто\",'Информация о пользователе'!A925))","v":"Пусто"},{"$f":"TRIM(IF('Информация о пользователе'!B925=\"\",\" \",'Информация о пользователе'!B925&\" \"&'Информация о пользователе'!C925))","v":""},{"$f":"TRIM(IF(AD!A924=\"\",\"\",AD!B924&\" \"&A924))","v":"Пусто"},{"$f":"TRIM(IF('Информация о пользователе'!D925=\"\",F924&\"@edu54.ru\",'Информация о пользователе'!D925))","v":"pusto@edu54.ru"},{"$f":"TRIM(IF('Информация о пользователе'!E925=\"\",\"\",'Информация о пользователе'!E925))","v":""},{"$f":"IF('Информация о пользователе'!F925=\"\",TRIM(Translit.Translit(A924)&TRIM(LEFT(Translit.Translit(Service!E923),1))&TRIM(LEFT(Translit.Translit(Service!F923),1))),TRIM('Информация о пользователе'!F925))","v":"pusto"},{"$f":"IF('Информация о пользователе'!G925=\"\",TRIM(LEFT(Translit.Translit(Service!E923),2))&INDEX(Service!H923:H941,RANDBETWEEN(1,19),1)&RANDBETWEEN(1,9)&IF(Service!F923=\"\",TRIM(LEFT(Translit.Translit(Service!E923),3))&INDEX(Service!A923:A948,RANDBETWEEN(1,26),1),TRIM(LEFT(Translit.Translit(Service!F923),2))&INDEX(Service!H923:H941,RANDBETWEEN(1,19),1)&INDEX(Service!A923:A948,RANDBETWEEN(1,26),1)),'Информация о пользователе'!G925)","v":{"$error":"#NAME?"}}]
[{"$f":"TRIM(IF('Информация о пользователе'!A926=\"\",\"Пусто\",'Информация о пользователе'!A926))","v":"Пусто"},{"$f":"TRIM(IF('Информация о пользователе'!B926=\"\",\" \",'Информация о пользователе'!B926&\" \"&'Информация о пользователе'!C926))","v":""},{"$f":"TRIM(IF(AD!A925=\"\",\"\",AD!B925&\" \"&A925))","v":"Пусто"},{"$f":"TRIM(IF('Информация о пользователе'!D926=\"\",F925&\"@edu54.ru\",'Информация о пользователе'!D926))","v":"pusto@edu54.ru"},{"$f":"TRIM(IF('Информация о пользователе'!E926=\"\",\"\",'Информация о пользователе'!E926))","v":""},{"$f":"IF('Информация о пользователе'!F926=\"\",TRIM(Translit.Translit(A925)&TRIM(LEFT(Translit.Translit(Service!E924),1))&TRIM(LEFT(Translit.Translit(Service!F924),1))),TRIM('Информация о пользователе'!F926))","v":"pusto"},{"$f":"IF('Информация о пользователе'!G926=\"\",TRIM(LEFT(Translit.Translit(Service!E924),2))&INDEX(Service!H924:H942,RANDBETWEEN(1,19),1)&RANDBETWEEN(1,9)&IF(Service!F924=\"\",TRIM(LEFT(Translit.Translit(Service!E924),3))&INDEX(Service!A924:A949,RANDBETWEEN(1,26),1),TRIM(LEFT(Translit.Translit(Service!F924),2))&INDEX(Service!H924:H942,RANDBETWEEN(1,19),1)&INDEX(Service!A924:A949,RANDBETWEEN(1,26),1)),'Информация о пользователе'!G926)","v":{"$error":"#NAME?"}}]
[{"$f":"TRIM(IF('Информация о пользователе'!A927=\"\",\"Пусто\",'Информация о пользователе'!A927))","v":"Пусто"},{"$f":"TRIM(IF('Информация о пользователе'!B927=\"\",\" \",'Информация о пользователе'!B927&\" \"&'Информация о пользователе'!C927))","v":""},{"$f":"TRIM(IF(AD!A926=\"\",\"\",AD!B926&\" \"&A926))","v":"Пусто"},{"$f":"TRIM(IF('Информация о пользователе'!D927=\"\",F926&\"@edu54.ru\",'Информация о пользователе'!D927))","v":"pusto@edu54.ru"},{"$f":"TRIM(IF('Информация о пользователе'!E927=\"\",\"\",'Информация о пользователе'!E927))","v":""},{"$f":"IF('Информация о пользователе'!F927=\"\",TRIM(Translit.Translit(A926)&TRIM(LEFT(Translit.Translit(Service!E925),1))&TRIM(LEFT(Translit.Translit(Service!F925),1))),TRIM('Информация о пользователе'!F927))","v":"pusto"},{"$f":"IF('Информация о пользователе'!G927=\"\",TRIM(LEFT(Translit.Translit(Service!E925),2))&INDEX(Service!H925:H943,RANDBETWEEN(1,19),1)&RANDBETWEEN(1,9)&IF(Service!F925=\"\",TRIM(LEFT(Translit.Translit(Service!E925),3))&INDEX(Service!A925:A950,RANDBETWEEN(1,26),1),TRIM(LEFT(Translit.Translit(Service!F925),2))&INDEX(Service!H925:H943,RANDBETWEEN(1,19),1)&INDEX(Service!A925:A950,RANDBETWEEN(1,26),1)),'Информация о пользователе'!G927)","v":{"$error":"#NAME?"}}]
[{"$f":"TRIM(IF('Информация о пользователе'!A928=\"\",\"Пусто\",'Информация о пользователе'!A928))","v":"Пусто"},{"$f":"TRIM(IF('Информация о пользователе'!B928=\"\",\" \",'Информация о пользователе'!B928&\" \"&'Информация о пользователе'!C928))","v":""},{"$f":"TRIM(IF(AD!A927=\"\",\"\",AD!B927&\" \"&A927))","v":"Пусто"},{"$f":"TRIM(IF('Информация о пользователе'!D928=\"\",F927&\"@edu54.ru\",'Информация о пользователе'!D928))","v":"pusto@edu54.ru"},{"$f":"TRIM(IF('Информация о пользователе'!E928=\"\",\"\",'Информация о пользователе'!E928))","v":""},{"$f":"IF('Информация о пользователе'!F928=\"\",TRIM(Translit.Translit(A927)&TRIM(LEFT(Translit.Translit(Service!E926),1))&TRIM(LEFT(Translit.Translit(Service!F926),1))),TRIM('Информация о пользователе'!F928))","v":"pusto"},{"$f":"IF('Информация о пользователе'!G928=\"\",TRIM(LEFT(Translit.Translit(Service!E926),2))&INDEX(Service!H926:H944,RANDBETWEEN(1,19),1)&RANDBETWEEN(1,9)&IF(Service!F926=\"\",TRIM(LEFT(Translit.Translit(Service!E926),3))&INDEX(Service!A926:A951,RANDBETWEEN(1,26),1),TRIM(LEFT(Translit.Translit(Service!F926),2))&INDEX(Service!H926:H944,RANDBETWEEN(1,19),1)&INDEX(Service!A926:A951,RANDBETWEEN(1,26),1)),'Информация о пользователе'!G928)","v":{"$error":"#NAME?"}}]
[{"$f":"TRIM(IF('Информация о пользователе'!A929=\"\",\"Пусто\",'Информация о пользователе'!A929))","v":"Пусто"},{"$f":"TRIM(IF('Информация о пользователе'!B929=\"\",\" \",'Информация о пользователе'!B929&\" \"&'Информация о пользователе'!C929))","v":""},{"$f":"TRIM(IF(AD!A928=\"\",\"\",AD!B928&\" \"&A928))","v":"Пусто"},{"$f":"TRIM(IF('Информация о пользователе'!D929=\"\",F928&\"@edu54.ru\",'Информация о пользователе'!D929))","v":"pusto@edu54.ru"},{"$f":"TRIM(IF('Информация о пользователе'!E929=\"\",\"\",'Информация о пользователе'!E929))","v":""},{"$f":"IF('Информация о пользователе'!F929=\"\",TRIM(Translit.Translit(A928)&TRIM(LEFT(Translit.Translit(Service!E927),1))&TRIM(LEFT(Translit.Translit(Service!F927),1))),TRIM('Информация о пользователе'!F929))","v":"pusto"},{"$f":"IF('Информация о пользователе'!G929=\"\",TRIM(LEFT(Translit.Translit(Service!E927),2))&INDEX(Service!H927:H945,RANDBETWEEN(1,19),1)&RANDBETWEEN(1,9)&IF(Service!F927=\"\",TRIM(LEFT(Translit.Translit(Service!E927),3))&INDEX(Service!A927:A952,RANDBETWEEN(1,26),1),TRIM(LEFT(Translit.Translit(Service!F927),2))&INDEX(Service!H927:H945,RANDBETWEEN(1,19),1)&INDEX(Service!A927:A952,RANDBETWEEN(1,26),1)),'Информация о пользователе'!G929)","v":{"$error":"#NAME?"}}]
[{"$f":"TRIM(IF('Информация о пользователе'!A930=\"\",\"Пусто\",'Информация о пользователе'!A930))","v":"Пусто"},{"$f":"TRIM(IF('Информация о пользователе'!B930=\"\",\" \",'Информация о пользователе'!B930&\" \"&'Информация о пользователе'!C930))","v":""},{"$f":"TRIM(IF(AD!A929=\"\",\"\",AD!B929&\" \"&A929))","v":"Пусто"},{"$f":"TRIM(IF('Информация о пользователе'!D930=\"\",F929&\"@edu54.ru\",'Информация о пользователе'!D930))","v":"pusto@edu54.ru"},{"$f":"TRIM(IF('Информация о пользователе'!E930=\"\",\"\",'Информация о пользователе'!E930))","v":""},{"$f":"IF('Информация о пользователе'!F930=\"\",TRIM(Translit.Translit(A929)&TRIM(LEFT(Translit.Translit(Service!E928),1))&TRIM(LEFT(Translit.Translit(Service!F928),1))),TRIM('Информация о пользователе'!F930))","v":"pusto"},{"$f":"IF('Информация о пользователе'!G930=\"\",TRIM(LEFT(Translit.Translit(Service!E928),2))&INDEX(Service!H928:H946,RANDBETWEEN(1,19),1)&RANDBETWEEN(1,9)&IF(Service!F928=\"\",TRIM(LEFT(Translit.Translit(Service!E928),3))&INDEX(Service!A928:A953,RANDBETWEEN(1,26),1),TRIM(LEFT(Translit.Translit(Service!F928),2))&INDEX(Service!H928:H946,RANDBETWEEN(1,19),1)&INDEX(Service!A928:A953,RANDBETWEEN(1,26),1)),'Информация о пользователе'!G930)","v":{"$error":"#NAME?"}}]
[{"$f":"TRIM(IF('Информация о пользователе'!A931=\"\",\"Пусто\",'Информация о пользователе'!A931))","v":"Пусто"},{"$f":"TRIM(IF('Информация о пользователе'!B931=\"\",\" \",'Информация о пользователе'!B931&\" \"&'Информация о пользователе'!C931))","v":""},{"$f":"TRIM(IF(AD!A930=\"\",\"\",AD!B930&\" \"&A930))","v":"Пусто"},{"$f":"TRIM(IF('Информация о пользователе'!D931=\"\",F930&\"@edu54.ru\",'Информация о пользователе'!D931))","v":"pusto@edu54.ru"},{"$f":"TRIM(IF('Информация о пользователе'!E931=\"\",\"\",'Информация о пользователе'!E931))","v":""},{"$f":"IF('Информация о пользователе'!F931=\"\",TRIM(Translit.Translit(A930)&TRIM(LEFT(Translit.Translit(Service!E929),1))&TRIM(LEFT(Translit.Translit(Service!F929),1))),TRIM('Информация о пользователе'!F931))","v":"pusto"},{"$f":"IF('Информация о пользователе'!G931=\"\",TRIM(LEFT(Translit.Translit(Service!E929),2))&INDEX(Service!H929:H947,RANDBETWEEN(1,19),1)&RANDBETWEEN(1,9)&IF(Service!F929=\"\",TRIM(LEFT(Translit.Translit(Service!E929),3))&INDEX(Service!A929:A954,RANDBETWEEN(1,26),1),TRIM(LEFT(Translit.Translit(Service!F929),2))&INDEX(Service!H929:H947,RANDBETWEEN(1,19),1)&INDEX(Service!A929:A954,RANDBETWEEN(1,26),1)),'Информация о пользователе'!G931)","v":{"$error":"#NAME?"}}]
[{"$f":"TRIM(IF('Информация о пользователе'!A932=\"\",\"Пусто\",'Информация о пользователе'!A932))","v":"Пусто"},{"$f":"TRIM(IF('Информация о пользователе'!B932=\"\",\" \",'Информация о пользователе'!B932&\" \"&'Информация о пользователе'!C932))","v":""},{"$f":"TRIM(IF(AD!A931=\"\",\"\",AD!B931&\" \"&A931))","v":"Пусто"},{"$f":"TRIM(IF('Информация о пользователе'!D932=\"\",F931&\"@edu54.ru\",'Информация о пользователе'!D932))","v":"pusto@edu54.ru"},{"$f":"TRIM(IF('Информация о пользователе'!E932=\"\",\"\",'Информация о пользователе'!E932))","v":""},{"$f":"IF('Информация о пользователе'!F932=\"\",TRIM(Translit.Translit(A931)&TRIM(LEFT(Translit.Translit(Service!E930),1))&TRIM(LEFT(Translit.Translit(Service!F930),1))),TRIM('Информация о пользователе'!F932))","v":"pusto"},{"$f":"IF('Информация о пользователе'!G932=\"\",TRIM(LEFT(Translit.Translit(Service!E930),2))&INDEX(Service!H930:H948,RANDBETWEEN(1,19),1)&RANDBETWEEN(1,9)&IF(Service!F930=\"\",TRIM(LEFT(Translit.Translit(Service!E930),3))&INDEX(Service!A930:A955,RANDBETWEEN(1,26),1),TRIM(LEFT(Translit.Translit(Service!F930),2))&INDEX(Service!H930:H948,RANDBETWEEN(1,19),1)&INDEX(Service!A930:A955,RANDBETWEEN(1,26),1)),'Информация о пользователе'!G932)","v":{"$error":"#NAME?"}}]
[{"$f":"TRIM(IF('Информация о пользователе'!A933=\"\",\"Пусто\",'Информация о пользователе'!A933))","v":"Пусто"},{"$f":"TRIM(IF('Информация о пользователе'!B933=\"\",\" \",'Информация о пользователе'!B933&\" \"&'Информация о пользователе'!C933))","v":""},{"$f":"TRIM(IF(AD!A932=\"\",\"\",AD!B932&\" \"&A932))","v":"Пусто"},{"$f":"TRIM(IF('Информация о пользователе'!D933=\"\",F932&\"@edu54.ru\",'Информация о пользователе'!D933))","v":"pusto@edu54.ru"},{"$f":"TRIM(IF('Информация о пользователе'!E933=\"\",\"\",'Информация о пользователе'!E933))","v":""},{"$f":"IF('Информация о пользователе'!F933=\"\",TRIM(Translit.Translit(A932)&TRIM(LEFT(Translit.Translit(Service!E931),1))&TRIM(LEFT(Translit.Translit(Service!F931),1))),TRIM('Информация о пользователе'!F933))","v":"pusto"},{"$f":"IF('Информация о пользователе'!G933=\"\",TRIM(LEFT(Translit.Translit(Service!E931),2))&INDEX(Service!H931:H949,RANDBETWEEN(1,19),1)&RANDBETWEEN(1,9)&IF(Service!F931=\"\",TRIM(LEFT(Translit.Translit(Service!E931),3))&INDEX(Service!A931:A956,RANDBETWEEN(1,26),1),TRIM(LEFT(Translit.Translit(Service!F931),2))&INDEX(Service!H931:H949,RANDBETWEEN(1,19),1)&INDEX(Service!A931:A956,RANDBETWEEN(1,26),1)),'Информация о пользователе'!G933)","v":{"$error":"#NAME?"}}]
[{"$f":"TRIM(IF('Информация о пользователе'!A934=\"\",\"Пусто\",'Информация о пользователе'!A934))","v":"Пусто"},{"$f":"TRIM(IF('Информация о пользователе'!B934=\"\",\" \",'Информация о пользователе'!B934&\" \"&'Информация о пользователе'!C934))","v":""},{"$f":"TRIM(IF(AD!A933=\"\",\"\",AD!B933&\" \"&A933))","v":"Пусто"},{"$f":"TRIM(IF('Информация о пользователе'!D934=\"\",F933&\"@edu54.ru\",'Информация о пользователе'!D934))","v":"pusto@edu54.ru"},{"$f":"TRIM(IF('Информация о пользователе'!E934=\"\",\"\",'Информация о пользователе'!E934))","v":""},{"$f":"IF('Информация о пользователе'!F934=\"\",TRIM(Translit.Translit(A933)&TRIM(LEFT(Translit.Translit(Service!E932),1))&TRIM(LEFT(Translit.Translit(Service!F932),1))),TRIM('Информация о пользователе'!F934))","v":"pusto"},{"$f":"IF('Информация о пользователе'!G934=\"\",TRIM(LEFT(Translit.Translit(Service!E932),2))&INDEX(Service!H932:H950,RANDBETWEEN(1,19),1)&RANDBETWEEN(1,9)&IF(Service!F932=\"\",TRIM(LEFT(Translit.Translit(Service!E932),3))&INDEX(Service!A932:A957,RANDBETWEEN(1,26),1),TRIM(LEFT(Translit.Translit(Service!F932),2))&INDEX(Service!H932:H950,RANDBETWEEN(1,19),1)&INDEX(Service!A932:A957,RANDBETWEEN(1,26),1)),'Информация о пользователе'!G934)","v":{"$error":"#NAME?"}}]
[{"$f":"TRIM(IF('Информация о пользователе'!A935=\"\",\"Пусто\",'Информация о пользователе'!A935))","v":"Пусто"},{"$f":"TRIM(IF('Информация о пользователе'!B935=\"\",\" \",'Информация о пользователе'!B935&\" \"&'Информация о пользователе'!C935))","v":""},{"$f":"TRIM(IF(AD!A934=\"\",\"\",AD!B934&\" \"&A934))","v":"Пусто"},{"$f":"TRIM(IF('Информация о пользователе'!D935=\"\",F934&\"@edu54.ru\",'Информация о пользователе'!D935))","v":"pusto@edu54.ru"},{"$f":"TRIM(IF('Информация о пользователе'!E935=\"\",\"\",'Информация о пользователе'!E935))","v":""},{"$f":"IF('Информация о пользователе'!F935=\"\",TRIM(Translit.Translit(A934)&TRIM(LEFT(Translit.Translit(Service!E933),1))&TRIM(LEFT(Translit.Translit(Service!F933),1))),TRIM('Информация о пользователе'!F935))","v":"pusto"},{"$f":"IF('Информация о пользователе'!G935=\"\",TRIM(LEFT(Translit.Translit(Service!E933),2))&INDEX(Service!H933:H951,RANDBETWEEN(1,19),1)&RANDBETWEEN(1,9)&IF(Service!F933=\"\",TRIM(LEFT(Translit.Translit(Service!E933),3))&INDEX(Service!A933:A958,RANDBETWEEN(1,26),1),TRIM(LEFT(Translit.Translit(Service!F933),2))&INDEX(Service!H933:H951,RANDBETWEEN(1,19),1)&INDEX(Service!A933:A958,RANDBETWEEN(1,26),1)),'Информация о пользователе'!G935)","v":{"$error":"#NAME?"}}]
[{"$f":"TRIM(IF('Информация о пользователе'!A936=\"\",\"Пусто\",'Информация о пользователе'!A936))","v":"Пусто"},{"$f":"TRIM(IF('Информация о пользователе'!B936=\"\",\" \",'Информация о пользователе'!B936&\" \"&'Информация о пользователе'!C936))","v":""},{"$f":"TRIM(IF(AD!A935=\"\",\"\",AD!B935&\" \"&A935))","v":"Пусто"},{"$f":"TRIM(IF('Информация о пользователе'!D936=\"\",F935&\"@edu54.ru\",'Информация о пользователе'!D936))","v":"pusto@edu54.ru"},{"$f":"TRIM(IF('Информация о пользователе'!E936=\"\",\"\",'Информация о пользователе'!E936))","v":""},{"$f":"IF('Информация о пользователе'!F936=\"\",TRIM(Translit.Translit(A935)&TRIM(LEFT(Translit.Translit(Service!E934),1))&TRIM(LEFT(Translit.Translit(Service!F934),1))),TRIM('Информация о пользователе'!F936))","v":"pusto"},{"$f":"IF('Информация о пользователе'!G936=\"\",TRIM(LEFT(Translit.Translit(Service!E934),2))&INDEX(Service!H934:H952,RANDBETWEEN(1,19),1)&RANDBETWEEN(1,9)&IF(Service!F934=\"\",TRIM(LEFT(Translit.Translit(Service!E934),3))&INDEX(Service!A934:A959,RANDBETWEEN(1,26),1),TRIM(LEFT(Translit.Translit(Service!F934),2))&INDEX(Service!H934:H952,RANDBETWEEN(1,19),1)&INDEX(Service!A934:A959,RANDBETWEEN(1,26),1)),'Информация о пользователе'!G936)","v":{"$error":"#NAME?"}}]
[{"$f":"TRIM(IF('Информация о пользователе'!A937=\"\",\"Пусто\",'Информация о пользователе'!A937))","v":"Пусто"},{"$f":"TRIM(IF('Информация о пользователе'!B937=\"\",\" \",'Информация о пользователе'!B937&\" \"&'Информация о пользователе'!C937))","v":""},{"$f":"TRIM(IF(AD!A936=\"\",\"\",AD!B936&\" \"&A936))","v":"Пусто"},{"$f":"TRIM(IF('Информация о пользователе'!D937=\"\",F936&\"@edu54.ru\",'Информация о пользователе'!D937))","v":"pusto@edu54.ru"},{"$f":"TRIM(IF('Информация о пользователе'!E937=\"\",\"\",'Информация о пользователе'!E937))","v":""},{"$f":"IF('Информация о пользователе'!F937=\"\",TRIM(Translit.Translit(A936)&TRIM(LEFT(Translit.Translit(Service!E935),1))&TRIM(LEFT(Translit.Translit(Service!F935),1))),TRIM('Информация о пользователе'!F937))","v":"pusto"},{"$f":"IF('Информация о пользователе'!G937=\"\",TRIM(LEFT(Translit.Translit(Service!E935),2))&INDEX(Service!H935:H953,RANDBETWEEN(1,19),1)&RANDBETWEEN(1,9)&IF(Service!F935=\"\",TRIM(LEFT(Translit.Translit(Service!E935),3))&INDEX(Service!A935:A960,RANDBETWEEN(1,26),1),TRIM(LEFT(Translit.Translit(Service!F935),2))&INDEX(Service!H935:H953,RANDBETWEEN(1,19),1)&INDEX(Service!A935:A960,RANDBETWEEN(1,26),1)),'Информация о пользователе'!G937)","v":{"$error":"#NAME?"}}]
[{"$f":"TRIM(IF('Информация о пользователе'!A938=\"\",\"Пусто\",'Информация о пользователе'!A938))","v":"Пусто"},{"$f":"TRIM(IF('Информация о пользователе'!B938=\"\",\" \",'Информация о пользователе'!B938&\" \"&'Информация о пользователе'!C938))","v":""},{"$f":"TRIM(IF(AD!A937=\"\",\"\",AD!B937&\" \"&A937))","v":"Пусто"},{"$f":"TRIM(IF('Информация о пользователе'!D938=\"\",F937&\"@edu54.ru\",'Информация о пользователе'!D938))","v":"pusto@edu54.ru"},{"$f":"TRIM(IF('Информация о пользователе'!E938=\"\",\"\",'Информация о пользователе'!E938))","v":""},{"$f":"IF('Информация о пользователе'!F938=\"\",TRIM(Translit.Translit(A937)&TRIM(LEFT(Translit.Translit(Service!E936),1))&TRIM(LEFT(Translit.Translit(Service!F936),1))),TRIM('Информация о пользователе'!F938))","v":"pusto"},{"$f":"IF('Информация о пользователе'!G938=\"\",TRIM(LEFT(Translit.Translit(Service!E936),2))&INDEX(Service!H936:H954,RANDBETWEEN(1,19),1)&RANDBETWEEN(1,9)&IF(Service!F936=\"\",TRIM(LEFT(Translit.Translit(Service!E936),3))&INDEX(Service!A936:A961,RANDBETWEEN(1,26),1),TRIM(LEFT(Translit.Translit(Service!F936),2))&INDEX(Service!H936:H954,RANDBETWEEN(1,19),1)&INDEX(Service!A936:A961,RANDBETWEEN(1,26),1)),'Информация о пользователе'!G938)","v":{"$error":"#NAME?"}}]
[{"$f":"TRIM(IF('Информация о пользователе'!A939=\"\",\"Пусто\",'Информация о пользователе'!A939))","v":"Пусто"},{"$f":"TRIM(IF('Информация о пользователе'!B939=\"\",\" \",'Информация о пользователе'!B939&\" \"&'Информация о пользователе'!C939))","v":""},{"$f":"TRIM(IF(AD!A938=\"\",\"\",AD!B938&\" \"&A938))","v":"Пусто"},{"$f":"TRIM(IF('Информация о пользователе'!D939=\"\",F938&\"@edu54.ru\",'Информация о пользователе'!D939))","v":"pusto@edu54.ru"},{"$f":"TRIM(IF('Информация о пользователе'!E939=\"\",\"\",'Информация о пользователе'!E939))","v":""},{"$f":"IF('Информация о пользователе'!F939=\"\",TRIM(Translit.Translit(A938)&TRIM(LEFT(Translit.Translit(Service!E937),1))&TRIM(LEFT(Translit.Translit(Service!F937),1))),TRIM('Информация о пользователе'!F939))","v":"pusto"},{"$f":"IF('Информация о пользователе'!G939=\"\",TRIM(LEFT(Translit.Translit(Service!E937),2))&INDEX(Service!H937:H955,RANDBETWEEN(1,19),1)&RANDBETWEEN(1,9)&IF(Service!F937=\"\",TRIM(LEFT(Translit.Translit(Service!E937),3))&INDEX(Service!A937:A962,RANDBETWEEN(1,26),1),TRIM(LEFT(Translit.Translit(Service!F937),2))&INDEX(Service!H937:H955,RANDBETWEEN(1,19),1)&INDEX(Service!A937:A962,RANDBETWEEN(1,26),1)),'Информация о пользователе'!G939)","v":{"$error":"#NAME?"}}]
[{"$f":"TRIM(IF('Информация о пользователе'!A940=\"\",\"Пусто\",'Информация о пользователе'!A940))","v":"Пусто"},{"$f":"TRIM(IF('Информация о пользователе'!B940=\"\",\" \",'Информация о пользователе'!B940&\" \"&'Информация о пользователе'!C940))","v":""},{"$f":"TRIM(IF(AD!A939=\"\",\"\",AD!B939&\" \"&A939))","v":"Пусто"},{"$f":"TRIM(IF('Информация о пользователе'!D940=\"\",F939&\"@edu54.ru\",'Информация о пользователе'!D940))","v":"pusto@edu54.ru"},{"$f":"TRIM(IF('Информация о пользователе'!E940=\"\",\"\",'Информация о пользователе'!E940))","v":""},{"$f":"IF('Информация о пользователе'!F940=\"\",TRIM(Translit.Translit(A939)&TRIM(LEFT(Translit.Translit(Service!E938),1))&TRIM(LEFT(Translit.Translit(Service!F938),1))),TRIM('Информация о пользователе'!F940))","v":"pusto"},{"$f":"IF('Информация о пользователе'!G940=\"\",TRIM(LEFT(Translit.Translit(Service!E938),2))&INDEX(Service!H938:H956,RANDBETWEEN(1,19),1)&RANDBETWEEN(1,9)&IF(Service!F938=\"\",TRIM(LEFT(Translit.Translit(Service!E938),3))&INDEX(Service!A938:A963,RANDBETWEEN(1,26),1),TRIM(LEFT(Translit.Translit(Service!F938),2))&INDEX(Service!H938:H956,RANDBETWEEN(1,19),1)&INDEX(Service!A938:A963,RANDBETWEEN(1,26),1)),'Информация о пользователе'!G940)","v":{"$error":"#NAME?"}}]
[{"$f":"TRIM(IF('Информация о пользователе'!A941=\"\",\"Пусто\",'Информация о пользователе'!A941))","v":"Пусто"},{"$f":"TRIM(IF('Информация о пользователе'!B941=\"\",\" \",'Информация о пользователе'!B941&\" \"&'Информация о пользователе'!C941))","v":""},{"$f":"TRIM(IF(AD!A940=\"\",\"\",AD!B940&\" \"&A940))","v":"Пусто"},{"$f":"TRIM(IF('Информация о пользователе'!D941=\"\",F940&\"@edu54.ru\",'Информация о пользователе'!D941))","v":"pusto@edu54.ru"},{"$f":"TRIM(IF('Информация о пользователе'!E941=\"\",\"\",'Информация о пользователе'!E941))","v":""},{"$f":"IF('Информация о пользователе'!F941=\"\",TRIM(Translit.Translit(A940)&TRIM(LEFT(Translit.Translit(Service!E939),1))&TRIM(LEFT(Translit.Translit(Service!F939),1))),TRIM('Информация о пользователе'!F941))","v":"pusto"},{"$f":"IF('Информация о пользователе'!G941=\"\",TRIM(LEFT(Translit.Translit(Service!E939),2))&INDEX(Service!H939:H957,RANDBETWEEN(1,19),1)&RANDBETWEEN(1,9)&IF(Service!F939=\"\",TRIM(LEFT(Translit.Translit(Service!E939),3))&INDEX(Service!A939:A964,RANDBETWEEN(1,26),1),TRIM(LEFT(Translit.Translit(Service!F939),2))&INDEX(Service!H939:H957,RANDBETWEEN(1,19),1)&INDEX(Service!A939:A964,RANDBETWEEN(1,26),1)),'Информация о пользователе'!G941)","v":{"$error":"#NAME?"}}]
[{"$f":"TRIM(IF('Информация о пользователе'!A942=\"\",\"Пусто\",'Информация о пользователе'!A942))","v":"Пусто"},{"$f":"TRIM(IF('Информация о пользователе'!B942=\"\",\" \",'Информация о пользователе'!B942&\" \"&'Информация о пользователе'!C942))","v":""},{"$f":"TRIM(IF(AD!A941=\"\",\"\",AD!B941&\" \"&A941))","v":"Пусто"},{"$f":"TRIM(IF('Информация о пользователе'!D942=\"\",F941&\"@edu54.ru\",'Информация о пользователе'!D942))","v":"pusto@edu54.ru"},{"$f":"TRIM(IF('Информация о пользователе'!E942=\"\",\"\",'Информация о пользователе'!E942))","v":""},{"$f":"IF('Информация о пользователе'!F942=\"\",TRIM(Translit.Translit(A941)&TRIM(LEFT(Translit.Translit(Service!E940),1))&TRIM(LEFT(Translit.Translit(Service!F940),1))),TRIM('Информация о пользователе'!F942))","v":"pusto"},{"$f":"IF('Информация о пользователе'!G942=\"\",TRIM(LEFT(Translit.Translit(Service!E940),2))&INDEX(Service!H940:H958,RANDBETWEEN(1,19),1)&RANDBETWEEN(1,9)&IF(Service!F940=\"\",TRIM(LEFT(Translit.Translit(Service!E940),3))&INDEX(Service!A940:A965,RANDBETWEEN(1,26),1),TRIM(LEFT(Translit.Translit(Service!F940),2))&INDEX(Service!H940:H958,RANDBETWEEN(1,19),1)&INDEX(Service!A940:A965,RANDBETWEEN(1,26),1)),'Информация о пользователе'!G942)","v":{"$error":"#NAME?"}}]
[{"$f":"TRIM(IF('Информация о пользователе'!A943=\"\",\"Пусто\",'Информация о пользователе'!A943))","v":"Пусто"},{"$f":"TRIM(IF('Информация о пользователе'!B943=\"\",\" \",'Информация о пользователе'!B943&\" \"&'Информация о пользователе'!C943))","v":""},{"$f":"TRIM(IF(AD!A942=\"\",\"\",AD!B942&\" \"&A942))","v":"Пусто"},{"$f":"TRIM(IF('Информация о пользователе'!D943=\"\",F942&\"@edu54.ru\",'Информация о пользователе'!D943))","v":"pusto@edu54.ru"},{"$f":"TRIM(IF('Информация о пользователе'!E943=\"\",\"\",'Информация о пользователе'!E943))","v":""},{"$f":"IF('Информация о пользователе'!F943=\"\",TRIM(Translit.Translit(A942)&TRIM(LEFT(Translit.Translit(Service!E941),1))&TRIM(LEFT(Translit.Translit(Service!F941),1))),TRIM('Информация о пользователе'!F943))","v":"pusto"},{"$f":"IF('Информация о пользователе'!G943=\"\",TRIM(LEFT(Translit.Translit(Service!E941),2))&INDEX(Service!H941:H959,RANDBETWEEN(1,19),1)&RANDBETWEEN(1,9)&IF(Service!F941=\"\",TRIM(LEFT(Translit.Translit(Service!E941),3))&INDEX(Service!A941:A966,RANDBETWEEN(1,26),1),TRIM(LEFT(Translit.Translit(Service!F941),2))&INDEX(Service!H941:H959,RANDBETWEEN(1,19),1)&INDEX(Service!A941:A966,RANDBETWEEN(1,26),1)),'Информация о пользователе'!G943)","v":{"$error":"#NAME?"}}]
[{"$f":"TRIM(IF('Информация о пользователе'!A944=\"\",\"Пусто\",'Информация о пользователе'!A944))","v":"Пусто"},{"$f":"TRIM(IF('Информация о пользователе'!B944=\"\",\" \",'Информация о пользователе'!B944&\" \"&'Информация о пользователе'!C944))","v":""},{"$f":"TRIM(IF(AD!A943=\"\",\"\",AD!B943&\" \"&A943))","v":"Пусто"},{"$f":"TRIM(IF('Информация о пользователе'!D944=\"\",F943&\"@edu54.ru\",'Информация о пользователе'!D944))","v":"pusto@edu54.ru"},{"$f":"TRIM(IF('Информация о пользователе'!E944=\"\",\"\",'Информация о пользователе'!E944))","v":""},{"$f":"IF('Информация о пользователе'!F944=\"\",TRIM(Translit.Translit(A943)&TRIM(LEFT(Translit.Translit(Service!E942),1))&TRIM(LEFT(Translit.Translit(Service!F942),1))),TRIM('Информация о пользователе'!F944))","v":"pusto"},{"$f":"IF('Информация о пользователе'!G944=\"\",TRIM(LEFT(Translit.Translit(Service!E942),2))&INDEX(Service!H942:H960,RANDBETWEEN(1,19),1)&RANDBETWEEN(1,9)&IF(Service!F942=\"\",TRIM(LEFT(Translit.Translit(Service!E942),3))&INDEX(Service!A942:A967,RANDBETWEEN(1,26),1),TRIM(LEFT(Translit.Translit(Service!F942),2))&INDEX(Service!H942:H960,RANDBETWEEN(1,19),1)&INDEX(Service!A942:A967,RANDBETWEEN(1,26),1)),'Информация о пользователе'!G944)","v":{"$error":"#NAME?"}}]
[{"$f":"TRIM(IF('Информация о пользователе'!A945=\"\",\"Пусто\",'Информация о пользователе'!A945))","v":"Пусто"},{"$f":"TRIM(IF('Информация о пользователе'!B945=\"\",\" \",'Информация о пользователе'!B945&\" \"&'Информация о пользователе'!C945))","v":""},{"$f":"TRIM(IF(AD!A944=\"\",\"\",AD!B944&\" \"&A944))","v":"Пусто"},{"$f":"TRIM(IF('Информация о пользователе'!D945=\"\",F944&\"@edu54.ru\",'Информация о пользователе'!D945))","v":"pusto@edu54.ru"},{"$f":"TRIM(IF('Информация о пользователе'!E945=\"\",\"\",'Информация о пользователе'!E945))","v":""},{"$f":"IF('Информация о пользователе'!F945=\"\",TRIM(Translit.Translit(A944)&TRIM(LEFT(Translit.Translit(Service!E943),1))&TRIM(LEFT(Translit.Translit(Service!F943),1))),TRIM('Информация о пользователе'!F945))","v":"pusto"},{"$f":"IF('Информация о пользователе'!G945=\"\",TRIM(LEFT(Translit.Translit(Service!E943),2))&INDEX(Service!H943:H961,RANDBETWEEN(1,19),1)&RANDBETWEEN(1,9)&IF(Service!F943=\"\",TRIM(LEFT(Translit.Translit(Service!E943),3))&INDEX(Service!A943:A968,RANDBETWEEN(1,26),1),TRIM(LEFT(Translit.Translit(Service!F943),2))&INDEX(Service!H943:H961,RANDBETWEEN(1,19),1)&INDEX(Service!A943:A968,RANDBETWEEN(1,26),1)),'Информация о пользователе'!G945)","v":{"$error":"#NAME?"}}]
[{"$f":"TRIM(IF('Информация о пользователе'!A946=\"\",\"Пусто\",'Информация о пользователе'!A946))","v":"Пусто"},{"$f":"TRIM(IF('Информация о пользователе'!B946=\"\",\" \",'Информация о пользователе'!B946&\" \"&'Информация о пользователе'!C946))","v":""},{"$f":"TRIM(IF(AD!A945=\"\",\"\",AD!B945&\" \"&A945))","v":"Пусто"},{"$f":"TRIM(IF('Информация о пользователе'!D946=\"\",F945&\"@edu54.ru\",'Информация о пользователе'!D946))","v":"pusto@edu54.ru"},{"$f":"TRIM(IF('Информация о пользователе'!E946=\"\",\"\",'Информация о пользователе'!E946))","v":""},{"$f":"IF('Информация о пользователе'!F946=\"\",TRIM(Translit.Translit(A945)&TRIM(LEFT(Translit.Translit(Service!E944),1))&TRIM(LEFT(Translit.Translit(Service!F944),1))),TRIM('Информация о пользователе'!F946))","v":"pusto"},{"$f":"IF('Информация о пользователе'!G946=\"\",TRIM(LEFT(Translit.Translit(Service!E944),2))&INDEX(Service!H944:H962,RANDBETWEEN(1,19),1)&RANDBETWEEN(1,9)&IF(Service!F944=\"\",TRIM(LEFT(Translit.Translit(Service!E944),3))&INDEX(Service!A944:A969,RANDBETWEEN(1,26),1),TRIM(LEFT(Translit.Translit(Service!F944),2))&INDEX(Service!H944:H962,RANDBETWEEN(1,19),1)&INDEX(Service!A944:A969,RANDBETWEEN(1,26),1)),'Информация о пользователе'!G946)","v":{"$error":"#NAME?"}}]
[{"$f":"TRIM(IF('Информация о пользователе'!A947=\"\",\"Пусто\",'Информация о пользователе'!A947))","v":"Пусто"},{"$f":"TRIM(IF('Информация о пользователе'!B947=\"\",\" \",'Информация о пользователе'!B947&\" \"&'Информация о пользователе'!C947))","v":""},{"$f":"TRIM(IF(AD!A946=\"\",\"\",AD!B946&\" \"&A946))","v":"Пусто"},{"$f":"TRIM(IF('Информация о пользователе'!D947=\"\",F946&\"@edu54.ru\",'Информация о пользователе'!D947))","v":"pusto@edu54.ru"},{"$f":"TRIM(IF('Информация о пользователе'!E947=\"\",\"\",'Информация о пользователе'!E947))","v":""},{"$f":"IF('Информация о пользователе'!F947=\"\",TRIM(Translit.Translit(A946)&TRIM(LEFT(Translit.Translit(Service!E945),1))&TRIM(LEFT(Translit.Translit(Service!F945),1))),TRIM('Информация о пользователе'!F947))","v":"pusto"},{"$f":"IF('Информация о пользователе'!G947=\"\",TRIM(LEFT(Translit.Translit(Service!E945),2))&INDEX(Service!H945:H963,RANDBETWEEN(1,19),1)&RANDBETWEEN(1,9)&IF(Service!F945=\"\",TRIM(LEFT(Translit.Translit(Service!E945),3))&INDEX(Service!A945:A970,RANDBETWEEN(1,26),1),TRIM(LEFT(Translit.Translit(Service!F945),2))&INDEX(Service!H945:H963,RANDBETWEEN(1,19),1)&INDEX(Service!A945:A970,RANDBETWEEN(1,26),1)),'Информация о пользователе'!G947)","v":{"$error":"#NAME?"}}]
[{"$f":"TRIM(IF('Информация о пользователе'!A948=\"\",\"Пусто\",'Информация о пользователе'!A948))","v":"Пусто"},{"$f":"TRIM(IF('Информация о пользователе'!B948=\"\",\" \",'Информация о пользователе'!B948&\" \"&'Информация о пользователе'!C948))","v":""},{"$f":"TRIM(IF(AD!A947=\"\",\"\",AD!B947&\" \"&A947))","v":"Пусто"},{"$f":"TRIM(IF('Информация о пользователе'!D948=\"\",F947&\"@edu54.ru\",'Информация о пользователе'!D948))","v":"pusto@edu54.ru"},{"$f":"TRIM(IF('Информация о пользователе'!E948=\"\",\"\",'Информация о пользователе'!E948))","v":""},{"$f":"IF('Информация о пользователе'!F948=\"\",TRIM(Translit.Translit(A947)&TRIM(LEFT(Translit.Translit(Service!E946),1))&TRIM(LEFT(Translit.Translit(Service!F946),1))),TRIM('Информация о пользователе'!F948))","v":"pusto"},{"$f":"IF('Информация о пользователе'!G948=\"\",TRIM(LEFT(Translit.Translit(Service!E946),2))&INDEX(Service!H946:H964,RANDBETWEEN(1,19),1)&RANDBETWEEN(1,9)&IF(Service!F946=\"\",TRIM(LEFT(Translit.Translit(Service!E946),3))&INDEX(Service!A946:A971,RANDBETWEEN(1,26),1),TRIM(LEFT(Translit.Translit(Service!F946),2))&INDEX(Service!H946:H964,RANDBETWEEN(1,19),1)&INDEX(Service!A946:A971,RANDBETWEEN(1,26),1)),'Информация о пользователе'!G948)","v":{"$error":"#NAME?"}}]
[{"$f":"TRIM(IF('Информация о пользователе'!A949=\"\",\"Пусто\",'Информация о пользователе'!A949))","v":"Пусто"},{"$f":"TRIM(IF('Информация о пользователе'!B949=\"\",\" \",'Информация о пользователе'!B949&\" \"&'Информация о пользователе'!C949))","v":""},{"$f":"TRIM(IF(AD!A948=\"\",\"\",AD!B948&\" \"&A948))","v":"Пусто"},{"$f":"TRIM(IF('Информация о пользователе'!D949=\"\",F948&\"@edu54.ru\",'Информация о пользователе'!D949))","v":"pusto@edu54.ru"},{"$f":"TRIM(IF('Информация о пользователе'!E949=\"\",\"\",'Информация о пользователе'!E949))","v":""},{"$f":"IF('Информация о пользователе'!F949=\"\",TRIM(Translit.Translit(A948)&TRIM(LEFT(Translit.Translit(Service!E947),1))&TRIM(LEFT(Translit.Translit(Service!F947),1))),TRIM('Информация о пользователе'!F949))","v":"pusto"},{"$f":"IF('Информация о пользователе'!G949=\"\",TRIM(LEFT(Translit.Translit(Service!E947),2))&INDEX(Service!H947:H965,RANDBETWEEN(1,19),1)&RANDBETWEEN(1,9)&IF(Service!F947=\"\",TRIM(LEFT(Translit.Translit(Service!E947),3))&INDEX(Service!A947:A972,RANDBETWEEN(1,26),1),TRIM(LEFT(Translit.Translit(Service!F947),2))&INDEX(Service!H947:H965,RANDBETWEEN(1,19),1)&INDEX(Service!A947:A972,RANDBETWEEN(1,26),1)),'Информация о пользователе'!G949)","v":{"$error":"#NAME?"}}]
[{"$f":"TRIM(IF('Информация о пользователе'!A950=\"\",\"Пусто\",'Информация о пользователе'!A950))","v":"Пусто"},{"$f":"TRIM(IF('Информация о пользователе'!B950=\"\",\" \",'Информация о пользователе'!B950&\" \"&'Информация о пользователе'!C950))","v":""},{"$f":"TRIM(IF(AD!A949=\"\",\"\",AD!B949&\" \"&A949))","v":"Пусто"},{"$f":"TRIM(IF('Информация о пользователе'!D950=\"\",F949&\"@edu54.ru\",'Информация о пользователе'!D950))","v":"pusto@edu54.ru"},{"$f":"TRIM(IF('Информация о пользователе'!E950=\"\",\"\",'Информация о пользователе'!E950))","v":""},{"$f":"IF('Информация о пользователе'!F950=\"\",TRIM(Translit.Translit(A949)&TRIM(LEFT(Translit.Translit(Service!E948),1))&TRIM(LEFT(Translit.Translit(Service!F948),1))),TRIM('Информация о пользователе'!F950))","v":"pusto"},{"$f":"IF('Информация о пользователе'!G950=\"\",TRIM(LEFT(Translit.Translit(Service!E948),2))&INDEX(Service!H948:H966,RANDBETWEEN(1,19),1)&RANDBETWEEN(1,9)&IF(Service!F948=\"\",TRIM(LEFT(Translit.Translit(Service!E948),3))&INDEX(Service!A948:A973,RANDBETWEEN(1,26),1),TRIM(LEFT(Translit.Translit(Service!F948),2))&INDEX(Service!H948:H966,RANDBETWEEN(1,19),1)&INDEX(Service!A948:A973,RANDBETWEEN(1,26),1)),'Информация о пользователе'!G950)","v":{"$error":"#NAME?"}}]
[{"$f":"TRIM(IF('Информация о пользователе'!A951=\"\",\"Пусто\",'Информация о пользователе'!A951))","v":"Пусто"},{"$f":"TRIM(IF('Информация о пользователе'!B951=\"\",\" \",'Информация о пользователе'!B951&\" \"&'Информация о пользователе'!C951))","v":""},{"$f":"TRIM(IF(AD!A950=\"\",\"\",AD!B950&\" \"&A950))","v":"Пусто"},{"$f":"TRIM(IF('Информация о пользователе'!D951=\"\",F950&\"@edu54.ru\",'Информация о пользователе'!D951))","v":"pusto@edu54.ru"},{"$f":"TRIM(IF('Информация о пользователе'!E951=\"\",\"\",'Информация о пользователе'!E951))","v":""},{"$f":"IF('Информация о пользователе'!F951=\"\",TRIM(Translit.Translit(A950)&TRIM(LEFT(Translit.Translit(Service!E949),1))&TRIM(LEFT(Translit.Translit(Service!F949),1))),TRIM('Информация о пользователе'!F951))","v":"pusto"},{"$f":"IF('Информация о пользователе'!G951=\"\",TRIM(LEFT(Translit.Translit(Service!E949),2))&INDEX(Service!H949:H967,RANDBETWEEN(1,19),1)&RANDBETWEEN(1,9)&IF(Service!F949=\"\",TRIM(LEFT(Translit.Translit(Service!E949),3))&INDEX(Service!A949:A974,RANDBETWEEN(1,26),1),TRIM(LEFT(Translit.Translit(Service!F949),2))&INDEX(Service!H949:H967,RANDBETWEEN(1,19),1)&INDEX(Service!A949:A974,RANDBETWEEN(1,26),1)),'Информация о пользователе'!G951)","v":{"$error":"#NAME?"}}]
[{"$f":"TRIM(IF('Информация о пользователе'!A952=\"\",\"Пусто\",'Информация о пользователе'!A952))","v":"Пусто"},{"$f":"TRIM(IF('Информация о пользователе'!B952=\"\",\" \",'Информация о пользователе'!B952&\" \"&'Информация о пользователе'!C952))","v":""},{"$f":"TRIM(IF(AD!A951=\"\",\"\",AD!B951&\" \"&A951))","v":"Пусто"},{"$f":"TRIM(IF('Информация о пользователе'!D952=\"\",F951&\"@edu54.ru\",'Информация о пользователе'!D952))","v":"pusto@edu54.ru"},{"$f":"TRIM(IF('Информация о пользователе'!E952=\"\",\"\",'Информация о пользователе'!E952))","v":""},{"$f":"IF('Информация о пользователе'!F952=\"\",TRIM(Translit.Translit(A951)&TRIM(LEFT(Translit.Translit(Service!E950),1))&TRIM(LEFT(Translit.Translit(Service!F950),1))),TRIM('Информация о пользователе'!F952))","v":"pusto"},{"$f":"IF('Информация о пользователе'!G952=\"\",TRIM(LEFT(Translit.Translit(Service!E950),2))&INDEX(Service!H950:H968,RANDBETWEEN(1,19),1)&RANDBETWEEN(1,9)&IF(Service!F950=\"\",TRIM(LEFT(Translit.Translit(Service!E950),3))&INDEX(Service!A950:A975,RANDBETWEEN(1,26),1),TRIM(LEFT(Translit.Translit(Service!F950),2))&INDEX(Service!H950:H968,RANDBETWEEN(1,19),1)&INDEX(Service!A950:A975,RANDBETWEEN(1,26),1)),'Информация о пользователе'!G952)","v":{"$error":"#NAME?"}}]
[{"$f":"TRIM(IF('Информация о пользователе'!A953=\"\",\"Пусто\",'Информация о пользователе'!A953))","v":"Пусто"},{"$f":"TRIM(IF('Информация о пользователе'!B953=\"\",\" \",'Информация о пользователе'!B953&\" \"&'Информация о пользователе'!C953))","v":""},{"$f":"TRIM(IF(AD!A952=\"\",\"\",AD!B952&\" \"&A952))","v":"Пусто"},{"$f":"TRIM(IF('Информация о пользователе'!D953=\"\",F952&\"@edu54.ru\",'Информация о пользователе'!D953))","v":"pusto@edu54.ru"},{"$f":"TRIM(IF('Информация о пользователе'!E953=\"\",\"\",'Информация о пользователе'!E953))","v":""},{"$f":"IF('Информация о пользователе'!F953=\"\",TRIM(Translit.Translit(A952)&TRIM(LEFT(Translit.Translit(Service!E951),1))&TRIM(LEFT(Translit.Translit(Service!F951),1))),TRIM('Информация о пользователе'!F953))","v":"pusto"},{"$f":"IF('Информация о пользователе'!G953=\"\",TRIM(LEFT(Translit.Translit(Service!E951),2))&INDEX(Service!H951:H969,RANDBETWEEN(1,19),1)&RANDBETWEEN(1,9)&IF(Service!F951=\"\",TRIM(LEFT(Translit.Translit(Service!E951),3))&INDEX(Service!A951:A976,RANDBETWEEN(1,26),1),TRIM(LEFT(Translit.Translit(Service!F951),2))&INDEX(Service!H951:H969,RANDBETWEEN(1,19),1)&INDEX(Service!A951:A976,RANDBETWEEN(1,26),1)),'Информация о пользователе'!G953)","v":{"$error":"#NAME?"}}]
[{"$f":"TRIM(IF('Информация о пользователе'!A954=\"\",\"Пусто\",'Информация о пользователе'!A954))","v":"Пусто"},{"$f":"TRIM(IF('Информация о пользователе'!B954=\"\",\" \",'Информация о пользователе'!B954&\" \"&'Информация о пользователе'!C954))","v":""},{"$f":"TRIM(IF(AD!A953=\"\",\"\",AD!B953&\" \"&A953))","v":"Пусто"},{"$f":"TRIM(IF('Информация о пользователе'!D954=\"\",F953&\"@edu54.ru\",'Информация о пользователе'!D954))","v":"pusto@edu54.ru"},{"$f":"TRIM(IF('Информация о пользователе'!E954=\"\",\"\",'Информация о пользователе'!E954))","v":""},{"$f":"IF('Информация о пользователе'!F954=\"\",TRIM(Translit.Translit(A953)&TRIM(LEFT(Translit.Translit(Service!E952),1))&TRIM(LEFT(Translit.Translit(Service!F952),1))),TRIM('Информация о пользователе'!F954))","v":"pusto"},{"$f":"IF('Информация о пользователе'!G954=\"\",TRIM(LEFT(Translit.Translit(Service!E952),2))&INDEX(Service!H952:H970,RANDBETWEEN(1,19),1)&RANDBETWEEN(1,9)&IF(Service!F952=\"\",TRIM(LEFT(Translit.Translit(Service!E952),3))&INDEX(Service!A952:A977,RANDBETWEEN(1,26),1),TRIM(LEFT(Translit.Translit(Service!F952),2))&INDEX(Service!H952:H970,RANDBETWEEN(1,19),1)&INDEX(Service!A952:A977,RANDBETWEEN(1,26),1)),'Информация о пользователе'!G954)","v":{"$error":"#NAME?"}}]
[{"$f":"TRIM(IF('Информация о пользователе'!A955=\"\",\"Пусто\",'Информация о пользователе'!A955))","v":"Пусто"},{"$f":"TRIM(IF('Информация о пользователе'!B955=\"\",\" \",'Информация о пользователе'!B955&\" \"&'Информация о пользователе'!C955))","v":""},{"$f":"TRIM(IF(AD!A954=\"\",\"\",AD!B954&\" \"&A954))","v":"Пусто"},{"$f":"TRIM(IF('Информация о пользователе'!D955=\"\",F954&\"@edu54.ru\",'Информация о пользователе'!D955))","v":"pusto@edu54.ru"},{"$f":"TRIM(IF('Информация о пользователе'!E955=\"\",\"\",'Информация о пользователе'!E955))","v":""},{"$f":"IF('Информация о пользователе'!F955=\"\",TRIM(Translit.Translit(A954)&TRIM(LEFT(Translit.Translit(Service!E953),1))&TRIM(LEFT(Translit.Translit(Service!F953),1))),TRIM('Информация о пользователе'!F955))","v":"pusto"},{"$f":"IF('Информация о пользователе'!G955=\"\",TRIM(LEFT(Translit.Translit(Service!E953),2))&INDEX(Service!H953:H971,RANDBETWEEN(1,19),1)&RANDBETWEEN(1,9)&IF(Service!F953=\"\",TRIM(LEFT(Translit.Translit(Service!E953),3))&INDEX(Service!A953:A978,RANDBETWEEN(1,26),1),TRIM(LEFT(Translit.Translit(Service!F953),2))&INDEX(Service!H953:H971,RANDBETWEEN(1,19),1)&INDEX(Service!A953:A978,RANDBETWEEN(1,26),1)),'Информация о пользователе'!G955)","v":{"$error":"#NAME?"}}]
[{"$f":"TRIM(IF('Информация о пользователе'!A956=\"\",\"Пусто\",'Информация о пользователе'!A956))","v":"Пусто"},{"$f":"TRIM(IF('Информация о пользователе'!B956=\"\",\" \",'Информация о пользователе'!B956&\" \"&'Информация о пользователе'!C956))","v":""},{"$f":"TRIM(IF(AD!A955=\"\",\"\",AD!B955&\" \"&A955))","v":"Пусто"},{"$f":"TRIM(IF('Информация о пользователе'!D956=\"\",F955&\"@edu54.ru\",'Информация о пользователе'!D956))","v":"pusto@edu54.ru"},{"$f":"TRIM(IF('Информация о пользователе'!E956=\"\",\"\",'Информация о пользователе'!E956))","v":""},{"$f":"IF('Информация о пользователе'!F956=\"\",TRIM(Translit.Translit(A955)&TRIM(LEFT(Translit.Translit(Service!E954),1))&TRIM(LEFT(Translit.Translit(Service!F954),1))),TRIM('Информация о пользователе'!F956))","v":"pusto"},{"$f":"IF('Информация о пользователе'!G956=\"\",TRIM(LEFT(Translit.Translit(Service!E954),2))&INDEX(Service!H954:H972,RANDBETWEEN(1,19),1)&RANDBETWEEN(1,9)&IF(Service!F954=\"\",TRIM(LEFT(Translit.Translit(Service!E954),3))&INDEX(Service!A954:A979,RANDBETWEEN(1,26),1),TRIM(LEFT(Translit.Translit(Service!F954),2))&INDEX(Service!H954:H972,RANDBETWEEN(1,19),1)&INDEX(Service!A954:A979,RANDBETWEEN(1,26),1)),'Информация о пользователе'!G956)","v":{"$error":"#NAME?"}}]
[{"$f":"TRIM(IF('Информация о пользователе'!A957=\"\",\"Пусто\",'Информация о пользователе'!A957))","v":"Пусто"},{"$f":"TRIM(IF('Информация о пользователе'!B957=\"\",\" \",'Информация о пользователе'!B957&\" \"&'Информация о пользователе'!C957))","v":""},{"$f":"TRIM(IF(AD!A956=\"\",\"\",AD!B956&\" \"&A956))","v":"Пусто"},{"$f":"TRIM(IF('Информация о пользователе'!D957=\"\",F956&\"@edu54.ru\",'Информация о пользователе'!D957))","v":"pusto@edu54.ru"},{"$f":"TRIM(IF('Информация о пользователе'!E957=\"\",\"\",'Информация о пользователе'!E957))","v":""},{"$f":"IF('Информация о пользователе'!F957=\"\",TRIM(Translit.Translit(A956)&TRIM(LEFT(Translit.Translit(Service!E955),1))&TRIM(LEFT(Translit.Translit(Service!F955),1))),TRIM('Информация о пользователе'!F957))","v":"pusto"},{"$f":"IF('Информация о пользователе'!G957=\"\",TRIM(LEFT(Translit.Translit(Service!E955),2))&INDEX(Service!H955:H973,RANDBETWEEN(1,19),1)&RANDBETWEEN(1,9)&IF(Service!F955=\"\",TRIM(LEFT(Translit.Translit(Service!E955),3))&INDEX(Service!A955:A980,RANDBETWEEN(1,26),1),TRIM(LEFT(Translit.Translit(Service!F955),2))&INDEX(Service!H955:H973,RANDBETWEEN(1,19),1)&INDEX(Service!A955:A980,RANDBETWEEN(1,26),1)),'Информация о пользователе'!G957)","v":{"$error":"#NAME?"}}]
[{"$f":"TRIM(IF('Информация о пользователе'!A958=\"\",\"Пусто\",'Информация о пользователе'!A958))","v":"Пусто"},{"$f":"TRIM(IF('Информация о пользователе'!B958=\"\",\" \",'Информация о пользователе'!B958&\" \"&'Информация о пользователе'!C958))","v":""},{"$f":"TRIM(IF(AD!A957=\"\",\"\",AD!B957&\" \"&A957))","v":"Пусто"},{"$f":"TRIM(IF('Информация о пользователе'!D958=\"\",F957&\"@edu54.ru\",'Информация о пользователе'!D958))","v":"pusto@edu54.ru"},{"$f":"TRIM(IF('Информация о пользователе'!E958=\"\",\"\",'Информация о пользователе'!E958))","v":""},{"$f":"IF('Информация о пользователе'!F958=\"\",TRIM(Translit.Translit(A957)&TRIM(LEFT(Translit.Translit(Service!E956),1))&TRIM(LEFT(Translit.Translit(Service!F956),1))),TRIM('Информация о пользователе'!F958))","v":"pusto"},{"$f":"IF('Информация о пользователе'!G958=\"\",TRIM(LEFT(Translit.Translit(Service!E956),2))&INDEX(Service!H956:H974,RANDBETWEEN(1,19),1)&RANDBETWEEN(1,9)&IF(Service!F956=\"\",TRIM(LEFT(Translit.Translit(Service!E956),3))&INDEX(Service!A956:A981,RANDBETWEEN(1,26),1),TRIM(LEFT(Translit.Translit(Service!F956),2))&INDEX(Service!H956:H974,RANDBETWEEN(1,19),1)&INDEX(Service!A956:A981,RANDBETWEEN(1,26),1)),'Информация о пользователе'!G958)","v":{"$error":"#NAME?"}}]
[{"$f":"TRIM(IF('Информация о пользователе'!A959=\"\",\"Пусто\",'Информация о пользователе'!A959))","v":"Пусто"},{"$f":"TRIM(IF('Информация о пользователе'!B959=\"\",\" \",'Информация о пользователе'!B959&\" \"&'Информация о пользователе'!C959))","v":""},{"$f":"TRIM(IF(AD!A958=\"\",\"\",AD!B958&\" \"&A958))","v":"Пусто"},{"$f":"TRIM(IF('Информация о пользователе'!D959=\"\",F958&\"@edu54.ru\",'Информация о пользователе'!D959))","v":"pusto@edu54.ru"},{"$f":"TRIM(IF('Информация о пользователе'!E959=\"\",\"\",'Информация о пользователе'!E959))","v":""},{"$f":"IF('Информация о пользователе'!F959=\"\",TRIM(Translit.Translit(A958)&TRIM(LEFT(Translit.Translit(Service!E957),1))&TRIM(LEFT(Translit.Translit(Service!F957),1))),TRIM('Информация о пользователе'!F959))","v":"pusto"},{"$f":"IF('Информация о пользователе'!G959=\"\",TRIM(LEFT(Translit.Translit(Service!E957),2))&INDEX(Service!H957:H975,RANDBETWEEN(1,19),1)&RANDBETWEEN(1,9)&IF(Service!F957=\"\",TRIM(LEFT(Translit.Translit(Service!E957),3))&INDEX(Service!A957:A982,RANDBETWEEN(1,26),1),TRIM(LEFT(Translit.Translit(Service!F957),2))&INDEX(Service!H957:H975,RANDBETWEEN(1,19),1)&INDEX(Service!A957:A982,RANDBETWEEN(1,26),1)),'Информация о пользователе'!G959)","v":{"$error":"#NAME?"}}]
[{"$f":"TRIM(IF('Информация о пользователе'!A960=\"\",\"Пусто\",'Информация о пользователе'!A960))","v":"Пусто"},{"$f":"TRIM(IF('Информация о пользователе'!B960=\"\",\" \",'Информация о пользователе'!B960&\" \"&'Информация о пользователе'!C960))","v":""},{"$f":"TRIM(IF(AD!A959=\"\",\"\",AD!B959&\" \"&A959))","v":"Пусто"},{"$f":"TRIM(IF('Информация о пользователе'!D960=\"\",F959&\"@edu54.ru\",'Информация о пользователе'!D960))","v":"pusto@edu54.ru"},{"$f":"TRIM(IF('Информация о пользователе'!E960=\"\",\"\",'Информация о пользователе'!E960))","v":""},{"$f":"IF('Информация о пользователе'!F960=\"\",TRIM(Translit.Translit(A959)&TRIM(LEFT(Translit.Translit(Service!E958),1))&TRIM(LEFT(Translit.Translit(Service!F958),1))),TRIM('Информация о пользователе'!F960))","v":"pusto"},{"$f":"IF('Информация о пользователе'!G960=\"\",TRIM(LEFT(Translit.Translit(Service!E958),2))&INDEX(Service!H958:H976,RANDBETWEEN(1,19),1)&RANDBETWEEN(1,9)&IF(Service!F958=\"\",TRIM(LEFT(Translit.Translit(Service!E958),3))&INDEX(Service!A958:A983,RANDBETWEEN(1,26),1),TRIM(LEFT(Translit.Translit(Service!F958),2))&INDEX(Service!H958:H976,RANDBETWEEN(1,19),1)&INDEX(Service!A958:A983,RANDBETWEEN(1,26),1)),'Информация о пользователе'!G960)","v":{"$error":"#NAME?"}}]
[{"$f":"TRIM(IF('Информация о пользователе'!A961=\"\",\"Пусто\",'Информация о пользователе'!A961))","v":"Пусто"},{"$f":"TRIM(IF('Информация о пользователе'!B961=\"\",\" \",'Информация о пользователе'!B961&\" \"&'Информация о пользователе'!C961))","v":""},{"$f":"TRIM(IF(AD!A960=\"\",\"\",AD!B960&\" \"&A960))","v":"Пусто"},{"$f":"TRIM(IF('Информация о пользователе'!D961=\"\",F960&\"@edu54.ru\",'Информация о пользователе'!D961))","v":"pusto@edu54.ru"},{"$f":"TRIM(IF('Информация о пользователе'!E961=\"\",\"\",'Информация о пользователе'!E961))","v":""},{"$f":"IF('Информация о пользователе'!F961=\"\",TRIM(Translit.Translit(A960)&TRIM(LEFT(Translit.Translit(Service!E959),1))&TRIM(LEFT(Translit.Translit(Service!F959),1))),TRIM('Информация о пользователе'!F961))","v":"pusto"},{"$f":"IF('Информация о пользователе'!G961=\"\",TRIM(LEFT(Translit.Translit(Service!E959),2))&INDEX(Service!H959:H977,RANDBETWEEN(1,19),1)&RANDBETWEEN(1,9)&IF(Service!F959=\"\",TRIM(LEFT(Translit.Translit(Service!E959),3))&INDEX(Service!A959:A984,RANDBETWEEN(1,26),1),TRIM(LEFT(Translit.Translit(Service!F959),2))&INDEX(Service!H959:H977,RANDBETWEEN(1,19),1)&INDEX(Service!A959:A984,RANDBETWEEN(1,26),1)),'Информация о пользователе'!G961)","v":{"$error":"#NAME?"}}]
[{"$f":"TRIM(IF('Информация о пользователе'!A962=\"\",\"Пусто\",'Информация о пользователе'!A962))","v":"Пусто"},{"$f":"TRIM(IF('Информация о пользователе'!B962=\"\",\" \",'Информация о пользователе'!B962&\" \"&'Информация о пользователе'!C962))","v":""},{"$f":"TRIM(IF(AD!A961=\"\",\"\",AD!B961&\" \"&A961))","v":"Пусто"},{"$f":"TRIM(IF('Информация о пользователе'!D962=\"\",F961&\"@edu54.ru\",'Информация о пользователе'!D962))","v":"pusto@edu54.ru"},{"$f":"TRIM(IF('Информация о пользователе'!E962=\"\",\"\",'Информация о пользователе'!E962))","v":""},{"$f":"IF('Информация о пользователе'!F962=\"\",TRIM(Translit.Translit(A961)&TRIM(LEFT(Translit.Translit(Service!E960),1))&TRIM(LEFT(Translit.Translit(Service!F960),1))),TRIM('Информация о пользователе'!F962))","v":"pusto"},{"$f":"IF('Информация о пользователе'!G962=\"\",TRIM(LEFT(Translit.Translit(Service!E960),2))&INDEX(Service!H960:H978,RANDBETWEEN(1,19),1)&RANDBETWEEN(1,9)&IF(Service!F960=\"\",TRIM(LEFT(Translit.Translit(Service!E960),3))&INDEX(Service!A960:A985,RANDBETWEEN(1,26),1),TRIM(LEFT(Translit.Translit(Service!F960),2))&INDEX(Service!H960:H978,RANDBETWEEN(1,19),1)&INDEX(Service!A960:A985,RANDBETWEEN(1,26),1)),'Информация о пользователе'!G962)","v":{"$error":"#NAME?"}}]
[{"$f":"TRIM(IF('Информация о пользователе'!A963=\"\",\"Пусто\",'Информация о пользователе'!A963))","v":"Пусто"},{"$f":"TRIM(IF('Информация о пользователе'!B963=\"\",\" \",'Информация о пользователе'!B963&\" \"&'Информация о пользователе'!C963))","v":""},{"$f":"TRIM(IF(AD!A962=\"\",\"\",AD!B962&\" \"&A962))","v":"Пусто"},{"$f":"TRIM(IF('Информация о пользователе'!D963=\"\",F962&\"@edu54.ru\",'Информация о пользователе'!D963))","v":"pusto@edu54.ru"},{"$f":"TRIM(IF('Информация о пользователе'!E963=\"\",\"\",'Информация о пользователе'!E963))","v":""},{"$f":"IF('Информация о пользователе'!F963=\"\",TRIM(Translit.Translit(A962)&TRIM(LEFT(Translit.Translit(Service!E961),1))&TRIM(LEFT(Translit.Translit(Service!F961),1))),TRIM('Информация о пользователе'!F963))","v":"pusto"},{"$f":"IF('Информация о пользователе'!G963=\"\",TRIM(LEFT(Translit.Translit(Service!E961),2))&INDEX(Service!H961:H979,RANDBETWEEN(1,19),1)&RANDBETWEEN(1,9)&IF(Service!F961=\"\",TRIM(LEFT(Translit.Translit(Service!E961),3))&INDEX(Service!A961:A986,RANDBETWEEN(1,26),1),TRIM(LEFT(Translit.Translit(Service!F961),2))&INDEX(Service!H961:H979,RANDBETWEEN(1,19),1)&INDEX(Service!A961:A986,RANDBETWEEN(1,26),1)),'Информация о пользователе'!G963)","v":{"$error":"#NAME?"}}]
[{"$f":"TRIM(IF('Информация о пользователе'!A964=\"\",\"Пусто\",'Информация о пользователе'!A964))","v":"Пусто"},{"$f":"TRIM(IF('Информация о пользователе'!B964=\"\",\" \",'Информация о пользователе'!B964&\" \"&'Информация о пользователе'!C964))","v":""},{"$f":"TRIM(IF(AD!A963=\"\",\"\",AD!B963&\" \"&A963))","v":"Пусто"},{"$f":"TRIM(IF('Информация о пользователе'!D964=\"\",F963&\"@edu54.ru\",'Информация о пользователе'!D964))","v":"pusto@edu54.ru"},{"$f":"TRIM(IF('Информация о пользователе'!E964=\"\",\"\",'Информация о пользователе'!E964))","v":""},{"$f":"IF('Информация о пользователе'!F964=\"\",TRIM(Translit.Translit(A963)&TRIM(LEFT(Translit.Translit(Service!E962),1))&TRIM(LEFT(Translit.Translit(Service!F962),1))),TRIM('Информация о пользователе'!F964))","v":"pusto"},{"$f":"IF('Информация о пользователе'!G964=\"\",TRIM(LEFT(Translit.Translit(Service!E962),2))&INDEX(Service!H962:H980,RANDBETWEEN(1,19),1)&RANDBETWEEN(1,9)&IF(Service!F962=\"\",TRIM(LEFT(Translit.Translit(Service!E962),3))&INDEX(Service!A962:A987,RANDBETWEEN(1,26),1),TRIM(LEFT(Translit.Translit(Service!F962),2))&INDEX(Service!H962:H980,RANDBETWEEN(1,19),1)&INDEX(Service!A962:A987,RANDBETWEEN(1,26),1)),'Информация о пользователе'!G964)","v":{"$error":"#NAME?"}}]
[{"$f":"TRIM(IF('Информация о пользователе'!A965=\"\",\"Пусто\",'Информация о пользователе'!A965))","v":"Пусто"},{"$f":"TRIM(IF('Информация о пользователе'!B965=\"\",\" \",'Информация о пользователе'!B965&\" \"&'Информация о пользователе'!C965))","v":""},{"$f":"TRIM(IF(AD!A964=\"\",\"\",AD!B964&\" \"&A964))","v":"Пусто"},{"$f":"TRIM(IF('Информация о пользователе'!D965=\"\",F964&\"@edu54.ru\",'Информация о пользователе'!D965))","v":"pusto@edu54.ru"},{"$f":"TRIM(IF('Информация о пользователе'!E965=\"\",\"\",'Информация о пользователе'!E965))","v":""},{"$f":"IF('Информация о пользователе'!F965=\"\",TRIM(Translit.Translit(A964)&TRIM(LEFT(Translit.Translit(Service!E963),1))&TRIM(LEFT(Translit.Translit(Service!F963),1))),TRIM('Информация о пользователе'!F965))","v":"pusto"},{"$f":"IF('Информация о пользователе'!G965=\"\",TRIM(LEFT(Translit.Translit(Service!E963),2))&INDEX(Service!H963:H981,RANDBETWEEN(1,19),1)&RANDBETWEEN(1,9)&IF(Service!F963=\"\",TRIM(LEFT(Translit.Translit(Service!E963),3))&INDEX(Service!A963:A988,RANDBETWEEN(1,26),1),TRIM(LEFT(Translit.Translit(Service!F963),2))&INDEX(Service!H963:H981,RANDBETWEEN(1,19),1)&INDEX(Service!A963:A988,RANDBETWEEN(1,26),1)),'Информация о пользователе'!G965)","v":{"$error":"#NAME?"}}]
[{"$f":"TRIM(IF('Информация о пользователе'!A966=\"\",\"Пусто\",'Информация о пользователе'!A966))","v":"Пусто"},{"$f":"TRIM(IF('Информация о пользователе'!B966=\"\",\" \",'Информация о пользователе'!B966&\" \"&'Информация о пользователе'!C966))","v":""},{"$f":"TRIM(IF(AD!A965=\"\",\"\",AD!B965&\" \"&A965))","v":"Пусто"},{"$f":"TRIM(IF('Информация о пользователе'!D966=\"\",F965&\"@edu54.ru\",'Информация о пользователе'!D966))","v":"pusto@edu54.ru"},{"$f":"TRIM(IF('Информация о пользователе'!E966=\"\",\"\",'Информация о пользователе'!E966))","v":""},{"$f":"IF('Информация о пользователе'!F966=\"\",TRIM(Translit.Translit(A965)&TRIM(LEFT(Translit.Translit(Service!E964),1))&TRIM(LEFT(Translit.Translit(Service!F964),1))),TRIM('Информация о пользователе'!F966))","v":"pusto"},{"$f":"IF('Информация о пользователе'!G966=\"\",TRIM(LEFT(Translit.Translit(Service!E964),2))&INDEX(Service!H964:H982,RANDBETWEEN(1,19),1)&RANDBETWEEN(1,9)&IF(Service!F964=\"\",TRIM(LEFT(Translit.Translit(Service!E964),3))&INDEX(Service!A964:A989,RANDBETWEEN(1,26),1),TRIM(LEFT(Translit.Translit(Service!F964),2))&INDEX(Service!H964:H982,RANDBETWEEN(1,19),1)&INDEX(Service!A964:A989,RANDBETWEEN(1,26),1)),'Информация о пользователе'!G966)","v":{"$error":"#NAME?"}}]
[{"$f":"TRIM(IF('Информация о пользователе'!A967=\"\",\"Пусто\",'Информация о пользователе'!A967))","v":"Пусто"},{"$f":"TRIM(IF('Информация о пользователе'!B967=\"\",\" \",'Информация о пользователе'!B967&\" \"&'Информация о пользователе'!C967))","v":""},{"$f":"TRIM(IF(AD!A966=\"\",\"\",AD!B966&\" \"&A966))","v":"Пусто"},{"$f":"TRIM(IF('Информация о пользователе'!D967=\"\",F966&\"@edu54.ru\",'Информация о пользователе'!D967))","v":"pusto@edu54.ru"},{"$f":"TRIM(IF('Информация о пользователе'!E967=\"\",\"\",'Информация о пользователе'!E967))","v":""},{"$f":"IF('Информация о пользователе'!F967=\"\",TRIM(Translit.Translit(A966)&TRIM(LEFT(Translit.Translit(Service!E965),1))&TRIM(LEFT(Translit.Translit(Service!F965),1))),TRIM('Информация о пользователе'!F967))","v":"pusto"},{"$f":"IF('Информация о пользователе'!G967=\"\",TRIM(LEFT(Translit.Translit(Service!E965),2))&INDEX(Service!H965:H983,RANDBETWEEN(1,19),1)&RANDBETWEEN(1,9)&IF(Service!F965=\"\",TRIM(LEFT(Translit.Translit(Service!E965),3))&INDEX(Service!A965:A990,RANDBETWEEN(1,26),1),TRIM(LEFT(Translit.Translit(Service!F965),2))&INDEX(Service!H965:H983,RANDBETWEEN(1,19),1)&INDEX(Service!A965:A990,RANDBETWEEN(1,26),1)),'Информация о пользователе'!G967)","v":{"$error":"#NAME?"}}]
[{"$f":"TRIM(IF('Информация о пользователе'!A968=\"\",\"Пусто\",'Информация о пользователе'!A968))","v":"Пусто"},{"$f":"TRIM(IF('Информация о пользователе'!B968=\"\",\" \",'Информация о пользователе'!B968&\" \"&'Информация о пользователе'!C968))","v":""},{"$f":"TRIM(IF(AD!A967=\"\",\"\",AD!B967&\" \"&A967))","v":"Пусто"},{"$f":"TRIM(IF('Информация о пользователе'!D968=\"\",F967&\"@edu54.ru\",'Информация о пользователе'!D968))","v":"pusto@edu54.ru"},{"$f":"TRIM(IF('Информация о пользователе'!E968=\"\",\"\",'Информация о пользователе'!E968))","v":""},{"$f":"IF('Информация о пользователе'!F968=\"\",TRIM(Translit.Translit(A967)&TRIM(LEFT(Translit.Translit(Service!E966),1))&TRIM(LEFT(Translit.Translit(Service!F966),1))),TRIM('Информация о пользователе'!F968))","v":"pusto"},{"$f":"IF('Информация о пользователе'!G968=\"\",TRIM(LEFT(Translit.Translit(Service!E966),2))&INDEX(Service!H966:H984,RANDBETWEEN(1,19),1)&RANDBETWEEN(1,9)&IF(Service!F966=\"\",TRIM(LEFT(Translit.Translit(Service!E966),3))&INDEX(Service!A966:A991,RANDBETWEEN(1,26),1),TRIM(LEFT(Translit.Translit(Service!F966),2))&INDEX(Service!H966:H984,RANDBETWEEN(1,19),1)&INDEX(Service!A966:A991,RANDBETWEEN(1,26),1)),'Информация о пользователе'!G968)","v":{"$error":"#NAME?"}}]
[{"$f":"TRIM(IF('Информация о пользователе'!A969=\"\",\"Пусто\",'Информация о пользователе'!A969))","v":"Пусто"},{"$f":"TRIM(IF('Информация о пользователе'!B969=\"\",\" \",'Информация о пользователе'!B969&\" \"&'Информация о пользователе'!C969))","v":""},{"$f":"TRIM(IF(AD!A968=\"\",\"\",AD!B968&\" \"&A968))","v":"Пусто"},{"$f":"TRIM(IF('Информация о пользователе'!D969=\"\",F968&\"@edu54.ru\",'Информация о пользователе'!D969))","v":"pusto@edu54.ru"},{"$f":"TRIM(IF('Информация о пользователе'!E969=\"\",\"\",'Информация о пользователе'!E969))","v":""},{"$f":"IF('Информация о пользователе'!F969=\"\",TRIM(Translit.Translit(A968)&TRIM(LEFT(Translit.Translit(Service!E967),1))&TRIM(LEFT(Translit.Translit(Service!F967),1))),TRIM('Информация о пользователе'!F969))","v":"pusto"},{"$f":"IF('Информация о пользователе'!G969=\"\",TRIM(LEFT(Translit.Translit(Service!E967),2))&INDEX(Service!H967:H985,RANDBETWEEN(1,19),1)&RANDBETWEEN(1,9)&IF(Service!F967=\"\",TRIM(LEFT(Translit.Translit(Service!E967),3))&INDEX(Service!A967:A992,RANDBETWEEN(1,26),1),TRIM(LEFT(Translit.Translit(Service!F967),2))&INDEX(Service!H967:H985,RANDBETWEEN(1,19),1)&INDEX(Service!A967:A992,RANDBETWEEN(1,26),1)),'Информация о пользователе'!G969)","v":{"$error":"#NAME?"}}]
[{"$f":"TRIM(IF('Информация о пользователе'!A970=\"\",\"Пусто\",'Информация о пользователе'!A970))","v":"Пусто"},{"$f":"TRIM(IF('Информация о пользователе'!B970=\"\",\" \",'Информация о пользователе'!B970&\" \"&'Информация о пользователе'!C970))","v":""},{"$f":"TRIM(IF(AD!A969=\"\",\"\",AD!B969&\" \"&A969))","v":"Пусто"},{"$f":"TRIM(IF('Информация о пользователе'!D970=\"\",F969&\"@edu54.ru\",'Информация о пользователе'!D970))","v":"pusto@edu54.ru"},{"$f":"TRIM(IF('Информация о пользователе'!E970=\"\",\"\",'Информация о пользователе'!E970))","v":""},{"$f":"IF('Информация о пользователе'!F970=\"\",TRIM(Translit.Translit(A969)&TRIM(LEFT(Translit.Translit(Service!E968),1))&TRIM(LEFT(Translit.Translit(Service!F968),1))),TRIM('Информация о пользователе'!F970))","v":"pusto"},{"$f":"IF('Информация о пользователе'!G970=\"\",TRIM(LEFT(Translit.Translit(Service!E968),2))&INDEX(Service!H968:H986,RANDBETWEEN(1,19),1)&RANDBETWEEN(1,9)&IF(Service!F968=\"\",TRIM(LEFT(Translit.Translit(Service!E968),3))&INDEX(Service!A968:A993,RANDBETWEEN(1,26),1),TRIM(LEFT(Translit.Translit(Service!F968),2))&INDEX(Service!H968:H986,RANDBETWEEN(1,19),1)&INDEX(Service!A968:A993,RANDBETWEEN(1,26),1)),'Информация о пользователе'!G970)","v":{"$error":"#NAME?"}}]
[{"$f":"TRIM(IF('Информация о пользователе'!A971=\"\",\"Пусто\",'Информация о пользователе'!A971))","v":"Пусто"},{"$f":"TRIM(IF('Информация о пользователе'!B971=\"\",\" \",'Информация о пользователе'!B971&\" \"&'Информация о пользователе'!C971))","v":""},{"$f":"TRIM(IF(AD!A970=\"\",\"\",AD!B970&\" \"&A970))","v":"Пусто"},{"$f":"TRIM(IF('Информация о пользователе'!D971=\"\",F970&\"@edu54.ru\",'Информация о пользователе'!D971))","v":"pusto@edu54.ru"},{"$f":"TRIM(IF('Информация о пользователе'!E971=\"\",\"\",'Информация о пользователе'!E971))","v":""},{"$f":"IF('Информация о пользователе'!F971=\"\",TRIM(Translit.Translit(A970)&TRIM(LEFT(Translit.Translit(Service!E969),1))&TRIM(LEFT(Translit.Translit(Service!F969),1))),TRIM('Информация о пользователе'!F971))","v":"pusto"},{"$f":"IF('Информация о пользователе'!G971=\"\",TRIM(LEFT(Translit.Translit(Service!E969),2))&INDEX(Service!H969:H987,RANDBETWEEN(1,19),1)&RANDBETWEEN(1,9)&IF(Service!F969=\"\",TRIM(LEFT(Translit.Translit(Service!E969),3))&INDEX(Service!A969:A994,RANDBETWEEN(1,26),1),TRIM(LEFT(Translit.Translit(Service!F969),2))&INDEX(Service!H969:H987,RANDBETWEEN(1,19),1)&INDEX(Service!A969:A994,RANDBETWEEN(1,26),1)),'Информация о пользователе'!G971)","v":{"$error":"#NAME?"}}]
[{"$f":"TRIM(IF('Информация о пользователе'!A972=\"\",\"Пусто\",'Информация о пользователе'!A972))","v":"Пусто"},{"$f":"TRIM(IF('Информация о пользователе'!B972=\"\",\" \",'Информация о пользователе'!B972&\" \"&'Информация о пользователе'!C972))","v":""},{"$f":"TRIM(IF(AD!A971=\"\",\"\",AD!B971&\" \"&A971))","v":"Пусто"},{"$f":"TRIM(IF('Информация о пользователе'!D972=\"\",F971&\"@edu54.ru\",'Информация о пользователе'!D972))","v":"pusto@edu54.ru"},{"$f":"TRIM(IF('Информация о пользователе'!E972=\"\",\"\",'Информация о пользователе'!E972))","v":""},{"$f":"IF('Информация о пользователе'!F972=\"\",TRIM(Translit.Translit(A971)&TRIM(LEFT(Translit.Translit(Service!E970),1))&TRIM(LEFT(Translit.Translit(Service!F970),1))),TRIM('Информация о пользователе'!F972))","v":"pusto"},{"$f":"IF('Информация о пользователе'!G972=\"\",TRIM(LEFT(Translit.Translit(Service!E970),2))&INDEX(Service!H970:H988,RANDBETWEEN(1,19),1)&RANDBETWEEN(1,9)&IF(Service!F970=\"\",TRIM(LEFT(Translit.Translit(Service!E970),3))&INDEX(Service!A970:A995,RANDBETWEEN(1,26),1),TRIM(LEFT(Translit.Translit(Service!F970),2))&INDEX(Service!H970:H988,RANDBETWEEN(1,19),1)&INDEX(Service!A970:A995,RANDBETWEEN(1,26),1)),'Информация о пользователе'!G972)","v":{"$error":"#NAME?"}}]
[{"$f":"TRIM(IF('Информация о пользователе'!A973=\"\",\"Пусто\",'Информация о пользователе'!A973))","v":"Пусто"},{"$f":"TRIM(IF('Информация о пользователе'!B973=\"\",\" \",'Информация о пользователе'!B973&\" \"&'Информация о пользователе'!C973))","v":""},{"$f":"TRIM(IF(AD!A972=\"\",\"\",AD!B972&\" \"&A972))","v":"Пусто"},{"$f":"TRIM(IF('Информация о пользователе'!D973=\"\",F972&\"@edu54.ru\",'Информация о пользователе'!D973))","v":"pusto@edu54.ru"},{"$f":"TRIM(IF('Информация о пользователе'!E973=\"\",\"\",'Информация о пользователе'!E973))","v":""},{"$f":"IF('Информация о пользователе'!F973=\"\",TRIM(Translit.Translit(A972)&TRIM(LEFT(Translit.Translit(Service!E971),1))&TRIM(LEFT(Translit.Translit(Service!F971),1))),TRIM('Информация о пользователе'!F973))","v":"pusto"},{"$f":"IF('Информация о пользователе'!G973=\"\",TRIM(LEFT(Translit.Translit(Service!E971),2))&INDEX(Service!H971:H989,RANDBETWEEN(1,19),1)&RANDBETWEEN(1,9)&IF(Service!F971=\"\",TRIM(LEFT(Translit.Translit(Service!E971),3))&INDEX(Service!A971:A996,RANDBETWEEN(1,26),1),TRIM(LEFT(Translit.Translit(Service!F971),2))&INDEX(Service!H971:H989,RANDBETWEEN(1,19),1)&INDEX(Service!A971:A996,RANDBETWEEN(1,26),1)),'Информация о пользователе'!G973)","v":{"$error":"#NAME?"}}]
[{"$f":"TRIM(IF('Информация о пользователе'!A974=\"\",\"Пусто\",'Информация о пользователе'!A974))","v":"Пусто"},{"$f":"TRIM(IF('Информация о пользователе'!B974=\"\",\" \",'Информация о пользователе'!B974&\" \"&'Информация о пользователе'!C974))","v":""},{"$f":"TRIM(IF(AD!A973=\"\",\"\",AD!B973&\" \"&A973))","v":"Пусто"},{"$f":"TRIM(IF('Информация о пользователе'!D974=\"\",F973&\"@edu54.ru\",'Информация о пользователе'!D974))","v":"pusto@edu54.ru"},{"$f":"TRIM(IF('Информация о пользователе'!E974=\"\",\"\",'Информация о пользователе'!E974))","v":""},{"$f":"IF('Информация о пользователе'!F974=\"\",TRIM(Translit.Translit(A973)&TRIM(LEFT(Translit.Translit(Service!E972),1))&TRIM(LEFT(Translit.Translit(Service!F972),1))),TRIM('Информация о пользователе'!F974))","v":"pusto"},{"$f":"IF('Информация о пользователе'!G974=\"\",TRIM(LEFT(Translit.Translit(Service!E972),2))&INDEX(Service!H972:H990,RANDBETWEEN(1,19),1)&RANDBETWEEN(1,9)&IF(Service!F972=\"\",TRIM(LEFT(Translit.Translit(Service!E972),3))&INDEX(Service!A972:A997,RANDBETWEEN(1,26),1),TRIM(LEFT(Translit.Translit(Service!F972),2))&INDEX(Service!H972:H990,RANDBETWEEN(1,19),1)&INDEX(Service!A972:A997,RANDBETWEEN(1,26),1)),'Информация о пользователе'!G974)","v":{"$error":"#NAME?"}}]
[{"$f":"TRIM(IF('Информация о пользователе'!A975=\"\",\"Пусто\",'Информация о пользователе'!A975))","v":"Пусто"},{"$f":"TRIM(IF('Информация о пользователе'!B975=\"\",\" \",'Информация о пользователе'!B975&\" \"&'Информация о пользователе'!C975))","v":""},{"$f":"TRIM(IF(AD!A974=\"\",\"\",AD!B974&\" \"&A974))","v":"Пусто"},{"$f":"TRIM(IF('Информация о пользователе'!D975=\"\",F974&\"@edu54.ru\",'Информация о пользователе'!D975))","v":"pusto@edu54.ru"},{"$f":"TRIM(IF('Информация о пользователе'!E975=\"\",\"\",'Информация о пользователе'!E975))","v":""},{"$f":"IF('Информация о пользователе'!F975=\"\",TRIM(Translit.Translit(A974)&TRIM(LEFT(Translit.Translit(Service!E973),1))&TRIM(LEFT(Translit.Translit(Service!F973),1))),TRIM('Информация о пользователе'!F975))","v":"pusto"},{"$f":"IF('Информация о пользователе'!G975=\"\",TRIM(LEFT(Translit.Translit(Service!E973),2))&INDEX(Service!H973:H991,RANDBETWEEN(1,19),1)&RANDBETWEEN(1,9)&IF(Service!F973=\"\",TRIM(LEFT(Translit.Translit(Service!E973),3))&INDEX(Service!A973:A998,RANDBETWEEN(1,26),1),TRIM(LEFT(Translit.Translit(Service!F973),2))&INDEX(Service!H973:H991,RANDBETWEEN(1,19),1)&INDEX(Service!A973:A998,RANDBETWEEN(1,26),1)),'Информация о пользователе'!G975)","v":{"$error":"#NAME?"}}]
[{"$f":"TRIM(IF('Информация о пользователе'!A976=\"\",\"Пусто\",'Информация о пользователе'!A976))","v":"Пусто"},{"$f":"TRIM(IF('Информация о пользователе'!B976=\"\",\" \",'Информация о пользователе'!B976&\" \"&'Информация о пользователе'!C976))","v":""},{"$f":"TRIM(IF(AD!A975=\"\",\"\",AD!B975&\" \"&A975))","v":"Пусто"},{"$f":"TRIM(IF('Информация о пользователе'!D976=\"\",F975&\"@edu54.ru\",'Информация о пользователе'!D976))","v":"pusto@edu54.ru"},{"$f":"TRIM(IF('Информация о пользователе'!E976=\"\",\"\",'Информация о пользователе'!E976))","v":""},{"$f":"IF('Информация о пользователе'!F976=\"\",TRIM(Translit.Translit(A975)&TRIM(LEFT(Translit.Translit(Service!E974),1))&TRIM(LEFT(Translit.Translit(Service!F974),1))),TRIM('Информация о пользователе'!F976))","v":"pusto"},{"$f":"IF('Информация о пользователе'!G976=\"\",TRIM(LEFT(Translit.Translit(Service!E974),2))&INDEX(Service!H974:H992,RANDBETWEEN(1,19),1)&RANDBETWEEN(1,9)&IF(Service!F974=\"\",TRIM(LEFT(Translit.Translit(Service!E974),3))&INDEX(Service!A974:A999,RANDBETWEEN(1,26),1),TRIM(LEFT(Translit.Translit(Service!F974),2))&INDEX(Service!H974:H992,RANDBETWEEN(1,19),1)&INDEX(Service!A974:A999,RANDBETWEEN(1,26),1)),'Информация о пользователе'!G976)","v":{"$error":"#NAME?"}}]
[{"$f":"TRIM(IF('Информация о пользователе'!A977=\"\",\"Пусто\",'Информация о пользователе'!A977))","v":"Пусто"},{"$f":"TRIM(IF('Информация о пользователе'!B977=\"\",\" \",'Информация о пользователе'!B977&\" \"&'Информация о пользователе'!C977))","v":""},{"$f":"TRIM(IF(AD!A976=\"\",\"\",AD!B976&\" \"&A976))","v":"Пусто"},{"$f":"TRIM(IF('Информация о пользователе'!D977=\"\",F976&\"@edu54.ru\",'Информация о пользователе'!D977))","v":"pusto@edu54.ru"},{"$f":"TRIM(IF('Информация о пользователе'!E977=\"\",\"\",'Информация о пользователе'!E977))","v":""},{"$f":"IF('Информация о пользователе'!F977=\"\",TRIM(Translit.Translit(A976)&TRIM(LEFT(Translit.Translit(Service!E975),1))&TRIM(LEFT(Translit.Translit(Service!F975),1))),TRIM('Информация о пользователе'!F977))","v":"pusto"},{"$f":"IF('Информация о пользователе'!G977=\"\",TRIM(LEFT(Translit.Translit(Service!E975),2))&INDEX(Service!H975:H993,RANDBETWEEN(1,19),1)&RANDBETWEEN(1,9)&IF(Service!F975=\"\",TRIM(LEFT(Translit.Translit(Service!E975),3))&INDEX(Service!A975:A1000,RANDBETWEEN(1,26),1),TRIM(LEFT(Translit.Translit(Service!F975),2))&INDEX(Service!H975:H993,RANDBETWEEN(1,19),1)&INDEX(Service!A975:A1000,RANDBETWEEN(1,26),1)),'Информация о пользователе'!G977)","v":{"$error":"#NAME?"}}]
[{"$f":"TRIM(IF('Информация о пользователе'!A978=\"\",\"Пусто\",'Информация о пользователе'!A978))","v":"Пусто"},{"$f":"TRIM(IF('Информация о пользователе'!B978=\"\",\" \",'Информация о пользователе'!B978&\" \"&'Информация о пользователе'!C978))","v":""},{"$f":"TRIM(IF(AD!A977=\"\",\"\",AD!B977&\" \"&A977))","v":"Пусто"},{"$f":"TRIM(IF('Информация о пользователе'!D978=\"\",F977&\"@edu54.ru\",'Информация о пользователе'!D978))","v":"pusto@edu54.ru"},{"$f":"TRIM(IF('Информация о пользователе'!E978=\"\",\"\",'Информация о пользователе'!E978))","v":""},{"$f":"IF('Информация о пользователе'!F978=\"\",TRIM(Translit.Translit(A977)&TRIM(LEFT(Translit.Translit(Service!E976),1))&TRIM(LEFT(Translit.Translit(Service!F976),1))),TRIM('Информация о пользователе'!F978))","v":"pusto"},{"$f":"IF('Информация о пользователе'!G978=\"\",TRIM(LEFT(Translit.Translit(Service!E976),2))&INDEX(Service!H976:H994,RANDBETWEEN(1,19),1)&RANDBETWEEN(1,9)&IF(Service!F976=\"\",TRIM(LEFT(Translit.Translit(Service!E976),3))&INDEX(Service!A976:A1001,RANDBETWEEN(1,26),1),TRIM(LEFT(Translit.Translit(Service!F976),2))&INDEX(Service!H976:H994,RANDBETWEEN(1,19),1)&INDEX(Service!A976:A1001,RANDBETWEEN(1,26),1)),'Информация о пользователе'!G978)","v":{"$error":"#NAME?"}}]
[{"$f":"TRIM(IF('Информация о пользователе'!A979=\"\",\"Пусто\",'Информация о пользователе'!A979))","v":"Пусто"},{"$f":"TRIM(IF('Информация о пользователе'!B979=\"\",\" \",'Информация о пользователе'!B979&\" \"&'Информация о пользователе'!C979))","v":""},{"$f":"TRIM(IF(AD!A978=\"\",\"\",AD!B978&\" \"&A978))","v":"Пусто"},{"$f":"TRIM(IF('Информация о пользователе'!D979=\"\",F978&\"@edu54.ru\",'Информация о пользователе'!D979))","v":"pusto@edu54.ru"},{"$f":"TRIM(IF('Информация о пользователе'!E979=\"\",\"\",'Информация о пользователе'!E979))","v":""},{"$f":"IF('Информация о пользователе'!F979=\"\",TRIM(Translit.Translit(A978)&TRIM(LEFT(Translit.Translit(Service!E977),1))&TRIM(LEFT(Translit.Translit(Service!F977),1))),TRIM('Информация о пользователе'!F979))","v":"pusto"},{"$f":"IF('Информация о пользователе'!G979=\"\",TRIM(LEFT(Translit.Translit(Service!E977),2))&INDEX(Service!H977:H995,RANDBETWEEN(1,19),1)&RANDBETWEEN(1,9)&IF(Service!F977=\"\",TRIM(LEFT(Translit.Translit(Service!E977),3))&INDEX(Service!A977:A1002,RANDBETWEEN(1,26),1),TRIM(LEFT(Translit.Translit(Service!F977),2))&INDEX(Service!H977:H995,RANDBETWEEN(1,19),1)&INDEX(Service!A977:A1002,RANDBETWEEN(1,26),1)),'Информация о пользователе'!G979)","v":{"$error":"#NAME?"}}]
[{"$f":"TRIM(IF('Информация о пользователе'!A980=\"\",\"Пусто\",'Информация о пользователе'!A980))","v":"Пусто"},{"$f":"TRIM(IF('Информация о пользователе'!B980=\"\",\" \",'Информация о пользователе'!B980&\" \"&'Информация о пользователе'!C980))","v":""},{"$f":"TRIM(IF(AD!A979=\"\",\"\",AD!B979&\" \"&A979))","v":"Пусто"},{"$f":"TRIM(IF('Информация о пользователе'!D980=\"\",F979&\"@edu54.ru\",'Информация о пользователе'!D980))","v":"pusto@edu54.ru"},{"$f":"TRIM(IF('Информация о пользователе'!E980=\"\",\"\",'Информация о пользователе'!E980))","v":""},{"$f":"IF('Информация о пользователе'!F980=\"\",TRIM(Translit.Translit(A979)&TRIM(LEFT(Translit.Translit(Service!E978),1))&TRIM(LEFT(Translit.Translit(Service!F978),1))),TRIM('Информация о пользователе'!F980))","v":"pusto"},{"$f":"IF('Информация о пользователе'!G980=\"\",TRIM(LEFT(Translit.Translit(Service!E978),2))&INDEX(Service!H978:H996,RANDBETWEEN(1,19),1)&RANDBETWEEN(1,9)&IF(Service!F978=\"\",TRIM(LEFT(Translit.Translit(Service!E978),3))&INDEX(Service!A978:A1003,RANDBETWEEN(1,26),1),TRIM(LEFT(Translit.Translit(Service!F978),2))&INDEX(Service!H978:H996,RANDBETWEEN(1,19),1)&INDEX(Service!A978:A1003,RANDBETWEEN(1,26),1)),'Информация о пользователе'!G980)","v":{"$error":"#NAME?"}}]
[{"$f":"TRIM(IF('Информация о пользователе'!A981=\"\",\"Пусто\",'Информация о пользователе'!A981))","v":"Пусто"},{"$f":"TRIM(IF('Информация о пользователе'!B981=\"\",\" \",'Информация о пользователе'!B981&\" \"&'Информация о пользователе'!C981))","v":""},{"$f":"TRIM(IF(AD!A980=\"\",\"\",AD!B980&\" \"&A980))","v":"Пусто"},{"$f":"TRIM(IF('Информация о пользователе'!D981=\"\",F980&\"@edu54.ru\",'Информация о пользователе'!D981))","v":"pusto@edu54.ru"},{"$f":"TRIM(IF('Информация о пользователе'!E981=\"\",\"\",'Информация о пользователе'!E981))","v":""},{"$f":"IF('Информация о пользователе'!F981=\"\",TRIM(Translit.Translit(A980)&TRIM(LEFT(Translit.Translit(Service!E979),1))&TRIM(LEFT(Translit.Translit(Service!F979),1))),TRIM('Информация о пользователе'!F981))","v":"pusto"},{"$f":"IF('Информация о пользователе'!G981=\"\",TRIM(LEFT(Translit.Translit(Service!E979),2))&INDEX(Service!H979:H997,RANDBETWEEN(1,19),1)&RANDBETWEEN(1,9)&IF(Service!F979=\"\",TRIM(LEFT(Translit.Translit(Service!E979),3))&INDEX(Service!A979:A1004,RANDBETWEEN(1,26),1),TRIM(LEFT(Translit.Translit(Service!F979),2))&INDEX(Service!H979:H997,RANDBETWEEN(1,19),1)&INDEX(Service!A979:A1004,RANDBETWEEN(1,26),1)),'Информация о пользователе'!G981)","v":{"$error":"#NAME?"}}]
[{"$f":"TRIM(IF('Информация о пользователе'!A982=\"\",\"Пусто\",'Информация о пользователе'!A982))","v":"Пусто"},{"$f":"TRIM(IF('Информация о пользователе'!B982=\"\",\" \",'Информация о пользователе'!B982&\" \"&'Информация о пользователе'!C982))","v":""},{"$f":"TRIM(IF(AD!A981=\"\",\"\",AD!B981&\" \"&A981))","v":"Пусто"},{"$f":"TRIM(IF('Информация о пользователе'!D982=\"\",F981&\"@edu54.ru\",'Информация о пользователе'!D982))","v":"pusto@edu54.ru"},{"$f":"TRIM(IF('Информация о пользователе'!E982=\"\",\"\",'Информация о пользователе'!E982))","v":""},{"$f":"IF('Информация о пользователе'!F982=\"\",TRIM(Translit.Translit(A981)&TRIM(LEFT(Translit.Translit(Service!E980),1))&TRIM(LEFT(Translit.Translit(Service!F980),1))),TRIM('Информация о пользователе'!F982))","v":"pusto"},{"$f":"IF('Информация о пользователе'!G982=\"\",TRIM(LEFT(Translit.Translit(Service!E980),2))&INDEX(Service!H980:H998,RANDBETWEEN(1,19),1)&RANDBETWEEN(1,9)&IF(Service!F980=\"\",TRIM(LEFT(Translit.Translit(Service!E980),3))&INDEX(Service!A980:A1005,RANDBETWEEN(1,26),1),TRIM(LEFT(Translit.Translit(Service!F980),2))&INDEX(Service!H980:H998,RANDBETWEEN(1,19),1)&INDEX(Service!A980:A1005,RANDBETWEEN(1,26),1)),'Информация о пользователе'!G982)","v":{"$error":"#NAME?"}}]
[{"$f":"TRIM(IF('Информация о пользователе'!A983=\"\",\"Пусто\",'Информация о пользователе'!A983))","v":"Пусто"},{"$f":"TRIM(IF('Информация о пользователе'!B983=\"\",\" \",'Информация о пользователе'!B983&\" \"&'Информация о пользователе'!C983))","v":""},{"$f":"TRIM(IF(AD!A982=\"\",\"\",AD!B982&\" \"&A982))","v":"Пусто"},{"$f":"TRIM(IF('Информация о пользователе'!D983=\"\",F982&\"@edu54.ru\",'Информация о пользователе'!D983))","v":"pusto@edu54.ru"},{"$f":"TRIM(IF('Информация о пользователе'!E983=\"\",\"\",'Информация о пользователе'!E983))","v":""},{"$f":"IF('Информация о пользователе'!F983=\"\",TRIM(Translit.Translit(A982)&TRIM(LEFT(Translit.Translit(Service!E981),1))&TRIM(LEFT(Translit.Translit(Service!F981),1))),TRIM('Информация о пользователе'!F983))","v":"pusto"},{"$f":"IF('Информация о пользователе'!G983=\"\",TRIM(LEFT(Translit.Translit(Service!E981),2))&INDEX(Service!H981:H999,RANDBETWEEN(1,19),1)&RANDBETWEEN(1,9)&IF(Service!F981=\"\",TRIM(LEFT(Translit.Translit(Service!E981),3))&INDEX(Service!A981:A1006,RANDBETWEEN(1,26),1),TRIM(LEFT(Translit.Translit(Service!F981),2))&INDEX(Service!H981:H999,RANDBETWEEN(1,19),1)&INDEX(Service!A981:A1006,RANDBETWEEN(1,26),1)),'Информация о пользователе'!G983)","v":{"$error":"#NAME?"}}]
[{"$f":"TRIM(IF('Информация о пользователе'!A984=\"\",\"Пусто\",'Информация о пользователе'!A984))","v":"Пусто"},{"$f":"TRIM(IF('Информация о пользователе'!B984=\"\",\" \",'Информация о пользователе'!B984&\" \"&'Информация о пользователе'!C984))","v":""},{"$f":"TRIM(IF(AD!A983=\"\",\"\",AD!B983&\" \"&A983))","v":"Пусто"},{"$f":"TRIM(IF('Информация о пользователе'!D984=\"\",F983&\"@edu54.ru\",'Информация о пользователе'!D984))","v":"pusto@edu54.ru"},{"$f":"TRIM(IF('Информация о пользователе'!E984=\"\",\"\",'Информация о пользователе'!E984))","v":""},{"$f":"IF('Информация о пользователе'!F984=\"\",TRIM(Translit.Translit(A983)&TRIM(LEFT(Translit.Translit(Service!E982),1))&TRIM(LEFT(Translit.Translit(Service!F982),1))),TRIM('Информация о пользователе'!F984))","v":"pusto"},{"$f":"IF('Информация о пользователе'!G984=\"\",TRIM(LEFT(Translit.Translit(Service!E982),2))&INDEX(Service!H982:H1000,RANDBETWEEN(1,19),1)&RANDBETWEEN(1,9)&IF(Service!F982=\"\",TRIM(LEFT(Translit.Translit(Service!E982),3))&INDEX(Service!A982:A1007,RANDBETWEEN(1,26),1),TRIM(LEFT(Translit.Translit(Service!F982),2))&INDEX(Service!H982:H1000,RANDBETWEEN(1,19),1)&INDEX(Service!A982:A1007,RANDBETWEEN(1,26),1)),'Информация о пользователе'!G984)","v":{"$error":"#NAME?"}}]
[{"$f":"TRIM(IF('Информация о пользователе'!A985=\"\",\"Пусто\",'Информация о пользователе'!A985))","v":"Пусто"},{"$f":"TRIM(IF('Информация о пользователе'!B985=\"\",\" \",'Информация о пользователе'!B985&\" \"&'Информация о пользователе'!C985))","v":""},{"$f":"TRIM(IF(AD!A984=\"\",\"\",AD!B984&\" \"&A984))","v":"Пусто"},{"$f":"TRIM(IF('Информация о пользователе'!D985=\"\",F984&\"@edu54.ru\",'Информация о пользователе'!D985))","v":"pusto@edu54.ru"},{"$f":"TRIM(IF('Информация о пользователе'!E985=\"\",\"\",'Информация о пользователе'!E985))","v":""},{"$f":"IF('Информация о пользователе'!F985=\"\",TRIM(Translit.Translit(A984)&TRIM(LEFT(Translit.Translit(Service!E983),1))&TRIM(LEFT(Translit.Translit(Service!F983),1))),TRIM('Информация о пользователе'!F985))","v":"pusto"},{"$f":"IF('Информация о пользователе'!G985=\"\",TRIM(LEFT(Translit.Translit(Service!E983),2))&INDEX(Service!H983:H1001,RANDBETWEEN(1,19),1)&RANDBETWEEN(1,9)&IF(Service!F983=\"\",TRIM(LEFT(Translit.Translit(Service!E983),3))&INDEX(Service!A983:A1008,RANDBETWEEN(1,26),1),TRIM(LEFT(Translit.Translit(Service!F983),2))&INDEX(Service!H983:H1001,RANDBETWEEN(1,19),1)&INDEX(Service!A983:A1008,RANDBETWEEN(1,26),1)),'Информация о пользователе'!G985)","v":{"$error":"#NAME?"}}]
[{"$f":"TRIM(IF('Информация о пользователе'!A986=\"\",\"Пусто\",'Информация о пользователе'!A986))","v":"Пусто"},{"$f":"TRIM(IF('Информация о пользователе'!B986=\"\",\" \",'Информация о пользователе'!B986&\" \"&'Информация о пользователе'!C986))","v":""},{"$f":"TRIM(IF(AD!A985=\"\",\"\",AD!B985&\" \"&A985))","v":"Пусто"},{"$f":"TRIM(IF('Информация о пользователе'!D986=\"\",F985&\"@edu54.ru\",'Информация о пользователе'!D986))","v":"pusto@edu54.ru"},{"$f":"TRIM(IF('Информация о пользователе'!E986=\"\",\"\",'Информация о пользователе'!E986))","v":""},{"$f":"IF('Информация о пользователе'!F986=\"\",TRIM(Translit.Translit(A985)&TRIM(LEFT(Translit.Translit(Service!E984),1))&TRIM(LEFT(Translit.Translit(Service!F984),1))),TRIM('Информация о пользователе'!F986))","v":"pusto"},{"$f":"IF('Информация о пользователе'!G986=\"\",TRIM(LEFT(Translit.Translit(Service!E984),2))&INDEX(Service!H984:H1002,RANDBETWEEN(1,19),1)&RANDBETWEEN(1,9)&IF(Service!F984=\"\",TRIM(LEFT(Translit.Translit(Service!E984),3))&INDEX(Service!A984:A1009,RANDBETWEEN(1,26),1),TRIM(LEFT(Translit.Translit(Service!F984),2))&INDEX(Service!H984:H1002,RANDBETWEEN(1,19),1)&INDEX(Service!A984:A1009,RANDBETWEEN(1,26),1)),'Информация о пользователе'!G986)","v":{"$error":"#NAME?"}}]
[{"$f":"TRIM(IF('Информация о пользователе'!A987=\"\",\"Пусто\",'Информация о пользователе'!A987))","v":"Пусто"},{"$f":"TRIM(IF('Информация о пользователе'!B987=\"\",\" \",'Информация о пользователе'!B987&\" \"&'Информация о пользователе'!C987))","v":""},{"$f":"TRIM(IF(AD!A986=\"\",\"\",AD!B986&\" \"&A986))","v":"Пусто"},{"$f":"TRIM(IF('Информация о пользователе'!D987=\"\",F986&\"@edu54.ru\",'Информация о пользователе'!D987))","v":"pusto@edu54.ru"},{"$f":"TRIM(IF('Информация о пользователе'!E987=\"\",\"\",'Информация о пользователе'!E987))","v":""},{"$f":"IF('Информация о пользователе'!F987=\"\",TRIM(Translit.Translit(A986)&TRIM(LEFT(Translit.Translit(Service!E985),1))&TRIM(LEFT(Translit.Translit(Service!F985),1))),TRIM('Информация о пользователе'!F987))","v":"pusto"},{"$f":"IF('Информация о пользователе'!G987=\"\",TRIM(LEFT(Translit.Translit(Service!E985),2))&INDEX(Service!H985:H1003,RANDBETWEEN(1,19),1)&RANDBETWEEN(1,9)&IF(Service!F985=\"\",TRIM(LEFT(Translit.Translit(Service!E985),3))&INDEX(Service!A985:A1010,RANDBETWEEN(1,26),1),TRIM(LEFT(Translit.Translit(Service!F985),2))&INDEX(Service!H985:H1003,RANDBETWEEN(1,19),1)&INDEX(Service!A985:A1010,RANDBETWEEN(1,26),1)),'Информация о пользователе'!G987)","v":{"$error":"#NAME?"}}]
[{"$f":"TRIM(IF('Информация о пользователе'!A988=\"\",\"Пусто\",'Информация о пользователе'!A988))","v":"Пусто"},{"$f":"TRIM(IF('Информация о пользователе'!B988=\"\",\" \",'Информация о пользователе'!B988&\" \"&'Информация о пользователе'!C988))","v":""},{"$f":"TRIM(IF(AD!A987=\"\",\"\",AD!B987&\" \"&A987))","v":"Пусто"},{"$f":"TRIM(IF('Информация о пользователе'!D988=\"\",F987&\"@edu54.ru\",'Информация о пользователе'!D988))","v":"pusto@edu54.ru"},{"$f":"TRIM(IF('Информация о пользователе'!E988=\"\",\"\",'Информация о пользователе'!E988))","v":""},{"$f":"IF('Информация о пользователе'!F988=\"\",TRIM(Translit.Translit(A987)&TRIM(LEFT(Translit.Translit(Service!E986),1))&TRIM(LEFT(Translit.Translit(Service!F986),1))),TRIM('Информация о пользователе'!F988))","v":"pusto"},{"$f":"IF('Информация о пользователе'!G988=\"\",TRIM(LEFT(Translit.Translit(Service!E986),2))&INDEX(Service!H986:H1004,RANDBETWEEN(1,19),1)&RANDBETWEEN(1,9)&IF(Service!F986=\"\",TRIM(LEFT(Translit.Translit(Service!E986),3))&INDEX(Service!A986:A1011,RANDBETWEEN(1,26),1),TRIM(LEFT(Translit.Translit(Service!F986),2))&INDEX(Service!H986:H1004,RANDBETWEEN(1,19),1)&INDEX(Service!A986:A1011,RANDBETWEEN(1,26),1)),'Информация о пользователе'!G988)","v":{"$error":"#NAME?"}}]
[{"$f":"TRIM(IF('Информация о пользователе'!A989=\"\",\"Пусто\",'Информация о пользователе'!A989))","v":"Пусто"},{"$f":"TRIM(IF('Информация о пользователе'!B989=\"\",\" \",'Информация о пользователе'!B989&\" \"&'Информация о пользователе'!C989))","v":""},{"$f":"TRIM(IF(AD!A988=\"\",\"\",AD!B988&\" \"&A988))","v":"Пусто"},{"$f":"TRIM(IF('Информация о пользователе'!D989=\"\",F988&\"@edu54.ru\",'Информация о пользователе'!D989))","v":"pusto@edu54.ru"},{"$f":"TRIM(IF('Информация о пользователе'!E989=\"\",\"\",'Информация о пользователе'!E989))","v":""},{"$f":"IF('Информация о пользователе'!F989=\"\",TRIM(Translit.Translit(A988)&TRIM(LEFT(Translit.Translit(Service!E987),1))&TRIM(LEFT(Translit.Translit(Service!F987),1))),TRIM('Информация о пользователе'!F989))","v":"pusto"},{"$f":"IF('Информация о пользователе'!G989=\"\",TRIM(LEFT(Translit.Translit(Service!E987),2))&INDEX(Service!H987:H1005,RANDBETWEEN(1,19),1)&RANDBETWEEN(1,9)&IF(Service!F987=\"\",TRIM(LEFT(Translit.Translit(Service!E987),3))&INDEX(Service!A987:A1012,RANDBETWEEN(1,26),1),TRIM(LEFT(Translit.Translit(Service!F987),2))&INDEX(Service!H987:H1005,RANDBETWEEN(1,19),1)&INDEX(Service!A987:A1012,RANDBETWEEN(1,26),1)),'Информация о пользователе'!G989)","v":{"$error":"#NAME?"}}]
[{"$f":"TRIM(IF('Информация о пользователе'!A990=\"\",\"Пусто\",'Информация о пользователе'!A990))","v":"Пусто"},{"$f":"TRIM(IF('Информация о пользователе'!B990=\"\",\" \",'Информация о пользователе'!B990&\" \"&'Информация о пользователе'!C990))","v":""},{"$f":"TRIM(IF(AD!A989=\"\",\"\",AD!B989&\" \"&A989))","v":"Пусто"},{"$f":"TRIM(IF('Информация о пользователе'!D990=\"\",F989&\"@edu54.ru\",'Информация о пользователе'!D990))","v":"pusto@edu54.ru"},{"$f":"TRIM(IF('Информация о пользователе'!E990=\"\",\"\",'Информация о пользователе'!E990))","v":""},{"$f":"IF('Информация о пользователе'!F990=\"\",TRIM(Translit.Translit(A989)&TRIM(LEFT(Translit.Translit(Service!E988),1))&TRIM(LEFT(Translit.Translit(Service!F988),1))),TRIM('Информация о пользователе'!F990))","v":"pusto"},{"$f":"IF('Информация о пользователе'!G990=\"\",TRIM(LEFT(Translit.Translit(Service!E988),2))&INDEX(Service!H988:H1006,RANDBETWEEN(1,19),1)&RANDBETWEEN(1,9)&IF(Service!F988=\"\",TRIM(LEFT(Translit.Translit(Service!E988),3))&INDEX(Service!A988:A1013,RANDBETWEEN(1,26),1),TRIM(LEFT(Translit.Translit(Service!F988),2))&INDEX(Service!H988:H1006,RANDBETWEEN(1,19),1)&INDEX(Service!A988:A1013,RANDBETWEEN(1,26),1)),'Информация о пользователе'!G990)","v":{"$error":"#NAME?"}}]
[{"$f":"TRIM(IF('Информация о пользователе'!A991=\"\",\"Пусто\",'Информация о пользователе'!A991))","v":"Пусто"},{"$f":"TRIM(IF('Информация о пользователе'!B991=\"\",\" \",'Информация о пользователе'!B991&\" \"&'Информация о пользователе'!C991))","v":""},{"$f":"TRIM(IF(AD!A990=\"\",\"\",AD!B990&\" \"&A990))","v":"Пусто"},{"$f":"TRIM(IF('Информация о пользователе'!D991=\"\",F990&\"@edu54.ru\",'Информация о пользователе'!D991))","v":"pusto@edu54.ru"},{"$f":"TRIM(IF('Информация о пользователе'!E991=\"\",\"\",'Информация о пользователе'!E991))","v":""},{"$f":"IF('Информация о пользователе'!F991=\"\",TRIM(Translit.Translit(A990)&TRIM(LEFT(Translit.Translit(Service!E989),1))&TRIM(LEFT(Translit.Translit(Service!F989),1))),TRIM('Информация о пользователе'!F991))","v":"pusto"},{"$f":"IF('Информация о пользователе'!G991=\"\",TRIM(LEFT(Translit.Translit(Service!E989),2))&INDEX(Service!H989:H1007,RANDBETWEEN(1,19),1)&RANDBETWEEN(1,9)&IF(Service!F989=\"\",TRIM(LEFT(Translit.Translit(Service!E989),3))&INDEX(Service!A989:A1014,RANDBETWEEN(1,26),1),TRIM(LEFT(Translit.Translit(Service!F989),2))&INDEX(Service!H989:H1007,RANDBETWEEN(1,19),1)&INDEX(Service!A989:A1014,RANDBETWEEN(1,26),1)),'Информация о пользователе'!G991)","v":{"$error":"#NAME?"}}]
[{"$f":"TRIM(IF('Информация о пользователе'!A992=\"\",\"Пусто\",'Информация о пользователе'!A992))","v":"Пусто"},{"$f":"TRIM(IF('Информация о пользователе'!B992=\"\",\" \",'Информация о пользователе'!B992&\" \"&'Информация о пользователе'!C992))","v":""},{"$f":"TRIM(IF(AD!A991=\"\",\"\",AD!B991&\" \"&A991))","v":"Пусто"},{"$f":"TRIM(IF('Информация о пользователе'!D992=\"\",F991&\"@edu54.ru\",'Информация о пользователе'!D992))","v":"pusto@edu54.ru"},{"$f":"TRIM(IF('Информация о пользователе'!E992=\"\",\"\",'Информация о пользователе'!E992))","v":""},{"$f":"IF('Информация о пользователе'!F992=\"\",TRIM(Translit.Translit(A991)&TRIM(LEFT(Translit.Translit(Service!E990),1))&TRIM(LEFT(Translit.Translit(Service!F990),1))),TRIM('Информация о пользователе'!F992))","v":"pusto"},{"$f":"IF('Информация о пользователе'!G992=\"\",TRIM(LEFT(Translit.Translit(Service!E990),2))&INDEX(Service!H990:H1008,RANDBETWEEN(1,19),1)&RANDBETWEEN(1,9)&IF(Service!F990=\"\",TRIM(LEFT(Translit.Translit(Service!E990),3))&INDEX(Service!A990:A1015,RANDBETWEEN(1,26),1),TRIM(LEFT(Translit.Translit(Service!F990),2))&INDEX(Service!H990:H1008,RANDBETWEEN(1,19),1)&INDEX(Service!A990:A1015,RANDBETWEEN(1,26),1)),'Информация о пользователе'!G992)","v":{"$error":"#NAME?"}}]
[{"$f":"TRIM(IF('Информация о пользователе'!A993=\"\",\"Пусто\",'Информация о пользователе'!A993))","v":"Пусто"},{"$f":"TRIM(IF('Информация о пользователе'!B993=\"\",\" \",'Информация о пользователе'!B993&\" \"&'Информация о пользователе'!C993))","v":""},{"$f":"TRIM(IF(AD!A992=\"\",\"\",AD!B992&\" \"&A992))","v":"Пусто"},{"$f":"TRIM(IF('Информация о пользователе'!D993=\"\",F992&\"@edu54.ru\",'Информация о пользователе'!D993))","v":"pusto@edu54.ru"},{"$f":"TRIM(IF('Информация о пользователе'!E993=\"\",\"\",'Информация о пользователе'!E993))","v":""},{"$f":"IF('Информация о пользователе'!F993=\"\",TRIM(Translit.Translit(A992)&TRIM(LEFT(Translit.Translit(Service!E991),1))&TRIM(LEFT(Translit.Translit(Service!F991),1))),TRIM('Информация о пользователе'!F993))","v":"pusto"},{"$f":"IF('Информация о пользователе'!G993=\"\",TRIM(LEFT(Translit.Translit(Service!E991),2))&INDEX(Service!H991:H1009,RANDBETWEEN(1,19),1)&RANDBETWEEN(1,9)&IF(Service!F991=\"\",TRIM(LEFT(Translit.Translit(Service!E991),3))&INDEX(Service!A991:A1016,RANDBETWEEN(1,26),1),TRIM(LEFT(Translit.Translit(Service!F991),2))&INDEX(Service!H991:H1009,RANDBETWEEN(1,19),1)&INDEX(Service!A991:A1016,RANDBETWEEN(1,26),1)),'Информация о пользователе'!G993)","v":{"$error":"#NAME?"}}]
[{"$f":"TRIM(IF('Информация о пользователе'!A994=\"\",\"Пусто\",'Информация о пользователе'!A994))","v":"Пусто"},{"$f":"TRIM(IF('Информация о пользователе'!B994=\"\",\" \",'Информация о пользователе'!B994&\" \"&'Информация о пользователе'!C994))","v":""},{"$f":"TRIM(IF(AD!A993=\"\",\"\",AD!B993&\" \"&A993))","v":"Пусто"},{"$f":"TRIM(IF('Информация о пользователе'!D994=\"\",F993&\"@edu54.ru\",'Информация о пользователе'!D994))","v":"pusto@edu54.ru"},{"$f":"TRIM(IF('Информация о пользователе'!E994=\"\",\"\",'Информация о пользователе'!E994))","v":""},{"$f":"IF('Информация о пользователе'!F994=\"\",TRIM(Translit.Translit(A993)&TRIM(LEFT(Translit.Translit(Service!E992),1))&TRIM(LEFT(Translit.Translit(Service!F992),1))),TRIM('Информация о пользователе'!F994))","v":"pusto"},{"$f":"IF('Информация о пользователе'!G994=\"\",TRIM(LEFT(Translit.Translit(Service!E992),2))&INDEX(Service!H992:H1010,RANDBETWEEN(1,19),1)&RANDBETWEEN(1,9)&IF(Service!F992=\"\",TRIM(LEFT(Translit.Translit(Service!E992),3))&INDEX(Service!A992:A1017,RANDBETWEEN(1,26),1),TRIM(LEFT(Translit.Translit(Service!F992),2))&INDEX(Service!H992:H1010,RANDBETWEEN(1,19),1)&INDEX(Service!A992:A1017,RANDBETWEEN(1,26),1)),'Информация о пользователе'!G994)","v":{"$error":"#NAME?"}}]
[{"$f":"TRIM(IF('Информация о пользователе'!A995=\"\",\"Пусто\",'Информация о пользователе'!A995))","v":"Пусто"},{"$f":"TRIM(IF('Информация о пользователе'!B995=\"\",\" \",'Информация о пользователе'!B995&\" \"&'Информация о пользователе'!C995))","v":""},{"$f":"TRIM(IF(AD!A994=\"\",\"\",AD!B994&\" \"&A994))","v":"Пусто"},{"$f":"TRIM(IF('Информация о пользователе'!D995=\"\",F994&\"@edu54.ru\",'Информация о пользователе'!D995))","v":"pusto@edu54.ru"},{"$f":"TRIM(IF('Информация о пользователе'!E995=\"\",\"\",'Информация о пользователе'!E995))","v":""},{"$f":"IF('Информация о пользователе'!F995=\"\",TRIM(Translit.Translit(A994)&TRIM(LEFT(Translit.Translit(Service!E993),1))&TRIM(LEFT(Translit.Translit(Service!F993),1))),TRIM('Информация о пользователе'!F995))","v":"pusto"},{"$f":"IF('Информация о пользователе'!G995=\"\",TRIM(LEFT(Translit.Translit(Service!E993),2))&INDEX(Service!H993:H1011,RANDBETWEEN(1,19),1)&RANDBETWEEN(1,9)&IF(Service!F993=\"\",TRIM(LEFT(Translit.Translit(Service!E993),3))&INDEX(Service!A993:A1018,RANDBETWEEN(1,26),1),TRIM(LEFT(Translit.Translit(Service!F993),2))&INDEX(Service!H993:H1011,RANDBETWEEN(1,19),1)&INDEX(Service!A993:A1018,RANDBETWEEN(1,26),1)),'Информация о пользователе'!G995)","v":{"$error":"#NAME?"}}]
[{"$f":"TRIM(IF('Информация о пользователе'!A996=\"\",\"Пусто\",'Информация о пользователе'!A996))","v":"Пусто"},{"$f":"TRIM(IF('Информация о пользователе'!B996=\"\",\" \",'Информация о пользователе'!B996&\" \"&'Информация о пользователе'!C996))","v":""},{"$f":"TRIM(IF(AD!A995=\"\",\"\",AD!B995&\" \"&A995))","v":"Пусто"},{"$f":"TRIM(IF('Информация о пользователе'!D996=\"\",F995&\"@edu54.ru\",'Информация о пользователе'!D996))","v":"pusto@edu54.ru"},{"$f":"TRIM(IF('Информация о пользователе'!E996=\"\",\"\",'Информация о пользователе'!E996))","v":""},{"$f":"IF('Информация о пользователе'!F996=\"\",TRIM(Translit.Translit(A995)&TRIM(LEFT(Translit.Translit(Service!E994),1))&TRIM(LEFT(Translit.Translit(Service!F994),1))),TRIM('Информация о пользователе'!F996))","v":"pusto"},{"$f":"IF('Информация о пользователе'!G996=\"\",TRIM(LEFT(Translit.Translit(Service!E994),2))&INDEX(Service!H994:H1012,RANDBETWEEN(1,19),1)&RANDBETWEEN(1,9)&IF(Service!F994=\"\",TRIM(LEFT(Translit.Translit(Service!E994),3))&INDEX(Service!A994:A1019,RANDBETWEEN(1,26),1),TRIM(LEFT(Translit.Translit(Service!F994),2))&INDEX(Service!H994:H1012,RANDBETWEEN(1,19),1)&INDEX(Service!A994:A1019,RANDBETWEEN(1,26),1)),'Информация о пользователе'!G996)","v":{"$error":"#NAME?"}}]
[{"$f":"TRIM(IF('Информация о пользователе'!A997=\"\",\"Пусто\",'Информация о пользователе'!A997))","v":"Пусто"},{"$f":"TRIM(IF('Информация о пользователе'!B997=\"\",\" \",'Информация о пользователе'!B997&\" \"&'Информация о пользователе'!C997))","v":""},{"$f":"TRIM(IF(AD!A996=\"\",\"\",AD!B996&\" \"&A996))","v":"Пусто"},{"$f":"TRIM(IF('Информация о пользователе'!D997=\"\",F996&\"@edu54.ru\",'Информация о пользователе'!D997))","v":"pusto@edu54.ru"},{"$f":"TRIM(IF('Информация о пользователе'!E997=\"\",\"\",'Информация о пользователе'!E997))","v":""},{"$f":"IF('Информация о пользователе'!F997=\"\",TRIM(Translit.Translit(A996)&TRIM(LEFT(Translit.Translit(Service!E995),1))&TRIM(LEFT(Translit.Translit(Service!F995),1))),TRIM('Информация о пользователе'!F997))","v":"pusto"},{"$f":"IF('Информация о пользователе'!G997=\"\",TRIM(LEFT(Translit.Translit(Service!E995),2))&INDEX(Service!H995:H1013,RANDBETWEEN(1,19),1)&RANDBETWEEN(1,9)&IF(Service!F995=\"\",TRIM(LEFT(Translit.Translit(Service!E995),3))&INDEX(Service!A995:A1020,RANDBETWEEN(1,26),1),TRIM(LEFT(Translit.Translit(Service!F995),2))&INDEX(Service!H995:H1013,RANDBETWEEN(1,19),1)&INDEX(Service!A995:A1020,RANDBETWEEN(1,26),1)),'Информация о пользователе'!G997)","v":{"$error":"#NAME?"}}]
[{"$f":"TRIM(IF('Информация о пользователе'!A998=\"\",\"Пусто\",'Информация о пользователе'!A998))","v":"Пусто"},{"$f":"TRIM(IF('Информация о пользователе'!B998=\"\",\" \",'Информация о пользователе'!B998&\" \"&'Информация о пользователе'!C998))","v":""},{"$f":"TRIM(IF(AD!A997=\"\",\"\",AD!B997&\" \"&A997))","v":"Пусто"},{"$f":"TRIM(IF('Информация о пользователе'!D998=\"\",F997&\"@edu54.ru\",'Информация о пользователе'!D998))","v":"pusto@edu54.ru"},{"$f":"TRIM(IF('Информация о пользователе'!E998=\"\",\"\",'Информация о пользователе'!E998))","v":""},{"$f":"IF('Информация о пользователе'!F998=\"\",TRIM(Translit.Translit(A997)&TRIM(LEFT(Translit.Translit(Service!E996),1))&TRIM(LEFT(Translit.Translit(Service!F996),1))),TRIM('Информация о пользователе'!F998))","v":"pusto"},{"$f":"IF('Информация о пользователе'!G998=\"\",TRIM(LEFT(Translit.Translit(Service!E996),2))&INDEX(Service!H996:H1014,RANDBETWEEN(1,19),1)&RANDBETWEEN(1,9)&IF(Service!F996=\"\",TRIM(LEFT(Translit.Translit(Service!E996),3))&INDEX(Service!A996:A1021,RANDBETWEEN(1,26),1),TRIM(LEFT(Translit.Translit(Service!F996),2))&INDEX(Service!H996:H1014,RANDBETWEEN(1,19),1)&INDEX(Service!A996:A1021,RANDBETWEEN(1,26),1)),'Информация о пользователе'!G998)","v":{"$error":"#NAME?"}}]
[{"$f":"TRIM(IF('Информация о пользователе'!A999=\"\",\"Пусто\",'Информация о пользователе'!A999))","v":"Пусто"},{"$f":"TRIM(IF('Информация о пользователе'!B999=\"\",\" \",'Информация о пользователе'!B999&\" \"&'Информация о пользователе'!C999))","v":""},{"$f":"TRIM(IF(AD!A998=\"\",\"\",AD!B998&\" \"&A998))","v":"Пусто"},{"$f":"TRIM(IF('Информация о пользователе'!D999=\"\",F998&\"@edu54.ru\",'Информация о пользователе'!D999))","v":"pusto@edu54.ru"},{"$f":"TRIM(IF('Информация о пользователе'!E999=\"\",\"\",'Информация о пользователе'!E999))","v":""},{"$f":"IF('Информация о пользователе'!F999=\"\",TRIM(Translit.Translit(A998)&TRIM(LEFT(Translit.Translit(Service!E997),1))&TRIM(LEFT(Translit.Translit(Service!F997),1))),TRIM('Информация о пользователе'!F999))","v":"pusto"},{"$f":"IF('Информация о пользователе'!G999=\"\",TRIM(LEFT(Translit.Translit(Service!E997),2))&INDEX(Service!H997:H1015,RANDBETWEEN(1,19),1)&RANDBETWEEN(1,9)&IF(Service!F997=\"\",TRIM(LEFT(Translit.Translit(Service!E997),3))&INDEX(Service!A997:A1022,RANDBETWEEN(1,26),1),TRIM(LEFT(Translit.Translit(Service!F997),2))&INDEX(Service!H997:H1015,RANDBETWEEN(1,19),1)&INDEX(Service!A997:A1022,RANDBETWEEN(1,26),1)),'Информация о пользователе'!G999)","v":{"$error":"#NAME?"}}]
[{"$f":"TRIM(IF('Информация о пользователе'!A1000=\"\",\"Пусто\",'Информация о пользователе'!A1000))","v":"Пусто"},{"$f":"TRIM(IF('Информация о пользователе'!B1000=\"\",\" \",'Информация о пользователе'!B1000&\" \"&'Информация о пользователе'!C1000))","v":""},{"$f":"TRIM(IF(AD!A999=\"\",\"\",AD!B999&\" \"&A999))","v":"Пусто"},{"$f":"TRIM(IF('Информация о пользователе'!D1000=\"\",F999&\"@edu54.ru\",'Информация о пользователе'!D1000))","v":"pusto@edu54.ru"},{"$f":"TRIM(IF('Информация о пользователе'!E1000=\"\",\"\",'Информация о пользователе'!E1000))","v":""},{"$f":"IF('Информация о пользователе'!F1000=\"\",TRIM(Translit.Translit(A999)&TRIM(LEFT(Translit.Translit(Service!E998),1))&TRIM(LEFT(Translit.Translit(Service!F998),1))),TRIM('Информация о пользователе'!F1000))","v":"pusto"},{"$f":"IF('Информация о пользователе'!G1000=\"\",TRIM(LEFT(Translit.Translit(Service!E998),2))&INDEX(Service!H998:H1016,RANDBETWEEN(1,19),1)&RANDBETWEEN(1,9)&IF(Service!F998=\"\",TRIM(LEFT(Translit.Translit(Service!E998),3))&INDEX(Service!A998:A1023,RANDBETWEEN(1,26),1),TRIM(LEFT(Translit.Translit(Service!F998),2))&INDEX(Service!H998:H1016,RANDBETWEEN(1,19),1)&INDEX(Service!A998:A1023,RANDBETWEEN(1,26),1)),'Информация о пользователе'!G1000)","v":{"$error":"#NAME?"}}]
[{"$f":"TRIM(IF('Информация о пользователе'!A1001=\"\",\"Пусто\",'Информация о пользователе'!A1001))","v":"Пусто"},{"$f":"TRIM(IF('Информация о пользователе'!B1001=\"\",\" \",'Информация о пользователе'!B1001&\" \"&'Информация о пользователе'!C1001))","v":""},{"$f":"TRIM(IF(AD!A1000=\"\",\"\",AD!B1000&\" \"&A1000))","v":"Пусто"},{"$f":"TRIM(IF('Информация о пользователе'!D1001=\"\",F1000&\"@edu54.ru\",'Информация о пользователе'!D1001))","v":"pusto@edu54.ru"},{"$f":"TRIM(IF('Информация о пользователе'!E1001=\"\",\"\",'Информация о пользователе'!E1001))","v":""},{"$f":"IF('Информация о пользователе'!F1001=\"\",TRIM(Translit.Translit(A1000)&TRIM(LEFT(Translit.Translit(Service!E999),1))&TRIM(LEFT(Translit.Translit(Service!F999),1))),TRIM('Информация о пользователе'!F1001))","v":"pusto"},{"$f":"IF('Информация о пользователе'!G1001=\"\",TRIM(LEFT(Translit.Translit(Service!E999),2))&INDEX(Service!H999:H1017,RANDBETWEEN(1,19),1)&RANDBETWEEN(1,9)&IF(Service!F999=\"\",TRIM(LEFT(Translit.Translit(Service!E999),3))&INDEX(Service!A999:A1024,RANDBETWEEN(1,26),1),TRIM(LEFT(Translit.Translit(Service!F999),2))&INDEX(Service!H999:H1017,RANDBETWEEN(1,19),1)&INDEX(Service!A999:A1024,RANDBETWEEN(1,26),1)),'Информация о пользователе'!G1001)","v":{"$error":"#NAME?"}}]

{"sheet":"Service","index":2,"n_rows":1344,"n_cols":12,"rows_kept":1344,"cut":false,"hidden":true,"merged":[]}
["Q",1,null,{"$f":"TRIM('Информация о пользователе'!A3)","v":""},{"$f":"TRIM('Информация о пользователе'!B3)","v":""},{"$f":"TRIM('Информация о пользователе'!C3)","v":""},"q","e","$",{"$f":"INDEX($A$1:$A$26,RAND()*26)&INDEX($H$1:$H$6,RAND()*6)&INDEX($I$1:$I$3,RAND()*3)&INDEX($G$1:$G$19,RAND()*19)&INDEX($B$1:$B$9,RAND()*9)","v":"Xu$q1"},null,{"$f":"INDEX($A1:$A26,RANDBETWEEN(1,26),1)&INDEX($H1:$H6,RANDBETWEEN(1,6),1)&INDEX($H6:$H28,RANDBETWEEN(1,22),1)&INDEX($I1:$I3,RANDBETWEEN(1,3),1)&INDEX($B1:$B9,RANDBETWEEN(1,9),1)&INDEX($G1:$G19,RANDBETWEEN(1,19),1)&INDEX($H1:$H6,RANDBETWEEN(1,6),1)&INDEX($G1:$G19,RANDBETWEEN(1,19),1)","v":"Wos!3xiv"}]
["W",2,null,{"$f":"TRIM('Информация о пользователе'!A4)","v":""},{"$f":"TRIM('Информация о пользователе'!B4)","v":""},{"$f":"TRIM('Информация о пользователе'!C4)","v":""},"w","u","@",{"$f":"INDEX($A$1:$A$26,RAND()*26)&INDEX($H$1:$H$6,RAND()*6)&INDEX($I$1:$I$3,RAND()*3)&INDEX($G$1:$G$19,RAND()*19)&INDEX($B$1:$B$9,RAND()*9)","v":"Su@g4"},null,{"$f":"INDEX($A1:$A26,RANDBETWEEN(1,26),1)&INDEX($H1:$H6,RANDBETWEEN(1,6),1)&INDEX($H6:$H28,RANDBETWEEN(1,22),1)&INDEX($I1:$I3,RANDBETWEEN(1,3),1)&INDEX($B1:$B9,RANDBETWEEN(1,9),1)&INDEX($G1:$G19,RANDBETWEEN(1,19),1)&INDEX($H1:$H6,RANDBETWEEN(1,6),1)&INDEX($G1:$G19,RANDBETWEEN(1,19),1)","v":"Xey!4fus"}]
["E",3,null,{"$f":"TRIM('Информация о пользователе'!A5)","v":""},{"$f":"TRIM('Информация о пользователе'!B5)","v":""},{"$f":"TRIM('Информация о пользователе'!C5)","v":""},"r","i","!","Va!v8",null,{"$f":"INDEX($A1:$A26,RANDBETWEEN(1,26),1)&INDEX($H1:$H6,RANDBETWEEN(1,6),1)&INDEX($H6:$H28,RANDBETWEEN(1,22),1)&INDEX($I1:$I3,RANDBETWEEN(1,3),1)&INDEX($B1:$B9,RANDBETWEEN(1,9),1)&INDEX($G1:$G19,RANDBETWEEN(1,19),1)&INDEX($H1:$H6,RANDBETWEEN(1,6),1)&INDEX($G1:$G19,RANDBETWEEN(1,19),1)","v":"Haw@5wet"}]
["R",4,null,{"$f":"TRIM('Информация о пользователе'!A6)","v":""},{"$f":"TRIM('Информация о пользователе'!B6)","v":""},{"$f":"TRIM('Информация о пользователе'!C6)","v":""},"t","o",null,"Oi@c3",null,{"$f":"INDEX($A1:$A26,RANDBETWEEN(1,26),1)&INDEX($H1:$H6,RANDBETWEEN(1,6),1)&INDEX($H6:$H28,RANDBETWEEN(1,22),1)&INDEX($I1:$I3,RANDBETWEEN(1,3),1)&INDEX($B1:$B9,RANDBETWEEN(1,9),1)&INDEX($G1:$G19,RANDBETWEEN(1,19),1)&INDEX($H1:$H6,RANDBETWEEN(1,6),1)&INDEX($G1:$G19,RANDBETWEEN(1,19),1)","v":"Qos@7fuv"}]
["T",5,null,{"$f":"TRIM('Информация о пользователе'!A7)","v":""},{"$f":"TRIM('Информация о пользователе'!B7)","v":""},{"$f":"TRIM('Информация о пользователе'!C7)","v":""},"p","a",null,{"$error":"#VALUE!"},null,{"$f":"INDEX($A1:$A26,RANDBETWEEN(1,26),1)&INDEX($H1:$H6,RANDBETWEEN(1,6),1)&INDEX($H6:$H28,RANDBETWEEN(1,22),1)&INDEX($I1:$I3,RANDBETWEEN(1,3),1)&INDEX($B1:$B9,RANDBETWEEN(1,9),1)&INDEX($G1:$G19,RANDBETWEEN(1,19),1)&INDEX($H1:$H6,RANDBETWEEN(1,6),1)&INDEX($G1:$G19,RANDBETWEEN(1,19),1)","v":"Rih!8pen"}]
["Y",6,null,{"$f":"TRIM('Информация о пользователе'!A8)","v":""},{"$f":"TRIM('Информация о пользователе'!B8)","v":""},{"$f":"TRIM('Информация о пользователе'!C8)","v":""},"s","y",null,{"$error":"#VALUE!"},null,{"$f":"INDEX($A1:$A26,RANDBETWEEN(1,26),1)&INDEX($H1:$H6,RANDBETWEEN(1,6),1)&INDEX($H6:$H28,RANDBETWEEN(1,22),1)&INDEX($I1:$I3,RANDBETWEEN(1,3),1)&INDEX($B1:$B9,RANDBETWEEN(1,9),1)&INDEX($G1:$G19,RANDBETWEEN(1,19),1)&INDEX($H1:$H6,RANDBETWEEN(1,6),1)&INDEX($G1:$G19,RANDBETWEEN(1,19),1)","v":"Ouy$3quf"}]
["U",7,null,{"$f":"TRIM('Информация о пользователе'!A9)","v":""},{"$f":"TRIM('Информация о пользователе'!B9)","v":""},{"$f":"TRIM('Информация о пользователе'!C9)","v":""},"d","q",null,"Oa@b3",null,{"$f":"INDEX($A1:$A26,RANDBETWEEN(1,26),1)&INDEX($H1:$H6,RANDBETWEEN(1,6),1)&INDEX($H6:$H28,RANDBETWEEN(1,22),1)&INDEX($I1:$I3,RANDBETWEEN(1,3),1)&INDEX($B1:$B9,RANDBETWEEN(1,9),1)&INDEX($G1:$G19,RANDBETWEEN(1,19),1)&INDEX($H1:$H6,RANDBETWEEN(1,6),1)&INDEX($G1:$G19,RANDBETWEEN(1,19),1)","v":"Jyt$6fim"}]
["R",8,null,{"$f":"TRIM('Информация о пользователе'!A10)","v":""},{"$f":"TRIM('Информация о пользователе'!B10)","v":""},{"$f":"TRIM('Информация о пользователе'!C10)","v":""},"f","w",null,{"$error":"#VALUE!"},null,{"$f":"INDEX($A1:$A26,RANDBETWEEN(1,26),1)&INDEX($H1:$H6,RANDBETWEEN(1,6),1)&INDEX($H6:$H28,RANDBETWEEN(1,22),1)&INDEX($I1:$I3,RANDBETWEEN(1,3),1)&INDEX($B1:$B9,RANDBETWEEN(1,9),1)&INDEX($G1:$G19,RANDBETWEEN(1,19),1)&INDEX($H1:$H6,RANDBETWEEN(1,6),1)&INDEX($G1:$G19,RANDBETWEEN(1,19),1)","v":"Kyy@6jih"}]
["O",9,null,{"$f":"TRIM('Информация о пользователе'!A11)","v":""},{"$f":"TRIM('Информация о пользователе'!B11)","v":""},{"$f":"TRIM('Информация о пользователе'!C11)","v":""},"g","r",null,"Co$g3",null,{"$f":"INDEX($A1:$A26,RANDBETWEEN(1,26),1)&INDEX($H1:$H6,RANDBETWEEN(1,6),1)&INDEX($H6:$H28,RANDBETWEEN(1,22),1)&INDEX($I1:$I3,RANDBETWEEN(1,3),1)&INDEX($B1:$B9,RANDBETWEEN(1,9),1)&INDEX($G1:$G19,RANDBETWEEN(1,19),1)&INDEX($H1:$H6,RANDBETWEEN(1,6),1)&INDEX($G1:$G19,RANDBETWEEN(1,19),1)","v":"Moa$4got"}]
["P",null,null,{"$f":"TRIM('Информация о пользователе'!A12)","v":""},{"$f":"TRIM('Информация о пользователе'!B12)","v":""},{"$f":"TRIM('Информация о пользователе'!C12)","v":""},"h","t",null,{"$error":"#VALUE!"},null,{"$f":"INDEX($A1:$A26,RANDBETWEEN(1,26),1)&INDEX($H1:$H6,RANDBETWEEN(1,6),1)&INDEX($H6:$H28,RANDBETWEEN(1,22),1)&INDEX($I1:$I3,RANDBETWEEN(1,3),1)&INDEX($B1:$B9,RANDBETWEEN(1,9),1)&INDEX($G1:$G19,RANDBETWEEN(1,19),1)&INDEX($H1:$H6,RANDBETWEEN(1,6),1)&INDEX($G1:$G19,RANDBETWEEN(1,19),1)","v":"Kub!8hiq"}]
["L",null,null,{"$f":"TRIM('Информация о пользователе'!A13)","v":""},{"$f":"TRIM('Информация о пользователе'!B13)","v":""},{"$f":"TRIM('Информация о пользователе'!C13)","v":""},"j","y",null,"Ga@b2",null,{"$f":"INDEX($A1:$A26,RANDBETWEEN(1,26),1)&INDEX($H1:$H6,RANDBETWEEN(1,6),1)&INDEX($H6:$H28,RANDBETWEEN(1,22),1)&INDEX($I1:$I3,RANDBETWEEN(1,3),1)&INDEX($B1:$B9,RANDBETWEEN(1,9),1)&INDEX($G1:$G19,RANDBETWEEN(1,19),1)&INDEX($H1:$H6,RANDBETWEEN(1,6),1)&INDEX($G1:$G19,RANDBETWEEN(1,19),1)","v":"Rog$7fos"}]
["K",null,null,{"$f":"TRIM('Информация о пользователе'!A14)","v":""},{"$f":"TRIM('Информация о пользователе'!B14)","v":""},{"$f":"TRIM('Информация о пользователе'!C14)","v":""},"k","u",null,"Pa$c2",null,{"$f":"INDEX($A1:$A26,RANDBETWEEN(1,26),1)&INDEX($H1:$H6,RANDBETWEEN(1,6),1)&INDEX($H6:$H28,RANDBETWEEN(1,22),1)&INDEX($I1:$I3,RANDBETWEEN(1,3),1)&INDEX($B1:$B9,RANDBETWEEN(1,9),1)&INDEX($G1:$G19,RANDBETWEEN(1,19),1)&INDEX($H1:$H6,RANDBETWEEN(1,6),1)&INDEX($G1:$G19,RANDBETWEEN(1,19),1)","v":"Zem@9coj"}]
["J",null,null,{"$f":"TRIM('Информация о пользователе'!A15)","v":""},{"$f":"TRIM('Информация о пользователе'!B15)","v":""},{"$f":"TRIM('Информация о пользователе'!C15)","v":""},"z","p",null,{"$error":"#VALUE!"},null,{"$f":"INDEX($A1:$A26,RANDBETWEEN(1,26),1)&INDEX($H1:$H6,RANDBETWEEN(1,6),1)&INDEX($H6:$H28,RANDBETWEEN(1,22),1)&INDEX($I1:$I3,RANDBETWEEN(1,3),1)&INDEX($B1:$B9,RANDBETWEEN(1,9),1)&INDEX($G1:$G19,RANDBETWEEN(1,19),1)&INDEX($H1:$H6,RANDBETWEEN(1,6),1)&INDEX($G1:$G19,RANDBETWEEN(1,19),1)","v":"Yix!8pyg"}]
["H",null,null,{"$f":"TRIM('Информация о пользователе'!A16)","v":""},{"$f":"TRIM('Информация о пользователе'!B16)","v":""},{"$f":"TRIM('Информация о пользователе'!C16)","v":""},"x","a",null,{"$error":"#VALUE!"},null,{"$f":"INDEX($A1:$A26,RANDBETWEEN(1,26),1)&INDEX($H1:$H6,RANDBETWEEN(1,6),1)&INDEX($H6:$H28,RANDBETWEEN(1,22),1)&INDEX($I1:$I3,RANDBETWEEN(1,3),1)&INDEX($B1:$B9,RANDBETWEEN(1,9),1)&INDEX($G1:$G19,RANDBETWEEN(1,19),1)&INDEX($H1:$H6,RANDBETWEEN(1,6),1)&INDEX($G1:$G19,RANDBETWEEN(1,19),1)","v":"Quf$8wyv"}]
["G",null,null,{"$f":"TRIM('Информация о пользователе'!A17)","v":""},{"$f":"TRIM('Информация о пользователе'!B17)","v":""},{"$f":"TRIM('Информация о пользователе'!C17)","v":""},"c","s",null,{"$error":"#VALUE!"},null,{"$f":"INDEX($A1:$A26,RANDBETWEEN(1,26),1)&INDEX($H1:$H6,RANDBETWEEN(1,6),1)&INDEX($H6:$H28,RANDBETWEEN(1,22),1)&INDEX($I1:$I3,RANDBETWEEN(1,3),1)&INDEX($B1:$B9,RANDBETWEEN(1,9),1)&INDEX($G1:$G19,RANDBETWEEN(1,19),1)&INDEX($H1:$H6,RANDBETWEEN(1,6),1)&INDEX($G1:$G19,RANDBETWEEN(1,19),1)","v":"Far!6bup"}]
["F",null,null,{"$f":"TRIM('Информация о пользователе'!A18)","v":""},{"$f":"TRIM('Информация о пользователе'!B18)","v":""},{"$f":"TRIM('Информация о пользователе'!C18)","v":""},"v","d",null,"Qe$v6",null,{"$f":"INDEX($A1:$A26,RANDBETWEEN(1,26),1)&INDEX($H1:$H6,RANDBETWEEN(1,6),1)&INDEX($H6:$H28,RANDBETWEEN(1,22),1)&INDEX($I1:$I3,RANDBETWEEN(1,3),1)&INDEX($B1:$B9,RANDBETWEEN(1,9),1)&INDEX($G1:$G19,RANDBETWEEN(1,19),1)&INDEX($H1:$H6,RANDBETWEEN(1,6),1)&INDEX($G1:$G19,RANDBETWEEN(1,19),1)","v":"Hoc$4toc"}]
["D",null,null,{"$f":"TRIM('Информация о пользователе'!A19)","v":""},{"$f":"TRIM('Информация о пользователе'!B19)","v":""},{"$f":"TRIM('Информация о пользователе'!C19)","v":""},"b","f",null,"Si@j5"]
["S",null,null,{"$f":"TRIM('Информация о пользователе'!A20)","v":""},{"$f":"TRIM('Информация о пользователе'!B20)","v":""},{"$f":"TRIM('Информация о пользователе'!C20)","v":""},"n","g",null,"Bi$z1"]
["A",null,null,{"$f":"TRIM('Информация о пользователе'!A21)","v":""},{"$f":"TRIM('Информация о пользователе'!B21)","v":""},{"$f":"TRIM('Информация о пользователе'!C21)","v":""},"m","h",null,{"$f":"INDEX($A$1:$A$26,RAND()*26)&INDEX($H$1:$H$6,RAND()*6)&INDEX($I$1:$I$3,RAND()*3)&INDEX($G$1:$G$19,RAND()*19)&INDEX($B$1:$B$9,RAND()*9)","v":{"$error":"#VALUE!"}}]
["Z",null,null,{"$f":"TRIM('Информация о пользователе'!A22)","v":""},{"$f":"TRIM('Информация о пользователе'!B22)","v":""},{"$f":"TRIM('Информация о пользователе'!C22)","v":""},null,"j",null,"Eu@b5"]
["X",null,null,{"$f":"TRIM('Информация о пользователе'!A23)","v":""},{"$f":"TRIM('Информация о пользователе'!B23)","v":""},{"$f":"TRIM('Информация о пользователе'!C23)","v":""},null,"k",null,{"$error":"#VALUE!"}]
["C",null,null,{"$f":"TRIM('Информация о пользователе'!A24)","v":""},{"$f":"TRIM('Информация о пользователе'!B24)","v":""},{"$f":"TRIM('Информация о пользователе'!C24)","v":""},null,"z",null,"Aa@g2"]
["V",null,null,{"$f":"TRIM('Информация о пользователе'!A25)","v":""},{"$f":"TRIM('Информация о пользователе'!B25)","v":""},{"$f":"TRIM('Информация о пользователе'!C25)","v":""},null,"x"]
["B",null,null,{"$f":"TRIM('Информация о пользователе'!A26)","v":""},{"$f":"TRIM('Информация о пользователе'!B26)","v":""},{"$f":"TRIM('Информация о пользователе'!C26)","v":""},null,"c"]
["N",null,null,{"$f":"TRIM('Информация о пользователе'!A27)","v":""},{"$f":"TRIM('Информация о пользователе'!B27)","v":""},{"$f":"TRIM('Информация о пользователе'!C27)","v":""},null,"b"]
["M",null,null,{"$f":"TRIM('Информация о пользователе'!A28)","v":""},{"$f":"TRIM('Информация о пользователе'!B28)","v":""},{"$f":"TRIM('Информация о пользователе'!C28)","v":""},null,"n"]
["Q",null,null,{"$f":"TRIM('Информация о пользователе'!A29)","v":""},{"$f":"TRIM('Информация о пользователе'!B29)","v":""},{"$f":"TRIM('Информация о пользователе'!C29)","v":""},null,"m"]
["W",null,null,{"$f":"TRIM('Информация о пользователе'!A30)","v":""},{"$f":"TRIM('Информация о пользователе'!B30)","v":""},{"$f":"TRIM('Информация о пользователе'!C30)","v":""},null,"v"]
["E",null,null,{"$f":"TRIM('Информация о пользователе'!A31)","v":""},{"$f":"TRIM('Информация о пользователе'!B31)","v":""},{"$f":"TRIM('Информация о пользователе'!C31)","v":""},null,"e"]
["R",null,null,{"$f":"TRIM('Информация о пользователе'!A32)","v":""},{"$f":"TRIM('Информация о пользователе'!B32)","v":""},{"$f":"TRIM('Информация о пользователе'!C32)","v":""},null,"u"]
["T",null,null,{"$f":"TRIM('Информация о пользователе'!A33)","v":""},{"$f":"TRIM('Информация о пользователе'!B33)","v":""},{"$f":"TRIM('Информация о пользователе'!C33)","v":""},null,"i"]
["Y",null,null,{"$f":"TRIM('Информация о пользователе'!A34)","v":""},{"$f":"TRIM('Информация о пользователе'!B34)","v":""},{"$f":"TRIM('Информация о пользователе'!C34)","v":""},null,"o"]
["U",null,null,{"$f":"TRIM('Информация о пользователе'!A35)","v":""},{"$f":"TRIM('Информация о пользователе'!B35)","v":""},{"$f":"TRIM('Информация о пользователе'!C35)","v":""},null,"a"]
["R",null,null,{"$f":"TRIM('Информация о пользователе'!A36)","v":""},{"$f":"TRIM('Информация о пользователе'!B36)","v":""},{"$f":"TRIM('Информация о пользователе'!C36)","v":""},null,"y"]
["O",null,null,{"$f":"TRIM('Информация о пользователе'!A37)","v":""},{"$f":"TRIM('Информация о пользователе'!B37)","v":""},{"$f":"TRIM('Информация о пользователе'!C37)","v":""},null,"q"]
["P",null,null,{"$f":"TRIM('Информация о пользователе'!A38)","v":""},{"$f":"TRIM('Информация о пользователе'!B38)","v":""},{"$f":"TRIM('Информация о пользователе'!C38)","v":""},null,"w"]
["L",null,null,{"$f":"TRIM('Информация о пользователе'!A39)","v":""},{"$f":"TRIM('Информация о пользователе'!B39)","v":""},{"$f":"TRIM('Информация о пользователе'!C39)","v":""},null,"r"]
["K",null,null,{"$f":"TRIM('Информация о пользователе'!A40)","v":""},{"$f":"TRIM('Информация о пользователе'!B40)","v":""},{"$f":"TRIM('Информация о пользователе'!C40)","v":""},null,"t"]
["J",null,null,{"$f":"TRIM('Информация о пользователе'!A41)","v":""},{"$f":"TRIM('Информация о пользователе'!B41)","v":""},{"$f":"TRIM('Информация о пользователе'!C41)","v":""},null,"y"]
["H",null,null,{"$f":"TRIM('Информация о пользователе'!A42)","v":""},{"$f":"TRIM('Информация о пользователе'!B42)","v":""},{"$f":"TRIM('Информация о пользователе'!C42)","v":""},null,"u"]
["G",null,null,{"$f":"TRIM('Информация о пользователе'!A43)","v":""},{"$f":"TRIM('Информация о пользователе'!B43)","v":""},{"$f":"TRIM('Информация о пользователе'!C43)","v":""},null,"p"]
["F",null,null,{"$f":"TRIM('Информация о пользователе'!A44)","v":""},{"$f":"TRIM('Информация о пользователе'!B44)","v":""},{"$f":"TRIM('Информация о пользователе'!C44)","v":""},null,"a"]
["D",null,null,{"$f":"TRIM('Информация о пользователе'!A45)","v":""},{"$f":"TRIM('Информация о пользователе'!B45)","v":""},{"$f":"TRIM('Информация о пользователе'!C45)","v":""},null,"s"]
["S",null,null,{"$f":"TRIM('Информация о пользователе'!A46)","v":""},{"$f":"TRIM('Информация о пользователе'!B46)","v":""},{"$f":"TRIM('Информация о пользователе'!C46)","v":""},null,"d"]
["A",null,null,{"$f":"TRIM('Информация о пользователе'!A47)","v":""},{"$f":"TRIM('Информация о пользователе'!B47)","v":""},{"$f":"TRIM('Информация о пользователе'!C47)","v":""},null,"f"]
["Z",null,null,{"$f":"TRIM('Информация о пользователе'!A48)","v":""},{"$f":"TRIM('Информация о пользователе'!B48)","v":""},{"$f":"TRIM('Информация о пользователе'!C48)","v":""},null,"g"]
["X",null,null,{"$f":"TRIM('Информация о пользователе'!A49)","v":""},{"$f":"TRIM('Информация о пользователе'!B49)","v":""},{"$f":"TRIM('Информация о пользователе'!C49)","v":""},null,"h"]
["C",null,null,{"$f":"TRIM('Информация о пользователе'!A50)","v":""},{"$f":"TRIM('Информация о пользователе'!B50)","v":""},{"$f":"TRIM('Информация о пользователе'!C50)","v":""},null,"j"]
["V",null,null,{"$f":"TRIM('Информация о пользователе'!A51)","v":""},{"$f":"TRIM('Информация о пользователе'!B51)","v":""},{"$f":"TRIM('Информация о пользователе'!C51)","v":""},null,"k"]
["B",null,null,{"$f":"TRIM('Информация о пользователе'!A52)","v":""},{"$f":"TRIM('Информация о пользователе'!B52)","v":""},{"$f":"TRIM('Информация о пользователе'!C52)","v":""},null,"z"]
["N",null,null,{"$f":"TRIM('Информация о пользователе'!A53)","v":""},{"$f":"TRIM('Информация о пользователе'!B53)","v":""},{"$f":"TRIM('Информация о пользователе'!C53)","v":""},null,"x"]
["M",null,null,{"$f":"TRIM('Информация о пользователе'!A54)","v":""},{"$f":"TRIM('Информация о пользователе'!B54)","v":""},{"$f":"TRIM('Информация о пользователе'!C54)","v":""},null,"c"]
["Q",null,null,{"$f":"TRIM('Информация о пользователе'!A55)","v":""},{"$f":"TRIM('Информация о пользователе'!B55)","v":""},{"$f":"TRIM('Информация о пользователе'!C55)","v":""},null,"b"]
["W",null,null,{"$f":"TRIM('Информация о пользователе'!A56)","v":""},{"$f":"TRIM('Информация о пользователе'!B56)","v":""},{"$f":"TRIM('Информация о пользователе'!C56)","v":""},null,"n"]
["E",null,null,{"$f":"TRIM('Информация о пользователе'!A57)","v":""},{"$f":"TRIM('Информация о пользователе'!B57)","v":""},{"$f":"TRIM('Информация о пользователе'!C57)","v":""},null,"m"]
["R",null,null,{"$f":"TRIM('Информация о пользователе'!A58)","v":""},{"$f":"TRIM('Информация о пользователе'!B58)","v":""},{"$f":"TRIM('Информация о пользователе'!C58)","v":""},null,"v"]
["T",null,null,{"$f":"TRIM('Информация о пользователе'!A59)","v":""},{"$f":"TRIM('Информация о пользователе'!B59)","v":""},{"$f":"TRIM('Информация о пользователе'!C59)","v":""},null,"e"]
["Y",null,null,{"$f":"TRIM('Информация о пользователе'!A60)","v":""},{"$f":"TRIM('Информация о пользователе'!B60)","v":""},{"$f":"TRIM('Информация о пользователе'!C60)","v":""},null,"u"]
["U",null,null,{"$f":"TRIM('Информация о пользователе'!A61)","v":""},{"$f":"TRIM('Информация о пользователе'!B61)","v":""},{"$f":"TRIM('Информация о пользователе'!C61)","v":""},null,"i"]
["E",null,null,{"$f":"TRIM('Информация о пользователе'!A62)","v":""},{"$f":"TRIM('Информация о пользователе'!B62)","v":""},{"$f":"TRIM('Информация о пользователе'!C62)","v":""},null,"o"]
["O",null,null,{"$f":"TRIM('Информация о пользователе'!A63)","v":""},{"$f":"TRIM('Информация о пользователе'!B63)","v":""},{"$f":"TRIM('Информация о пользователе'!C63)","v":""},null,"a"]
["P",null,null,{"$f":"TRIM('Информация о пользователе'!A64)","v":""},{"$f":"TRIM('Информация о пользователе'!B64)","v":""},{"$f":"TRIM('Информация о пользователе'!C64)","v":""},null,"y"]
["L",null,null,{"$f":"TRIM('Информация о пользователе'!A65)","v":""},{"$f":"TRIM('Информация о пользователе'!B65)","v":""},{"$f":"TRIM('Информация о пользователе'!C65)","v":""},null,"q"]
["K",null,null,{"$f":"TRIM('Информация о пользователе'!A66)","v":""},{"$f":"TRIM('Информация о пользователе'!B66)","v":""},{"$f":"TRIM('Информация о пользователе'!C66)","v":""},null,"w"]
["J",null,null,{"$f":"TRIM('Информация о пользователе'!A67)","v":""},{"$f":"TRIM('Информация о пользователе'!B67)","v":""},{"$f":"TRIM('Информация о пользователе'!C67)","v":""},null,"r"]
["H",null,null,{"$f":"TRIM('Информация о пользователе'!A68)","v":""},{"$f":"TRIM('Информация о пользователе'!B68)","v":""},{"$f":"TRIM('Информация о пользователе'!C68)","v":""},null,"t"]
["G",null,null,{"$f":"TRIM('Информация о пользователе'!A69)","v":""},{"$f":"TRIM('Информация о пользователе'!B69)","v":""},{"$f":"TRIM('Информация о пользователе'!C69)","v":""},null,"y"]
["F",null,null,{"$f":"TRIM('Информация о пользователе'!A70)","v":""},{"$f":"TRIM('Информация о пользователе'!B70)","v":""},{"$f":"TRIM('Информация о пользователе'!C70)","v":""},null,"u"]
["D",null,null,{"$f":"TRIM('Информация о пользователе'!A71)","v":""},{"$f":"TRIM('Информация о пользователе'!B71)","v":""},{"$f":"TRIM('Информация о пользователе'!C71)","v":""},null,"p"]
["S",null,null,{"$f":"TRIM('Информация о пользователе'!A72)","v":""},{"$f":"TRIM('Информация о пользователе'!B72)","v":""},{"$f":"TRIM('Информация о пользователе'!C72)","v":""},null,"a"]
["A",null,null,{"$f":"TRIM('Информация о пользователе'!A73)","v":""},{"$f":"TRIM('Информация о пользователе'!B73)","v":""},{"$f":"TRIM('Информация о пользователе'!C73)","v":""},null,"s"]
["Z",null,null,{"$f":"TRIM('Информация о пользователе'!A74)","v":""},{"$f":"TRIM('Информация о пользователе'!B74)","v":""},{"$f":"TRIM('Информация о пользователе'!C74)","v":""},null,"d"]
["X",null,null,{"$f":"TRIM('Информация о пользователе'!A75)","v":""},{"$f":"TRIM('Информация о пользователе'!B75)","v":""},{"$f":"TRIM('Информация о пользователе'!C75)","v":""},null,"f"]
["C",null,null,{"$f":"TRIM('Информация о пользователе'!A76)","v":""},{"$f":"TRIM('Информация о пользователе'!B76)","v":""},{"$f":"TRIM('Информация о пользователе'!C76)","v":""},null,"g"]
["V",null,null,{"$f":"TRIM('Информация о пользователе'!A77)","v":""},{"$f":"TRIM('Информация о пользователе'!B77)","v":""},{"$f":"TRIM('Информация о пользователе'!C77)","v":""},null,"h"]
["B",null,null,{"$f":"TRIM('Информация о пользователе'!A78)","v":""},{"$f":"TRIM('Информация о пользователе'!B78)","v":""},{"$f":"TRIM('Информация о пользователе'!C78)","v":""},null,"j"]
["N",null,null,{"$f":"TRIM('Информация о пользователе'!A79)","v":""},{"$f":"TRIM('Информация о пользователе'!B79)","v":""},{"$f":"TRIM('Информация о пользователе'!C79)","v":""},null,"k"]
["M",null,null,{"$f":"TRIM('Информация о пользователе'!A80)","v":""},{"$f":"TRIM('Информация о пользователе'!B80)","v":""},{"$f":"TRIM('Информация о пользователе'!C80)","v":""},null,"z"]
["Q",null,null,{"$f":"TRIM('Информация о пользователе'!A81)","v":""},{"$f":"TRIM('Информация о пользователе'!B81)","v":""},{"$f":"TRIM('Информация о пользователе'!C81)","v":""},null,"x"]
["W",null,null,{"$f":"TRIM('Информация о пользователе'!A82)","v":""},{"$f":"TRIM('Информация о пользователе'!B82)","v":""},{"$f":"TRIM('Информация о пользователе'!C82)","v":""},null,"c"]
["E",null,null,{"$f":"TRIM('Информация о пользователе'!A83)","v":""},{"$f":"TRIM('Информация о пользователе'!B83)","v":""},{"$f":"TRIM('Информация о пользователе'!C83)","v":""},null,"b"]
["R",null,null,{"$f":"TRIM('Информация о пользователе'!A84)","v":""},{"$f":"TRIM('Информация о пользователе'!B84)","v":""},{"$f":"TRIM('Информация о пользователе'!C84)","v":""},null,"n"]
["T",null,null,{"$f":"TRIM('Информация о пользователе'!A85)","v":""},{"$f":"TRIM('Информация о пользователе'!B85)","v":""},{"$f":"TRIM('Информация о пользователе'!C85)","v":""},null,"m"]
["Y",null,null,{"$f":"TRIM('Информация о пользователе'!A86)","v":""},{"$f":"TRIM('Информация о пользователе'!B86)","v":""},{"$f":"TRIM('Информация о пользователе'!C86)","v":""},null,"v"]
["U",null,null,{"$f":"TRIM('Информация о пользователе'!A87)","v":""},{"$f":"TRIM('Информация о пользователе'!B87)","v":""},{"$f":"TRIM('Информация о пользователе'!C87)","v":""},null,"e"]
["Y",null,null,{"$f":"TRIM('Информация о пользователе'!A88)","v":""},{"$f":"TRIM('Информация о пользователе'!B88)","v":""},{"$f":"TRIM('Информация о пользователе'!C88)","v":""},null,"u"]
["O",null,null,{"$f":"TRIM('Информация о пользователе'!A89)","v":""},{"$f":"TRIM('Информация о пользователе'!B89)","v":""},{"$f":"TRIM('Информация о пользователе'!C89)","v":""},null,"i"]
["P",null,null,{"$f":"TRIM('Информация о пользователе'!A90)","v":""},{"$f":"TRIM('Информация о пользователе'!B90)","v":""},{"$f":"TRIM('Информация о пользователе'!C90)","v":""},null,"o"]
["L",null,null,{"$f":"TRIM('Информация о пользователе'!A91)","v":""},{"$f":"TRIM('Информация о пользователе'!B91)","v":""},{"$f":"TRIM('Информация о пользователе'!C91)","v":""},null,"a"]
["K",null,null,{"$f":"TRIM('Информация о пользователе'!A92)","v":""},{"$f":"TRIM('Информация о пользователе'!B92)","v":""},{"$f":"TRIM('Информация о пользователе'!C92)","v":""},null,"y"]
["J",null,null,{"$f":"TRIM('Информация о пользователе'!A93)","v":""},{"$f":"TRIM('Информация о пользователе'!B93)","v":""},{"$f":"TRIM('Информация о пользователе'!C93)","v":""},null,"q"]
["H",null,null,{"$f":"TRIM('Информация о пользователе'!A94)","v":""},{"$f":"TRIM('Информация о пользователе'!B94)","v":""},{"$f":"TRIM('Информация о пользователе'!C94)","v":""},null,"w"]
["G",null,null,{"$f":"TRIM('Информация о пользователе'!A95)","v":""},{"$f":"TRIM('Информация о пользователе'!B95)","v":""},{"$f":"TRIM('Информация о пользователе'!C95)","v":""},null,"r"]
["F",null,null,{"$f":"TRIM('Информация о пользователе'!A96)","v":""},{"$f":"TRIM('Информация о пользователе'!B96)","v":""},{"$f":"TRIM('Информация о пользователе'!C96)","v":""},null,"t"]
["D",null,null,{"$f":"TRIM('Информация о пользователе'!A97)","v":""},{"$f":"TRIM('Информация о пользователе'!B97)","v":""},{"$f":"TRIM('Информация о пользователе'!C97)","v":""},null,"y"]
["S",null,null,{"$f":"TRIM('Информация о пользователе'!A98)","v":""},{"$f":"TRIM('Информация о пользователе'!B98)","v":""},{"$f":"TRIM('Информация о пользователе'!C98)","v":""},null,"u"]
["A",null,null,{"$f":"TRIM('Информация о пользователе'!A99)","v":""},{"$f":"TRIM('Информация о пользователе'!B99)","v":""},{"$f":"TRIM('Информация о пользователе'!C99)","v":""},null,"p"]
["Z",null,null,{"$f":"TRIM('Информация о пользователе'!A100)","v":""},{"$f":"TRIM('Информация о пользователе'!B100)","v":""},{"$f":"TRIM('Информация о пользователе'!C100)","v":""},null,"a"]
["X",null,null,{"$f":"TRIM('Информация о пользователе'!A101)","v":""},{"$f":"TRIM('Информация о пользователе'!B101)","v":""},{"$f":"TRIM('Информация о пользователе'!C101)","v":""},null,"s"]
["C",null,null,{"$f":"TRIM('Информация о пользователе'!A102)","v":""},{"$f":"TRIM('Информация о пользователе'!B102)","v":""},{"$f":"TRIM('Информация о пользователе'!C102)","v":""},null,"d"]
["V",null,null,{"$f":"TRIM('Информация о пользователе'!A103)","v":""},{"$f":"TRIM('Информация о пользователе'!B103)","v":""},{"$f":"TRIM('Информация о пользователе'!C103)","v":""},null,"f"]
["B",null,null,{"$f":"TRIM('Информация о пользователе'!A104)","v":""},{"$f":"TRIM('Информация о пользователе'!B104)","v":""},{"$f":"TRIM('Информация о пользователе'!C104)","v":""},null,"g"]
["N",null,null,{"$f":"TRIM('Информация о пользователе'!A105)","v":""},{"$f":"TRIM('Информация о пользователе'!B105)","v":""},{"$f":"TRIM('Информация о пользователе'!C105)","v":""},null,"h"]
["M",null,null,{"$f":"TRIM('Информация о пользователе'!A106)","v":""},{"$f":"TRIM('Информация о пользователе'!B106)","v":""},{"$f":"TRIM('Информация о пользователе'!C106)","v":""},null,"j"]
["N",null,null,{"$f":"TRIM('Информация о пользователе'!A107)","v":""},{"$f":"TRIM('Информация о пользователе'!B107)","v":""},{"$f":"TRIM('Информация о пользователе'!C107)","v":""},null,"k"]
["M",null,null,{"$f":"TRIM('Информация о пользователе'!A108)","v":""},{"$f":"TRIM('Информация о пользователе'!B108)","v":""},{"$f":"TRIM('Информация о пользователе'!C108)","v":""},null,"z"]
["Q",null,null,{"$f":"TRIM('Информация о пользователе'!A109)","v":""},{"$f":"TRIM('Информация о пользователе'!B109)","v":""},{"$f":"TRIM('Информация о пользователе'!C109)","v":""},null,"x"]
["W",null,null,{"$f":"TRIM('Информация о пользователе'!A110)","v":""},{"$f":"TRIM('Информация о пользователе'!B110)","v":""},{"$f":"TRIM('Информация о пользователе'!C110)","v":""},null,"c"]
["E",null,null,{"$f":"TRIM('Информация о пользователе'!A111)","v":""},{"$f":"TRIM('Информация о пользователе'!B111)","v":""},{"$f":"TRIM('Информация о пользователе'!C111)","v":""},null,"b"]
["R",null,null,{"$f":"TRIM('Информация о пользователе'!A112)","v":""},{"$f":"TRIM('Информация о пользователе'!B112)","v":""},{"$f":"TRIM('Информация о пользователе'!C112)","v":""},null,"n"]
["T",null,null,{"$f":"TRIM('Информация о пользователе'!A113)","v":""},{"$f":"TRIM('Информация о пользователе'!B113)","v":""},{"$f":"TRIM('Информация о пользователе'!C113)","v":""},null,"m"]
["Y",null,null,{"$f":"TRIM('Информация о пользователе'!A114)","v":""},{"$f":"TRIM('Информация о пользователе'!B114)","v":""},{"$f":"TRIM('Информация о пользователе'!C114)","v":""},null,"v"]
["U",null,null,{"$f":"TRIM('Информация о пользователе'!A115)","v":""},{"$f":"TRIM('Информация о пользователе'!B115)","v":""},{"$f":"TRIM('Информация о пользователе'!C115)","v":""},null,"e"]
["Y",null,null,{"$f":"TRIM('Информация о пользователе'!A116)","v":""},{"$f":"TRIM('Информация о пользователе'!B116)","v":""},{"$f":"TRIM('Информация о пользователе'!C116)","v":""},null,"u"]
["O",null,null,{"$f":"TRIM('Информация о пользователе'!A117)","v":""},{"$f":"TRIM('Информация о пользователе'!B117)","v":""},{"$f":"TRIM('Информация о пользователе'!C117)","v":""},null,"i"]
["P",null,null,{"$f":"TRIM('Информация о пользователе'!A118)","v":""},{"$f":"TRIM('Информация о пользователе'!B118)","v":""},{"$f":"TRIM('Информация о пользователе'!C118)","v":""},null,"o"]
["L",null,null,{"$f":"TRIM('Информация о пользователе'!A119)","v":""},{"$f":"TRIM('Информация о пользователе'!B119)","v":""},{"$f":"TRIM('Информация о пользователе'!C119)","v":""},null,"a"]
["K",null,null,{"$f":"TRIM('Информация о пользователе'!A120)","v":""},{"$f":"TRIM('Информация о пользователе'!B120)","v":""},{"$f":"TRIM('Информация о пользователе'!C120)","v":""},null,"y"]
["J",null,null,{"$f":"TRIM('Информация о пользователе'!A121)","v":""},{"$f":"TRIM('Информация о пользователе'!B121)","v":""},{"$f":"TRIM('Информация о пользователе'!C121)","v":""},null,"q"]
["H",null,null,{"$f":"TRIM('Информация о пользователе'!A122)","v":""},{"$f":"TRIM('Информация о пользователе'!B122)","v":""},{"$f":"TRIM('Информация о пользователе'!C122)","v":""},null,"w"]
["G",null,null,{"$f":"TRIM('Информация о пользователе'!A123)","v":""},{"$f":"TRIM('Информация о пользователе'!B123)","v":""},{"$f":"TRIM('Информация о пользователе'!C123)","v":""},null,"r"]
["F",null,null,{"$f":"TRIM('Информация о пользователе'!A124)","v":""},{"$f":"TRIM('Информация о пользователе'!B124)","v":""},{"$f":"TRIM('Информация о пользователе'!C124)","v":""},null,"t"]
["D",null,null,{"$f":"TRIM('Информация о пользователе'!A125)","v":""},{"$f":"TRIM('Информация о пользователе'!B125)","v":""},{"$f":"TRIM('Информация о пользователе'!C125)","v":""},null,"y"]
["S",null,null,{"$f":"TRIM('Информация о пользователе'!A126)","v":""},{"$f":"TRIM('Информация о пользователе'!B126)","v":""},{"$f":"TRIM('Информация о пользователе'!C126)","v":""},null,"u"]
["A",null,null,{"$f":"TRIM('Информация о пользователе'!A127)","v":""},{"$f":"TRIM('Информация о пользователе'!B127)","v":""},{"$f":"TRIM('Информация о пользователе'!C127)","v":""},null,"p"]
["Z",null,null,{"$f":"TRIM('Информация о пользователе'!A128)","v":""},{"$f":"TRIM('Информация о пользователе'!B128)","v":""},{"$f":"TRIM('Информация о пользователе'!C128)","v":""},null,"a"]
["X",null,null,{"$f":"TRIM('Информация о пользователе'!A129)","v":""},{"$f":"TRIM('Информация о пользователе'!B129)","v":""},{"$f":"TRIM('Информация о пользователе'!C129)","v":""},null,"s"]
["C",null,null,{"$f":"TRIM('Информация о пользователе'!A130)","v":""},{"$f":"TRIM('Информация о пользователе'!B130)","v":""},{"$f":"TRIM('Информация о пользователе'!C130)","v":""},null,"d"]
["V",null,null,{"$f":"TRIM('Информация о пользователе'!A131)","v":""},{"$f":"TRIM('Информация о пользователе'!B131)","v":""},{"$f":"TRIM('Информация о пользователе'!C131)","v":""},null,"f"]
["B",null,null,{"$f":"TRIM('Информация о пользователе'!A132)","v":""},{"$f":"TRIM('Информация о пользователе'!B132)","v":""},{"$f":"TRIM('Информация о пользователе'!C132)","v":""},null,"g"]
["N",null,null,{"$f":"TRIM('Информация о пользователе'!A133)","v":""},{"$f":"TRIM('Информация о пользователе'!B133)","v":""},{"$f":"TRIM('Информация о пользователе'!C133)","v":""},null,"h"]
["M",null,null,{"$f":"TRIM('Информация о пользователе'!A134)","v":""},{"$f":"TRIM('Информация о пользователе'!B134)","v":""},{"$f":"TRIM('Информация о пользователе'!C134)","v":""},null,"j"]
["Q",null,null,{"$f":"TRIM('Информация о пользователе'!A135)","v":""},{"$f":"TRIM('Информация о пользователе'!B135)","v":""},{"$f":"TRIM('Информация о пользователе'!C135)","v":""},null,"k"]
["W",null,null,{"$f":"TRIM('Информация о пользователе'!A136)","v":""},{"$f":"TRIM('Информация о пользователе'!B136)","v":""},{"$f":"TRIM('Информация о пользователе'!C136)","v":""},null,"z"]
["E",null,null,{"$f":"TRIM('Информация о пользователе'!A137)","v":""},{"$f":"TRIM('Информация о пользователе'!B137)","v":""},{"$f":"TRIM('Информация о пользователе'!C137)","v":""},null,"x"]
["R",null,null,{"$f":"TRIM('Информация о пользователе'!A138)","v":""},{"$f":"TRIM('Информация о пользователе'!B138)","v":""},{"$f":"TRIM('Информация о пользователе'!C138)","v":""},null,"c"]
["T",null,null,{"$f":"TRIM('Информация о пользователе'!A139)","v":""},{"$f":"TRIM('Информация о пользователе'!B139)","v":""},{"$f":"TRIM('Информация о пользователе'!C139)","v":""},null,"b"]
["Y",null,null,{"$f":"TRIM('Информация о пользователе'!A140)","v":""},{"$f":"TRIM('Информация о пользователе'!B140)","v":""},{"$f":"TRIM('Информация о пользователе'!C140)","v":""},null,"n"]
["U",null,null,{"$f":"TRIM('Информация о пользователе'!A141)","v":""},{"$f":"TRIM('Информация о пользователе'!B141)","v":""},{"$f":"TRIM('Информация о пользователе'!C141)","v":""},null,"m"]
["I",null,null,{"$f":"TRIM('Информация о пользователе'!A142)","v":""},{"$f":"TRIM('Информация о пользователе'!B142)","v":""},{"$f":"TRIM('Информация о пользователе'!C142)","v":""},null,"v"]
["O",null,null,{"$f":"TRIM('Информация о пользователе'!A143)","v":""},{"$f":"TRIM('Информация о пользователе'!B143)","v":""},{"$f":"TRIM('Информация о пользователе'!C143)","v":""},null,"e"]
["P",null,null,{"$f":"TRIM('Информация о пользователе'!A144)","v":""},{"$f":"TRIM('Информация о пользователе'!B144)","v":""},{"$f":"TRIM('Информация о пользователе'!C144)","v":""},null,"u"]
["L",null,null,{"$f":"TRIM('Информация о пользователе'!A145)","v":""},{"$f":"TRIM('Информация о пользователе'!B145)","v":""},{"$f":"TRIM('Информация о пользователе'!C145)","v":""},null,"i"]
["K",null,null,{"$f":"TRIM('Информация о пользователе'!A146)","v":""},{"$f":"TRIM('Информация о пользователе'!B146)","v":""},{"$f":"TRIM('Информация о пользователе'!C146)","v":""},null,"o"]
["J",null,null,{"$f":"TRIM('Информация о пользователе'!A147)","v":""},{"$f":"TRIM('Информация о пользователе'!B147)","v":""},{"$f":"TRIM('Информация о пользователе'!C147)","v":""},null,"a"]
["H",null,null,{"$f":"TRIM('Информация о пользователе'!A148)","v":""},{"$f":"TRIM('Информация о пользователе'!B148)","v":""},{"$f":"TRIM('Информация о пользователе'!C148)","v":""},null,"y"]
["G",null,null,{"$f":"TRIM('Информация о пользователе'!A149)","v":""},{"$f":"TRIM('Информация о пользователе'!B149)","v":""},{"$f":"TRIM('Информация о пользователе'!C149)","v":""},null,"q"]
["F",null,null,{"$f":"TRIM('Информация о пользователе'!A150)","v":""},{"$f":"TRIM('Информация о пользователе'!B150)","v":""},{"$f":"TRIM('Информация о пользователе'!C150)","v":""},null,"w"]
["D",null,null,{"$f":"TRIM('Информация о пользователе'!A151)","v":""},{"$f":"TRIM('Информация о пользователе'!B151)","v":""},{"$f":"TRIM('Информация о пользователе'!C151)","v":""},null,"r"]
["S",null,null,{"$f":"TRIM('Информация о пользователе'!A152)","v":""},{"$f":"TRIM('Информация о пользователе'!B152)","v":""},{"$f":"TRIM('Информация о пользователе'!C152)","v":""},null,"t"]
["A",null,null,{"$f":"TRIM('Информация о пользователе'!A153)","v":""},{"$f":"TRIM('Информация о пользователе'!B153)","v":""},{"$f":"TRIM('Информация о пользователе'!C153)","v":""},null,"y"]
["Z",null,null,{"$f":"TRIM('Информация о пользователе'!A154)","v":""},{"$f":"TRIM('Информация о пользователе'!B154)","v":""},{"$f":"TRIM('Информация о пользователе'!C154)","v":""},null,"u"]
["X",null,null,{"$f":"TRIM('Информация о пользователе'!A155)","v":""},{"$f":"TRIM('Информация о пользователе'!B155)","v":""},{"$f":"TRIM('Информация о пользователе'!C155)","v":""},null,"p"]
["C",null,null,{"$f":"TRIM('Информация о пользователе'!A156)","v":""},{"$f":"TRIM('Информация о пользователе'!B156)","v":""},{"$f":"TRIM('Информация о пользователе'!C156)","v":""},null,"a"]
["V",null,null,{"$f":"TRIM('Информация о пользователе'!A157)","v":""},{"$f":"TRIM('Информация о пользователе'!B157)","v":""},{"$f":"TRIM('Информация о пользователе'!C157)","v":""},null,"s"]
["B",null,null,{"$f":"TRIM('Информация о пользователе'!A158)","v":""},{"$f":"TRIM('Информация о пользователе'!B158)","v":""},{"$f":"TRIM('Информация о пользователе'!C158)","v":""},null,"d"]
["N",null,null,{"$f":"TRIM('Информация о пользователе'!A159)","v":""},{"$f":"TRIM('Информация о пользователе'!B159)","v":""},{"$f":"TRIM('Информация о пользователе'!C159)","v":""},null,"f"]
["M",null,null,{"$f":"TRIM('Информация о пользователе'!A160)","v":""},{"$f":"TRIM('Информация о пользователе'!B160)","v":""},{"$f":"TRIM('Информация о пользователе'!C160)","v":""},null,"g"]
["Q",null,null,{"$f":"TRIM('Информация о пользователе'!A161)","v":""},{"$f":"TRIM('Информация о пользователе'!B161)","v":""},{"$f":"TRIM('Информация о пользователе'!C161)","v":""},null,"h"]
["W",null,null,{"$f":"TRIM('Информация о пользователе'!A162)","v":""},{"$f":"TRIM('Информация о пользователе'!B162)","v":""},{"$f":"TRIM('Информация о пользователе'!C162)","v":""},null,"j"]
["E",null,null,{"$f":"TRIM('Информация о пользователе'!A163)","v":""},{"$f":"TRIM('Информация о пользователе'!B163)","v":""},{"$f":"TRIM('Информация о пользователе'!C163)","v":""},null,"k"]
["R",null,null,{"$f":"TRIM('Информация о пользователе'!A164)","v":""},{"$f":"TRIM('Информация о пользователе'!B164)","v":""},{"$f":"TRIM('Информация о пользователе'!C164)","v":""},null,"z"]
["T",null,null,{"$f":"TRIM('Информация о пользователе'!A165)","v":""},{"$f":"TRIM('Информация о пользователе'!B165)","v":""},{"$f":"TRIM('Информация о пользователе'!C165)","v":""},null,"x"]
["Y",null,null,{"$f":"TRIM('Информация о пользователе'!A166)","v":""},{"$f":"TRIM('Информация о пользователе'!B166)","v":""},{"$f":"TRIM('Информация о пользователе'!C166)","v":""},null,"c"]
["U",null,null,{"$f":"TRIM('Информация о пользователе'!A167)","v":""},{"$f":"TRIM('Информация о пользователе'!B167)","v":""},{"$f":"TRIM('Информация о пользователе'!C167)","v":""},null,"b"]
["I",null,null,{"$f":"TRIM('Информация о пользователе'!A168)","v":""},{"$f":"TRIM('Информация о пользователе'!B168)","v":""},{"$f":"TRIM('Информация о пользователе'!C168)","v":""},null,"n"]
["O",null,null,{"$f":"TRIM('Информация о пользователе'!A169)","v":""},{"$f":"TRIM('Информация о пользователе'!B169)","v":""},{"$f":"TRIM('Информация о пользователе'!C169)","v":""},null,"m"]
["P",null,null,{"$f":"TRIM('Информация о пользователе'!A170)","v":""},{"$f":"TRIM('Информация о пользователе'!B170)","v":""},{"$f":"TRIM('Информация о пользователе'!C170)","v":""},null,"v"]
["L",null,null,{"$f":"TRIM('Информация о пользователе'!A171)","v":""},{"$f":"TRIM('Информация о пользователе'!B171)","v":""},{"$f":"TRIM('Информация о пользователе'!C171)","v":""},null,"e"]
["K",null,null,{"$f":"TRIM('Информация о пользователе'!A172)","v":""},{"$f":"TRIM('Информация о пользователе'!B172)","v":""},{"$f":"TRIM('Информация о пользователе'!C172)","v":""},null,"u"]
["J",null,null,{"$f":"TRIM('Информация о пользователе'!A173)","v":""},{"$f":"TRIM('Информация о пользователе'!B173)","v":""},{"$f":"TRIM('Информация о пользователе'!C173)","v":""},null,"i"]
["H",null,null,{"$f":"TRIM('Информация о пользователе'!A174)","v":""},{"$f":"TRIM('Информация о пользователе'!B174)","v":""},{"$f":"TRIM('Информация о пользователе'!C174)","v":""},null,"o"]
["G",null,null,{"$f":"TRIM('Информация о пользователе'!A175)","v":""},{"$f":"TRIM('Информация о пользователе'!B175)","v":""},{"$f":"TRIM('Информация о пользователе'!C175)","v":""},null,"a"]
["F",null,null,{"$f":"TRIM('Информация о пользователе'!A176)","v":""},{"$f":"TRIM('Информация о пользователе'!B176)","v":""},{"$f":"TRIM('Информация о пользователе'!C176)","v":""},null,"y"]
["D",null,null,{"$f":"TRIM('Информация о пользователе'!A177)","v":""},{"$f":"TRIM('Информация о пользователе'!B177)","v":""},{"$f":"TRIM('Информация о пользователе'!C177)","v":""},null,"q"]
["S",null,null,{"$f":"TRIM('Информация о пользователе'!A178)","v":""},{"$f":"TRIM('Информация о пользователе'!B178)","v":""},{"$f":"TRIM('Информация о пользователе'!C178)","v":""},null,"w"]
["A",null,null,{"$f":"TRIM('Информация о пользователе'!A179)","v":""},{"$f":"TRIM('Информация о пользователе'!B179)","v":""},{"$f":"TRIM('Информация о пользователе'!C179)","v":""},null,"r"]
["Z",null,null,{"$f":"TRIM('Информация о пользователе'!A180)","v":""},{"$f":"TRIM('Информация о пользователе'!B180)","v":""},{"$f":"TRIM('Информация о пользователе'!C180)","v":""},null,"t"]
["X",null,null,{"$f":"TRIM('Информация о пользователе'!A181)","v":""},{"$f":"TRIM('Информация о пользователе'!B181)","v":""},{"$f":"TRIM('Информация о пользователе'!C181)","v":""},null,"y"]
["C",null,null,{"$f":"TRIM('Информация о пользователе'!A182)","v":""},{"$f":"TRIM('Информация о пользователе'!B182)","v":""},{"$f":"TRIM('Информация о пользователе'!C182)","v":""},null,"u"]
["V",null,null,{"$f":"TRIM('Информация о пользователе'!A183)","v":""},{"$f":"TRIM('Информация о пользователе'!B183)","v":""},{"$f":"TRIM('Информация о пользователе'!C183)","v":""},null,"p"]
["B",null,null,{"$f":"TRIM('Информация о пользователе'!A184)","v":""},{"$f":"TRIM('Информация о пользователе'!B184)","v":""},{"$f":"TRIM('Информация о пользователе'!C184)","v":""},null,"a"]
["N",null,null,{"$f":"TRIM('Информация о пользователе'!A185)","v":""},{"$f":"TRIM('Информация о пользователе'!B185)","v":""},{"$f":"TRIM('Информация о пользователе'!C185)","v":""},null,"s"]
["M",null,null,{"$f":"TRIM('Информация о пользователе'!A186)","v":""},{"$f":"TRIM('Информация о пользователе'!B186)","v":""},{"$f":"TRIM('Информация о пользователе'!C186)","v":""},null,"d"]
["Q",null,null,{"$f":"TRIM('Информация о пользователе'!A187)","v":""},{"$f":"TRIM('Информация о пользователе'!B187)","v":""},{"$f":"TRIM('Информация о пользователе'!C187)","v":""},null,"f"]
["W",null,null,{"$f":"TRIM('Информация о пользователе'!A188)","v":""},{"$f":"TRIM('Информация о пользователе'!B188)","v":""},{"$f":"TRIM('Информация о пользователе'!C188)","v":""},null,"g"]
["E",null,null,{"$f":"TRIM('Информация о пользователе'!A189)","v":""},{"$f":"TRIM('Информация о пользователе'!B189)","v":""},{"$f":"TRIM('Информация о пользователе'!C189)","v":""},null,"h"]
["R",null,null,{"$f":"TRIM('Информация о пользователе'!A190)","v":""},{"$f":"TRIM('Информация о пользователе'!B190)","v":""},{"$f":"TRIM('Информация о пользователе'!C190)","v":""},null,"j"]
["T",null,null,{"$f":"TRIM('Информация о пользователе'!A191)","v":""},{"$f":"TRIM('Информация о пользователе'!B191)","v":""},{"$f":"TRIM('Информация о пользователе'!C191)","v":""},null,"k"]
["Y",null,null,{"$f":"TRIM('Информация о пользователе'!A192)","v":""},{"$f":"TRIM('Информация о пользователе'!B192)","v":""},{"$f":"TRIM('Информация о пользователе'!C192)","v":""},null,"z"]
["U",null,null,{"$f":"TRIM('Информация о пользователе'!A193)","v":""},{"$f":"TRIM('Информация о пользователе'!B193)","v":""},{"$f":"TRIM('Информация о пользователе'!C193)","v":""},null,"x"]
["I",null,null,{"$f":"TRIM('Информация о пользователе'!A194)","v":""},{"$f":"TRIM('Информация о пользователе'!B194)","v":""},{"$f":"TRIM('Информация о пользователе'!C194)","v":""},null,"c"]
["O",null,null,{"$f":"TRIM('Информация о пользователе'!A195)","v":""},{"$f":"TRIM('Информация о пользователе'!B195)","v":""},{"$f":"TRIM('Информация о пользователе'!C195)","v":""},null,"b"]
["P",null,null,{"$f":"TRIM('Информация о пользователе'!A196)","v":""},{"$f":"TRIM('Информация о пользователе'!B196)","v":""},{"$f":"TRIM('Информация о пользователе'!C196)","v":""},null,"n"]
["L",null,null,{"$f":"TRIM('Информация о пользователе'!A197)","v":""},{"$f":"TRIM('Информация о пользователе'!B197)","v":""},{"$f":"TRIM('Информация о пользователе'!C197)","v":""},null,"m"]
["K",null,null,{"$f":"TRIM('Информация о пользователе'!A198)","v":""},{"$f":"TRIM('Информация о пользователе'!B198)","v":""},{"$f":"TRIM('Информация о пользователе'!C198)","v":""},null,"v"]
["J",null,null,{"$f":"TRIM('Информация о пользователе'!A199)","v":""},{"$f":"TRIM('Информация о пользователе'!B199)","v":""},{"$f":"TRIM('Информация о пользователе'!C199)","v":""},null,"e"]
["H",null,null,{"$f":"TRIM('Информация о пользователе'!A200)","v":""},{"$f":"TRIM('Информация о пользователе'!B200)","v":""},{"$f":"TRIM('Информация о пользователе'!C200)","v":""},null,"u"]
["G",null,null,{"$f":"TRIM('Информация о пользователе'!A201)","v":""},{"$f":"TRIM('Информация о пользователе'!B201)","v":""},{"$f":"TRIM('Информация о пользователе'!C201)","v":""},null,"i"]
["F",null,null,{"$f":"TRIM('Информация о пользователе'!A202)","v":""},{"$f":"TRIM('Информация о пользователе'!B202)","v":""},{"$f":"TRIM('Информация о пользователе'!C202)","v":""},null,"o"]
["D",null,null,{"$f":"TRIM('Информация о пользователе'!A203)","v":""},{"$f":"TRIM('Информация о пользователе'!B203)","v":""},{"$f":"TRIM('Информация о пользователе'!C203)","v":""},null,"a"]
["S",null,null,{"$f":"TRIM('Информация о пользователе'!A204)","v":""},{"$f":"TRIM('Информация о пользователе'!B204)","v":""},{"$f":"TRIM('Информация о пользователе'!C204)","v":""},null,"y"]
["A",null,null,{"$f":"TRIM('Информация о пользователе'!A205)","v":""},{"$f":"TRIM('Информация о пользователе'!B205)","v":""},{"$f":"TRIM('Информация о пользователе'!C205)","v":""},null,"q"]
["Z",null,null,{"$f":"TRIM('Информация о пользователе'!A206)","v":""},{"$f":"TRIM('Информация о пользователе'!B206)","v":""},{"$f":"TRIM('Информация о пользователе'!C206)","v":""},null,"w"]
["X",null,null,{"$f":"TRIM('Информация о пользователе'!A207)","v":""},{"$f":"TRIM('Информация о пользователе'!B207)","v":""},{"$f":"TRIM('Информация о пользователе'!C207)","v":""},null,"r"]
["C",null,null,{"$f":"TRIM('Информация о пользователе'!A208)","v":""},{"$f":"TRIM('Информация о пользователе'!B208)","v":""},{"$f":"TRIM('Информация о пользователе'!C208)","v":""},null,"t"]
["V",null,null,{"$f":"TRIM('Информация о пользователе'!A209)","v":""},{"$f":"TRIM('Информация о пользователе'!B209)","v":""},{"$f":"TRIM('Информация о пользователе'!C209)","v":""},null,"y"]
["B",null,null,{"$f":"TRIM('Информация о пользователе'!A210)","v":""},{"$f":"TRIM('Информация о пользователе'!B210)","v":""},{"$f":"TRIM('Информация о пользователе'!C210)","v":""},null,"u"]
["N",null,null,{"$f":"TRIM('Информация о пользователе'!A211)","v":""},{"$f":"TRIM('Информация о пользователе'!B211)","v":""},{"$f":"TRIM('Информация о пользователе'!C211)","v":""},null,"p"]
["M",null,null,{"$f":"TRIM('Информация о пользователе'!A212)","v":""},{"$f":"TRIM('Информация о пользователе'!B212)","v":""},{"$f":"TRIM('Информация о пользователе'!C212)","v":""},null,"a"]
["Q",null,null,{"$f":"TRIM('Информация о пользователе'!A213)","v":""},{"$f":"TRIM('Информация о пользователе'!B213)","v":""},{"$f":"TRIM('Информация о пользователе'!C213)","v":""},null,"s"]
["W",null,null,{"$f":"TRIM('Информация о пользователе'!A214)","v":""},{"$f":"TRIM('Информация о пользователе'!B214)","v":""},{"$f":"TRIM('Информация о пользователе'!C214)","v":""},null,"d"]
["E",null,null,{"$f":"TRIM('Информация о пользователе'!A215)","v":""},{"$f":"TRIM('Информация о пользователе'!B215)","v":""},{"$f":"TRIM('Информация о пользователе'!C215)","v":""},null,"f"]
["R",null,null,{"$f":"TRIM('Информация о пользователе'!A216)","v":""},{"$f":"TRIM('Информация о пользователе'!B216)","v":""},{"$f":"TRIM('Информация о пользователе'!C216)","v":""},null,"g"]
["T",null,null,{"$f":"TRIM('Информация о пользователе'!A217)","v":""},{"$f":"TRIM('Информация о пользователе'!B217)","v":""},{"$f":"TRIM('Информация о пользователе'!C217)","v":""},null,"h"]
["Y",null,null,{"$f":"TRIM('Информация о пользователе'!A218)","v":""},{"$f":"TRIM('Информация о пользователе'!B218)","v":""},{"$f":"TRIM('Информация о пользователе'!C218)","v":""},null,"j"]
["U",null,null,{"$f":"TRIM('Информация о пользователе'!A219)","v":""},{"$f":"TRIM('Информация о пользователе'!B219)","v":""},{"$f":"TRIM('Информация о пользователе'!C219)","v":""},null,"k"]
["I",null,null,{"$f":"TRIM('Информация о пользователе'!A220)","v":""},{"$f":"TRIM('Информация о пользователе'!B220)","v":""},{"$f":"TRIM('Информация о пользователе'!C220)","v":""},null,"z"]
["O",null,null,{"$f":"TRIM('Информация о пользователе'!A221)","v":""},{"$f":"TRIM('Информация о пользователе'!B221)","v":""},{"$f":"TRIM('Информация о пользователе'!C221)","v":""},null,"x"]
["P",null,null,{"$f":"TRIM('Информация о пользователе'!A222)","v":""},{"$f":"TRIM('Информация о пользователе'!B222)","v":""},{"$f":"TRIM('Информация о пользователе'!C222)","v":""},null,"c"]
["L",null,null,{"$f":"TRIM('Информация о пользователе'!A223)","v":""},{"$f":"TRIM('Информация о пользователе'!B223)","v":""},{"$f":"TRIM('Информация о пользователе'!C223)","v":""},null,"b"]
["K",null,null,{"$f":"TRIM('Информация о пользователе'!A224)","v":""},{"$f":"TRIM('Информация о пользователе'!B224)","v":""},{"$f":"TRIM('Информация о пользователе'!C224)","v":""},null,"n"]
["J",null,null,{"$f":"TRIM('Информация о пользователе'!A225)","v":""},{"$f":"TRIM('Информация о пользователе'!B225)","v":""},{"$f":"TRIM('Информация о пользователе'!C225)","v":""},null,"m"]
["H",null,null,{"$f":"TRIM('Информация о пользователе'!A226)","v":""},{"$f":"TRIM('Информация о пользователе'!B226)","v":""},{"$f":"TRIM('Информация о пользователе'!C226)","v":""},null,"v"]
["G",null,null,{"$f":"TRIM('Информация о пользователе'!A227)","v":""},{"$f":"TRIM('Информация о пользователе'!B227)","v":""},{"$f":"TRIM('Информация о пользователе'!C227)","v":""},null,"e"]
["F",null,null,{"$f":"TRIM('Информация о пользователе'!A228)","v":""},{"$f":"TRIM('Информация о пользователе'!B228)","v":""},{"$f":"TRIM('Информация о пользователе'!C228)","v":""},null,"u"]
["D",null,null,{"$f":"TRIM('Информация о пользователе'!A229)","v":""},{"$f":"TRIM('Информация о пользователе'!B229)","v":""},{"$f":"TRIM('Информация о пользователе'!C229)","v":""},null,"i"]
["S",null,null,{"$f":"TRIM('Информация о пользователе'!A230)","v":""},{"$f":"TRIM('Информация о пользователе'!B230)","v":""},{"$f":"TRIM('Информация о пользователе'!C230)","v":""},null,"o"]
["A",null,null,{"$f":"TRIM('Информация о пользователе'!A231)","v":""},{"$f":"TRIM('Информация о пользователе'!B231)","v":""},{"$f":"TRIM('Информация о пользователе'!C231)","v":""},null,"a"]
["Z",null,null,{"$f":"TRIM('Информация о пользователе'!A232)","v":""},{"$f":"TRIM('Информация о пользователе'!B232)","v":""},{"$f":"TRIM('Информация о пользователе'!C232)","v":""},null,"y"]
["X",null,null,{"$f":"TRIM('Информация о пользователе'!A233)","v":""},{"$f":"TRIM('Информация о пользователе'!B233)","v":""},{"$f":"TRIM('Информация о пользователе'!C233)","v":""},null,"q"]
["C",null,null,{"$f":"TRIM('Информация о пользователе'!A234)","v":""},{"$f":"TRIM('Информация о пользователе'!B234)","v":""},{"$f":"TRIM('Информация о пользователе'!C234)","v":""},null,"w"]
["V",null,null,{"$f":"TRIM('Информация о пользователе'!A235)","v":""},{"$f":"TRIM('Информация о пользователе'!B235)","v":""},{"$f":"TRIM('Информация о пользователе'!C235)","v":""},null,"r"]
["B",null,null,{"$f":"TRIM('Информация о пользователе'!A236)","v":""},{"$f":"TRIM('Информация о пользователе'!B236)","v":""},{"$f":"TRIM('Информация о пользователе'!C236)","v":""},null,"t"]
["N",null,null,{"$f":"TRIM('Информация о пользователе'!A237)","v":""},{"$f":"TRIM('Информация о пользователе'!B237)","v":""},{"$f":"TRIM('Информация о пользователе'!C237)","v":""},null,"y"]
["M",null,null,{"$f":"TRIM('Информация о пользователе'!A238)","v":""},{"$f":"TRIM('Информация о пользователе'!B238)","v":""},{"$f":"TRIM('Информация о пользователе'!C238)","v":""},null,"u"]
["N",null,null,{"$f":"TRIM('Информация о пользователе'!A239)","v":""},{"$f":"TRIM('Информация о пользователе'!B239)","v":""},{"$f":"TRIM('Информация о пользователе'!C239)","v":""},null,"p"]
["M",null,null,{"$f":"TRIM('Информация о пользователе'!A240)","v":""},{"$f":"TRIM('Информация о пользователе'!B240)","v":""},{"$f":"TRIM('Информация о пользователе'!C240)","v":""},null,"a"]
["Q",null,null,{"$f":"TRIM('Информация о пользователе'!A241)","v":""},{"$f":"TRIM('Информация о пользователе'!B241)","v":""},{"$f":"TRIM('Информация о пользователе'!C241)","v":""},null,"s"]
["W",null,null,{"$f":"TRIM('Информация о пользователе'!A242)","v":""},{"$f":"TRIM('Информация о пользователе'!B242)","v":""},{"$f":"TRIM('Информация о пользователе'!C242)","v":""},null,"d"]
["E",null,null,{"$f":"TRIM('Информация о пользователе'!A243)","v":""},{"$f":"TRIM('Информация о пользователе'!B243)","v":""},{"$f":"TRIM('Информация о пользователе'!C243)","v":""},null,"f"]
["R",null,null,{"$f":"TRIM('Информация о пользователе'!A244)","v":""},{"$f":"TRIM('Информация о пользователе'!B244)","v":""},{"$f":"TRIM('Информация о пользователе'!C244)","v":""},null,"g"]
["T",null,null,{"$f":"TRIM('Информация о пользователе'!A245)","v":""},{"$f":"TRIM('Информация о пользователе'!B245)","v":""},{"$f":"TRIM('Информация о пользователе'!C245)","v":""},null,"h"]
["Y",null,null,{"$f":"TRIM('Информация о пользователе'!A246)","v":""},{"$f":"TRIM('Информация о пользователе'!B246)","v":""},{"$f":"TRIM('Информация о пользователе'!C246)","v":""},null,"j"]
["U",null,null,{"$f":"TRIM('Информация о пользователе'!A247)","v":""},{"$f":"TRIM('Информация о пользователе'!B247)","v":""},{"$f":"TRIM('Информация о пользователе'!C247)","v":""},null,"k"]
["I",null,null,{"$f":"TRIM('Информация о пользователе'!A248)","v":""},{"$f":"TRIM('Информация о пользователе'!B248)","v":""},{"$f":"TRIM('Информация о пользователе'!C248)","v":""},null,"z"]
["O",null,null,{"$f":"TRIM('Информация о пользователе'!A249)","v":""},{"$f":"TRIM('Информация о пользователе'!B249)","v":""},{"$f":"TRIM('Информация о пользователе'!C249)","v":""},null,"x"]
["P",null,null,{"$f":"TRIM('Информация о пользователе'!A250)","v":""},{"$f":"TRIM('Информация о пользователе'!B250)","v":""},{"$f":"TRIM('Информация о пользователе'!C250)","v":""},null,"c"]
["L",null,null,{"$f":"TRIM('Информация о пользователе'!A251)","v":""},{"$f":"TRIM('Информация о пользователе'!B251)","v":""},{"$f":"TRIM('Информация о пользователе'!C251)","v":""},null,"b"]
["K",null,null,{"$f":"TRIM('Информация о пользователе'!A252)","v":""},{"$f":"TRIM('Информация о пользователе'!B252)","v":""},{"$f":"TRIM('Информация о пользователе'!C252)","v":""},null,"n"]
["J",null,null,{"$f":"TRIM('Информация о пользователе'!A253)","v":""},{"$f":"TRIM('Информация о пользователе'!B253)","v":""},{"$f":"TRIM('Информация о пользователе'!C253)","v":""},null,"m"]
["H",null,null,{"$f":"TRIM('Информация о пользователе'!A254)","v":""},{"$f":"TRIM('Информация о пользователе'!B254)","v":""},{"$f":"TRIM('Информация о пользователе'!C254)","v":""},null,"v"]
["G",null,null,{"$f":"TRIM('Информация о пользователе'!A255)","v":""},{"$f":"TRIM('Информация о пользователе'!B255)","v":""},{"$f":"TRIM('Информация о пользователе'!C255)","v":""},null,"e"]
["F",null,null,{"$f":"TRIM('Информация о пользователе'!A256)","v":""},{"$f":"TRIM('Информация о пользователе'!B256)","v":""},{"$f":"TRIM('Информация о пользователе'!C256)","v":""},null,"u"]
["D",null,null,{"$f":"TRIM('Информация о пользователе'!A257)","v":""},{"$f":"TRIM('Информация о пользователе'!B257)","v":""},{"$f":"TRIM('Информация о пользователе'!C257)","v":""},null,"i"]
["S",null,null,{"$f":"TRIM('Информация о пользователе'!A258)","v":""},{"$f":"TRIM('Информация о пользователе'!B258)","v":""},{"$f":"TRIM('Информация о пользователе'!C258)","v":""},null,"o"]
["A",null,null,{"$f":"TRIM('Информация о пользователе'!A259)","v":""},{"$f":"TRIM('Информация о пользователе'!B259)","v":""},{"$f":"TRIM('Информация о пользователе'!C259)","v":""},null,"a"]
["Z",null,null,{"$f":"TRIM('Информация о пользователе'!A260)","v":""},{"$f":"TRIM('Информация о пользователе'!B260)","v":""},{"$f":"TRIM('Информация о пользователе'!C260)","v":""},null,"y"]
["X",null,null,{"$f":"TRIM('Информация о пользователе'!A261)","v":""},{"$f":"TRIM('Информация о пользователе'!B261)","v":""},{"$f":"TRIM('Информация о пользователе'!C261)","v":""},null,"q"]
["C",null,null,{"$f":"TRIM('Информация о пользователе'!A262)","v":""},{"$f":"TRIM('Информация о пользователе'!B262)","v":""},{"$f":"TRIM('Информация о пользователе'!C262)","v":""},null,"w"]
["V",null,null,{"$f":"TRIM('Информация о пользователе'!A263)","v":""},{"$f":"TRIM('Информация о пользователе'!B263)","v":""},{"$f":"TRIM('Информация о пользователе'!C263)","v":""},null,"r"]
["B",null,null,{"$f":"TRIM('Информация о пользователе'!A264)","v":""},{"$f":"TRIM('Информация о пользователе'!B264)","v":""},{"$f":"TRIM('Информация о пользователе'!C264)","v":""},null,"t"]
["N",null,null,{"$f":"TRIM('Информация о пользователе'!A265)","v":""},{"$f":"TRIM('Информация о пользователе'!B265)","v":""},{"$f":"TRIM('Информация о пользователе'!C265)","v":""},null,"y"]
["M",null,null,{"$f":"TRIM('Информация о пользователе'!A266)","v":""},{"$f":"TRIM('Информация о пользователе'!B266)","v":""},{"$f":"TRIM('Информация о пользователе'!C266)","v":""},null,"u"]
["Q",null,null,{"$f":"TRIM('Информация о пользователе'!A267)","v":""},{"$f":"TRIM('Информация о пользователе'!B267)","v":""},{"$f":"TRIM('Информация о пользователе'!C267)","v":""},null,"p"]
["W",null,null,{"$f":"TRIM('Информация о пользователе'!A268)","v":""},{"$f":"TRIM('Информация о пользователе'!B268)","v":""},{"$f":"TRIM('Информация о пользователе'!C268)","v":""},null,"a"]
["E",null,null,{"$f":"TRIM('Информация о пользователе'!A269)","v":""},{"$f":"TRIM('Информация о пользователе'!B269)","v":""},{"$f":"TRIM('Информация о пользователе'!C269)","v":""},null,"s"]
["R",null,null,{"$f":"TRIM('Информация о пользователе'!A270)","v":""},{"$f":"TRIM('Информация о пользователе'!B270)","v":""},{"$f":"TRIM('Информация о пользователе'!C270)","v":""},null,"d"]
["T",null,null,{"$f":"TRIM('Информация о пользователе'!A271)","v":""},{"$f":"TRIM('Информация о пользователе'!B271)","v":""},{"$f":"TRIM('Информация о пользователе'!C271)","v":""},null,"f"]
["Y",null,null,{"$f":"TRIM('Информация о пользователе'!A272)","v":""},{"$f":"TRIM('Информация о пользователе'!B272)","v":""},{"$f":"TRIM('Информация о пользователе'!C272)","v":""},null,"g"]
["U",null,null,{"$f":"TRIM('Информация о пользователе'!A273)","v":""},{"$f":"TRIM('Информация о пользователе'!B273)","v":""},{"$f":"TRIM('Информация о пользователе'!C273)","v":""},null,"h"]
["I",null,null,{"$f":"TRIM('Информация о пользователе'!A274)","v":""},{"$f":"TRIM('Информация о пользователе'!B274)","v":""},{"$f":"TRIM('Информация о пользователе'!C274)","v":""},null,"j"]
["O",null,null,{"$f":"TRIM('Информация о пользователе'!A275)","v":""},{"$f":"TRIM('Информация о пользователе'!B275)","v":""},{"$f":"TRIM('Информация о пользователе'!C275)","v":""},null,"k"]
["P",null,null,{"$f":"TRIM('Информация о пользователе'!A276)","v":""},{"$f":"TRIM('Информация о пользователе'!B276)","v":""},{"$f":"TRIM('Информация о пользователе'!C276)","v":""},null,"z"]
["L",null,null,{"$f":"TRIM('Информация о пользователе'!A277)","v":""},{"$f":"TRIM('Информация о пользователе'!B277)","v":""},{"$f":"TRIM('Информация о пользователе'!C277)","v":""},null,"x"]
["K",null,null,{"$f":"TRIM('Информация о пользователе'!A278)","v":""},{"$f":"TRIM('Информация о пользователе'!B278)","v":""},{"$f":"TRIM('Информация о пользователе'!C278)","v":""},null,"c"]
["J",null,null,{"$f":"TRIM('Информация о пользователе'!A279)","v":""},{"$f":"TRIM('Информация о пользователе'!B279)","v":""},{"$f":"TRIM('Информация о пользователе'!C279)","v":""},null,"b"]
["H",null,null,{"$f":"TRIM('Информация о пользователе'!A280)","v":""},{"$f":"TRIM('Информация о пользователе'!B280)","v":""},{"$f":"TRIM('Информация о пользователе'!C280)","v":""},null,"n"]
["G",null,null,{"$f":"TRIM('Информация о пользователе'!A281)","v":""},{"$f":"TRIM('Информация о пользователе'!B281)","v":""},{"$f":"TRIM('Информация о пользователе'!C281)","v":""},null,"m"]
["F",null,null,{"$f":"TRIM('Информация о пользователе'!A282)","v":""},{"$f":"TRIM('Информация о пользователе'!B282)","v":""},{"$f":"TRIM('Информация о пользователе'!C282)","v":""},null,"v"]
["D",null,null,{"$f":"TRIM('Информация о пользователе'!A283)","v":""},{"$f":"TRIM('Информация о пользователе'!B283)","v":""},{"$f":"TRIM('Информация о пользователе'!C283)","v":""},null,"e"]
["S",null,null,{"$f":"TRIM('Информация о пользователе'!A284)","v":""},{"$f":"TRIM('Информация о пользователе'!B284)","v":""},{"$f":"TRIM('Информация о пользователе'!C284)","v":""},null,"u"]
["A",null,null,{"$f":"TRIM('Информация о пользователе'!A285)","v":""},{"$f":"TRIM('Информация о пользователе'!B285)","v":""},{"$f":"TRIM('Информация о пользователе'!C285)","v":""},null,"i"]
["Z",null,null,{"$f":"TRIM('Информация о пользователе'!A286)","v":""},{"$f":"TRIM('Информация о пользователе'!B286)","v":""},{"$f":"TRIM('Информация о пользователе'!C286)","v":""},null,"o"]
["X",null,null,{"$f":"TRIM('Информация о пользователе'!A287)","v":""},{"$f":"TRIM('Информация о пользователе'!B287)","v":""},{"$f":"TRIM('Информация о пользователе'!C287)","v":""},null,"a"]
["C",null,null,{"$f":"TRIM('Информация о пользователе'!A288)","v":""},{"$f":"TRIM('Информация о пользователе'!B288)","v":""},{"$f":"TRIM('Информация о пользователе'!C288)","v":""},null,"y"]
["V",null,null,{"$f":"TRIM('Информация о пользователе'!A289)","v":""},{"$f":"TRIM('Информация о пользователе'!B289)","v":""},{"$f":"TRIM('Информация о пользователе'!C289)","v":""},null,"q"]
["B",null,null,{"$f":"TRIM('Информация о пользователе'!A290)","v":""},{"$f":"TRIM('Информация о пользователе'!B290)","v":""},{"$f":"TRIM('Информация о пользователе'!C290)","v":""},null,"w"]
["N",null,null,{"$f":"TRIM('Информация о пользователе'!A291)","v":""},{"$f":"TRIM('Информация о пользователе'!B291)","v":""},{"$f":"TRIM('Информация о пользователе'!C291)","v":""},null,"r"]
["M",null,null,{"$f":"TRIM('Информация о пользователе'!A292)","v":""},{"$f":"TRIM('Информация о пользователе'!B292)","v":""},{"$f":"TRIM('Информация о пользователе'!C292)","v":""},null,"t"]
["Q",null,null,{"$f":"TRIM('Информация о пользователе'!A293)","v":""},{"$f":"TRIM('Информация о пользователе'!B293)","v":""},{"$f":"TRIM('Информация о пользователе'!C293)","v":""},null,"y"]
["W",null,null,{"$f":"TRIM('Информация о пользователе'!A294)","v":""},{"$f":"TRIM('Информация о пользователе'!B294)","v":""},{"$f":"TRIM('Информация о пользователе'!C294)","v":""},null,"u"]
["E",null,null,{"$f":"TRIM('Информация о пользователе'!A295)","v":""},{"$f":"TRIM('Информация о пользователе'!B295)","v":""},{"$f":"TRIM('Информация о пользователе'!C295)","v":""},null,"p"]
["R",null,null,{"$f":"TRIM('Информация о пользователе'!A296)","v":""},{"$f":"TRIM('Информация о пользователе'!B296)","v":""},{"$f":"TRIM('Информация о пользователе'!C296)","v":""},null,"a"]
["T",null,null,{"$f":"TRIM('Информация о пользователе'!A297)","v":""},{"$f":"TRIM('Информация о пользователе'!B297)","v":""},{"$f":"TRIM('Информация о пользователе'!C297)","v":""},null,"s"]
["Y",null,null,{"$f":"TRIM('Информация о пользователе'!A298)","v":""},{"$f":"TRIM('Информация о пользователе'!B298)","v":""},{"$f":"TRIM('Информация о пользователе'!C298)","v":""},null,"d"]
["U",null,null,{"$f":"TRIM('Информация о пользователе'!A299)","v":""},{"$f":"TRIM('Информация о пользователе'!B299)","v":""},{"$f":"TRIM('Информация о пользователе'!C299)","v":""},null,"f"]
["I",null,null,{"$f":"TRIM('Информация о пользователе'!A300)","v":""},{"$f":"TRIM('Информация о пользователе'!B300)","v":""},{"$f":"TRIM('Информация о пользователе'!C300)","v":""},null,"g"]
["O",null,null,{"$f":"TRIM('Информация о пользователе'!A301)","v":""},{"$f":"TRIM('Информация о пользователе'!B301)","v":""},{"$f":"TRIM('Информация о пользователе'!C301)","v":""},null,"h"]
["P",null,null,{"$f":"TRIM('Информация о пользователе'!A302)","v":""},{"$f":"TRIM('Информация о пользователе'!B302)","v":""},{"$f":"TRIM('Информация о пользователе'!C302)","v":""},null,"j"]
["L",null,null,{"$f":"TRIM('Информация о пользователе'!A303)","v":""},{"$f":"TRIM('Информация о пользователе'!B303)","v":""},{"$f":"TRIM('Информация о пользователе'!C303)","v":""},null,"k"]
["K",null,null,{"$f":"TRIM('Информация о пользователе'!A304)","v":""},{"$f":"TRIM('Информация о пользователе'!B304)","v":""},{"$f":"TRIM('Информация о пользователе'!C304)","v":""},null,"z"]
["J",null,null,{"$f":"TRIM('Информация о пользователе'!A305)","v":""},{"$f":"TRIM('Информация о пользователе'!B305)","v":""},{"$f":"TRIM('Информация о пользователе'!C305)","v":""},null,"x"]
["H",null,null,{"$f":"TRIM('Информация о пользователе'!A306)","v":""},{"$f":"TRIM('Информация о пользователе'!B306)","v":""},{"$f":"TRIM('Информация о пользователе'!C306)","v":""},null,"c"]
["G",null,null,{"$f":"TRIM('Информация о пользователе'!A307)","v":""},{"$f":"TRIM('Информация о пользователе'!B307)","v":""},{"$f":"TRIM('Информация о пользователе'!C307)","v":""},null,"b"]
["F",null,null,{"$f":"TRIM('Информация о пользователе'!A308)","v":""},{"$f":"TRIM('Информация о пользователе'!B308)","v":""},{"$f":"TRIM('Информация о пользователе'!C308)","v":""},null,"n"]
["D",null,null,{"$f":"TRIM('Информация о пользователе'!A309)","v":""},{"$f":"TRIM('Информация о пользователе'!B309)","v":""},{"$f":"TRIM('Информация о пользователе'!C309)","v":""},null,"m"]
["S",null,null,{"$f":"TRIM('Информация о пользователе'!A310)","v":""},{"$f":"TRIM('Информация о пользователе'!B310)","v":""},{"$f":"TRIM('Информация о пользователе'!C310)","v":""},null,"v"]
["A",null,null,{"$f":"TRIM('Информация о пользователе'!A311)","v":""},{"$f":"TRIM('Информация о пользователе'!B311)","v":""},{"$f":"TRIM('Информация о пользователе'!C311)","v":""},null,"e"]
["Z",null,null,{"$f":"TRIM('Информация о пользователе'!A312)","v":""},{"$f":"TRIM('Информация о пользователе'!B312)","v":""},{"$f":"TRIM('Информация о пользователе'!C312)","v":""},null,"u"]
["X",null,null,{"$f":"TRIM('Информация о пользователе'!A313)","v":""},{"$f":"TRIM('Информация о пользователе'!B313)","v":""},{"$f":"TRIM('Информация о пользователе'!C313)","v":""},null,"i"]
["C",null,null,{"$f":"TRIM('Информация о пользователе'!A314)","v":""},{"$f":"TRIM('Информация о пользователе'!B314)","v":""},{"$f":"TRIM('Информация о пользователе'!C314)","v":""},null,"o"]
["V",null,null,{"$f":"TRIM('Информация о пользователе'!A315)","v":""},{"$f":"TRIM('Информация о пользователе'!B315)","v":""},{"$f":"TRIM('Информация о пользователе'!C315)","v":""},null,"a"]
["B",null,null,{"$f":"TRIM('Информация о пользователе'!A316)","v":""},{"$f":"TRIM('Информация о пользователе'!B316)","v":""},{"$f":"TRIM('Информация о пользователе'!C316)","v":""},null,"y"]
["N",null,null,{"$f":"TRIM('Информация о пользователе'!A317)","v":""},{"$f":"TRIM('Информация о пользователе'!B317)","v":""},{"$f":"TRIM('Информация о пользователе'!C317)","v":""},null,"q"]
["M",null,null,{"$f":"TRIM('Информация о пользователе'!A318)","v":""},{"$f":"TRIM('Информация о пользователе'!B318)","v":""},{"$f":"TRIM('Информация о пользователе'!C318)","v":""},null,"w"]
["Q",null,null,{"$f":"TRIM('Информация о пользователе'!A319)","v":""},{"$f":"TRIM('Информация о пользователе'!B319)","v":""},{"$f":"TRIM('Информация о пользователе'!C319)","v":""},null,"r"]
["W",null,null,{"$f":"TRIM('Информация о пользователе'!A320)","v":""},{"$f":"TRIM('Информация о пользователе'!B320)","v":""},{"$f":"TRIM('Информация о пользователе'!C320)","v":""},null,"t"]
["E",null,null,{"$f":"TRIM('Информация о пользователе'!A321)","v":""},{"$f":"TRIM('Информация о пользователе'!B321)","v":""},{"$f":"TRIM('Информация о пользователе'!C321)","v":""},null,"y"]
["R",null,null,{"$f":"TRIM('Информация о пользователе'!A322)","v":""},{"$f":"TRIM('Информация о пользователе'!B322)","v":""},{"$f":"TRIM('Информация о пользователе'!C322)","v":""},null,"u"]
["T",null,null,{"$f":"TRIM('Информация о пользователе'!A323)","v":""},{"$f":"TRIM('Информация о пользователе'!B323)","v":""},{"$f":"TRIM('Информация о пользователе'!C323)","v":""},null,"p"]
["Y",null,null,{"$f":"TRIM('Информация о пользователе'!A324)","v":""},{"$f":"TRIM('Информация о пользователе'!B324)","v":""},{"$f":"TRIM('Информация о пользователе'!C324)","v":""},null,"a"]
["U",null,null,{"$f":"TRIM('Информация о пользователе'!A325)","v":""},{"$f":"TRIM('Информация о пользователе'!B325)","v":""},{"$f":"TRIM('Информация о пользователе'!C325)","v":""},null,"s"]
["I",null,null,{"$f":"TRIM('Информация о пользователе'!A326)","v":""},{"$f":"TRIM('Информация о пользователе'!B326)","v":""},{"$f":"TRIM('Информация о пользователе'!C326)","v":""},null,"d"]
["O",null,null,{"$f":"TRIM('Информация о пользователе'!A327)","v":""},{"$f":"TRIM('Информация о пользователе'!B327)","v":""},{"$f":"TRIM('Информация о пользователе'!C327)","v":""},null,"f"]
["P",null,null,{"$f":"TRIM('Информация о пользователе'!A328)","v":""},{"$f":"TRIM('Информация о пользователе'!B328)","v":""},{"$f":"TRIM('Информация о пользователе'!C328)","v":""},null,"g"]
["L",null,null,{"$f":"TRIM('Информация о пользователе'!A329)","v":""},{"$f":"TRIM('Информация о пользователе'!B329)","v":""},{"$f":"TRIM('Информация о пользователе'!C329)","v":""},null,"h"]
["K",null,null,{"$f":"TRIM('Информация о пользователе'!A330)","v":""},{"$f":"TRIM('Информация о пользователе'!B330)","v":""},{"$f":"TRIM('Информация о пользователе'!C330)","v":""},null,"j"]
["J",null,null,{"$f":"TRIM('Информация о пользователе'!A331)","v":""},{"$f":"TRIM('Информация о пользователе'!B331)","v":""},{"$f":"TRIM('Информация о пользователе'!C331)","v":""},null,"k"]
["H",null,null,{"$f":"TRIM('Информация о пользователе'!A332)","v":""},{"$f":"TRIM('Информация о пользователе'!B332)","v":""},{"$f":"TRIM('Информация о пользователе'!C332)","v":""},null,"z"]
["G",null,null,{"$f":"TRIM('Информация о пользователе'!A333)","v":""},{"$f":"TRIM('Информация о пользователе'!B333)","v":""},{"$f":"TRIM('Информация о пользователе'!C333)","v":""},null,"x"]
["F",null,null,{"$f":"TRIM('Информация о пользователе'!A334)","v":""},{"$f":"TRIM('Информация о пользователе'!B334)","v":""},{"$f":"TRIM('Информация о пользователе'!C334)","v":""},null,"c"]
["D",null,null,{"$f":"TRIM('Информация о пользователе'!A335)","v":""},{"$f":"TRIM('Информация о пользователе'!B335)","v":""},{"$f":"TRIM('Информация о пользователе'!C335)","v":""},null,"b"]
["S",null,null,{"$f":"TRIM('Информация о пользователе'!A336)","v":""},{"$f":"TRIM('Информация о пользователе'!B336)","v":""},{"$f":"TRIM('Информация о пользователе'!C336)","v":""},null,"n"]
["A",null,null,{"$f":"TRIM('Информация о пользователе'!A337)","v":""},{"$f":"TRIM('Информация о пользователе'!B337)","v":""},{"$f":"TRIM('Информация о пользователе'!C337)","v":""},null,"m"]
["Z",null,null,{"$f":"TRIM('Информация о пользователе'!A338)","v":""},{"$f":"TRIM('Информация о пользователе'!B338)","v":""},{"$f":"TRIM('Информация о пользователе'!C338)","v":""},null,"v"]
["X",null,null,{"$f":"TRIM('Информация о пользователе'!A339)","v":""},{"$f":"TRIM('Информация о пользователе'!B339)","v":""},{"$f":"TRIM('Информация о пользователе'!C339)","v":""},null,"e"]
["C",null,null,{"$f":"TRIM('Информация о пользователе'!A340)","v":""},{"$f":"TRIM('Информация о пользователе'!B340)","v":""},{"$f":"TRIM('Информация о пользователе'!C340)","v":""},null,"u"]
["V",null,null,{"$f":"TRIM('Информация о пользователе'!A341)","v":""},{"$f":"TRIM('Информация о пользователе'!B341)","v":""},{"$f":"TRIM('Информация о пользователе'!C341)","v":""},null,"i"]
["B",null,null,{"$f":"TRIM('Информация о пользователе'!A342)","v":""},{"$f":"TRIM('Информация о пользователе'!B342)","v":""},{"$f":"TRIM('Информация о пользователе'!C342)","v":""},null,"o"]
["N",null,null,{"$f":"TRIM('Информация о пользователе'!A343)","v":""},{"$f":"TRIM('Информация о пользователе'!B343)","v":""},{"$f":"TRIM('Информация о пользователе'!C343)","v":""},null,"a"]
["M",null,null,{"$f":"TRIM('Информация о пользователе'!A344)","v":""},{"$f":"TRIM('Информация о пользователе'!B344)","v":""},{"$f":"TRIM('Информация о пользователе'!C344)","v":""},null,"y"]
["Q",null,null,{"$f":"TRIM('Информация о пользователе'!A345)","v":""},{"$f":"TRIM('Информация о пользователе'!B345)","v":""},{"$f":"TRIM('Информация о пользователе'!C345)","v":""},null,"q"]
["W",null,null,{"$f":"TRIM('Информация о пользователе'!A346)","v":""},{"$f":"TRIM('Информация о пользователе'!B346)","v":""},{"$f":"TRIM('Информация о пользователе'!C346)","v":""},null,"w"]
["E",null,null,{"$f":"TRIM('Информация о пользователе'!A347)","v":""},{"$f":"TRIM('Информация о пользователе'!B347)","v":""},{"$f":"TRIM('Информация о пользователе'!C347)","v":""},null,"r"]
["R",null,null,{"$f":"TRIM('Информация о пользователе'!A348)","v":""},{"$f":"TRIM('Информация о пользователе'!B348)","v":""},{"$f":"TRIM('Информация о пользователе'!C348)","v":""},null,"t"]
["T",null,null,{"$f":"TRIM('Информация о пользователе'!A349)","v":""},{"$f":"TRIM('Информация о пользователе'!B349)","v":""},{"$f":"TRIM('Информация о пользователе'!C349)","v":""},null,"y"]
["Y",null,null,{"$f":"TRIM('Информация о пользователе'!A350)","v":""},{"$f":"TRIM('Информация о пользователе'!B350)","v":""},{"$f":"TRIM('Информация о пользователе'!C350)","v":""},null,"u"]
["U",null,null,{"$f":"TRIM('Информация о пользователе'!A351)","v":""},{"$f":"TRIM('Информация о пользователе'!B351)","v":""},{"$f":"TRIM('Информация о пользователе'!C351)","v":""},null,"p"]
["I",null,null,{"$f":"TRIM('Информация о пользователе'!A352)","v":""},{"$f":"TRIM('Информация о пользователе'!B352)","v":""},{"$f":"TRIM('Информация о пользователе'!C352)","v":""},null,"a"]
["O",null,null,{"$f":"TRIM('Информация о пользователе'!A353)","v":""},{"$f":"TRIM('Информация о пользователе'!B353)","v":""},{"$f":"TRIM('Информация о пользователе'!C353)","v":""},null,"s"]
["P",null,null,{"$f":"TRIM('Информация о пользователе'!A354)","v":""},{"$f":"TRIM('Информация о пользователе'!B354)","v":""},{"$f":"TRIM('Информация о пользователе'!C354)","v":""},null,"d"]
["L",null,null,{"$f":"TRIM('Информация о пользователе'!A355)","v":""},{"$f":"TRIM('Информация о пользователе'!B355)","v":""},{"$f":"TRIM('Информация о пользователе'!C355)","v":""},null,"f"]
["K",null,null,{"$f":"TRIM('Информация о пользователе'!A356)","v":""},{"$f":"TRIM('Информация о пользователе'!B356)","v":""},{"$f":"TRIM('Информация о пользователе'!C356)","v":""},null,"g"]
["J",null,null,{"$f":"TRIM('Информация о пользователе'!A357)","v":""},{"$f":"TRIM('Информация о пользователе'!B357)","v":""},{"$f":"TRIM('Информация о пользователе'!C357)","v":""},null,"h"]
["H",null,null,{"$f":"TRIM('Информация о пользователе'!A358)","v":""},{"$f":"TRIM('Информация о пользователе'!B358)","v":""},{"$f":"TRIM('Информация о пользователе'!C358)","v":""},null,"j"]
["G",null,null,{"$f":"TRIM('Информация о пользователе'!A359)","v":""},{"$f":"TRIM('Информация о пользователе'!B359)","v":""},{"$f":"TRIM('Информация о пользователе'!C359)","v":""},null,"k"]
["F",null,null,{"$f":"TRIM('Информация о пользователе'!A360)","v":""},{"$f":"TRIM('Информация о пользователе'!B360)","v":""},{"$f":"TRIM('Информация о пользователе'!C360)","v":""},null,"z"]
["D",null,null,{"$f":"TRIM('Информация о пользователе'!A361)","v":""},{"$f":"TRIM('Информация о пользователе'!B361)","v":""},{"$f":"TRIM('Информация о пользователе'!C361)","v":""},null,"x"]
["S",null,null,{"$f":"TRIM('Информация о пользователе'!A362)","v":""},{"$f":"TRIM('Информация о пользователе'!B362)","v":""},{"$f":"TRIM('Информация о пользователе'!C362)","v":""},null,"c"]
["A",null,null,{"$f":"TRIM('Информация о пользователе'!A363)","v":""},{"$f":"TRIM('Информация о пользователе'!B363)","v":""},{"$f":"TRIM('Информация о пользователе'!C363)","v":""},null,"b"]
["Z",null,null,{"$f":"TRIM('Информация о пользователе'!A364)","v":""},{"$f":"TRIM('Информация о пользователе'!B364)","v":""},{"$f":"TRIM('Информация о пользователе'!C364)","v":""},null,"n"]
["X",null,null,{"$f":"TRIM('Информация о пользователе'!A365)","v":""},{"$f":"TRIM('Информация о пользователе'!B365)","v":""},{"$f":"TRIM('Информация о пользователе'!C365)","v":""},null,"m"]
["C",null,null,{"$f":"TRIM('Информация о пользователе'!A366)","v":""},{"$f":"TRIM('Информация о пользователе'!B366)","v":""},{"$f":"TRIM('Информация о пользователе'!C366)","v":""},null,"v"]
["V",null,null,{"$f":"TRIM('Информация о пользователе'!A367)","v":""},{"$f":"TRIM('Информация о пользователе'!B367)","v":""},{"$f":"TRIM('Информация о пользователе'!C367)","v":""},null,"e"]
["B",null,null,{"$f":"TRIM('Информация о пользователе'!A368)","v":""},{"$f":"TRIM('Информация о пользователе'!B368)","v":""},{"$f":"TRIM('Информация о пользователе'!C368)","v":""},null,"u"]
["N",null,null,{"$f":"TRIM('Информация о пользователе'!A369)","v":""},{"$f":"TRIM('Информация о пользователе'!B369)","v":""},{"$f":"TRIM('Информация о пользователе'!C369)","v":""},null,"i"]
["M",null,null,{"$f":"TRIM('Информация о пользователе'!A370)","v":""},{"$f":"TRIM('Информация о пользователе'!B370)","v":""},{"$f":"TRIM('Информация о пользователе'!C370)","v":""},null,"o"]
["N",null,null,{"$f":"TRIM('Информация о пользователе'!A371)","v":""},{"$f":"TRIM('Информация о пользователе'!B371)","v":""},{"$f":"TRIM('Информация о пользователе'!C371)","v":""},null,"a"]
["M",null,null,{"$f":"TRIM('Информация о пользователе'!A372)","v":""},{"$f":"TRIM('Информация о пользователе'!B372)","v":""},{"$f":"TRIM('Информация о пользователе'!C372)","v":""},null,"y"]
["Q",null,null,{"$f":"TRIM('Информация о пользователе'!A373)","v":""},{"$f":"TRIM('Информация о пользователе'!B373)","v":""},{"$f":"TRIM('Информация о пользователе'!C373)","v":""},null,"q"]
["W",null,null,{"$f":"TRIM('Информация о пользователе'!A374)","v":""},{"$f":"TRIM('Информация о пользователе'!B374)","v":""},{"$f":"TRIM('Информация о пользователе'!C374)","v":""},null,"w"]
["E",null,null,{"$f":"TRIM('Информация о пользователе'!A375)","v":""},{"$f":"TRIM('Информация о пользователе'!B375)","v":""},{"$f":"TRIM('Информация о пользователе'!C375)","v":""},null,"r"]
["R",null,null,{"$f":"TRIM('Информация о пользователе'!A376)","v":""},{"$f":"TRIM('Информация о пользователе'!B376)","v":""},{"$f":"TRIM('Информация о пользователе'!C376)","v":""},null,"t"]
["T",null,null,{"$f":"TRIM('Информация о пользователе'!A377)","v":""},{"$f":"TRIM('Информация о пользователе'!B377)","v":""},{"$f":"TRIM('Информация о пользователе'!C377)","v":""},null,"y"]
["Y",null,null,{"$f":"TRIM('Информация о пользователе'!A378)","v":""},{"$f":"TRIM('Информация о пользователе'!B378)","v":""},{"$f":"TRIM('Информация о пользователе'!C378)","v":""},null,"u"]
["U",null,null,{"$f":"TRIM('Информация о пользователе'!A379)","v":""},{"$f":"TRIM('Информация о пользователе'!B379)","v":""},{"$f":"TRIM('Информация о пользователе'!C379)","v":""},null,"p"]
["I",null,null,{"$f":"TRIM('Информация о пользователе'!A380)","v":""},{"$f":"TRIM('Информация о пользователе'!B380)","v":""},{"$f":"TRIM('Информация о пользователе'!C380)","v":""},null,"a"]
["O",null,null,{"$f":"TRIM('Информация о пользователе'!A381)","v":""},{"$f":"TRIM('Информация о пользователе'!B381)","v":""},{"$f":"TRIM('Информация о пользователе'!C381)","v":""},null,"s"]
["P",null,null,{"$f":"TRIM('Информация о пользователе'!A382)","v":""},{"$f":"TRIM('Информация о пользователе'!B382)","v":""},{"$f":"TRIM('Информация о пользователе'!C382)","v":""},null,"d"]
["L",null,null,{"$f":"TRIM('Информация о пользователе'!A383)","v":""},{"$f":"TRIM('Информация о пользователе'!B383)","v":""},{"$f":"TRIM('Информация о пользователе'!C383)","v":""},null,"f"]
["K",null,null,{"$f":"TRIM('Информация о пользователе'!A384)","v":""},{"$f":"TRIM('Информация о пользователе'!B384)","v":""},{"$f":"TRIM('Информация о пользователе'!C384)","v":""},null,"g"]
["J",null,null,{"$f":"TRIM('Информация о пользователе'!A385)","v":""},{"$f":"TRIM('Информация о пользователе'!B385)","v":""},{"$f":"TRIM('Информация о пользователе'!C385)","v":""},null,"h"]
["H",null,null,{"$f":"TRIM('Информация о пользователе'!A386)","v":""},{"$f":"TRIM('Информация о пользователе'!B386)","v":""},{"$f":"TRIM('Информация о пользователе'!C386)","v":""},null,"j"]
["G",null,null,{"$f":"TRIM('Информация о пользователе'!A387)","v":""},{"$f":"TRIM('Информация о пользователе'!B387)","v":""},{"$f":"TRIM('Информация о пользователе'!C387)","v":""},null,"k"]
["F",null,null,{"$f":"TRIM('Информация о пользователе'!A388)","v":""},{"$f":"TRIM('Информация о пользователе'!B388)","v":""},{"$f":"TRIM('Информация о пользователе'!C388)","v":""},null,"z"]
["D",null,null,{"$f":"TRIM('Информация о пользователе'!A389)","v":""},{"$f":"TRIM('Информация о пользователе'!B389)","v":""},{"$f":"TRIM('Информация о пользователе'!C389)","v":""},null,"x"]
["S",null,null,{"$f":"TRIM('Информация о пользователе'!A390)","v":""},{"$f":"TRIM('Информация о пользователе'!B390)","v":""},{"$f":"TRIM('Информация о пользователе'!C390)","v":""},null,"c"]
["A",null,null,{"$f":"TRIM('Информация о пользователе'!A391)","v":""},{"$f":"TRIM('Информация о пользователе'!B391)","v":""},{"$f":"TRIM('Информация о пользователе'!C391)","v":""},null,"b"]
["Z",null,null,{"$f":"TRIM('Информация о пользователе'!A392)","v":""},{"$f":"TRIM('Информация о пользователе'!B392)","v":""},{"$f":"TRIM('Информация о пользователе'!C392)","v":""},null,"n"]
["X",null,null,{"$f":"TRIM('Информация о пользователе'!A393)","v":""},{"$f":"TRIM('Информация о пользователе'!B393)","v":""},{"$f":"TRIM('Информация о пользователе'!C393)","v":""},null,"m"]
["C",null,null,{"$f":"TRIM('Информация о пользователе'!A394)","v":""},{"$f":"TRIM('Информация о пользователе'!B394)","v":""},{"$f":"TRIM('Информация о пользователе'!C394)","v":""},null,"v"]
["V",null,null,{"$f":"TRIM('Информация о пользователе'!A395)","v":""},{"$f":"TRIM('Информация о пользователе'!B395)","v":""},{"$f":"TRIM('Информация о пользователе'!C395)","v":""},null,"e"]
["B",null,null,{"$f":"TRIM('Информация о пользователе'!A396)","v":""},{"$f":"TRIM('Информация о пользователе'!B396)","v":""},{"$f":"TRIM('Информация о пользователе'!C396)","v":""},null,"u"]
["N",null,null,{"$f":"TRIM('Информация о пользователе'!A397)","v":""},{"$f":"TRIM('Информация о пользователе'!B397)","v":""},{"$f":"TRIM('Информация о пользователе'!C397)","v":""},null,"i"]
["M",null,null,{"$f":"TRIM('Информация о пользователе'!A398)","v":""},{"$f":"TRIM('Информация о пользователе'!B398)","v":""},{"$f":"TRIM('Информация о пользователе'!C398)","v":""},null,"o"]
["Q",null,null,{"$f":"TRIM('Информация о пользователе'!A399)","v":""},{"$f":"TRIM('Информация о пользователе'!B399)","v":""},{"$f":"TRIM('Информация о пользователе'!C399)","v":""},null,"a"]
["W",null,null,{"$f":"TRIM('Информация о пользователе'!A400)","v":""},{"$f":"TRIM('Информация о пользователе'!B400)","v":""},{"$f":"TRIM('Информация о пользователе'!C400)","v":""},null,"y"]
["E",null,null,{"$f":"TRIM('Информация о пользователе'!A401)","v":""},{"$f":"TRIM('Информация о пользователе'!B401)","v":""},{"$f":"TRIM('Информация о пользователе'!C401)","v":""},null,"q"]
["R",null,null,{"$f":"TRIM('Информация о пользователе'!A402)","v":""},{"$f":"TRIM('Информация о пользователе'!B402)","v":""},{"$f":"TRIM('Информация о пользователе'!C402)","v":""},null,"w"]
["T",null,null,{"$f":"TRIM('Информация о пользователе'!A403)","v":""},{"$f":"TRIM('Информация о пользователе'!B403)","v":""},{"$f":"TRIM('Информация о пользователе'!C403)","v":""},null,"r"]
["Y",null,null,{"$f":"TRIM('Информация о пользователе'!A404)","v":""},{"$f":"TRIM('Информация о пользователе'!B404)","v":""},{"$f":"TRIM('Информация о пользователе'!C404)","v":""},null,"t"]
["U",null,null,{"$f":"TRIM('Информация о пользователе'!A405)","v":""},{"$f":"TRIM('Информация о пользователе'!B405)","v":""},{"$f":"TRIM('Информация о пользователе'!C405)","v":""},null,"y"]
["I",null,null,{"$f":"TRIM('Информация о пользователе'!A406)","v":""},{"$f":"TRIM('Информация о пользователе'!B406)","v":""},{"$f":"TRIM('Информация о пользователе'!C406)","v":""},null,"u"]
["O",null,null,{"$f":"TRIM('Информация о пользователе'!A407)","v":""},{"$f":"TRIM('Информация о пользователе'!B407)","v":""},{"$f":"TRIM('Информация о пользователе'!C407)","v":""},null,"p"]
["P",null,null,{"$f":"TRIM('Информация о пользователе'!A408)","v":""},{"$f":"TRIM('Информация о пользователе'!B408)","v":""},{"$f":"TRIM('Информация о пользователе'!C408)","v":""},null,"a"]
["L",null,null,{"$f":"TRIM('Информация о пользователе'!A409)","v":""},{"$f":"TRIM('Информация о пользователе'!B409)","v":""},{"$f":"TRIM('Информация о пользователе'!C409)","v":""},null,"s"]
["K",null,null,{"$f":"TRIM('Информация о пользователе'!A410)","v":""},{"$f":"TRIM('Информация о пользователе'!B410)","v":""},{"$f":"TRIM('Информация о пользователе'!C410)","v":""},null,"d"]
["J",null,null,{"$f":"TRIM('Информация о пользователе'!A411)","v":""},{"$f":"TRIM('Информация о пользователе'!B411)","v":""},{"$f":"TRIM('Информация о пользователе'!C411)","v":""},null,"f"]
["H",null,null,{"$f":"TRIM('Информация о пользователе'!A412)","v":""},{"$f":"TRIM('Информация о пользователе'!B412)","v":""},{"$f":"TRIM('Информация о пользователе'!C412)","v":""},null,"g"]
["G",null,null,{"$f":"TRIM('Информация о пользователе'!A413)","v":""},{"$f":"TRIM('Информация о пользователе'!B413)","v":""},{"$f":"TRIM('Информация о пользователе'!C413)","v":""},null,"h"]
["F",null,null,{"$f":"TRIM('Информация о пользователе'!A414)","v":""},{"$f":"TRIM('Информация о пользователе'!B414)","v":""},{"$f":"TRIM('Информация о пользователе'!C414)","v":""},null,"j"]
["D",null,null,{"$f":"TRIM('Информация о пользователе'!A415)","v":""},{"$f":"TRIM('Информация о пользователе'!B415)","v":""},{"$f":"TRIM('Информация о пользователе'!C415)","v":""},null,"k"]
["S",null,null,{"$f":"TRIM('Информация о пользователе'!A416)","v":""},{"$f":"TRIM('Информация о пользователе'!B416)","v":""},{"$f":"TRIM('Информация о пользователе'!C416)","v":""},null,"z"]
["A",null,null,{"$f":"TRIM('Информация о пользователе'!A417)","v":""},{"$f":"TRIM('Информация о пользователе'!B417)","v":""},{"$f":"TRIM('Информация о пользователе'!C417)","v":""},null,"x"]
["Z",null,null,{"$f":"TRIM('Информация о пользователе'!A418)","v":""},{"$f":"TRIM('Информация о пользователе'!B418)","v":""},{"$f":"TRIM('Информация о пользователе'!C418)","v":""},null,"c"]
["X",null,null,{"$f":"TRIM('Информация о пользователе'!A419)","v":""},{"$f":"TRIM('Информация о пользователе'!B419)","v":""},{"$f":"TRIM('Информация о пользователе'!C419)","v":""},null,"b"]
["C",null,null,{"$f":"TRIM('Информация о пользователе'!A420)","v":""},{"$f":"TRIM('Информация о пользователе'!B420)","v":""},{"$f":"TRIM('Информация о пользователе'!C420)","v":""},null,"n"]
["V",null,null,{"$f":"TRIM('Информация о пользователе'!A421)","v":""},{"$f":"TRIM('Информация о пользователе'!B421)","v":""},{"$f":"TRIM('Информация о пользователе'!C421)","v":""},null,"m"]
["B",null,null,{"$f":"TRIM('Информация о пользователе'!A422)","v":""},{"$f":"TRIM('Информация о пользователе'!B422)","v":""},{"$f":"TRIM('Информация о пользователе'!C422)","v":""},null,"v"]
["N",null,null,{"$f":"TRIM('Информация о пользователе'!A423)","v":""},{"$f":"TRIM('Информация о пользователе'!B423)","v":""},{"$f":"TRIM('Информация о пользователе'!C423)","v":""},null,"e"]
["M",null,null,{"$f":"TRIM('Информация о пользователе'!A424)","v":""},{"$f":"TRIM('Информация о пользователе'!B424)","v":""},{"$f":"TRIM('Информация о пользователе'!C424)","v":""},null,"u"]
["Q",null,null,{"$f":"TRIM('Информация о пользователе'!A425)","v":""},{"$f":"TRIM('Информация о пользователе'!B425)","v":""},{"$f":"TRIM('Информация о пользователе'!C425)","v":""},null,"i"]
["W",null,null,{"$f":"TRIM('Информация о пользователе'!A426)","v":""},{"$f":"TRIM('Информация о пользователе'!B426)","v":""},{"$f":"TRIM('Информация о пользователе'!C426)","v":""},null,"o"]
["E",null,null,{"$f":"TRIM('Информация о пользователе'!A427)","v":""},{"$f":"TRIM('Информация о пользователе'!B427)","v":""},{"$f":"TRIM('Информация о пользователе'!C427)","v":""},null,"a"]
["R",null,null,{"$f":"TRIM('Информация о пользователе'!A428)","v":""},{"$f":"TRIM('Информация о пользователе'!B428)","v":""},{"$f":"TRIM('Информация о пользователе'!C428)","v":""},null,"y"]
["T",null,null,{"$f":"TRIM('Информация о пользователе'!A429)","v":""},{"$f":"TRIM('Информация о пользователе'!B429)","v":""},{"$f":"TRIM('Информация о пользователе'!C429)","v":""},null,"q"]
["Y",null,null,{"$f":"TRIM('Информация о пользователе'!A430)","v":""},{"$f":"TRIM('Информация о пользователе'!B430)","v":""},{"$f":"TRIM('Информация о пользователе'!C430)","v":""},null,"w"]
["U",null,null,{"$f":"TRIM('Информация о пользователе'!A431)","v":""},{"$f":"TRIM('Информация о пользователе'!B431)","v":""},{"$f":"TRIM('Информация о пользователе'!C431)","v":""},null,"r"]
["I",null,null,{"$f":"TRIM('Информация о пользователе'!A432)","v":""},{"$f":"TRIM('Информация о пользователе'!B432)","v":""},{"$f":"TRIM('Информация о пользователе'!C432)","v":""},null,"t"]
["O",null,null,{"$f":"TRIM('Информация о пользователе'!A433)","v":""},{"$f":"TRIM('Информация о пользователе'!B433)","v":""},{"$f":"TRIM('Информация о пользователе'!C433)","v":""},null,"y"]
["P",null,null,{"$f":"TRIM('Информация о пользователе'!A434)","v":""},{"$f":"TRIM('Информация о пользователе'!B434)","v":""},{"$f":"TRIM('Информация о пользователе'!C434)","v":""},null,"u"]
["L",null,null,{"$f":"TRIM('Информация о пользователе'!A435)","v":""},{"$f":"TRIM('Информация о пользователе'!B435)","v":""},{"$f":"TRIM('Информация о пользователе'!C435)","v":""},null,"p"]
["K",null,null,{"$f":"TRIM('Информация о пользователе'!A436)","v":""},{"$f":"TRIM('Информация о пользователе'!B436)","v":""},{"$f":"TRIM('Информация о пользователе'!C436)","v":""},null,"a"]
["J",null,null,{"$f":"TRIM('Информация о пользователе'!A437)","v":""},{"$f":"TRIM('Информация о пользователе'!B437)","v":""},{"$f":"TRIM('Информация о пользователе'!C437)","v":""},null,"s"]
["H",null,null,{"$f":"TRIM('Информация о пользователе'!A438)","v":""},{"$f":"TRIM('Информация о пользователе'!B438)","v":""},{"$f":"TRIM('Информация о пользователе'!C438)","v":""},null,"d"]
["G",null,null,{"$f":"TRIM('Информация о пользователе'!A439)","v":""},{"$f":"TRIM('Информация о пользователе'!B439)","v":""},{"$f":"TRIM('Информация о пользователе'!C439)","v":""},null,"f"]
["F",null,null,{"$f":"TRIM('Информация о пользователе'!A440)","v":""},{"$f":"TRIM('Информация о пользователе'!B440)","v":""},{"$f":"TRIM('Информация о пользователе'!C440)","v":""},null,"g"]
["D",null,null,{"$f":"TRIM('Информация о пользователе'!A441)","v":""},{"$f":"TRIM('Информация о пользователе'!B441)","v":""},{"$f":"TRIM('Информация о пользователе'!C441)","v":""},null,"h"]
["S",null,null,{"$f":"TRIM('Информация о пользователе'!A442)","v":""},{"$f":"TRIM('Информация о пользователе'!B442)","v":""},{"$f":"TRIM('Информация о пользователе'!C442)","v":""},null,"j"]
["A",null,null,{"$f":"TRIM('Информация о пользователе'!A443)","v":""},{"$f":"TRIM('Информация о пользователе'!B443)","v":""},{"$f":"TRIM('Информация о пользователе'!C443)","v":""},null,"k"]
["Z",null,null,{"$f":"TRIM('Информация о пользователе'!A444)","v":""},{"$f":"TRIM('Информация о пользователе'!B444)","v":""},{"$f":"TRIM('Информация о пользователе'!C444)","v":""},null,"z"]
["X",null,null,{"$f":"TRIM('Информация о пользователе'!A445)","v":""},{"$f":"TRIM('Информация о пользователе'!B445)","v":""},{"$f":"TRIM('Информация о пользователе'!C445)","v":""},null,"x"]
["C",null,null,{"$f":"TRIM('Информация о пользователе'!A446)","v":""},{"$f":"TRIM('Информация о пользователе'!B446)","v":""},{"$f":"TRIM('Информация о пользователе'!C446)","v":""},null,"c"]
["V",null,null,{"$f":"TRIM('Информация о пользователе'!A447)","v":""},{"$f":"TRIM('Информация о пользователе'!B447)","v":""},{"$f":"TRIM('Информация о пользователе'!C447)","v":""},null,"b"]
["B",null,null,{"$f":"TRIM('Информация о пользователе'!A448)","v":""},{"$f":"TRIM('Информация о пользователе'!B448)","v":""},{"$f":"TRIM('Информация о пользователе'!C448)","v":""},null,"n"]
["N",null,null,{"$f":"TRIM('Информация о пользователе'!A449)","v":""},{"$f":"TRIM('Информация о пользователе'!B449)","v":""},{"$f":"TRIM('Информация о пользователе'!C449)","v":""},null,"m"]
["M",null,null,{"$f":"TRIM('Информация о пользователе'!A450)","v":""},{"$f":"TRIM('Информация о пользователе'!B450)","v":""},{"$f":"TRIM('Информация о пользователе'!C450)","v":""},null,"v"]
["Q",null,null,{"$f":"TRIM('Информация о пользователе'!A451)","v":""},{"$f":"TRIM('Информация о пользователе'!B451)","v":""},{"$f":"TRIM('Информация о пользователе'!C451)","v":""},null,"e"]
["W",null,null,{"$f":"TRIM('Информация о пользователе'!A452)","v":""},{"$f":"TRIM('Информация о пользователе'!B452)","v":""},{"$f":"TRIM('Информация о пользователе'!C452)","v":""},null,"u"]
["E",null,null,{"$f":"TRIM('Информация о пользователе'!A453)","v":""},{"$f":"TRIM('Информация о пользователе'!B453)","v":""},{"$f":"TRIM('Информация о пользователе'!C453)","v":""},null,"i"]
["R",null,null,{"$f":"TRIM('Информация о пользователе'!A454)","v":""},{"$f":"TRIM('Информация о пользователе'!B454)","v":""},{"$f":"TRIM('Информация о пользователе'!C454)","v":""},null,"o"]
["T",null,null,{"$f":"TRIM('Информация о пользователе'!A455)","v":""},{"$f":"TRIM('Информация о пользователе'!B455)","v":""},{"$f":"TRIM('Информация о пользователе'!C455)","v":""},null,"a"]
["Y",null,null,{"$f":"TRIM('Информация о пользователе'!A456)","v":""},{"$f":"TRIM('Информация о пользователе'!B456)","v":""},{"$f":"TRIM('Информация о пользователе'!C456)","v":""},null,"y"]
["U",null,null,{"$f":"TRIM('Информация о пользователе'!A457)","v":""},{"$f":"TRIM('Информация о пользователе'!B457)","v":""},{"$f":"TRIM('Информация о пользователе'!C457)","v":""},null,"q"]
["I",null,null,{"$f":"TRIM('Информация о пользователе'!A458)","v":""},{"$f":"TRIM('Информация о пользователе'!B458)","v":""},{"$f":"TRIM('Информация о пользователе'!C458)","v":""},null,"w"]
["O",null,null,{"$f":"TRIM('Информация о пользователе'!A459)","v":""},{"$f":"TRIM('Информация о пользователе'!B459)","v":""},{"$f":"TRIM('Информация о пользователе'!C459)","v":""},null,"r"]
["P",null,null,{"$f":"TRIM('Информация о пользователе'!A460)","v":""},{"$f":"TRIM('Информация о пользователе'!B460)","v":""},{"$f":"TRIM('Информация о пользователе'!C460)","v":""},null,"t"]
["L",null,null,{"$f":"TRIM('Информация о пользователе'!A461)","v":""},{"$f":"TRIM('Информация о пользователе'!B461)","v":""},{"$f":"TRIM('Информация о пользователе'!C461)","v":""},null,"y"]
["K",null,null,{"$f":"TRIM('Информация о пользователе'!A462)","v":""},{"$f":"TRIM('Информация о пользователе'!B462)","v":""},{"$f":"TRIM('Информация о пользователе'!C462)","v":""},null,"u"]
["J",null,null,{"$f":"TRIM('Информация о пользователе'!A463)","v":""},{"$f":"TRIM('Информация о пользователе'!B463)","v":""},{"$f":"TRIM('Информация о пользователе'!C463)","v":""},null,"p"]
["H",null,null,{"$f":"TRIM('Информация о пользователе'!A464)","v":""},{"$f":"TRIM('Информация о пользователе'!B464)","v":""},{"$f":"TRIM('Информация о пользователе'!C464)","v":""},null,"a"]
["G",null,null,{"$f":"TRIM('Информация о пользователе'!A465)","v":""},{"$f":"TRIM('Информация о пользователе'!B465)","v":""},{"$f":"TRIM('Информация о пользователе'!C465)","v":""},null,"s"]
["F",null,null,{"$f":"TRIM('Информация о пользователе'!A466)","v":""},{"$f":"TRIM('Информация о пользователе'!B466)","v":""},{"$f":"TRIM('Информация о пользователе'!C466)","v":""},null,"d"]
["D",null,null,{"$f":"TRIM('Информация о пользователе'!A467)","v":""},{"$f":"TRIM('Информация о пользователе'!B467)","v":""},{"$f":"TRIM('Информация о пользователе'!C467)","v":""},null,"f"]
["S",null,null,{"$f":"TRIM('Информация о пользователе'!A468)","v":""},{"$f":"TRIM('Информация о пользователе'!B468)","v":""},{"$f":"TRIM('Информация о пользователе'!C468)","v":""},null,"g"]
["A",null,null,{"$f":"TRIM('Информация о пользователе'!A469)","v":""},{"$f":"TRIM('Информация о пользователе'!B469)","v":""},{"$f":"TRIM('Информация о пользователе'!C469)","v":""},null,"h"]
["Z",null,null,{"$f":"TRIM('Информация о пользователе'!A470)","v":""},{"$f":"TRIM('Информация о пользователе'!B470)","v":""},{"$f":"TRIM('Информация о пользователе'!C470)","v":""},null,"j"]
["X",null,null,{"$f":"TRIM('Информация о пользователе'!A471)","v":""},{"$f":"TRIM('Информация о пользователе'!B471)","v":""},{"$f":"TRIM('Информация о пользователе'!C471)","v":""},null,"k"]
["C",null,null,{"$f":"TRIM('Информация о пользователе'!A472)","v":""},{"$f":"TRIM('Информация о пользователе'!B472)","v":""},{"$f":"TRIM('Информация о пользователе'!C472)","v":""},null,"z"]
["V",null,null,{"$f":"TRIM('Информация о пользователе'!A473)","v":""},{"$f":"TRIM('Информация о пользователе'!B473)","v":""},{"$f":"TRIM('Информация о пользователе'!C473)","v":""},null,"x"]
["B",null,null,{"$f":"TRIM('Информация о пользователе'!A474)","v":""},{"$f":"TRIM('Информация о пользователе'!B474)","v":""},{"$f":"TRIM('Информация о пользователе'!C474)","v":""},null,"c"]
["N",null,null,{"$f":"TRIM('Информация о пользователе'!A475)","v":""},{"$f":"TRIM('Информация о пользователе'!B475)","v":""},{"$f":"TRIM('Информация о пользователе'!C475)","v":""},null,"b"]
["M",null,null,{"$f":"TRIM('Информация о пользователе'!A476)","v":""},{"$f":"TRIM('Информация о пользователе'!B476)","v":""},{"$f":"TRIM('Информация о пользователе'!C476)","v":""},null,"n"]
["Q",null,null,{"$f":"TRIM('Информация о пользователе'!A477)","v":""},{"$f":"TRIM('Информация о пользователе'!B477)","v":""},{"$f":"TRIM('Информация о пользователе'!C477)","v":""},null,"m"]
["W",null,null,{"$f":"TRIM('Информация о пользователе'!A478)","v":""},{"$f":"TRIM('Информация о пользователе'!B478)","v":""},{"$f":"TRIM('Информация о пользователе'!C478)","v":""},null,"v"]
["E",null,null,{"$f":"TRIM('Информация о пользователе'!A479)","v":""},{"$f":"TRIM('Информация о пользователе'!B479)","v":""},{"$f":"TRIM('Информация о пользователе'!C479)","v":""},null,"e"]
["R",null,null,{"$f":"TRIM('Информация о пользователе'!A480)","v":""},{"$f":"TRIM('Информация о пользователе'!B480)","v":""},{"$f":"TRIM('Информация о пользователе'!C480)","v":""},null,"u"]
["T",null,null,{"$f":"TRIM('Информация о пользователе'!A481)","v":""},{"$f":"TRIM('Информация о пользователе'!B481)","v":""},{"$f":"TRIM('Информация о пользователе'!C481)","v":""},null,"i"]
["Y",null,null,{"$f":"TRIM('Информация о пользователе'!A482)","v":""},{"$f":"TRIM('Информация о пользователе'!B482)","v":""},{"$f":"TRIM('Информация о пользователе'!C482)","v":""},null,"o"]
["U",null,null,{"$f":"TRIM('Информация о пользователе'!A483)","v":""},{"$f":"TRIM('Информация о пользователе'!B483)","v":""},{"$f":"TRIM('Информация о пользователе'!C483)","v":""},null,"a"]
["I",null,null,{"$f":"TRIM('Информация о пользователе'!A484)","v":""},{"$f":"TRIM('Информация о пользователе'!B484)","v":""},{"$f":"TRIM('Информация о пользователе'!C484)","v":""},null,"y"]
["O",null,null,{"$f":"TRIM('Информация о пользователе'!A485)","v":""},{"$f":"TRIM('Информация о пользователе'!B485)","v":""},{"$f":"TRIM('Информация о пользователе'!C485)","v":""},null,"q"]
["P",null,null,{"$f":"TRIM('Информация о пользователе'!A486)","v":""},{"$f":"TRIM('Информация о пользователе'!B486)","v":""},{"$f":"TRIM('Информация о пользователе'!C486)","v":""},null,"w"]
["L",null,null,{"$f":"TRIM('Информация о пользователе'!A487)","v":""},{"$f":"TRIM('Информация о пользователе'!B487)","v":""},{"$f":"TRIM('Информация о пользователе'!C487)","v":""},null,"r"]
["K",null,null,{"$f":"TRIM('Информация о пользователе'!A488)","v":""},{"$f":"TRIM('Информация о пользователе'!B488)","v":""},{"$f":"TRIM('Информация о пользователе'!C488)","v":""},null,"t"]
["J",null,null,{"$f":"TRIM('Информация о пользователе'!A489)","v":""},{"$f":"TRIM('Информация о пользователе'!B489)","v":""},{"$f":"TRIM('Информация о пользователе'!C489)","v":""},null,"y"]
["H",null,null,{"$f":"TRIM('Информация о пользователе'!A490)","v":""},{"$f":"TRIM('Информация о пользователе'!B490)","v":""},{"$f":"TRIM('Информация о пользователе'!C490)","v":""},null,"u"]
["G",null,null,{"$f":"TRIM('Информация о пользователе'!A491)","v":""},{"$f":"TRIM('Информация о пользователе'!B491)","v":""},{"$f":"TRIM('Информация о пользователе'!C491)","v":""},null,"p"]
["F",null,null,{"$f":"TRIM('Информация о пользователе'!A492)","v":""},{"$f":"TRIM('Информация о пользователе'!B492)","v":""},{"$f":"TRIM('Информация о пользователе'!C492)","v":""},null,"a"]
["D",null,null,{"$f":"TRIM('Информация о пользователе'!A493)","v":""},{"$f":"TRIM('Информация о пользователе'!B493)","v":""},{"$f":"TRIM('Информация о пользователе'!C493)","v":""},null,"s"]
["S",null,null,{"$f":"TRIM('Информация о пользователе'!A494)","v":""},{"$f":"TRIM('Информация о пользователе'!B494)","v":""},{"$f":"TRIM('Информация о пользователе'!C494)","v":""},null,"d"]
["A",null,null,{"$f":"TRIM('Информация о пользователе'!A495)","v":""},{"$f":"TRIM('Информация о пользователе'!B495)","v":""},{"$f":"TRIM('Информация о пользователе'!C495)","v":""},null,"f"]
["Z",null,null,{"$f":"TRIM('Информация о пользователе'!A496)","v":""},{"$f":"TRIM('Информация о пользователе'!B496)","v":""},{"$f":"TRIM('Информация о пользователе'!C496)","v":""},null,"g"]
["X",null,null,{"$f":"TRIM('Информация о пользователе'!A497)","v":""},{"$f":"TRIM('Информация о пользователе'!B497)","v":""},{"$f":"TRIM('Информация о пользователе'!C497)","v":""},null,"h"]
["C",null,null,{"$f":"TRIM('Информация о пользователе'!A498)","v":""},{"$f":"TRIM('Информация о пользователе'!B498)","v":""},{"$f":"TRIM('Информация о пользователе'!C498)","v":""},null,"j"]
["V",null,null,{"$f":"TRIM('Информация о пользователе'!A499)","v":""},{"$f":"TRIM('Информация о пользователе'!B499)","v":""},{"$f":"TRIM('Информация о пользователе'!C499)","v":""},null,"k"]
["B",null,null,{"$f":"TRIM('Информация о пользователе'!A500)","v":""},{"$f":"TRIM('Информация о пользователе'!B500)","v":""},{"$f":"TRIM('Информация о пользователе'!C500)","v":""},null,"z"]
["N",null,null,{"$f":"TRIM('Информация о пользователе'!A501)","v":""},{"$f":"TRIM('Информация о пользователе'!B501)","v":""},{"$f":"TRIM('Информация о пользователе'!C501)","v":""},null,"x"]
["M",null,null,{"$f":"TRIM('Информация о пользователе'!A502)","v":""},{"$f":"TRIM('Информация о пользователе'!B502)","v":""},{"$f":"TRIM('Информация о пользователе'!C502)","v":""},null,"c"]
["N",null,null,{"$f":"TRIM('Информация о пользователе'!A503)","v":""},{"$f":"TRIM('Информация о пользователе'!B503)","v":""},{"$f":"TRIM('Информация о пользователе'!C503)","v":""},null,"b"]
["M",null,null,{"$f":"TRIM('Информация о пользователе'!A504)","v":""},{"$f":"TRIM('Информация о пользователе'!B504)","v":""},{"$f":"TRIM('Информация о пользователе'!C504)","v":""},null,"n"]
["Q",null,null,{"$f":"TRIM('Информация о пользователе'!A505)","v":""},{"$f":"TRIM('Информация о пользователе'!B505)","v":""},{"$f":"TRIM('Информация о пользователе'!C505)","v":""},null,"m"]
["W",null,null,{"$f":"TRIM('Информация о пользователе'!A506)","v":""},{"$f":"TRIM('Информация о пользователе'!B506)","v":""},{"$f":"TRIM('Информация о пользователе'!C506)","v":""},null,"v"]
["E",null,null,{"$f":"TRIM('Информация о пользователе'!A507)","v":""},{"$f":"TRIM('Информация о пользователе'!B507)","v":""},{"$f":"TRIM('Информация о пользователе'!C507)","v":""},null,"e"]
["R",null,null,{"$f":"TRIM('Информация о пользователе'!A508)","v":""},{"$f":"TRIM('Информация о пользователе'!B508)","v":""},{"$f":"TRIM('Информация о пользователе'!C508)","v":""},null,"u"]
["T",null,null,{"$f":"TRIM('Информация о пользователе'!A509)","v":""},{"$f":"TRIM('Информация о пользователе'!B509)","v":""},{"$f":"TRIM('Информация о пользователе'!C509)","v":""},null,"i"]
["Y",null,null,{"$f":"TRIM('Информация о пользователе'!A510)","v":""},{"$f":"TRIM('Информация о пользователе'!B510)","v":""},{"$f":"TRIM('Информация о пользователе'!C510)","v":""},null,"o"]
["U",null,null,{"$f":"TRIM('Информация о пользователе'!A511)","v":""},{"$f":"TRIM('Информация о пользователе'!B511)","v":""},{"$f":"TRIM('Информация о пользователе'!C511)","v":""},null,"a"]
["I",null,null,{"$f":"TRIM('Информация о пользователе'!A512)","v":""},{"$f":"TRIM('Информация о пользователе'!B512)","v":""},{"$f":"TRIM('Информация о пользователе'!C512)","v":""},null,"y"]
["O",null,null,{"$f":"TRIM('Информация о пользователе'!A513)","v":""},{"$f":"TRIM('Информация о пользователе'!B513)","v":""},{"$f":"TRIM('Информация о пользователе'!C513)","v":""},null,"q"]
["P",null,null,{"$f":"TRIM('Информация о пользователе'!A514)","v":""},{"$f":"TRIM('Информация о пользователе'!B514)","v":""},{"$f":"TRIM('Информация о пользователе'!C514)","v":""},null,"w"]
["L",null,null,{"$f":"TRIM('Информация о пользователе'!A515)","v":""},{"$f":"TRIM('Информация о пользователе'!B515)","v":""},{"$f":"TRIM('Информация о пользователе'!C515)","v":""},null,"r"]
["K",null,null,{"$f":"TRIM('Информация о пользователе'!A516)","v":""},{"$f":"TRIM('Информация о пользователе'!B516)","v":""},{"$f":"TRIM('Информация о пользователе'!C516)","v":""},null,"t"]
["J",null,null,{"$f":"TRIM('Информация о пользователе'!A517)","v":""},{"$f":"TRIM('Информация о пользователе'!B517)","v":""},{"$f":"TRIM('Информация о пользователе'!C517)","v":""},null,"y"]
["H",null,null,{"$f":"TRIM('Информация о пользователе'!A518)","v":""},{"$f":"TRIM('Информация о пользователе'!B518)","v":""},{"$f":"TRIM('Информация о пользователе'!C518)","v":""},null,"u"]
["G",null,null,{"$f":"TRIM('Информация о пользователе'!A519)","v":""},{"$f":"TRIM('Информация о пользователе'!B519)","v":""},{"$f":"TRIM('Информация о пользователе'!C519)","v":""},null,"p"]
["F",null,null,{"$f":"TRIM('Информация о пользователе'!A520)","v":""},{"$f":"TRIM('Информация о пользователе'!B520)","v":""},{"$f":"TRIM('Информация о пользователе'!C520)","v":""},null,"a"]
["D",null,null,{"$f":"TRIM('Информация о пользователе'!A521)","v":""},{"$f":"TRIM('Информация о пользователе'!B521)","v":""},{"$f":"TRIM('Информация о пользователе'!C521)","v":""},null,"s"]
["S",null,null,{"$f":"TRIM('Информация о пользователе'!A522)","v":""},{"$f":"TRIM('Информация о пользователе'!B522)","v":""},{"$f":"TRIM('Информация о пользователе'!C522)","v":""},null,"d"]
["A",null,null,{"$f":"TRIM('Информация о пользователе'!A523)","v":""},{"$f":"TRIM('Информация о пользователе'!B523)","v":""},{"$f":"TRIM('Информация о пользователе'!C523)","v":""},null,"f"]
["Z",null,null,{"$f":"TRIM('Информация о пользователе'!A524)","v":""},{"$f":"TRIM('Информация о пользователе'!B524)","v":""},{"$f":"TRIM('Информация о пользователе'!C524)","v":""},null,"g"]
["X",null,null,{"$f":"TRIM('Информация о пользователе'!A525)","v":""},{"$f":"TRIM('Информация о пользователе'!B525)","v":""},{"$f":"TRIM('Информация о пользователе'!C525)","v":""},null,"h"]
["C",null,null,{"$f":"TRIM('Информация о пользователе'!A526)","v":""},{"$f":"TRIM('Информация о пользователе'!B526)","v":""},{"$f":"TRIM('Информация о пользователе'!C526)","v":""},null,"j"]
["V",null,null,{"$f":"TRIM('Информация о пользователе'!A527)","v":""},{"$f":"TRIM('Информация о пользователе'!B527)","v":""},{"$f":"TRIM('Информация о пользователе'!C527)","v":""},null,"k"]
["B",null,null,{"$f":"TRIM('Информация о пользователе'!A528)","v":""},{"$f":"TRIM('Информация о пользователе'!B528)","v":""},{"$f":"TRIM('Информация о пользователе'!C528)","v":""},null,"z"]
["N",null,null,{"$f":"TRIM('Информация о пользователе'!A529)","v":""},{"$f":"TRIM('Информация о пользователе'!B529)","v":""},{"$f":"TRIM('Информация о пользователе'!C529)","v":""},null,"x"]
["M",null,null,{"$f":"TRIM('Информация о пользователе'!A530)","v":""},{"$f":"TRIM('Информация о пользователе'!B530)","v":""},{"$f":"TRIM('Информация о пользователе'!C530)","v":""},null,"c"]
["Q",null,null,{"$f":"TRIM('Информация о пользователе'!A531)","v":""},{"$f":"TRIM('Информация о пользователе'!B531)","v":""},{"$f":"TRIM('Информация о пользователе'!C531)","v":""},null,"b"]
["W",null,null,{"$f":"TRIM('Информация о пользователе'!A532)","v":""},{"$f":"TRIM('Информация о пользователе'!B532)","v":""},{"$f":"TRIM('Информация о пользователе'!C532)","v":""},null,"n"]
["E",null,null,{"$f":"TRIM('Информация о пользователе'!A533)","v":""},{"$f":"TRIM('Информация о пользователе'!B533)","v":""},{"$f":"TRIM('Информация о пользователе'!C533)","v":""},null,"m"]
["R",null,null,{"$f":"TRIM('Информация о пользователе'!A534)","v":""},{"$f":"TRIM('Информация о пользователе'!B534)","v":""},{"$f":"TRIM('Информация о пользователе'!C534)","v":""},null,"v"]
["T",null,null,{"$f":"TRIM('Информация о пользователе'!A535)","v":""},{"$f":"TRIM('Информация о пользователе'!B535)","v":""},{"$f":"TRIM('Информация о пользователе'!C535)","v":""},null,"e"]
["Y",null,null,{"$f":"TRIM('Информация о пользователе'!A536)","v":""},{"$f":"TRIM('Информация о пользователе'!B536)","v":""},{"$f":"TRIM('Информация о пользователе'!C536)","v":""},null,"u"]
["U",null,null,{"$f":"TRIM('Информация о пользователе'!A537)","v":""},{"$f":"TRIM('Информация о пользователе'!B537)","v":""},{"$f":"TRIM('Информация о пользователе'!C537)","v":""},null,"i"]
["I",null,null,{"$f":"TRIM('Информация о пользователе'!A538)","v":""},{"$f":"TRIM('Информация о пользователе'!B538)","v":""},{"$f":"TRIM('Информация о пользователе'!C538)","v":""},null,"o"]
["O",null,null,{"$f":"TRIM('Информация о пользователе'!A539)","v":""},{"$f":"TRIM('Информация о пользователе'!B539)","v":""},{"$f":"TRIM('Информация о пользователе'!C539)","v":""},null,"a"]
["P",null,null,{"$f":"TRIM('Информация о пользователе'!A540)","v":""},{"$f":"TRIM('Информация о пользователе'!B540)","v":""},{"$f":"TRIM('Информация о пользователе'!C540)","v":""},null,"y"]
["L",null,null,{"$f":"TRIM('Информация о пользователе'!A541)","v":""},{"$f":"TRIM('Информация о пользователе'!B541)","v":""},{"$f":"TRIM('Информация о пользователе'!C541)","v":""},null,"q"]
["K",null,null,{"$f":"TRIM('Информация о пользователе'!A542)","v":""},{"$f":"TRIM('Информация о пользователе'!B542)","v":""},{"$f":"TRIM('Информация о пользователе'!C542)","v":""},null,"w"]
["J",null,null,{"$f":"TRIM('Информация о пользователе'!A543)","v":""},{"$f":"TRIM('Информация о пользователе'!B543)","v":""},{"$f":"TRIM('Информация о пользователе'!C543)","v":""},null,"r"]
["H",null,null,{"$f":"TRIM('Информация о пользователе'!A544)","v":""},{"$f":"TRIM('Информация о пользователе'!B544)","v":""},{"$f":"TRIM('Информация о пользователе'!C544)","v":""},null,"t"]
["G",null,null,{"$f":"TRIM('Информация о пользователе'!A545)","v":""},{"$f":"TRIM('Информация о пользователе'!B545)","v":""},{"$f":"TRIM('Информация о пользователе'!C545)","v":""},null,"y"]
["F",null,null,{"$f":"TRIM('Информация о пользователе'!A546)","v":""},{"$f":"TRIM('Информация о пользователе'!B546)","v":""},{"$f":"TRIM('Информация о пользователе'!C546)","v":""},null,"u"]
["D",null,null,{"$f":"TRIM('Информация о пользователе'!A547)","v":""},{"$f":"TRIM('Информация о пользователе'!B547)","v":""},{"$f":"TRIM('Информация о пользователе'!C547)","v":""},null,"p"]
["S",null,null,{"$f":"TRIM('Информация о пользователе'!A548)","v":""},{"$f":"TRIM('Информация о пользователе'!B548)","v":""},{"$f":"TRIM('Информация о пользователе'!C548)","v":""},null,"a"]
["A",null,null,{"$f":"TRIM('Информация о пользователе'!A549)","v":""},{"$f":"TRIM('Информация о пользователе'!B549)","v":""},{"$f":"TRIM('Информация о пользователе'!C549)","v":""},null,"s"]
["Z",null,null,{"$f":"TRIM('Информация о пользователе'!A550)","v":""},{"$f":"TRIM('Информация о пользователе'!B550)","v":""},{"$f":"TRIM('Информация о пользователе'!C550)","v":""},null,"d"]
["X",null,null,{"$f":"TRIM('Информация о пользователе'!A551)","v":""},{"$f":"TRIM('Информация о пользователе'!B551)","v":""},{"$f":"TRIM('Информация о пользователе'!C551)","v":""},null,"f"]
["C",null,null,{"$f":"TRIM('Информация о пользователе'!A552)","v":""},{"$f":"TRIM('Информация о пользователе'!B552)","v":""},{"$f":"TRIM('Информация о пользователе'!C552)","v":""},null,"g"]
["V",null,null,{"$f":"TRIM('Информация о пользователе'!A553)","v":""},{"$f":"TRIM('Информация о пользователе'!B553)","v":""},{"$f":"TRIM('Информация о пользователе'!C553)","v":""},null,"h"]
["B",null,null,{"$f":"TRIM('Информация о пользователе'!A554)","v":""},{"$f":"TRIM('Информация о пользователе'!B554)","v":""},{"$f":"TRIM('Информация о пользователе'!C554)","v":""},null,"j"]
["N",null,null,{"$f":"TRIM('Информация о пользователе'!A555)","v":""},{"$f":"TRIM('Информация о пользователе'!B555)","v":""},{"$f":"TRIM('Информация о пользователе'!C555)","v":""},null,"k"]
["M",null,null,{"$f":"TRIM('Информация о пользователе'!A556)","v":""},{"$f":"TRIM('Информация о пользователе'!B556)","v":""},{"$f":"TRIM('Информация о пользователе'!C556)","v":""},null,"z"]
["Q",null,null,{"$f":"TRIM('Информация о пользователе'!A557)","v":""},{"$f":"TRIM('Информация о пользователе'!B557)","v":""},{"$f":"TRIM('Информация о пользователе'!C557)","v":""},null,"x"]
["W",null,null,{"$f":"TRIM('Информация о пользователе'!A558)","v":""},{"$f":"TRIM('Информация о пользователе'!B558)","v":""},{"$f":"TRIM('Информация о пользователе'!C558)","v":""},null,"c"]
["E",null,null,{"$f":"TRIM('Информация о пользователе'!A559)","v":""},{"$f":"TRIM('Информация о пользователе'!B559)","v":""},{"$f":"TRIM('Информация о пользователе'!C559)","v":""},null,"b"]
["R",null,null,{"$f":"TRIM('Информация о пользователе'!A560)","v":""},{"$f":"TRIM('Информация о пользователе'!B560)","v":""},{"$f":"TRIM('Информация о пользователе'!C560)","v":""},null,"n"]
["T",null,null,{"$f":"TRIM('Информация о пользователе'!A561)","v":""},{"$f":"TRIM('Информация о пользователе'!B561)","v":""},{"$f":"TRIM('Информация о пользователе'!C561)","v":""},null,"m"]
["Y",null,null,{"$f":"TRIM('Информация о пользователе'!A562)","v":""},{"$f":"TRIM('Информация о пользователе'!B562)","v":""},{"$f":"TRIM('Информация о пользователе'!C562)","v":""},null,"v"]
["U",null,null,{"$f":"TRIM('Информация о пользователе'!A563)","v":""},{"$f":"TRIM('Информация о пользователе'!B563)","v":""},{"$f":"TRIM('Информация о пользователе'!C563)","v":""},null,"e"]
["I",null,null,{"$f":"TRIM('Информация о пользователе'!A564)","v":""},{"$f":"TRIM('Информация о пользователе'!B564)","v":""},{"$f":"TRIM('Информация о пользователе'!C564)","v":""},null,"u"]
["O",null,null,{"$f":"TRIM('Информация о пользователе'!A565)","v":""},{"$f":"TRIM('Информация о пользователе'!B565)","v":""},{"$f":"TRIM('Информация о пользователе'!C565)","v":""},null,"i"]
["P",null,null,{"$f":"TRIM('Информация о пользователе'!A566)","v":""},{"$f":"TRIM('Информация о пользователе'!B566)","v":""},{"$f":"TRIM('Информация о пользователе'!C566)","v":""},null,"o"]
["L",null,null,{"$f":"TRIM('Информация о пользователе'!A567)","v":""},{"$f":"TRIM('Информация о пользователе'!B567)","v":""},{"$f":"TRIM('Информация о пользователе'!C567)","v":""},null,"a"]
["K",null,null,{"$f":"TRIM('Информация о пользователе'!A568)","v":""},{"$f":"TRIM('Информация о пользователе'!B568)","v":""},{"$f":"TRIM('Информация о пользователе'!C568)","v":""},null,"y"]
["J",null,null,{"$f":"TRIM('Информация о пользователе'!A569)","v":""},{"$f":"TRIM('Информация о пользователе'!B569)","v":""},{"$f":"TRIM('Информация о пользователе'!C569)","v":""},null,"q"]
["H",null,null,{"$f":"TRIM('Информация о пользователе'!A570)","v":""},{"$f":"TRIM('Информация о пользователе'!B570)","v":""},{"$f":"TRIM('Информация о пользователе'!C570)","v":""},null,"w"]
["G",null,null,{"$f":"TRIM('Информация о пользователе'!A571)","v":""},{"$f":"TRIM('Информация о пользователе'!B571)","v":""},{"$f":"TRIM('Информация о пользователе'!C571)","v":""},null,"r"]
["F",null,null,{"$f":"TRIM('Информация о пользователе'!A572)","v":""},{"$f":"TRIM('Информация о пользователе'!B572)","v":""},{"$f":"TRIM('Информация о пользователе'!C572)","v":""},null,"t"]
["D",null,null,{"$f":"TRIM('Информация о пользователе'!A573)","v":""},{"$f":"TRIM('Информация о пользователе'!B573)","v":""},{"$f":"TRIM('Информация о пользователе'!C573)","v":""},null,"y"]
["S",null,null,{"$f":"TRIM('Информация о пользователе'!A574)","v":""},{"$f":"TRIM('Информация о пользователе'!B574)","v":""},{"$f":"TRIM('Информация о пользователе'!C574)","v":""},null,"u"]
["A",null,null,{"$f":"TRIM('Информация о пользователе'!A575)","v":""},{"$f":"TRIM('Информация о пользователе'!B575)","v":""},{"$f":"TRIM('Информация о пользователе'!C575)","v":""},null,"p"]
["Z",null,null,{"$f":"TRIM('Информация о пользователе'!A576)","v":""},{"$f":"TRIM('Информация о пользователе'!B576)","v":""},{"$f":"TRIM('Информация о пользователе'!C576)","v":""},null,"a"]
["X",null,null,{"$f":"TRIM('Информация о пользователе'!A577)","v":""},{"$f":"TRIM('Информация о пользователе'!B577)","v":""},{"$f":"TRIM('Информация о пользователе'!C577)","v":""},null,"s"]
["C",null,null,{"$f":"TRIM('Информация о пользователе'!A578)","v":""},{"$f":"TRIM('Информация о пользователе'!B578)","v":""},{"$f":"TRIM('Информация о пользователе'!C578)","v":""},null,"d"]
["V",null,null,{"$f":"TRIM('Информация о пользователе'!A579)","v":""},{"$f":"TRIM('Информация о пользователе'!B579)","v":""},{"$f":"TRIM('Информация о пользователе'!C579)","v":""},null,"f"]
["B",null,null,{"$f":"TRIM('Информация о пользователе'!A580)","v":""},{"$f":"TRIM('Информация о пользователе'!B580)","v":""},{"$f":"TRIM('Информация о пользователе'!C580)","v":""},null,"g"]
["N",null,null,{"$f":"TRIM('Информация о пользователе'!A581)","v":""},{"$f":"TRIM('Информация о пользователе'!B581)","v":""},{"$f":"TRIM('Информация о пользователе'!C581)","v":""},null,"h"]
["M",null,null,{"$f":"TRIM('Информация о пользователе'!A582)","v":""},{"$f":"TRIM('Информация о пользователе'!B582)","v":""},{"$f":"TRIM('Информация о пользователе'!C582)","v":""},null,"j"]
["Q",null,null,{"$f":"TRIM('Информация о пользователе'!A583)","v":""},{"$f":"TRIM('Информация о пользователе'!B583)","v":""},{"$f":"TRIM('Информация о пользователе'!C583)","v":""},null,"k"]
["W",null,null,{"$f":"TRIM('Информация о пользователе'!A584)","v":""},{"$f":"TRIM('Информация о пользователе'!B584)","v":""},{"$f":"TRIM('Информация о пользователе'!C584)","v":""},null,"z"]
["E",null,null,{"$f":"TRIM('Информация о пользователе'!A585)","v":""},{"$f":"TRIM('Информация о пользователе'!B585)","v":""},{"$f":"TRIM('Информация о пользователе'!C585)","v":""},null,"x"]
["R",null,null,{"$f":"TRIM('Информация о пользователе'!A586)","v":""},{"$f":"TRIM('Информация о пользователе'!B586)","v":""},{"$f":"TRIM('Информация о пользователе'!C586)","v":""},null,"c"]
["T",null,null,{"$f":"TRIM('Информация о пользователе'!A587)","v":""},{"$f":"TRIM('Информация о пользователе'!B587)","v":""},{"$f":"TRIM('Информация о пользователе'!C587)","v":""},null,"b"]
["Y",null,null,{"$f":"TRIM('Информация о пользователе'!A588)","v":""},{"$f":"TRIM('Информация о пользователе'!B588)","v":""},{"$f":"TRIM('Информация о пользователе'!C588)","v":""},null,"n"]
["U",null,null,{"$f":"TRIM('Информация о пользователе'!A589)","v":""},{"$f":"TRIM('Информация о пользователе'!B589)","v":""},{"$f":"TRIM('Информация о пользователе'!C589)","v":""},null,"m"]
["I",null,null,{"$f":"TRIM('Информация о пользователе'!A590)","v":""},{"$f":"TRIM('Информация о пользователе'!B590)","v":""},{"$f":"TRIM('Информация о пользователе'!C590)","v":""},null,"v"]
["O",null,null,{"$f":"TRIM('Информация о пользователе'!A591)","v":""},{"$f":"TRIM('Информация о пользователе'!B591)","v":""},{"$f":"TRIM('Информация о пользователе'!C591)","v":""},null,"e"]
["P",null,null,{"$f":"TRIM('Информация о пользователе'!A592)","v":""},{"$f":"TRIM('Информация о пользователе'!B592)","v":""},{"$f":"TRIM('Информация о пользователе'!C592)","v":""},null,"u"]
["L",null,null,{"$f":"TRIM('Информация о пользователе'!A593)","v":""},{"$f":"TRIM('Информация о пользователе'!B593)","v":""},{"$f":"TRIM('Информация о пользователе'!C593)","v":""},null,"i"]
["K",null,null,{"$f":"TRIM('Информация о пользователе'!A594)","v":""},{"$f":"TRIM('Информация о пользователе'!B594)","v":""},{"$f":"TRIM('Информация о пользователе'!C594)","v":""},null,"o"]
["J",null,null,{"$f":"TRIM('Информация о пользователе'!A595)","v":""},{"$f":"TRIM('Информация о пользователе'!B595)","v":""},{"$f":"TRIM('Информация о пользователе'!C595)","v":""},null,"a"]
["H",null,null,{"$f":"TRIM('Информация о пользователе'!A596)","v":""},{"$f":"TRIM('Информация о пользователе'!B596)","v":""},{"$f":"TRIM('Информация о пользователе'!C596)","v":""},null,"y"]
["G",null,null,{"$f":"TRIM('Информация о пользователе'!A597)","v":""},{"$f":"TRIM('Информация о пользователе'!B597)","v":""},{"$f":"TRIM('Информация о пользователе'!C597)","v":""},null,"q"]
["F",null,null,{"$f":"TRIM('Информация о пользователе'!A598)","v":""},{"$f":"TRIM('Информация о пользователе'!B598)","v":""},{"$f":"TRIM('Информация о пользователе'!C598)","v":""},null,"w"]
["D",null,null,{"$f":"TRIM('Информация о пользователе'!A599)","v":""},{"$f":"TRIM('Информация о пользователе'!B599)","v":""},{"$f":"TRIM('Информация о пользователе'!C599)","v":""},null,"r"]
["S",null,null,{"$f":"TRIM('Информация о пользователе'!A600)","v":""},{"$f":"TRIM('Информация о пользователе'!B600)","v":""},{"$f":"TRIM('Информация о пользователе'!C600)","v":""},null,"t"]
["A",null,null,{"$f":"TRIM('Информация о пользователе'!A601)","v":""},{"$f":"TRIM('Информация о пользователе'!B601)","v":""},{"$f":"TRIM('Информация о пользователе'!C601)","v":""},null,"y"]
["Z",null,null,{"$f":"TRIM('Информация о пользователе'!A602)","v":""},{"$f":"TRIM('Информация о пользователе'!B602)","v":""},{"$f":"TRIM('Информация о пользователе'!C602)","v":""},null,"u"]
["X",null,null,{"$f":"TRIM('Информация о пользователе'!A603)","v":""},{"$f":"TRIM('Информация о пользователе'!B603)","v":""},{"$f":"TRIM('Информация о пользователе'!C603)","v":""},null,"p"]
["C",null,null,{"$f":"TRIM('Информация о пользователе'!A604)","v":""},{"$f":"TRIM('Информация о пользователе'!B604)","v":""},{"$f":"TRIM('Информация о пользователе'!C604)","v":""},null,"a"]
["V",null,null,{"$f":"TRIM('Информация о пользователе'!A605)","v":""},{"$f":"TRIM('Информация о пользователе'!B605)","v":""},{"$f":"TRIM('Информация о пользователе'!C605)","v":""},null,"s"]
["B",null,null,{"$f":"TRIM('Информация о пользователе'!A606)","v":""},{"$f":"TRIM('Информация о пользователе'!B606)","v":""},{"$f":"TRIM('Информация о пользователе'!C606)","v":""},null,"d"]
["N",null,null,{"$f":"TRIM('Информация о пользователе'!A607)","v":""},{"$f":"TRIM('Информация о пользователе'!B607)","v":""},{"$f":"TRIM('Информация о пользователе'!C607)","v":""},null,"f"]
["M",null,null,{"$f":"TRIM('Информация о пользователе'!A608)","v":""},{"$f":"TRIM('Информация о пользователе'!B608)","v":""},{"$f":"TRIM('Информация о пользователе'!C608)","v":""},null,"g"]
["Q",null,null,{"$f":"TRIM('Информация о пользователе'!A609)","v":""},{"$f":"TRIM('Информация о пользователе'!B609)","v":""},{"$f":"TRIM('Информация о пользователе'!C609)","v":""},null,"h"]
["W",null,null,{"$f":"TRIM('Информация о пользователе'!A610)","v":""},{"$f":"TRIM('Информация о пользователе'!B610)","v":""},{"$f":"TRIM('Информация о пользователе'!C610)","v":""},null,"j"]
["E",null,null,{"$f":"TRIM('Информация о пользователе'!A611)","v":""},{"$f":"TRIM('Информация о пользователе'!B611)","v":""},{"$f":"TRIM('Информация о пользователе'!C611)","v":""},null,"k"]
["R",null,null,{"$f":"TRIM('Информация о пользователе'!A612)","v":""},{"$f":"TRIM('Информация о пользователе'!B612)","v":""},{"$f":"TRIM('Информация о пользователе'!C612)","v":""},null,"z"]
["T",null,null,{"$f":"TRIM('Информация о пользователе'!A613)","v":""},{"$f":"TRIM('Информация о пользователе'!B613)","v":""},{"$f":"TRIM('Информация о пользователе'!C613)","v":""},null,"x"]
["Y",null,null,{"$f":"TRIM('Информация о пользователе'!A614)","v":""},{"$f":"TRIM('Информация о пользователе'!B614)","v":""},{"$f":"TRIM('Информация о пользователе'!C614)","v":""},null,"c"]
["U",null,null,{"$f":"TRIM('Информация о пользователе'!A615)","v":""},{"$f":"TRIM('Информация о пользователе'!B615)","v":""},{"$f":"TRIM('Информация о пользователе'!C615)","v":""},null,"b"]
["I",null,null,{"$f":"TRIM('Информация о пользователе'!A616)","v":""},{"$f":"TRIM('Информация о пользователе'!B616)","v":""},{"$f":"TRIM('Информация о пользователе'!C616)","v":""},null,"n"]
["O",null,null,{"$f":"TRIM('Информация о пользователе'!A617)","v":""},{"$f":"TRIM('Информация о пользователе'!B617)","v":""},{"$f":"TRIM('Информация о пользователе'!C617)","v":""},null,"m"]
["P",null,null,{"$f":"TRIM('Информация о пользователе'!A618)","v":""},{"$f":"TRIM('Информация о пользователе'!B618)","v":""},{"$f":"TRIM('Информация о пользователе'!C618)","v":""},null,"v"]
["L",null,null,{"$f":"TRIM('Информация о пользователе'!A619)","v":""},{"$f":"TRIM('Информация о пользователе'!B619)","v":""},{"$f":"TRIM('Информация о пользователе'!C619)","v":""},null,"e"]
["K",null,null,{"$f":"TRIM('Информация о пользователе'!A620)","v":""},{"$f":"TRIM('Информация о пользователе'!B620)","v":""},{"$f":"TRIM('Информация о пользователе'!C620)","v":""},null,"u"]
["J",null,null,{"$f":"TRIM('Информация о пользователе'!A621)","v":""},{"$f":"TRIM('Информация о пользователе'!B621)","v":""},{"$f":"TRIM('Информация о пользователе'!C621)","v":""},null,"i"]
["H",null,null,{"$f":"TRIM('Информация о пользователе'!A622)","v":""},{"$f":"TRIM('Информация о пользователе'!B622)","v":""},{"$f":"TRIM('Информация о пользователе'!C622)","v":""},null,"o"]
["G",null,null,{"$f":"TRIM('Информация о пользователе'!A623)","v":""},{"$f":"TRIM('Информация о пользователе'!B623)","v":""},{"$f":"TRIM('Информация о пользователе'!C623)","v":""},null,"a"]
["F",null,null,{"$f":"TRIM('Информация о пользователе'!A624)","v":""},{"$f":"TRIM('Информация о пользователе'!B624)","v":""},{"$f":"TRIM('Информация о пользователе'!C624)","v":""},null,"y"]
["D",null,null,{"$f":"TRIM('Информация о пользователе'!A625)","v":""},{"$f":"TRIM('Информация о пользователе'!B625)","v":""},{"$f":"TRIM('Информация о пользователе'!C625)","v":""},null,"q"]
["S",null,null,{"$f":"TRIM('Информация о пользователе'!A626)","v":""},{"$f":"TRIM('Информация о пользователе'!B626)","v":""},{"$f":"TRIM('Информация о пользователе'!C626)","v":""},null,"w"]
["A",null,null,{"$f":"TRIM('Информация о пользователе'!A627)","v":""},{"$f":"TRIM('Информация о пользователе'!B627)","v":""},{"$f":"TRIM('Информация о пользователе'!C627)","v":""},null,"r"]
["Z",null,null,{"$f":"TRIM('Информация о пользователе'!A628)","v":""},{"$f":"TRIM('Информация о пользователе'!B628)","v":""},{"$f":"TRIM('Информация о пользователе'!C628)","v":""},null,"t"]
["X",null,null,{"$f":"TRIM('Информация о пользователе'!A629)","v":""},{"$f":"TRIM('Информация о пользователе'!B629)","v":""},{"$f":"TRIM('Информация о пользователе'!C629)","v":""},null,"y"]
["C",null,null,{"$f":"TRIM('Информация о пользователе'!A630)","v":""},{"$f":"TRIM('Информация о пользователе'!B630)","v":""},{"$f":"TRIM('Информация о пользователе'!C630)","v":""},null,"u"]
["V",null,null,{"$f":"TRIM('Информация о пользователе'!A631)","v":""},{"$f":"TRIM('Информация о пользователе'!B631)","v":""},{"$f":"TRIM('Информация о пользователе'!C631)","v":""},null,"p"]
["B",null,null,{"$f":"TRIM('Информация о пользователе'!A632)","v":""},{"$f":"TRIM('Информация о пользователе'!B632)","v":""},{"$f":"TRIM('Информация о пользователе'!C632)","v":""},null,"a"]
["N",null,null,{"$f":"TRIM('Информация о пользователе'!A633)","v":""},{"$f":"TRIM('Информация о пользователе'!B633)","v":""},{"$f":"TRIM('Информация о пользователе'!C633)","v":""},null,"s"]
["M",null,null,{"$f":"TRIM('Информация о пользователе'!A634)","v":""},{"$f":"TRIM('Информация о пользователе'!B634)","v":""},{"$f":"TRIM('Информация о пользователе'!C634)","v":""},null,"d"]
["N",null,null,{"$f":"TRIM('Информация о пользователе'!A635)","v":""},{"$f":"TRIM('Информация о пользователе'!B635)","v":""},{"$f":"TRIM('Информация о пользователе'!C635)","v":""},null,"f"]
["M",null,null,{"$f":"TRIM('Информация о пользователе'!A636)","v":""},{"$f":"TRIM('Информация о пользователе'!B636)","v":""},{"$f":"TRIM('Информация о пользователе'!C636)","v":""},null,"g"]
["Q",null,null,{"$f":"TRIM('Информация о пользователе'!A637)","v":""},{"$f":"TRIM('Информация о пользователе'!B637)","v":""},{"$f":"TRIM('Информация о пользователе'!C637)","v":""},null,"h"]
["W",null,null,{"$f":"TRIM('Информация о пользователе'!A638)","v":""},{"$f":"TRIM('Информация о пользователе'!B638)","v":""},{"$f":"TRIM('Информация о пользователе'!C638)","v":""},null,"j"]
["E",null,null,{"$f":"TRIM('Информация о пользователе'!A639)","v":""},{"$f":"TRIM('Информация о пользователе'!B639)","v":""},{"$f":"TRIM('Информация о пользователе'!C639)","v":""},null,"k"]
["R",null,null,{"$f":"TRIM('Информация о пользователе'!A640)","v":""},{"$f":"TRIM('Информация о пользователе'!B640)","v":""},{"$f":"TRIM('Информация о пользователе'!C640)","v":""},null,"z"]
["T",null,null,{"$f":"TRIM('Информация о пользователе'!A641)","v":""},{"$f":"TRIM('Информация о пользователе'!B641)","v":""},{"$f":"TRIM('Информация о пользователе'!C641)","v":""},null,"x"]
["Y",null,null,{"$f":"TRIM('Информация о пользователе'!A642)","v":""},{"$f":"TRIM('Информация о пользователе'!B642)","v":""},{"$f":"TRIM('Информация о пользователе'!C642)","v":""},null,"c"]
["U",null,null,{"$f":"TRIM('Информация о пользователе'!A643)","v":""},{"$f":"TRIM('Информация о пользователе'!B643)","v":""},{"$f":"TRIM('Информация о пользователе'!C643)","v":""},null,"b"]
["I",null,null,{"$f":"TRIM('Информация о пользователе'!A644)","v":""},{"$f":"TRIM('Информация о пользователе'!B644)","v":""},{"$f":"TRIM('Информация о пользователе'!C644)","v":""},null,"n"]
["O",null,null,{"$f":"TRIM('Информация о пользователе'!A645)","v":""},{"$f":"TRIM('Информация о пользователе'!B645)","v":""},{"$f":"TRIM('Информация о пользователе'!C645)","v":""},null,"m"]
["P",null,null,{"$f":"TRIM('Информация о пользователе'!A646)","v":""},{"$f":"TRIM('Информация о пользователе'!B646)","v":""},{"$f":"TRIM('Информация о пользователе'!C646)","v":""},null,"v"]
["L",null,null,{"$f":"TRIM('Информация о пользователе'!A647)","v":""},{"$f":"TRIM('Информация о пользователе'!B647)","v":""},{"$f":"TRIM('Информация о пользователе'!C647)","v":""},null,"e"]
["K",null,null,{"$f":"TRIM('Информация о пользователе'!A648)","v":""},{"$f":"TRIM('Информация о пользователе'!B648)","v":""},{"$f":"TRIM('Информация о пользователе'!C648)","v":""},null,"u"]
["J",null,null,{"$f":"TRIM('Информация о пользователе'!A649)","v":""},{"$f":"TRIM('Информация о пользователе'!B649)","v":""},{"$f":"TRIM('Информация о пользователе'!C649)","v":""},null,"i"]
["H",null,null,{"$f":"TRIM('Информация о пользователе'!A650)","v":""},{"$f":"TRIM('Информация о пользователе'!B650)","v":""},{"$f":"TRIM('Информация о пользователе'!C650)","v":""},null,"o"]
["G",null,null,{"$f":"TRIM('Информация о пользователе'!A651)","v":""},{"$f":"TRIM('Информация о пользователе'!B651)","v":""},{"$f":"TRIM('Информация о пользователе'!C651)","v":""},null,"a"]
["F",null,null,{"$f":"TRIM('Информация о пользователе'!A652)","v":""},{"$f":"TRIM('Информация о пользователе'!B652)","v":""},{"$f":"TRIM('Информация о пользователе'!C652)","v":""},null,"y"]
["D",null,null,{"$f":"TRIM('Информация о пользователе'!A653)","v":""},{"$f":"TRIM('Информация о пользователе'!B653)","v":""},{"$f":"TRIM('Информация о пользователе'!C653)","v":""},null,"q"]
["S",null,null,{"$f":"TRIM('Информация о пользователе'!A654)","v":""},{"$f":"TRIM('Информация о пользователе'!B654)","v":""},{"$f":"TRIM('Информация о пользователе'!C654)","v":""},null,"w"]
["A",null,null,{"$f":"TRIM('Информация о пользователе'!A655)","v":""},{"$f":"TRIM('Информация о пользователе'!B655)","v":""},{"$f":"TRIM('Информация о пользователе'!C655)","v":""},null,"r"]
["Z",null,null,{"$f":"TRIM('Информация о пользователе'!A656)","v":""},{"$f":"TRIM('Информация о пользователе'!B656)","v":""},{"$f":"TRIM('Информация о пользователе'!C656)","v":""},null,"t"]
["X",null,null,{"$f":"TRIM('Информация о пользователе'!A657)","v":""},{"$f":"TRIM('Информация о пользователе'!B657)","v":""},{"$f":"TRIM('Информация о пользователе'!C657)","v":""},null,"y"]
["C",null,null,{"$f":"TRIM('Информация о пользователе'!A658)","v":""},{"$f":"TRIM('Информация о пользователе'!B658)","v":""},{"$f":"TRIM('Информация о пользователе'!C658)","v":""},null,"u"]
["V",null,null,{"$f":"TRIM('Информация о пользователе'!A659)","v":""},{"$f":"TRIM('Информация о пользователе'!B659)","v":""},{"$f":"TRIM('Информация о пользователе'!C659)","v":""},null,"p"]
["B",null,null,{"$f":"TRIM('Информация о пользователе'!A660)","v":""},{"$f":"TRIM('Информация о пользователе'!B660)","v":""},{"$f":"TRIM('Информация о пользователе'!C660)","v":""},null,"a"]
["N",null,null,{"$f":"TRIM('Информация о пользователе'!A661)","v":""},{"$f":"TRIM('Информация о пользователе'!B661)","v":""},{"$f":"TRIM('Информация о пользователе'!C661)","v":""},null,"s"]
["M",null,null,{"$f":"TRIM('Информация о пользователе'!A662)","v":""},{"$f":"TRIM('Информация о пользователе'!B662)","v":""},{"$f":"TRIM('Информация о пользователе'!C662)","v":""},null,"d"]
["Q",null,null,{"$f":"TRIM('Информация о пользователе'!A663)","v":""},{"$f":"TRIM('Информация о пользователе'!B663)","v":""},{"$f":"TRIM('Информация о пользователе'!C663)","v":""},null,"f"]
["W",null,null,{"$f":"TRIM('Информация о пользователе'!A664)","v":""},{"$f":"TRIM('Информация о пользователе'!B664)","v":""},{"$f":"TRIM('Информация о пользователе'!C664)","v":""},null,"g"]
["E",null,null,{"$f":"TRIM('Информация о пользователе'!A665)","v":""},{"$f":"TRIM('Информация о пользователе'!B665)","v":""},{"$f":"TRIM('Информация о пользователе'!C665)","v":""},null,"h"]
["R",null,null,{"$f":"TRIM('Информация о пользователе'!A666)","v":""},{"$f":"TRIM('Информация о пользователе'!B666)","v":""},{"$f":"TRIM('Информация о пользователе'!C666)","v":""},null,"j"]
["T",null,null,{"$f":"TRIM('Информация о пользователе'!A667)","v":""},{"$f":"TRIM('Информация о пользователе'!B667)","v":""},{"$f":"TRIM('Информация о пользователе'!C667)","v":""},null,"k"]
["Y",null,null,{"$f":"TRIM('Информация о пользователе'!A668)","v":""},{"$f":"TRIM('Информация о пользователе'!B668)","v":""},{"$f":"TRIM('Информация о пользователе'!C668)","v":""},null,"z"]
["U",null,null,{"$f":"TRIM('Информация о пользователе'!A669)","v":""},{"$f":"TRIM('Информация о пользователе'!B669)","v":""},{"$f":"TRIM('Информация о пользователе'!C669)","v":""},null,"x"]
["I",null,null,{"$f":"TRIM('Информация о пользователе'!A670)","v":""},{"$f":"TRIM('Информация о пользователе'!B670)","v":""},{"$f":"TRIM('Информация о пользователе'!C670)","v":""},null,"c"]
["O",null,null,{"$f":"TRIM('Информация о пользователе'!A671)","v":""},{"$f":"TRIM('Информация о пользователе'!B671)","v":""},{"$f":"TRIM('Информация о пользователе'!C671)","v":""},null,"b"]
["P",null,null,{"$f":"TRIM('Информация о пользователе'!A672)","v":""},{"$f":"TRIM('Информация о пользователе'!B672)","v":""},{"$f":"TRIM('Информация о пользователе'!C672)","v":""},null,"n"]
["L",null,null,{"$f":"TRIM('Информация о пользователе'!A673)","v":""},{"$f":"TRIM('Информация о пользователе'!B673)","v":""},{"$f":"TRIM('Информация о пользователе'!C673)","v":""},null,"m"]
["K",null,null,{"$f":"TRIM('Информация о пользователе'!A674)","v":""},{"$f":"TRIM('Информация о пользователе'!B674)","v":""},{"$f":"TRIM('Информация о пользователе'!C674)","v":""},null,"v"]
["J",null,null,{"$f":"TRIM('Информация о пользователе'!A675)","v":""},{"$f":"TRIM('Информация о пользователе'!B675)","v":""},{"$f":"TRIM('Информация о пользователе'!C675)","v":""},null,"e"]
["H",null,null,{"$f":"TRIM('Информация о пользователе'!A676)","v":""},{"$f":"TRIM('Информация о пользователе'!B676)","v":""},{"$f":"TRIM('Информация о пользователе'!C676)","v":""},null,"u"]
["G",null,null,{"$f":"TRIM('Информация о пользователе'!A677)","v":""},{"$f":"TRIM('Информация о пользователе'!B677)","v":""},{"$f":"TRIM('Информация о пользователе'!C677)","v":""},null,"i"]
["F",null,null,{"$f":"TRIM('Информация о пользователе'!A678)","v":""},{"$f":"TRIM('Информация о пользователе'!B678)","v":""},{"$f":"TRIM('Информация о пользователе'!C678)","v":""},null,"o"]
["D",null,null,{"$f":"TRIM('Информация о пользователе'!A679)","v":""},{"$f":"TRIM('Информация о пользователе'!B679)","v":""},{"$f":"TRIM('Информация о пользователе'!C679)","v":""},null,"a"]
["S",null,null,{"$f":"TRIM('Информация о пользователе'!A680)","v":""},{"$f":"TRIM('Информация о пользователе'!B680)","v":""},{"$f":"TRIM('Информация о пользователе'!C680)","v":""},null,"y"]
["A",null,null,{"$f":"TRIM('Информация о пользователе'!A681)","v":""},{"$f":"TRIM('Информация о пользователе'!B681)","v":""},{"$f":"TRIM('Информация о пользователе'!C681)","v":""},null,"q"]
["Z",null,null,{"$f":"TRIM('Информация о пользователе'!A682)","v":""},{"$f":"TRIM('Информация о пользователе'!B682)","v":""},{"$f":"TRIM('Информация о пользователе'!C682)","v":""},null,"w"]
["X",null,null,{"$f":"TRIM('Информация о пользователе'!A683)","v":""},{"$f":"TRIM('Информация о пользователе'!B683)","v":""},{"$f":"TRIM('Информация о пользователе'!C683)","v":""},null,"r"]
["C",null,null,{"$f":"TRIM('Информация о пользователе'!A684)","v":""},{"$f":"TRIM('Информация о пользователе'!B684)","v":""},{"$f":"TRIM('Информация о пользователе'!C684)","v":""},null,"t"]
["V",null,null,{"$f":"TRIM('Информация о пользователе'!A685)","v":""},{"$f":"TRIM('Информация о пользователе'!B685)","v":""},{"$f":"TRIM('Информация о пользователе'!C685)","v":""},null,"y"]
["B",null,null,{"$f":"TRIM('Информация о пользователе'!A686)","v":""},{"$f":"TRIM('Информация о пользователе'!B686)","v":""},{"$f":"TRIM('Информация о пользователе'!C686)","v":""},null,"u"]
["N",null,null,{"$f":"TRIM('Информация о пользователе'!A687)","v":""},{"$f":"TRIM('Информация о пользователе'!B687)","v":""},{"$f":"TRIM('Информация о пользователе'!C687)","v":""},null,"p"]
["M",null,null,{"$f":"TRIM('Информация о пользователе'!A688)","v":""},{"$f":"TRIM('Информация о пользователе'!B688)","v":""},{"$f":"TRIM('Информация о пользователе'!C688)","v":""},null,"a"]
["Q",null,null,{"$f":"TRIM('Информация о пользователе'!A689)","v":""},{"$f":"TRIM('Информация о пользователе'!B689)","v":""},{"$f":"TRIM('Информация о пользователе'!C689)","v":""},null,"s"]
["W",null,null,{"$f":"TRIM('Информация о пользователе'!A690)","v":""},{"$f":"TRIM('Информация о пользователе'!B690)","v":""},{"$f":"TRIM('Информация о пользователе'!C690)","v":""},null,"d"]
["E",null,null,{"$f":"TRIM('Информация о пользователе'!A691)","v":""},{"$f":"TRIM('Информация о пользователе'!B691)","v":""},{"$f":"TRIM('Информация о пользователе'!C691)","v":""},null,"f"]
["R",null,null,{"$f":"TRIM('Информация о пользователе'!A692)","v":""},{"$f":"TRIM('Информация о пользователе'!B692)","v":""},{"$f":"TRIM('Информация о пользователе'!C692)","v":""},null,"g"]
["T",null,null,{"$f":"TRIM('Информация о пользователе'!A693)","v":""},{"$f":"TRIM('Информация о пользователе'!B693)","v":""},{"$f":"TRIM('Информация о пользователе'!C693)","v":""},null,"h"]
["Y",null,null,{"$f":"TRIM('Информация о пользователе'!A694)","v":""},{"$f":"TRIM('Информация о пользователе'!B694)","v":""},{"$f":"TRIM('Информация о пользователе'!C694)","v":""},null,"j"]
["U",null,null,{"$f":"TRIM('Информация о пользователе'!A695)","v":""},{"$f":"TRIM('Информация о пользователе'!B695)","v":""},{"$f":"TRIM('Информация о пользователе'!C695)","v":""},null,"k"]
["I",null,null,{"$f":"TRIM('Информация о пользователе'!A696)","v":""},{"$f":"TRIM('Информация о пользователе'!B696)","v":""},{"$f":"TRIM('Информация о пользователе'!C696)","v":""},null,"z"]
["O",null,null,{"$f":"TRIM('Информация о пользователе'!A697)","v":""},{"$f":"TRIM('Информация о пользователе'!B697)","v":""},{"$f":"TRIM('Информация о пользователе'!C697)","v":""},null,"x"]
["P",null,null,{"$f":"TRIM('Информация о пользователе'!A698)","v":""},{"$f":"TRIM('Информация о пользователе'!B698)","v":""},{"$f":"TRIM('Информация о пользователе'!C698)","v":""},null,"c"]
["L",null,null,{"$f":"TRIM('Информация о пользователе'!A699)","v":""},{"$f":"TRIM('Информация о пользователе'!B699)","v":""},{"$f":"TRIM('Информация о пользователе'!C699)","v":""},null,"b"]
["K",null,null,{"$f":"TRIM('Информация о пользователе'!A700)","v":""},{"$f":"TRIM('Информация о пользователе'!B700)","v":""},{"$f":"TRIM('Информация о пользователе'!C700)","v":""},null,"n"]
["J",null,null,{"$f":"TRIM('Информация о пользователе'!A701)","v":""},{"$f":"TRIM('Информация о пользователе'!B701)","v":""},{"$f":"TRIM('Информация о пользователе'!C701)","v":""},null,"m"]
["H",null,null,{"$f":"TRIM('Информация о пользователе'!A702)","v":""},{"$f":"TRIM('Информация о пользователе'!B702)","v":""},{"$f":"TRIM('Информация о пользователе'!C702)","v":""},null,"v"]
["G",null,null,{"$f":"TRIM('Информация о пользователе'!A703)","v":""},{"$f":"TRIM('Информация о пользователе'!B703)","v":""},{"$f":"TRIM('Информация о пользователе'!C703)","v":""},null,"e"]
["F",null,null,{"$f":"TRIM('Информация о пользователе'!A704)","v":""},{"$f":"TRIM('Информация о пользователе'!B704)","v":""},{"$f":"TRIM('Информация о пользователе'!C704)","v":""},null,"u"]
["D",null,null,{"$f":"TRIM('Информация о пользователе'!A705)","v":""},{"$f":"TRIM('Информация о пользователе'!B705)","v":""},{"$f":"TRIM('Информация о пользователе'!C705)","v":""},null,"i"]
["S",null,null,{"$f":"TRIM('Информация о пользователе'!A706)","v":""},{"$f":"TRIM('Информация о пользователе'!B706)","v":""},{"$f":"TRIM('Информация о пользователе'!C706)","v":""},null,"o"]
["A",null,null,{"$f":"TRIM('Информация о пользователе'!A707)","v":""},{"$f":"TRIM('Информация о пользователе'!B707)","v":""},{"$f":"TRIM('Информация о пользователе'!C707)","v":""},null,"a"]
["Z",null,null,{"$f":"TRIM('Информация о пользователе'!A708)","v":""},{"$f":"TRIM('Информация о пользователе'!B708)","v":""},{"$f":"TRIM('Информация о пользователе'!C708)","v":""},null,"y"]
["X",null,null,{"$f":"TRIM('Информация о пользователе'!A709)","v":""},{"$f":"TRIM('Информация о пользователе'!B709)","v":""},{"$f":"TRIM('Информация о пользователе'!C709)","v":""},null,"q"]
["C",null,null,{"$f":"TRIM('Информация о пользователе'!A710)","v":""},{"$f":"TRIM('Информация о пользователе'!B710)","v":""},{"$f":"TRIM('Информация о пользователе'!C710)","v":""},null,"w"]
["V",null,null,{"$f":"TRIM('Информация о пользователе'!A711)","v":""},{"$f":"TRIM('Информация о пользователе'!B711)","v":""},{"$f":"TRIM('Информация о пользователе'!C711)","v":""},null,"r"]
["B",null,null,{"$f":"TRIM('Информация о пользователе'!A712)","v":""},{"$f":"TRIM('Информация о пользователе'!B712)","v":""},{"$f":"TRIM('Информация о пользователе'!C712)","v":""},null,"t"]
["N",null,null,{"$f":"TRIM('Информация о пользователе'!A713)","v":""},{"$f":"TRIM('Информация о пользователе'!B713)","v":""},{"$f":"TRIM('Информация о пользователе'!C713)","v":""},null,"y"]
["M",null,null,{"$f":"TRIM('Информация о пользователе'!A714)","v":""},{"$f":"TRIM('Информация о пользователе'!B714)","v":""},{"$f":"TRIM('Информация о пользователе'!C714)","v":""},null,"u"]
["Q",null,null,{"$f":"TRIM('Информация о пользователе'!A715)","v":""},{"$f":"TRIM('Информация о пользователе'!B715)","v":""},{"$f":"TRIM('Информация о пользователе'!C715)","v":""},null,"p"]
["W",null,null,{"$f":"TRIM('Информация о пользователе'!A716)","v":""},{"$f":"TRIM('Информация о пользователе'!B716)","v":""},{"$f":"TRIM('Информация о пользователе'!C716)","v":""},null,"a"]
["E",null,null,{"$f":"TRIM('Информация о пользователе'!A717)","v":""},{"$f":"TRIM('Информация о пользователе'!B717)","v":""},{"$f":"TRIM('Информация о пользователе'!C717)","v":""},null,"s"]
["R",null,null,{"$f":"TRIM('Информация о пользователе'!A718)","v":""},{"$f":"TRIM('Информация о пользователе'!B718)","v":""},{"$f":"TRIM('Информация о пользователе'!C718)","v":""},null,"d"]
["T",null,null,{"$f":"TRIM('Информация о пользователе'!A719)","v":""},{"$f":"TRIM('Информация о пользователе'!B719)","v":""},{"$f":"TRIM('Информация о пользователе'!C719)","v":""},null,"f"]
["Y",null,null,{"$f":"TRIM('Информация о пользователе'!A720)","v":""},{"$f":"TRIM('Информация о пользователе'!B720)","v":""},{"$f":"TRIM('Информация о пользователе'!C720)","v":""},null,"g"]
["U",null,null,{"$f":"TRIM('Информация о пользователе'!A721)","v":""},{"$f":"TRIM('Информация о пользователе'!B721)","v":""},{"$f":"TRIM('Информация о пользователе'!C721)","v":""},null,"h"]
["I",null,null,{"$f":"TRIM('Информация о пользователе'!A722)","v":""},{"$f":"TRIM('Информация о пользователе'!B722)","v":""},{"$f":"TRIM('Информация о пользователе'!C722)","v":""},null,"j"]
["O",null,null,{"$f":"TRIM('Информация о пользователе'!A723)","v":""},{"$f":"TRIM('Информация о пользователе'!B723)","v":""},{"$f":"TRIM('Информация о пользователе'!C723)","v":""},null,"k"]
["P",null,null,{"$f":"TRIM('Информация о пользователе'!A724)","v":""},{"$f":"TRIM('Информация о пользователе'!B724)","v":""},{"$f":"TRIM('Информация о пользователе'!C724)","v":""},null,"z"]
["L",null,null,{"$f":"TRIM('Информация о пользователе'!A725)","v":""},{"$f":"TRIM('Информация о пользователе'!B725)","v":""},{"$f":"TRIM('Информация о пользователе'!C725)","v":""},null,"x"]
["K",null,null,{"$f":"TRIM('Информация о пользователе'!A726)","v":""},{"$f":"TRIM('Информация о пользователе'!B726)","v":""},{"$f":"TRIM('Информация о пользователе'!C726)","v":""},null,"c"]
["J",null,null,{"$f":"TRIM('Информация о пользователе'!A727)","v":""},{"$f":"TRIM('Информация о пользователе'!B727)","v":""},{"$f":"TRIM('Информация о пользователе'!C727)","v":""},null,"b"]
["H",null,null,{"$f":"TRIM('Информация о пользователе'!A728)","v":""},{"$f":"TRIM('Информация о пользователе'!B728)","v":""},{"$f":"TRIM('Информация о пользователе'!C728)","v":""},null,"n"]
["G",null,null,{"$f":"TRIM('Информация о пользователе'!A729)","v":""},{"$f":"TRIM('Информация о пользователе'!B729)","v":""},{"$f":"TRIM('Информация о пользователе'!C729)","v":""},null,"m"]
["F",null,null,{"$f":"TRIM('Информация о пользователе'!A730)","v":""},{"$f":"TRIM('Информация о пользователе'!B730)","v":""},{"$f":"TRIM('Информация о пользователе'!C730)","v":""},null,"v"]
["D",null,null,{"$f":"TRIM('Информация о пользователе'!A731)","v":""},{"$f":"TRIM('Информация о пользователе'!B731)","v":""},{"$f":"TRIM('Информация о пользователе'!C731)","v":""},null,"e"]
["S",null,null,{"$f":"TRIM('Информация о пользователе'!A732)","v":""},{"$f":"TRIM('Информация о пользователе'!B732)","v":""},{"$f":"TRIM('Информация о пользователе'!C732)","v":""},null,"u"]
["A",null,null,{"$f":"TRIM('Информация о пользователе'!A733)","v":""},{"$f":"TRIM('Информация о пользователе'!B733)","v":""},{"$f":"TRIM('Информация о пользователе'!C733)","v":""},null,"i"]
["Z",null,null,{"$f":"TRIM('Информация о пользователе'!A734)","v":""},{"$f":"TRIM('Информация о пользователе'!B734)","v":""},{"$f":"TRIM('Информация о пользователе'!C734)","v":""},null,"o"]
["X",null,null,{"$f":"TRIM('Информация о пользователе'!A735)","v":""},{"$f":"TRIM('Информация о пользователе'!B735)","v":""},{"$f":"TRIM('Информация о пользователе'!C735)","v":""},null,"a"]
["C",null,null,{"$f":"TRIM('Информация о пользователе'!A736)","v":""},{"$f":"TRIM('Информация о пользователе'!B736)","v":""},{"$f":"TRIM('Информация о пользователе'!C736)","v":""},null,"y"]
["V",null,null,{"$f":"TRIM('Информация о пользователе'!A737)","v":""},{"$f":"TRIM('Информация о пользователе'!B737)","v":""},{"$f":"TRIM('Информация о пользователе'!C737)","v":""},null,"q"]
["B",null,null,{"$f":"TRIM('Информация о пользователе'!A738)","v":""},{"$f":"TRIM('Информация о пользователе'!B738)","v":""},{"$f":"TRIM('Информация о пользователе'!C738)","v":""},null,"w"]
["N",null,null,{"$f":"TRIM('Информация о пользователе'!A739)","v":""},{"$f":"TRIM('Информация о пользователе'!B739)","v":""},{"$f":"TRIM('Информация о пользователе'!C739)","v":""},null,"r"]
["M",null,null,{"$f":"TRIM('Информация о пользователе'!A740)","v":""},{"$f":"TRIM('Информация о пользователе'!B740)","v":""},{"$f":"TRIM('Информация о пользователе'!C740)","v":""},null,"t"]
["Q",null,null,{"$f":"TRIM('Информация о пользователе'!A741)","v":""},{"$f":"TRIM('Информация о пользователе'!B741)","v":""},{"$f":"TRIM('Информация о пользователе'!C741)","v":""},null,"y"]
["W",null,null,{"$f":"TRIM('Информация о пользователе'!A742)","v":""},{"$f":"TRIM('Информация о пользователе'!B742)","v":""},{"$f":"TRIM('Информация о пользователе'!C742)","v":""},null,"u"]
["E",null,null,{"$f":"TRIM('Информация о пользователе'!A743)","v":""},{"$f":"TRIM('Информация о пользователе'!B743)","v":""},{"$f":"TRIM('Информация о пользователе'!C743)","v":""},null,"p"]
["R",null,null,{"$f":"TRIM('Информация о пользователе'!A744)","v":""},{"$f":"TRIM('Информация о пользователе'!B744)","v":""},{"$f":"TRIM('Информация о пользователе'!C744)","v":""},null,"a"]
["T",null,null,{"$f":"TRIM('Информация о пользователе'!A745)","v":""},{"$f":"TRIM('Информация о пользователе'!B745)","v":""},{"$f":"TRIM('Информация о пользователе'!C745)","v":""},null,"s"]
["Y",null,null,{"$f":"TRIM('Информация о пользователе'!A746)","v":""},{"$f":"TRIM('Информация о пользователе'!B746)","v":""},{"$f":"TRIM('Информация о пользователе'!C746)","v":""},null,"d"]
["U",null,null,{"$f":"TRIM('Информация о пользователе'!A747)","v":""},{"$f":"TRIM('Информация о пользователе'!B747)","v":""},{"$f":"TRIM('Информация о пользователе'!C747)","v":""},null,"f"]
["I",null,null,{"$f":"TRIM('Информация о пользователе'!A748)","v":""},{"$f":"TRIM('Информация о пользователе'!B748)","v":""},{"$f":"TRIM('Информация о пользователе'!C748)","v":""},null,"g"]
["O",null,null,{"$f":"TRIM('Информация о пользователе'!A749)","v":""},{"$f":"TRIM('Информация о пользователе'!B749)","v":""},{"$f":"TRIM('Информация о пользователе'!C749)","v":""},null,"h"]
["P",null,null,{"$f":"TRIM('Информация о пользователе'!A750)","v":""},{"$f":"TRIM('Информация о пользователе'!B750)","v":""},{"$f":"TRIM('Информация о пользователе'!C750)","v":""},null,"j"]
["L",null,null,{"$f":"TRIM('Информация о пользователе'!A751)","v":""},{"$f":"TRIM('Информация о пользователе'!B751)","v":""},{"$f":"TRIM('Информация о пользователе'!C751)","v":""},null,"k"]
["K",null,null,{"$f":"TRIM('Информация о пользователе'!A752)","v":""},{"$f":"TRIM('Информация о пользователе'!B752)","v":""},{"$f":"TRIM('Информация о пользователе'!C752)","v":""},null,"z"]
["J",null,null,{"$f":"TRIM('Информация о пользователе'!A753)","v":""},{"$f":"TRIM('Информация о пользователе'!B753)","v":""},{"$f":"TRIM('Информация о пользователе'!C753)","v":""},null,"x"]
["H",null,null,{"$f":"TRIM('Информация о пользователе'!A754)","v":""},{"$f":"TRIM('Информация о пользователе'!B754)","v":""},{"$f":"TRIM('Информация о пользователе'!C754)","v":""},null,"c"]
["G",null,null,{"$f":"TRIM('Информация о пользователе'!A755)","v":""},{"$f":"TRIM('Информация о пользователе'!B755)","v":""},{"$f":"TRIM('Информация о пользователе'!C755)","v":""},null,"b"]
["F",null,null,{"$f":"TRIM('Информация о пользователе'!A756)","v":""},{"$f":"TRIM('Информация о пользователе'!B756)","v":""},{"$f":"TRIM('Информация о пользователе'!C756)","v":""},null,"n"]
["D",null,null,{"$f":"TRIM('Информация о пользователе'!A757)","v":""},{"$f":"TRIM('Информация о пользователе'!B757)","v":""},{"$f":"TRIM('Информация о пользователе'!C757)","v":""},null,"m"]
["S",null,null,{"$f":"TRIM('Информация о пользователе'!A758)","v":""},{"$f":"TRIM('Информация о пользователе'!B758)","v":""},{"$f":"TRIM('Информация о пользователе'!C758)","v":""},null,"v"]
["A",null,null,{"$f":"TRIM('Информация о пользователе'!A759)","v":""},{"$f":"TRIM('Информация о пользователе'!B759)","v":""},{"$f":"TRIM('Информация о пользователе'!C759)","v":""},null,"e"]
["Z",null,null,{"$f":"TRIM('Информация о пользователе'!A760)","v":""},{"$f":"TRIM('Информация о пользователе'!B760)","v":""},{"$f":"TRIM('Информация о пользователе'!C760)","v":""},null,"u"]
["X",null,null,{"$f":"TRIM('Информация о пользователе'!A761)","v":""},{"$f":"TRIM('Информация о пользователе'!B761)","v":""},{"$f":"TRIM('Информация о пользователе'!C761)","v":""},null,"i"]
["C",null,null,{"$f":"TRIM('Информация о пользователе'!A762)","v":""},{"$f":"TRIM('Информация о пользователе'!B762)","v":""},{"$f":"TRIM('Информация о пользователе'!C762)","v":""},null,"o"]
["V",null,null,{"$f":"TRIM('Информация о пользователе'!A763)","v":""},{"$f":"TRIM('Информация о пользователе'!B763)","v":""},{"$f":"TRIM('Информация о пользователе'!C763)","v":""},null,"a"]
["B",null,null,{"$f":"TRIM('Информация о пользователе'!A764)","v":""},{"$f":"TRIM('Информация о пользователе'!B764)","v":""},{"$f":"TRIM('Информация о пользователе'!C764)","v":""},null,"y"]
["N",null,null,{"$f":"TRIM('Информация о пользователе'!A765)","v":""},{"$f":"TRIM('Информация о пользователе'!B765)","v":""},{"$f":"TRIM('Информация о пользователе'!C765)","v":""},null,"q"]
["M",null,null,{"$f":"TRIM('Информация о пользователе'!A766)","v":""},{"$f":"TRIM('Информация о пользователе'!B766)","v":""},{"$f":"TRIM('Информация о пользователе'!C766)","v":""},null,"w"]
["N",null,null,{"$f":"TRIM('Информация о пользователе'!A767)","v":""},{"$f":"TRIM('Информация о пользователе'!B767)","v":""},{"$f":"TRIM('Информация о пользователе'!C767)","v":""},null,"r"]
["M",null,null,{"$f":"TRIM('Информация о пользователе'!A768)","v":""},{"$f":"TRIM('Информация о пользователе'!B768)","v":""},{"$f":"TRIM('Информация о пользователе'!C768)","v":""},null,"t"]
["Q",null,null,{"$f":"TRIM('Информация о пользователе'!A769)","v":""},{"$f":"TRIM('Информация о пользователе'!B769)","v":""},{"$f":"TRIM('Информация о пользователе'!C769)","v":""},null,"y"]
["W",null,null,{"$f":"TRIM('Информация о пользователе'!A770)","v":""},{"$f":"TRIM('Информация о пользователе'!B770)","v":""},{"$f":"TRIM('Информация о пользователе'!C770)","v":""},null,"u"]
["E",null,null,{"$f":"TRIM('Информация о пользователе'!A771)","v":""},{"$f":"TRIM('Информация о пользователе'!B771)","v":""},{"$f":"TRIM('Информация о пользователе'!C771)","v":""},null,"p"]
["R",null,null,{"$f":"TRIM('Информация о пользователе'!A772)","v":""},{"$f":"TRIM('Информация о пользователе'!B772)","v":""},{"$f":"TRIM('Информация о пользователе'!C772)","v":""},null,"a"]
["T",null,null,{"$f":"TRIM('Информация о пользователе'!A773)","v":""},{"$f":"TRIM('Информация о пользователе'!B773)","v":""},{"$f":"TRIM('Информация о пользователе'!C773)","v":""},null,"s"]
["Y",null,null,{"$f":"TRIM('Информация о пользователе'!A774)","v":""},{"$f":"TRIM('Информация о пользователе'!B774)","v":""},{"$f":"TRIM('Информация о пользователе'!C774)","v":""},null,"d"]
["U",null,null,{"$f":"TRIM('Информация о пользователе'!A775)","v":""},{"$f":"TRIM('Информация о пользователе'!B775)","v":""},{"$f":"TRIM('Информация о пользователе'!C775)","v":""},null,"f"]
["I",null,null,{"$f":"TRIM('Информация о пользователе'!A776)","v":""},{"$f":"TRIM('Информация о пользователе'!B776)","v":""},{"$f":"TRIM('Информация о пользователе'!C776)","v":""},null,"g"]
["O",null,null,{"$f":"TRIM('Информация о пользователе'!A777)","v":""},{"$f":"TRIM('Информация о пользователе'!B777)","v":""},{"$f":"TRIM('Информация о пользователе'!C777)","v":""},null,"h"]
["P",null,null,{"$f":"TRIM('Информация о пользователе'!A778)","v":""},{"$f":"TRIM('Информация о пользователе'!B778)","v":""},{"$f":"TRIM('Информация о пользователе'!C778)","v":""},null,"j"]
["L",null,null,{"$f":"TRIM('Информация о пользователе'!A779)","v":""},{"$f":"TRIM('Информация о пользователе'!B779)","v":""},{"$f":"TRIM('Информация о пользователе'!C779)","v":""},null,"k"]
["K",null,null,{"$f":"TRIM('Информация о пользователе'!A780)","v":""},{"$f":"TRIM('Информация о пользователе'!B780)","v":""},{"$f":"TRIM('Информация о пользователе'!C780)","v":""},null,"z"]
["J",null,null,{"$f":"TRIM('Информация о пользователе'!A781)","v":""},{"$f":"TRIM('Информация о пользователе'!B781)","v":""},{"$f":"TRIM('Информация о пользователе'!C781)","v":""},null,"x"]
["H",null,null,{"$f":"TRIM('Информация о пользователе'!A782)","v":""},{"$f":"TRIM('Информация о пользователе'!B782)","v":""},{"$f":"TRIM('Информация о пользователе'!C782)","v":""},null,"c"]
["G",null,null,{"$f":"TRIM('Информация о пользователе'!A783)","v":""},{"$f":"TRIM('Информация о пользователе'!B783)","v":""},{"$f":"TRIM('Информация о пользователе'!C783)","v":""},null,"b"]
["F",null,null,{"$f":"TRIM('Информация о пользователе'!A784)","v":""},{"$f":"TRIM('Информация о пользователе'!B784)","v":""},{"$f":"TRIM('Информация о пользователе'!C784)","v":""},null,"n"]
["D",null,null,{"$f":"TRIM('Информация о пользователе'!A785)","v":""},{"$f":"TRIM('Информация о пользователе'!B785)","v":""},{"$f":"TRIM('Информация о пользователе'!C785)","v":""},null,"m"]
["S",null,null,{"$f":"TRIM('Информация о пользователе'!A786)","v":""},{"$f":"TRIM('Информация о пользователе'!B786)","v":""},{"$f":"TRIM('Информация о пользователе'!C786)","v":""},null,"v"]
["A",null,null,{"$f":"TRIM('Информация о пользователе'!A787)","v":""},{"$f":"TRIM('Информация о пользователе'!B787)","v":""},{"$f":"TRIM('Информация о пользователе'!C787)","v":""},null,"e"]
["Z",null,null,{"$f":"TRIM('Информация о пользователе'!A788)","v":""},{"$f":"TRIM('Информация о пользователе'!B788)","v":""},{"$f":"TRIM('Информация о пользователе'!C788)","v":""},null,"u"]
["X",null,null,{"$f":"TRIM('Информация о пользователе'!A789)","v":""},{"$f":"TRIM('Информация о пользователе'!B789)","v":""},{"$f":"TRIM('Информация о пользователе'!C789)","v":""},null,"i"]
["C",null,null,{"$f":"TRIM('Информация о пользователе'!A790)","v":""},{"$f":"TRIM('Информация о пользователе'!B790)","v":""},{"$f":"TRIM('Информация о пользователе'!C790)","v":""},null,"o"]
["V",null,null,{"$f":"TRIM('Информация о пользователе'!A791)","v":""},{"$f":"TRIM('Информация о пользователе'!B791)","v":""},{"$f":"TRIM('Информация о пользователе'!C791)","v":""},null,"a"]
["B",null,null,{"$f":"TRIM('Информация о пользователе'!A792)","v":""},{"$f":"TRIM('Информация о пользователе'!B792)","v":""},{"$f":"TRIM('Информация о пользователе'!C792)","v":""},null,"y"]
["N",null,null,{"$f":"TRIM('Информация о пользователе'!A793)","v":""},{"$f":"TRIM('Информация о пользователе'!B793)","v":""},{"$f":"TRIM('Информация о пользователе'!C793)","v":""},null,"q"]
["M",null,null,{"$f":"TRIM('Информация о пользователе'!A794)","v":""},{"$f":"TRIM('Информация о пользователе'!B794)","v":""},{"$f":"TRIM('Информация о пользователе'!C794)","v":""},null,"w"]
["Q",null,null,{"$f":"TRIM('Информация о пользователе'!A795)","v":""},{"$f":"TRIM('Информация о пользователе'!B795)","v":""},{"$f":"TRIM('Информация о пользователе'!C795)","v":""},null,"r"]
["W",null,null,{"$f":"TRIM('Информация о пользователе'!A796)","v":""},{"$f":"TRIM('Информация о пользователе'!B796)","v":""},{"$f":"TRIM('Информация о пользователе'!C796)","v":""},null,"t"]
["E",null,null,{"$f":"TRIM('Информация о пользователе'!A797)","v":""},{"$f":"TRIM('Информация о пользователе'!B797)","v":""},{"$f":"TRIM('Информация о пользователе'!C797)","v":""},null,"y"]
["R",null,null,{"$f":"TRIM('Информация о пользователе'!A798)","v":""},{"$f":"TRIM('Информация о пользователе'!B798)","v":""},{"$f":"TRIM('Информация о пользователе'!C798)","v":""},null,"u"]
["T",null,null,{"$f":"TRIM('Информация о пользователе'!A799)","v":""},{"$f":"TRIM('Информация о пользователе'!B799)","v":""},{"$f":"TRIM('Информация о пользователе'!C799)","v":""},null,"p"]
["Y",null,null,{"$f":"TRIM('Информация о пользователе'!A800)","v":""},{"$f":"TRIM('Информация о пользователе'!B800)","v":""},{"$f":"TRIM('Информация о пользователе'!C800)","v":""},null,"a"]
["U",null,null,{"$f":"TRIM('Информация о пользователе'!A801)","v":""},{"$f":"TRIM('Информация о пользователе'!B801)","v":""},{"$f":"TRIM('Информация о пользователе'!C801)","v":""},null,"s"]
["I",null,null,{"$f":"TRIM('Информация о пользователе'!A802)","v":""},{"$f":"TRIM('Информация о пользователе'!B802)","v":""},{"$f":"TRIM('Информация о пользователе'!C802)","v":""},null,"d"]
["O",null,null,{"$f":"TRIM('Информация о пользователе'!A803)","v":""},{"$f":"TRIM('Информация о пользователе'!B803)","v":""},{"$f":"TRIM('Информация о пользователе'!C803)","v":""},null,"f"]
["P",null,null,{"$f":"TRIM('Информация о пользователе'!A804)","v":""},{"$f":"TRIM('Информация о пользователе'!B804)","v":""},{"$f":"TRIM('Информация о пользователе'!C804)","v":""},null,"g"]
["L",null,null,{"$f":"TRIM('Информация о пользователе'!A805)","v":""},{"$f":"TRIM('Информация о пользователе'!B805)","v":""},{"$f":"TRIM('Информация о пользователе'!C805)","v":""},null,"h"]
["K",null,null,{"$f":"TRIM('Информация о пользователе'!A806)","v":""},{"$f":"TRIM('Информация о пользователе'!B806)","v":""},{"$f":"TRIM('Информация о пользователе'!C806)","v":""},null,"j"]
["J",null,null,{"$f":"TRIM('Информация о пользователе'!A807)","v":""},{"$f":"TRIM('Информация о пользователе'!B807)","v":""},{"$f":"TRIM('Информация о пользователе'!C807)","v":""},null,"k"]
["H",null,null,{"$f":"TRIM('Информация о пользователе'!A808)","v":""},{"$f":"TRIM('Информация о пользователе'!B808)","v":""},{"$f":"TRIM('Информация о пользователе'!C808)","v":""},null,"z"]
["G",null,null,{"$f":"TRIM('Информация о пользователе'!A809)","v":""},{"$f":"TRIM('Информация о пользователе'!B809)","v":""},{"$f":"TRIM('Информация о пользователе'!C809)","v":""},null,"x"]
["F",null,null,{"$f":"TRIM('Информация о пользователе'!A810)","v":""},{"$f":"TRIM('Информация о пользователе'!B810)","v":""},{"$f":"TRIM('Информация о пользователе'!C810)","v":""},null,"c"]
["D",null,null,{"$f":"TRIM('Информация о пользователе'!A811)","v":""},{"$f":"TRIM('Информация о пользователе'!B811)","v":""},{"$f":"TRIM('Информация о пользователе'!C811)","v":""},null,"b"]
["S",null,null,{"$f":"TRIM('Информация о пользователе'!A812)","v":""},{"$f":"TRIM('Информация о пользователе'!B812)","v":""},{"$f":"TRIM('Информация о пользователе'!C812)","v":""},null,"n"]
["A",null,null,{"$f":"TRIM('Информация о пользователе'!A813)","v":""},{"$f":"TRIM('Информация о пользователе'!B813)","v":""},{"$f":"TRIM('Информация о пользователе'!C813)","v":""},null,"m"]
["Z",null,null,{"$f":"TRIM('Информация о пользователе'!A814)","v":""},{"$f":"TRIM('Информация о пользователе'!B814)","v":""},{"$f":"TRIM('Информация о пользователе'!C814)","v":""},null,"v"]
["X",null,null,{"$f":"TRIM('Информация о пользователе'!A815)","v":""},{"$f":"TRIM('Информация о пользователе'!B815)","v":""},{"$f":"TRIM('Информация о пользователе'!C815)","v":""},null,"e"]
["C",null,null,{"$f":"TRIM('Информация о пользователе'!A816)","v":""},{"$f":"TRIM('Информация о пользователе'!B816)","v":""},{"$f":"TRIM('Информация о пользователе'!C816)","v":""},null,"u"]
["V",null,null,{"$f":"TRIM('Информация о пользователе'!A817)","v":""},{"$f":"TRIM('Информация о пользователе'!B817)","v":""},{"$f":"TRIM('Информация о пользователе'!C817)","v":""},null,"i"]
["B",null,null,{"$f":"TRIM('Информация о пользователе'!A818)","v":""},{"$f":"TRIM('Информация о пользователе'!B818)","v":""},{"$f":"TRIM('Информация о пользователе'!C818)","v":""},null,"o"]
["N",null,null,{"$f":"TRIM('Информация о пользователе'!A819)","v":""},{"$f":"TRIM('Информация о пользователе'!B819)","v":""},{"$f":"TRIM('Информация о пользователе'!C819)","v":""},null,"a"]
["M",null,null,{"$f":"TRIM('Информация о пользователе'!A820)","v":""},{"$f":"TRIM('Информация о пользователе'!B820)","v":""},{"$f":"TRIM('Информация о пользователе'!C820)","v":""},null,"y"]
["Q",null,null,{"$f":"TRIM('Информация о пользователе'!A821)","v":""},{"$f":"TRIM('Информация о пользователе'!B821)","v":""},{"$f":"TRIM('Информация о пользователе'!C821)","v":""},null,"q"]
["W",null,null,{"$f":"TRIM('Информация о пользователе'!A822)","v":""},{"$f":"TRIM('Информация о пользователе'!B822)","v":""},{"$f":"TRIM('Информация о пользователе'!C822)","v":""},null,"w"]
["E",null,null,{"$f":"TRIM('Информация о пользователе'!A823)","v":""},{"$f":"TRIM('Информация о пользователе'!B823)","v":""},{"$f":"TRIM('Информация о пользователе'!C823)","v":""},null,"r"]
["R",null,null,{"$f":"TRIM('Информация о пользователе'!A824)","v":""},{"$f":"TRIM('Информация о пользователе'!B824)","v":""},{"$f":"TRIM('Информация о пользователе'!C824)","v":""},null,"t"]
["T",null,null,{"$f":"TRIM('Информация о пользователе'!A825)","v":""},{"$f":"TRIM('Информация о пользователе'!B825)","v":""},{"$f":"TRIM('Информация о пользователе'!C825)","v":""},null,"y"]
["Y",null,null,{"$f":"TRIM('Информация о пользователе'!A826)","v":""},{"$f":"TRIM('Информация о пользователе'!B826)","v":""},{"$f":"TRIM('Информация о пользователе'!C826)","v":""},null,"u"]
["U",null,null,{"$f":"TRIM('Информация о пользователе'!A827)","v":""},{"$f":"TRIM('Информация о пользователе'!B827)","v":""},{"$f":"TRIM('Информация о пользователе'!C827)","v":""},null,"p"]
["I",null,null,{"$f":"TRIM('Информация о пользователе'!A828)","v":""},{"$f":"TRIM('Информация о пользователе'!B828)","v":""},{"$f":"TRIM('Информация о пользователе'!C828)","v":""},null,"a"]
["O",null,null,{"$f":"TRIM('Информация о пользователе'!A829)","v":""},{"$f":"TRIM('Информация о пользователе'!B829)","v":""},{"$f":"TRIM('Информация о пользователе'!C829)","v":""},null,"s"]
["P",null,null,{"$f":"TRIM('Информация о пользователе'!A830)","v":""},{"$f":"TRIM('Информация о пользователе'!B830)","v":""},{"$f":"TRIM('Информация о пользователе'!C830)","v":""},null,"d"]
["L",null,null,{"$f":"TRIM('Информация о пользователе'!A831)","v":""},{"$f":"TRIM('Информация о пользователе'!B831)","v":""},{"$f":"TRIM('Информация о пользователе'!C831)","v":""},null,"f"]
["K",null,null,{"$f":"TRIM('Информация о пользователе'!A832)","v":""},{"$f":"TRIM('Информация о пользователе'!B832)","v":""},{"$f":"TRIM('Информация о пользователе'!C832)","v":""},null,"g"]
["J",null,null,{"$f":"TRIM('Информация о пользователе'!A833)","v":""},{"$f":"TRIM('Информация о пользователе'!B833)","v":""},{"$f":"TRIM('Информация о пользователе'!C833)","v":""},null,"h"]
["H",null,null,{"$f":"TRIM('Информация о пользователе'!A834)","v":""},{"$f":"TRIM('Информация о пользователе'!B834)","v":""},{"$f":"TRIM('Информация о пользователе'!C834)","v":""},null,"j"]
["G",null,null,{"$f":"TRIM('Информация о пользователе'!A835)","v":""},{"$f":"TRIM('Информация о пользователе'!B835)","v":""},{"$f":"TRIM('Информация о пользователе'!C835)","v":""},null,"k"]
["F",null,null,{"$f":"TRIM('Информация о пользователе'!A836)","v":""},{"$f":"TRIM('Информация о пользователе'!B836)","v":""},{"$f":"TRIM('Информация о пользователе'!C836)","v":""},null,"z"]
["D",null,null,{"$f":"TRIM('Информация о пользователе'!A837)","v":""},{"$f":"TRIM('Информация о пользователе'!B837)","v":""},{"$f":"TRIM('Информация о пользователе'!C837)","v":""},null,"x"]
["S",null,null,{"$f":"TRIM('Информация о пользователе'!A838)","v":""},{"$f":"TRIM('Информация о пользователе'!B838)","v":""},{"$f":"TRIM('Информация о пользователе'!C838)","v":""},null,"c"]
["A",null,null,{"$f":"TRIM('Информация о пользователе'!A839)","v":""},{"$f":"TRIM('Информация о пользователе'!B839)","v":""},{"$f":"TRIM('Информация о пользователе'!C839)","v":""},null,"b"]
["Z",null,null,{"$f":"TRIM('Информация о пользователе'!A840)","v":""},{"$f":"TRIM('Информация о пользователе'!B840)","v":""},{"$f":"TRIM('Информация о пользователе'!C840)","v":""},null,"n"]
["X",null,null,{"$f":"TRIM('Информация о пользователе'!A841)","v":""},{"$f":"TRIM('Информация о пользователе'!B841)","v":""},{"$f":"TRIM('Информация о пользователе'!C841)","v":""},null,"m"]
["C",null,null,{"$f":"TRIM('Информация о пользователе'!A842)","v":""},{"$f":"TRIM('Информация о пользователе'!B842)","v":""},{"$f":"TRIM('Информация о пользователе'!C842)","v":""},null,"v"]
["V",null,null,{"$f":"TRIM('Информация о пользователе'!A843)","v":""},{"$f":"TRIM('Информация о пользователе'!B843)","v":""},{"$f":"TRIM('Информация о пользователе'!C843)","v":""},null,"e"]
["B",null,null,{"$f":"TRIM('Информация о пользователе'!A844)","v":""},{"$f":"TRIM('Информация о пользователе'!B844)","v":""},{"$f":"TRIM('Информация о пользователе'!C844)","v":""},null,"u"]
["N",null,null,{"$f":"TRIM('Информация о пользователе'!A845)","v":""},{"$f":"TRIM('Информация о пользователе'!B845)","v":""},{"$f":"TRIM('Информация о пользователе'!C845)","v":""},null,"i"]
["M",null,null,{"$f":"TRIM('Информация о пользователе'!A846)","v":""},{"$f":"TRIM('Информация о пользователе'!B846)","v":""},{"$f":"TRIM('Информация о пользователе'!C846)","v":""},null,"o"]
["Q",null,null,{"$f":"TRIM('Информация о пользователе'!A847)","v":""},{"$f":"TRIM('Информация о пользователе'!B847)","v":""},{"$f":"TRIM('Информация о пользователе'!C847)","v":""},null,"a"]
["W",null,null,{"$f":"TRIM('Информация о пользователе'!A848)","v":""},{"$f":"TRIM('Информация о пользователе'!B848)","v":""},{"$f":"TRIM('Информация о пользователе'!C848)","v":""},null,"y"]
["E",null,null,{"$f":"TRIM('Информация о пользователе'!A849)","v":""},{"$f":"TRIM('Информация о пользователе'!B849)","v":""},{"$f":"TRIM('Информация о пользователе'!C849)","v":""},null,"q"]
["R",null,null,{"$f":"TRIM('Информация о пользователе'!A850)","v":""},{"$f":"TRIM('Информация о пользователе'!B850)","v":""},{"$f":"TRIM('Информация о пользователе'!C850)","v":""},null,"w"]
["T",null,null,{"$f":"TRIM('Информация о пользователе'!A851)","v":""},{"$f":"TRIM('Информация о пользователе'!B851)","v":""},{"$f":"TRIM('Информация о пользователе'!C851)","v":""},null,"r"]
["Y",null,null,{"$f":"TRIM('Информация о пользователе'!A852)","v":""},{"$f":"TRIM('Информация о пользователе'!B852)","v":""},{"$f":"TRIM('Информация о пользователе'!C852)","v":""},null,"t"]
["U",null,null,{"$f":"TRIM('Информация о пользователе'!A853)","v":""},{"$f":"TRIM('Информация о пользователе'!B853)","v":""},{"$f":"TRIM('Информация о пользователе'!C853)","v":""},null,"y"]
["I",null,null,{"$f":"TRIM('Информация о пользователе'!A854)","v":""},{"$f":"TRIM('Информация о пользователе'!B854)","v":""},{"$f":"TRIM('Информация о пользователе'!C854)","v":""},null,"u"]
["O",null,null,{"$f":"TRIM('Информация о пользователе'!A855)","v":""},{"$f":"TRIM('Информация о пользователе'!B855)","v":""},{"$f":"TRIM('Информация о пользователе'!C855)","v":""},null,"p"]
["P",null,null,{"$f":"TRIM('Информация о пользователе'!A856)","v":""},{"$f":"TRIM('Информация о пользователе'!B856)","v":""},{"$f":"TRIM('Информация о пользователе'!C856)","v":""},null,"a"]
["L",null,null,{"$f":"TRIM('Информация о пользователе'!A857)","v":""},{"$f":"TRIM('Информация о пользователе'!B857)","v":""},{"$f":"TRIM('Информация о пользователе'!C857)","v":""},null,"s"]
["K",null,null,{"$f":"TRIM('Информация о пользователе'!A858)","v":""},{"$f":"TRIM('Информация о пользователе'!B858)","v":""},{"$f":"TRIM('Информация о пользователе'!C858)","v":""},null,"d"]
["J",null,null,{"$f":"TRIM('Информация о пользователе'!A859)","v":""},{"$f":"TRIM('Информация о пользователе'!B859)","v":""},{"$f":"TRIM('Информация о пользователе'!C859)","v":""},null,"f"]
["H",null,null,{"$f":"TRIM('Информация о пользователе'!A860)","v":""},{"$f":"TRIM('Информация о пользователе'!B860)","v":""},{"$f":"TRIM('Информация о пользователе'!C860)","v":""},null,"g"]
["G",null,null,{"$f":"TRIM('Информация о пользователе'!A861)","v":""},{"$f":"TRIM('Информация о пользователе'!B861)","v":""},{"$f":"TRIM('Информация о пользователе'!C861)","v":""},null,"h"]
["F",null,null,{"$f":"TRIM('Информация о пользователе'!A862)","v":""},{"$f":"TRIM('Информация о пользователе'!B862)","v":""},{"$f":"TRIM('Информация о пользователе'!C862)","v":""},null,"j"]
["D",null,null,{"$f":"TRIM('Информация о пользователе'!A863)","v":""},{"$f":"TRIM('Информация о пользователе'!B863)","v":""},{"$f":"TRIM('Информация о пользователе'!C863)","v":""},null,"k"]
["S",null,null,{"$f":"TRIM('Информация о пользователе'!A864)","v":""},{"$f":"TRIM('Информация о пользователе'!B864)","v":""},{"$f":"TRIM('Информация о пользователе'!C864)","v":""},null,"z"]
["A",null,null,{"$f":"TRIM('Информация о пользователе'!A865)","v":""},{"$f":"TRIM('Информация о пользователе'!B865)","v":""},{"$f":"TRIM('Информация о пользователе'!C865)","v":""},null,"x"]
["Z",null,null,{"$f":"TRIM('Информация о пользователе'!A866)","v":""},{"$f":"TRIM('Информация о пользователе'!B866)","v":""},{"$f":"TRIM('Информация о пользователе'!C866)","v":""},null,"c"]
["X",null,null,{"$f":"TRIM('Информация о пользователе'!A867)","v":""},{"$f":"TRIM('Информация о пользователе'!B867)","v":""},{"$f":"TRIM('Информация о пользователе'!C867)","v":""},null,"b"]
["C",null,null,{"$f":"TRIM('Информация о пользователе'!A868)","v":""},{"$f":"TRIM('Информация о пользователе'!B868)","v":""},{"$f":"TRIM('Информация о пользователе'!C868)","v":""},null,"n"]
["V",null,null,{"$f":"TRIM('Информация о пользователе'!A869)","v":""},{"$f":"TRIM('Информация о пользователе'!B869)","v":""},{"$f":"TRIM('Информация о пользователе'!C869)","v":""},null,"m"]
["B",null,null,{"$f":"TRIM('Информация о пользователе'!A870)","v":""},{"$f":"TRIM('Информация о пользователе'!B870)","v":""},{"$f":"TRIM('Информация о пользователе'!C870)","v":""},null,"v"]
["N",null,null,{"$f":"TRIM('Информация о пользователе'!A871)","v":""},{"$f":"TRIM('Информация о пользователе'!B871)","v":""},{"$f":"TRIM('Информация о пользователе'!C871)","v":""},null,"e"]
["M",null,null,{"$f":"TRIM('Информация о пользователе'!A872)","v":""},{"$f":"TRIM('Информация о пользователе'!B872)","v":""},{"$f":"TRIM('Информация о пользователе'!C872)","v":""},null,"u"]
["Q",null,null,{"$f":"TRIM('Информация о пользователе'!A873)","v":""},{"$f":"TRIM('Информация о пользователе'!B873)","v":""},{"$f":"TRIM('Информация о пользователе'!C873)","v":""},null,"i"]
["W",null,null,{"$f":"TRIM('Информация о пользователе'!A874)","v":""},{"$f":"TRIM('Информация о пользователе'!B874)","v":""},{"$f":"TRIM('Информация о пользователе'!C874)","v":""},null,"o"]
["E",null,null,{"$f":"TRIM('Информация о пользователе'!A875)","v":""},{"$f":"TRIM('Информация о пользователе'!B875)","v":""},{"$f":"TRIM('Информация о пользователе'!C875)","v":""},null,"a"]
["R",null,null,{"$f":"TRIM('Информация о пользователе'!A876)","v":""},{"$f":"TRIM('Информация о пользователе'!B876)","v":""},{"$f":"TRIM('Информация о пользователе'!C876)","v":""},null,"y"]
["T",null,null,{"$f":"TRIM('Информация о пользователе'!A877)","v":""},{"$f":"TRIM('Информация о пользователе'!B877)","v":""},{"$f":"TRIM('Информация о пользователе'!C877)","v":""},null,"q"]
["Y",null,null,{"$f":"TRIM('Информация о пользователе'!A878)","v":""},{"$f":"TRIM('Информация о пользователе'!B878)","v":""},{"$f":"TRIM('Информация о пользователе'!C878)","v":""},null,"w"]
["U",null,null,{"$f":"TRIM('Информация о пользователе'!A879)","v":""},{"$f":"TRIM('Информация о пользователе'!B879)","v":""},{"$f":"TRIM('Информация о пользователе'!C879)","v":""},null,"r"]
["I",null,null,{"$f":"TRIM('Информация о пользователе'!A880)","v":""},{"$f":"TRIM('Информация о пользователе'!B880)","v":""},{"$f":"TRIM('Информация о пользователе'!C880)","v":""},null,"t"]
["O",null,null,{"$f":"TRIM('Информация о пользователе'!A881)","v":""},{"$f":"TRIM('Информация о пользователе'!B881)","v":""},{"$f":"TRIM('Информация о пользователе'!C881)","v":""},null,"y"]
["P",null,null,{"$f":"TRIM('Информация о пользователе'!A882)","v":""},{"$f":"TRIM('Информация о пользователе'!B882)","v":""},{"$f":"TRIM('Информация о пользователе'!C882)","v":""},null,"u"]
["L",null,null,{"$f":"TRIM('Информация о пользователе'!A883)","v":""},{"$f":"TRIM('Информация о пользователе'!B883)","v":""},{"$f":"TRIM('Информация о пользователе'!C883)","v":""},null,"p"]
["K",null,null,{"$f":"TRIM('Информация о пользователе'!A884)","v":""},{"$f":"TRIM('Информация о пользователе'!B884)","v":""},{"$f":"TRIM('Информация о пользователе'!C884)","v":""},null,"a"]
["J",null,null,{"$f":"TRIM('Информация о пользователе'!A885)","v":""},{"$f":"TRIM('Информация о пользователе'!B885)","v":""},{"$f":"TRIM('Информация о пользователе'!C885)","v":""},null,"s"]
["H",null,null,{"$f":"TRIM('Информация о пользователе'!A886)","v":""},{"$f":"TRIM('Информация о пользователе'!B886)","v":""},{"$f":"TRIM('Информация о пользователе'!C886)","v":""},null,"d"]
["G",null,null,{"$f":"TRIM('Информация о пользователе'!A887)","v":""},{"$f":"TRIM('Информация о пользователе'!B887)","v":""},{"$f":"TRIM('Информация о пользователе'!C887)","v":""},null,"f"]
["F",null,null,{"$f":"TRIM('Информация о пользователе'!A888)","v":""},{"$f":"TRIM('Информация о пользователе'!B888)","v":""},{"$f":"TRIM('Информация о пользователе'!C888)","v":""},null,"g"]
["D",null,null,{"$f":"TRIM('Информация о пользователе'!A889)","v":""},{"$f":"TRIM('Информация о пользователе'!B889)","v":""},{"$f":"TRIM('Информация о пользователе'!C889)","v":""},null,"h"]
["S",null,null,{"$f":"TRIM('Информация о пользователе'!A890)","v":""},{"$f":"TRIM('Информация о пользователе'!B890)","v":""},{"$f":"TRIM('Информация о пользователе'!C890)","v":""},null,"j"]
["A",null,null,{"$f":"TRIM('Информация о пользователе'!A891)","v":""},{"$f":"TRIM('Информация о пользователе'!B891)","v":""},{"$f":"TRIM('Информация о пользователе'!C891)","v":""},null,"k"]
["Z",null,null,{"$f":"TRIM('Информация о пользователе'!A892)","v":""},{"$f":"TRIM('Информация о пользователе'!B892)","v":""},{"$f":"TRIM('Информация о пользователе'!C892)","v":""},null,"z"]
["X",null,null,{"$f":"TRIM('Информация о пользователе'!A893)","v":""},{"$f":"TRIM('Информация о пользователе'!B893)","v":""},{"$f":"TRIM('Информация о пользователе'!C893)","v":""},null,"x"]
["C",null,null,{"$f":"TRIM('Информация о пользователе'!A894)","v":""},{"$f":"TRIM('Информация о пользователе'!B894)","v":""},{"$f":"TRIM('Информация о пользователе'!C894)","v":""},null,"c"]
["V",null,null,{"$f":"TRIM('Информация о пользователе'!A895)","v":""},{"$f":"TRIM('Информация о пользователе'!B895)","v":""},{"$f":"TRIM('Информация о пользователе'!C895)","v":""},null,"b"]
["B",null,null,{"$f":"TRIM('Информация о пользователе'!A896)","v":""},{"$f":"TRIM('Информация о пользователе'!B896)","v":""},{"$f":"TRIM('Информация о пользователе'!C896)","v":""},null,"n"]
["N",null,null,{"$f":"TRIM('Информация о пользователе'!A897)","v":""},{"$f":"TRIM('Информация о пользователе'!B897)","v":""},{"$f":"TRIM('Информация о пользователе'!C897)","v":""},null,"m"]
["M",null,null,{"$f":"TRIM('Информация о пользователе'!A898)","v":""},{"$f":"TRIM('Информация о пользователе'!B898)","v":""},{"$f":"TRIM('Информация о пользователе'!C898)","v":""},null,"v"]
["N",null,null,{"$f":"TRIM('Информация о пользователе'!A899)","v":""},{"$f":"TRIM('Информация о пользователе'!B899)","v":""},{"$f":"TRIM('Информация о пользователе'!C899)","v":""},null,"e"]
["M",null,null,{"$f":"TRIM('Информация о пользователе'!A900)","v":""},{"$f":"TRIM('Информация о пользователе'!B900)","v":""},{"$f":"TRIM('Информация о пользователе'!C900)","v":""},null,"u"]
["Q",null,null,{"$f":"TRIM('Информация о пользователе'!A901)","v":""},{"$f":"TRIM('Информация о пользователе'!B901)","v":""},{"$f":"TRIM('Информация о пользователе'!C901)","v":""},null,"i"]
["W",null,null,{"$f":"TRIM('Информация о пользователе'!A902)","v":""},{"$f":"TRIM('Информация о пользователе'!B902)","v":""},{"$f":"TRIM('Информация о пользователе'!C902)","v":""},null,"o"]
["E",null,null,{"$f":"TRIM('Информация о пользователе'!A903)","v":""},{"$f":"TRIM('Информация о пользователе'!B903)","v":""},{"$f":"TRIM('Информация о пользователе'!C903)","v":""},null,"a"]
["R",null,null,{"$f":"TRIM('Информация о пользователе'!A904)","v":""},{"$f":"TRIM('Информация о пользователе'!B904)","v":""},{"$f":"TRIM('Информация о пользователе'!C904)","v":""},null,"y"]
["T",null,null,{"$f":"TRIM('Информация о пользователе'!A905)","v":""},{"$f":"TRIM('Информация о пользователе'!B905)","v":""},{"$f":"TRIM('Информация о пользователе'!C905)","v":""},null,"q"]
["Y",null,null,{"$f":"TRIM('Информация о пользователе'!A906)","v":""},{"$f":"TRIM('Информация о пользователе'!B906)","v":""},{"$f":"TRIM('Информация о пользователе'!C906)","v":""},null,"w"]
["U",null,null,{"$f":"TRIM('Информация о пользователе'!A907)","v":""},{"$f":"TRIM('Информация о пользователе'!B907)","v":""},{"$f":"TRIM('Информация о пользователе'!C907)","v":""},null,"r"]
["I",null,null,{"$f":"TRIM('Информация о пользователе'!A908)","v":""},{"$f":"TRIM('Информация о пользователе'!B908)","v":""},{"$f":"TRIM('Информация о пользователе'!C908)","v":""},null,"t"]
["O",null,null,{"$f":"TRIM('Информация о пользователе'!A909)","v":""},{"$f":"TRIM('Информация о пользователе'!B909)","v":""},{"$f":"TRIM('Информация о пользователе'!C909)","v":""},null,"y"]
["P",null,null,{"$f":"TRIM('Информация о пользователе'!A910)","v":""},{"$f":"TRIM('Информация о пользователе'!B910)","v":""},{"$f":"TRIM('Информация о пользователе'!C910)","v":""},null,"u"]
["L",null,null,{"$f":"TRIM('Информация о пользователе'!A911)","v":""},{"$f":"TRIM('Информация о пользователе'!B911)","v":""},{"$f":"TRIM('Информация о пользователе'!C911)","v":""},null,"p"]
["K",null,null,{"$f":"TRIM('Информация о пользователе'!A912)","v":""},{"$f":"TRIM('Информация о пользователе'!B912)","v":""},{"$f":"TRIM('Информация о пользователе'!C912)","v":""},null,"a"]
["J",null,null,{"$f":"TRIM('Информация о пользователе'!A913)","v":""},{"$f":"TRIM('Информация о пользователе'!B913)","v":""},{"$f":"TRIM('Информация о пользователе'!C913)","v":""},null,"s"]
["H",null,null,{"$f":"TRIM('Информация о пользователе'!A914)","v":""},{"$f":"TRIM('Информация о пользователе'!B914)","v":""},{"$f":"TRIM('Информация о пользователе'!C914)","v":""},null,"d"]
["G",null,null,{"$f":"TRIM('Информация о пользователе'!A915)","v":""},{"$f":"TRIM('Информация о пользователе'!B915)","v":""},{"$f":"TRIM('Информация о пользователе'!C915)","v":""},null,"f"]
["F",null,null,{"$f":"TRIM('Информация о пользователе'!A916)","v":""},{"$f":"TRIM('Информация о пользователе'!B916)","v":""},{"$f":"TRIM('Информация о пользователе'!C916)","v":""},null,"g"]
["D",null,null,{"$f":"TRIM('Информация о пользователе'!A917)","v":""},{"$f":"TRIM('Информация о пользователе'!B917)","v":""},{"$f":"TRIM('Информация о пользователе'!C917)","v":""},null,"h"]
["S",null,null,{"$f":"TRIM('Информация о пользователе'!A918)","v":""},{"$f":"TRIM('Информация о пользователе'!B918)","v":""},{"$f":"TRIM('Информация о пользователе'!C918)","v":""},null,"j"]
["A",null,null,{"$f":"TRIM('Информация о пользователе'!A919)","v":""},{"$f":"TRIM('Информация о пользователе'!B919)","v":""},{"$f":"TRIM('Информация о пользователе'!C919)","v":""},null,"k"]
["Z",null,null,{"$f":"TRIM('Информация о пользователе'!A920)","v":""},{"$f":"TRIM('Информация о пользователе'!B920)","v":""},{"$f":"TRIM('Информация о пользователе'!C920)","v":""},null,"z"]
["X",null,null,{"$f":"TRIM('Информация о пользователе'!A921)","v":""},{"$f":"TRIM('Информация о пользователе'!B921)","v":""},{"$f":"TRIM('Информация о пользователе'!C921)","v":""},null,"x"]
["C",null,null,{"$f":"TRIM('Информация о пользователе'!A922)","v":""},{"$f":"TRIM('Информация о пользователе'!B922)","v":""},{"$f":"TRIM('Информация о пользователе'!C922)","v":""},null,"c"]
["V",null,null,{"$f":"TRIM('Информация о пользователе'!A923)","v":""},{"$f":"TRIM('Информация о пользователе'!B923)","v":""},{"$f":"TRIM('Информация о пользователе'!C923)","v":""},null,"b"]
["B",null,null,{"$f":"TRIM('Информация о пользователе'!A924)","v":""},{"$f":"TRIM('Информация о пользователе'!B924)","v":""},{"$f":"TRIM('Информация о пользователе'!C924)","v":""},null,"n"]
["N",null,null,{"$f":"TRIM('Информация о пользователе'!A925)","v":""},{"$f":"TRIM('Информация о пользователе'!B925)","v":""},{"$f":"TRIM('Информация о пользователе'!C925)","v":""},null,"m"]
["M",null,null,{"$f":"TRIM('Информация о пользователе'!A926)","v":""},{"$f":"TRIM('Информация о пользователе'!B926)","v":""},{"$f":"TRIM('Информация о пользователе'!C926)","v":""},null,"v"]
["Q",null,null,{"$f":"TRIM('Информация о пользователе'!A927)","v":""},{"$f":"TRIM('Информация о пользователе'!B927)","v":""},{"$f":"TRIM('Информация о пользователе'!C927)","v":""},null,"e"]
["W",null,null,{"$f":"TRIM('Информация о пользователе'!A928)","v":""},{"$f":"TRIM('Информация о пользователе'!B928)","v":""},{"$f":"TRIM('Информация о пользователе'!C928)","v":""},null,"u"]
["E",null,null,{"$f":"TRIM('Информация о пользователе'!A929)","v":""},{"$f":"TRIM('Информация о пользователе'!B929)","v":""},{"$f":"TRIM('Информация о пользователе'!C929)","v":""},null,"i"]
["R",null,null,{"$f":"TRIM('Информация о пользователе'!A930)","v":""},{"$f":"TRIM('Информация о пользователе'!B930)","v":""},{"$f":"TRIM('Информация о пользователе'!C930)","v":""},null,"o"]
["T",null,null,{"$f":"TRIM('Информация о пользователе'!A931)","v":""},{"$f":"TRIM('Информация о пользователе'!B931)","v":""},{"$f":"TRIM('Информация о пользователе'!C931)","v":""},null,"a"]
["Y",null,null,{"$f":"TRIM('Информация о пользователе'!A932)","v":""},{"$f":"TRIM('Информация о пользователе'!B932)","v":""},{"$f":"TRIM('Информация о пользователе'!C932)","v":""},null,"y"]
["U",null,null,{"$f":"TRIM('Информация о пользователе'!A933)","v":""},{"$f":"TRIM('Информация о пользователе'!B933)","v":""},{"$f":"TRIM('Информация о пользователе'!C933)","v":""},null,"q"]
["I",null,null,{"$f":"TRIM('Информация о пользователе'!A934)","v":""},{"$f":"TRIM('Информация о пользователе'!B934)","v":""},{"$f":"TRIM('Информация о пользователе'!C934)","v":""},null,"w"]
["O",null,null,{"$f":"TRIM('Информация о пользователе'!A935)","v":""},{"$f":"TRIM('Информация о пользователе'!B935)","v":""},{"$f":"TRIM('Информация о пользователе'!C935)","v":""},null,"r"]
["P",null,null,{"$f":"TRIM('Информация о пользователе'!A936)","v":""},{"$f":"TRIM('Информация о пользователе'!B936)","v":""},{"$f":"TRIM('Информация о пользователе'!C936)","v":""},null,"t"]
["L",null,null,{"$f":"TRIM('Информация о пользователе'!A937)","v":""},{"$f":"TRIM('Информация о пользователе'!B937)","v":""},{"$f":"TRIM('Информация о пользователе'!C937)","v":""},null,"y"]
["K",null,null,{"$f":"TRIM('Информация о пользователе'!A938)","v":""},{"$f":"TRIM('Информация о пользователе'!B938)","v":""},{"$f":"TRIM('Информация о пользователе'!C938)","v":""},null,"u"]
["J",null,null,{"$f":"TRIM('Информация о пользователе'!A939)","v":""},{"$f":"TRIM('Информация о пользователе'!B939)","v":""},{"$f":"TRIM('Информация о пользователе'!C939)","v":""},null,"p"]
["H",null,null,{"$f":"TRIM('Информация о пользователе'!A940)","v":""},{"$f":"TRIM('Информация о пользователе'!B940)","v":""},{"$f":"TRIM('Информация о пользователе'!C940)","v":""},null,"a"]
["G",null,null,{"$f":"TRIM('Информация о пользователе'!A941)","v":""},{"$f":"TRIM('Информация о пользователе'!B941)","v":""},{"$f":"TRIM('Информация о пользователе'!C941)","v":""},null,"s"]
["F",null,null,{"$f":"TRIM('Информация о пользователе'!A942)","v":""},{"$f":"TRIM('Информация о пользователе'!B942)","v":""},{"$f":"TRIM('Информация о пользователе'!C942)","v":""},null,"d"]
["D",null,null,{"$f":"TRIM('Информация о пользователе'!A943)","v":""},{"$f":"TRIM('Информация о пользователе'!B943)","v":""},{"$f":"TRIM('Информация о пользователе'!C943)","v":""},null,"f"]
["S",null,null,{"$f":"TRIM('Информация о пользователе'!A944)","v":""},{"$f":"TRIM('Информация о пользователе'!B944)","v":""},{"$f":"TRIM('Информация о пользователе'!C944)","v":""},null,"g"]
["A",null,null,{"$f":"TRIM('Информация о пользователе'!A945)","v":""},{"$f":"TRIM('Информация о пользователе'!B945)","v":""},{"$f":"TRIM('Информация о пользователе'!C945)","v":""},null,"h"]
["Z",null,null,{"$f":"TRIM('Информация о пользователе'!A946)","v":""},{"$f":"TRIM('Информация о пользователе'!B946)","v":""},{"$f":"TRIM('Информация о пользователе'!C946)","v":""},null,"j"]
["X",null,null,{"$f":"TRIM('Информация о пользователе'!A947)","v":""},{"$f":"TRIM('Информация о пользователе'!B947)","v":""},{"$f":"TRIM('Информация о пользователе'!C947)","v":""},null,"k"]
["C",null,null,{"$f":"TRIM('Информация о пользователе'!A948)","v":""},{"$f":"TRIM('Информация о пользователе'!B948)","v":""},{"$f":"TRIM('Информация о пользователе'!C948)","v":""},null,"z"]
["V",null,null,{"$f":"TRIM('Информация о пользователе'!A949)","v":""},{"$f":"TRIM('Информация о пользователе'!B949)","v":""},{"$f":"TRIM('Информация о пользователе'!C949)","v":""},null,"x"]
["B",null,null,{"$f":"TRIM('Информация о пользователе'!A950)","v":""},{"$f":"TRIM('Информация о пользователе'!B950)","v":""},{"$f":"TRIM('Информация о пользователе'!C950)","v":""},null,"c"]
["N",null,null,{"$f":"TRIM('Информация о пользователе'!A951)","v":""},{"$f":"TRIM('Информация о пользователе'!B951)","v":""},{"$f":"TRIM('Информация о пользователе'!C951)","v":""},null,"b"]
["M",null,null,{"$f":"TRIM('Информация о пользователе'!A952)","v":""},{"$f":"TRIM('Информация о пользователе'!B952)","v":""},{"$f":"TRIM('Информация о пользователе'!C952)","v":""},null,"n"]
["Q",null,null,{"$f":"TRIM('Информация о пользователе'!A953)","v":""},{"$f":"TRIM('Информация о пользователе'!B953)","v":""},{"$f":"TRIM('Информация о пользователе'!C953)","v":""},null,"m"]
["W",null,null,{"$f":"TRIM('Информация о пользователе'!A954)","v":""},{"$f":"TRIM('Информация о пользователе'!B954)","v":""},{"$f":"TRIM('Информация о пользователе'!C954)","v":""},null,"v"]
["E",null,null,{"$f":"TRIM('Информация о пользователе'!A955)","v":""},{"$f":"TRIM('Информация о пользователе'!B955)","v":""},{"$f":"TRIM('Информация о пользователе'!C955)","v":""},null,"e"]
["R",null,null,{"$f":"TRIM('Информация о пользователе'!A956)","v":""},{"$f":"TRIM('Информация о пользователе'!B956)","v":""},{"$f":"TRIM('Информация о пользователе'!C956)","v":""},null,"u"]
["T",null,null,{"$f":"TRIM('Информация о пользователе'!A957)","v":""},{"$f":"TRIM('Информация о пользователе'!B957)","v":""},{"$f":"TRIM('Информация о пользователе'!C957)","v":""},null,"i"]
["Y",null,null,{"$f":"TRIM('Информация о пользователе'!A958)","v":""},{"$f":"TRIM('Информация о пользователе'!B958)","v":""},{"$f":"TRIM('Информация о пользователе'!C958)","v":""},null,"o"]
["U",null,null,{"$f":"TRIM('Информация о пользователе'!A959)","v":""},{"$f":"TRIM('Информация о пользователе'!B959)","v":""},{"$f":"TRIM('Информация о пользователе'!C959)","v":""},null,"a"]
["I",null,null,{"$f":"TRIM('Информация о пользователе'!A960)","v":""},{"$f":"TRIM('Информация о пользователе'!B960)","v":""},{"$f":"TRIM('Информация о пользователе'!C960)","v":""},null,"y"]
["O",null,null,{"$f":"TRIM('Информация о пользователе'!A961)","v":""},{"$f":"TRIM('Информация о пользователе'!B961)","v":""},{"$f":"TRIM('Информация о пользователе'!C961)","v":""},null,"q"]
["P",null,null,{"$f":"TRIM('Информация о пользователе'!A962)","v":""},{"$f":"TRIM('Информация о пользователе'!B962)","v":""},{"$f":"TRIM('Информация о пользователе'!C962)","v":""},null,"w"]
["L",null,null,{"$f":"TRIM('Информация о пользователе'!A963)","v":""},{"$f":"TRIM('Информация о пользователе'!B963)","v":""},{"$f":"TRIM('Информация о пользователе'!C963)","v":""},null,"r"]
["K",null,null,{"$f":"TRIM('Информация о пользователе'!A964)","v":""},{"$f":"TRIM('Информация о пользователе'!B964)","v":""},{"$f":"TRIM('Информация о пользователе'!C964)","v":""},null,"t"]
["J",null,null,{"$f":"TRIM('Информация о пользователе'!A965)","v":""},{"$f":"TRIM('Информация о пользователе'!B965)","v":""},{"$f":"TRIM('Информация о пользователе'!C965)","v":""},null,"y"]
["H",null,null,{"$f":"TRIM('Информация о пользователе'!A966)","v":""},{"$f":"TRIM('Информация о пользователе'!B966)","v":""},{"$f":"TRIM('Информация о пользователе'!C966)","v":""},null,"u"]
["G",null,null,{"$f":"TRIM('Информация о пользователе'!A967)","v":""},{"$f":"TRIM('Информация о пользователе'!B967)","v":""},{"$f":"TRIM('Информация о пользователе'!C967)","v":""},null,"p"]
["F",null,null,{"$f":"TRIM('Информация о пользователе'!A968)","v":""},{"$f":"TRIM('Информация о пользователе'!B968)","v":""},{"$f":"TRIM('Информация о пользователе'!C968)","v":""},null,"a"]
["D",null,null,{"$f":"TRIM('Информация о пользователе'!A969)","v":""},{"$f":"TRIM('Информация о пользователе'!B969)","v":""},{"$f":"TRIM('Информация о пользователе'!C969)","v":""},null,"s"]
["S",null,null,{"$f":"TRIM('Информация о пользователе'!A970)","v":""},{"$f":"TRIM('Информация о пользователе'!B970)","v":""},{"$f":"TRIM('Информация о пользователе'!C970)","v":""},null,"d"]
["A",null,null,{"$f":"TRIM('Информация о пользователе'!A971)","v":""},{"$f":"TRIM('Информация о пользователе'!B971)","v":""},{"$f":"TRIM('Информация о пользователе'!C971)","v":""},null,"f"]
["Z",null,null,{"$f":"TRIM('Информация о пользователе'!A972)","v":""},{"$f":"TRIM('Информация о пользователе'!B972)","v":""},{"$f":"TRIM('Информация о пользователе'!C972)","v":""},null,"g"]
["X",null,null,{"$f":"TRIM('Информация о пользователе'!A973)","v":""},{"$f":"TRIM('Информация о пользователе'!B973)","v":""},{"$f":"TRIM('Информация о пользователе'!C973)","v":""},null,"h"]
["C",null,null,{"$f":"TRIM('Информация о пользователе'!A974)","v":""},{"$f":"TRIM('Информация о пользователе'!B974)","v":""},{"$f":"TRIM('Информация о пользователе'!C974)","v":""},null,"j"]
["V",null,null,{"$f":"TRIM('Информация о пользователе'!A975)","v":""},{"$f":"TRIM('Информация о пользователе'!B975)","v":""},{"$f":"TRIM('Информация о пользователе'!C975)","v":""},null,"k"]
["B",null,null,{"$f":"TRIM('Информация о пользователе'!A976)","v":""},{"$f":"TRIM('Информация о пользователе'!B976)","v":""},{"$f":"TRIM('Информация о пользователе'!C976)","v":""},null,"z"]
["N",null,null,{"$f":"TRIM('Информация о пользователе'!A977)","v":""},{"$f":"TRIM('Информация о пользователе'!B977)","v":""},{"$f":"TRIM('Информация о пользователе'!C977)","v":""},null,"x"]
["M",null,null,{"$f":"TRIM('Информация о пользователе'!A978)","v":""},{"$f":"TRIM('Информация о пользователе'!B978)","v":""},{"$f":"TRIM('Информация о пользователе'!C978)","v":""},null,"c"]
["Q",null,null,{"$f":"TRIM('Информация о пользователе'!A979)","v":""},{"$f":"TRIM('Информация о пользователе'!B979)","v":""},{"$f":"TRIM('Информация о пользователе'!C979)","v":""},null,"b"]
["W",null,null,{"$f":"TRIM('Информация о пользователе'!A980)","v":""},{"$f":"TRIM('Информация о пользователе'!B980)","v":""},{"$f":"TRIM('Информация о пользователе'!C980)","v":""},null,"n"]
["E",null,null,{"$f":"TRIM('Информация о пользователе'!A981)","v":""},{"$f":"TRIM('Информация о пользователе'!B981)","v":""},{"$f":"TRIM('Информация о пользователе'!C981)","v":""},null,"m"]
["R",null,null,{"$f":"TRIM('Информация о пользователе'!A982)","v":""},{"$f":"TRIM('Информация о пользователе'!B982)","v":""},{"$f":"TRIM('Информация о пользователе'!C982)","v":""},null,"v"]
["T",null,null,{"$f":"TRIM('Информация о пользователе'!A983)","v":""},{"$f":"TRIM('Информация о пользователе'!B983)","v":""},{"$f":"TRIM('Информация о пользователе'!C983)","v":""},null,"e"]
["Y",null,null,{"$f":"TRIM('Информация о пользователе'!A984)","v":""},{"$f":"TRIM('Информация о пользователе'!B984)","v":""},{"$f":"TRIM('Информация о пользователе'!C984)","v":""},null,"u"]
["U",null,null,{"$f":"TRIM('Информация о пользователе'!A985)","v":""},{"$f":"TRIM('Информация о пользователе'!B985)","v":""},{"$f":"TRIM('Информация о пользователе'!C985)","v":""},null,"i"]
["I",null,null,{"$f":"TRIM('Информация о пользователе'!A986)","v":""},{"$f":"TRIM('Информация о пользователе'!B986)","v":""},{"$f":"TRIM('Информация о пользователе'!C986)","v":""},null,"o"]
["O",null,null,{"$f":"TRIM('Информация о пользователе'!A987)","v":""},{"$f":"TRIM('Информация о пользователе'!B987)","v":""},{"$f":"TRIM('Информация о пользователе'!C987)","v":""},null,"a"]
["P",null,null,{"$f":"TRIM('Информация о пользователе'!A988)","v":""},{"$f":"TRIM('Информация о пользователе'!B988)","v":""},{"$f":"TRIM('Информация о пользователе'!C988)","v":""},null,"y"]
["L",null,null,{"$f":"TRIM('Информация о пользователе'!A989)","v":""},{"$f":"TRIM('Информация о пользователе'!B989)","v":""},{"$f":"TRIM('Информация о пользователе'!C989)","v":""},null,"q"]
["K",null,null,{"$f":"TRIM('Информация о пользователе'!A990)","v":""},{"$f":"TRIM('Информация о пользователе'!B990)","v":""},{"$f":"TRIM('Информация о пользователе'!C990)","v":""},null,"w"]
["J",null,null,{"$f":"TRIM('Информация о пользователе'!A991)","v":""},{"$f":"TRIM('Информация о пользователе'!B991)","v":""},{"$f":"TRIM('Информация о пользователе'!C991)","v":""},null,"r"]
["H",null,null,{"$f":"TRIM('Информация о пользователе'!A992)","v":""},{"$f":"TRIM('Информация о пользователе'!B992)","v":""},{"$f":"TRIM('Информация о пользователе'!C992)","v":""},null,"t"]
["G",null,null,{"$f":"TRIM('Информация о пользователе'!A993)","v":""},{"$f":"TRIM('Информация о пользователе'!B993)","v":""},{"$f":"TRIM('Информация о пользователе'!C993)","v":""},null,"y"]
["F",null,null,{"$f":"TRIM('Информация о пользователе'!A994)","v":""},{"$f":"TRIM('Информация о пользователе'!B994)","v":""},{"$f":"TRIM('Информация о пользователе'!C994)","v":""},null,"u"]
["D",null,null,{"$f":"TRIM('Информация о пользователе'!A995)","v":""},{"$f":"TRIM('Информация о пользователе'!B995)","v":""},{"$f":"TRIM('Информация о пользователе'!C995)","v":""},null,"p"]
["S",null,null,{"$f":"TRIM('Информация о пользователе'!A996)","v":""},{"$f":"TRIM('Информация о пользователе'!B996)","v":""},{"$f":"TRIM('Информация о пользователе'!C996)","v":""},null,"a"]
["A",null,null,{"$f":"TRIM('Информация о пользователе'!A997)","v":""},{"$f":"TRIM('Информация о пользователе'!B997)","v":""},{"$f":"TRIM('Информация о пользователе'!C997)","v":""},null,"s"]
["Z",null,null,{"$f":"TRIM('Информация о пользователе'!A998)","v":""},{"$f":"TRIM('Информация о пользователе'!B998)","v":""},{"$f":"TRIM('Информация о пользователе'!C998)","v":""},null,"d"]
["X",null,null,{"$f":"TRIM('Информация о пользователе'!A999)","v":""},{"$f":"TRIM('Информация о пользователе'!B999)","v":""},{"$f":"TRIM('Информация о пользователе'!C999)","v":""},null,"f"]
["C",null,null,{"$f":"TRIM('Информация о пользователе'!A1000)","v":""},{"$f":"TRIM('Информация о пользователе'!B1000)","v":""},{"$f":"TRIM('Информация о пользователе'!C1000)","v":""},null,"g"]
["V",null,null,{"$f":"TRIM('Информация о пользователе'!A1001)","v":""},{"$f":"TRIM('Информация о пользователе'!B1001)","v":""},{"$f":"TRIM('Информация о пользователе'!C1001)","v":""},null,"h"]
["B",null,null,{"$f":"TRIM('Информация о пользователе'!A1002)","v":""},{"$f":"TRIM('Информация о пользователе'!B1002)","v":""},{"$f":"TRIM('Информация о пользователе'!C1002)","v":""},null,"j"]
["N",null,null,null,null,null,null,"k"]
["M",null,null,null,null,null,null,"z"]
["Q",null,null,null,null,null,null,"x"]
["W",null,null,null,null,null,null,"c"]
["E",null,null,null,null,null,null,"b"]
["R",null,null,null,null,null,null,"n"]
["T",null,null,null,null,null,null,"m"]
["Y",null,null,null,null,null,null,"v"]
["U",null,null,null,null,null,null,"e"]
["I",null,null,null,null,null,null,"u"]
["O",null,null,null,null,null,null,"i"]
["P",null,null,null,null,null,null,"o"]
["L",null,null,null,null,null,null,"a"]
["K",null,null,null,null,null,null,"y"]
["J",null,null,null,null,null,null,"q"]
["H",null,null,null,null,null,null,"w"]
["G",null,null,null,null,null,null,"r"]
["F",null,null,null,null,null,null,"t"]
["D",null,null,null,null,null,null,"y"]
["S",null,null,null,null,null,null,"u"]
["A",null,null,null,null,null,null,"p"]
["Z",null,null,null,null,null,null,"a"]
["X",null,null,null,null,null,null,"s"]
["C",null,null,null,null,null,null,"d"]
["V",null,null,null,null,null,null,"f"]
["B",null,null,null,null,null,null,"g"]
["N",null,null,null,null,null,null,"h"]
["M",null,null,null,null,null,null,"j"]
["N",null,null,null,null,null,null,"k"]
["M",null,null,null,null,null,null,"z"]
["Q",null,null,null,null,null,null,"x"]
["W",null,null,null,null,null,null,"c"]
["E",null,null,null,null,null,null,"b"]
["R",null,null,null,null,null,null,"n"]
["T",null,null,null,null,null,null,"m"]
["Y",null,null,null,null,null,null,"v"]
["U",null,null,null,null,null,null,"e"]
["I",null,null,null,null,null,null,"u"]
["O",null,null,null,null,null,null,"i"]
["P",null,null,null,null,null,null,"o"]
["L",null,null,null,null,null,null,"a"]
["K",null,null,null,null,null,null,"y"]
["J",null,null,null,null,null,null,"q"]
["H",null,null,null,null,null,null,"w"]
["G",null,null,null,null,null,null,"r"]
["F",null,null,null,null,null,null,"t"]
["D",null,null,null,null,null,null,"y"]
["S",null,null,null,null,null,null,"u"]
["A",null,null,null,null,null,null,"p"]
["Z",null,null,null,null,null,null,"a"]
["X",null,null,null,null,null,null,"s"]
["C",null,null,null,null,null,null,"d"]
["V",null,null,null,null,null,null,"f"]
["B",null,null,null,null,null,null,"g"]
["N",null,null,null,null,null,null,"h"]
["M",null,null,null,null,null,null,"j"]
[null,null,null,null,null,null,null,"k"]
[null,null,null,null,null,null,null,"z"]
[null,null,null,null,null,null,null,"x"]
[null,null,null,null,null,null,null,"c"]
[null,null,null,null,null,null,null,"b"]
[null,null,null,null,null,null,null,"n"]
[null,null,null,null,null,null,null,"m"]
[null,null,null,null,null,null,null,"v"]
[null,null,null,null,null,null,null,"e"]
[null,null,null,null,null,null,null,"u"]
[null,null,null,null,null,null,null,"i"]
[null,null,null,null,null,null,null,"o"]
[null,null,null,null,null,null,null,"a"]
[null,null,null,null,null,null,null,"y"]
[null,null,null,null,null,null,null,"q"]
[null,null,null,null,null,null,null,"w"]
[null,null,null,null,null,null,null,"r"]
[null,null,null,null,null,null,null,"t"]
[null,null,null,null,null,null,null,"y"]
[null,null,null,null,null,null,null,"u"]
[null,null,null,null,null,null,null,"p"]
[null,null,null,null,null,null,null,"a"]
[null,null,null,null,null,null,null,"s"]
[null,null,null,null,null,null,null,"d"]
[null,null,null,null,null,null,null,"f"]
[null,null,null,null,null,null,null,"g"]
[null,null,null,null,null,null,null,"h"]
[null,null,null,null,null,null,null,"j"]
[null,null,null,null,null,null,null,"k"]
[null,null,null,null,null,null,null,"z"]
[null,null,null,null,null,null,null,"x"]
[null,null,null,null,null,null,null,"c"]
[null,null,null,null,null,null,null,"b"]
[null,null,null,null,null,null,null,"n"]
[null,null,null,null,null,null,null,"m"]
[null,null,null,null,null,null,null,"v"]
[null,null,null,null,null,null,null,"e"]
[null,null,null,null,null,null,null,"u"]
[null,null,null,null,null,null,null,"i"]
[null,null,null,null,null,null,null,"o"]
[null,null,null,null,null,null,null,"a"]
[null,null,null,null,null,null,null,"y"]
[null,null,null,null,null,null,null,"q"]
[null,null,null,null,null,null,null,"w"]
[null,null,null,null,null,null,null,"r"]
[null,null,null,null,null,null,null,"t"]
[null,null,null,null,null,null,null,"y"]
[null,null,null,null,null,null,null,"u"]
[null,null,null,null,null,null,null,"p"]
[null,null,null,null,null,null,null,"a"]
[null,null,null,null,null,null,null,"s"]
[null,null,null,null,null,null,null,"d"]
[null,null,null,null,null,null,null,"f"]
[null,null,null,null,null,null,null,"g"]
[null,null,null,null,null,null,null,"h"]
[null,null,null,null,null,null,null,"j"]
[null,null,null,null,null,null,null,"k"]
[null,null,null,null,null,null,null,"z"]
[null,null,null,null,null,null,null,"x"]
[null,null,null,null,null,null,null,"c"]
[null,null,null,null,null,null,null,"b"]
[null,null,null,null,null,null,null,"n"]
[null,null,null,null,null,null,null,"m"]
[null,null,null,null,null,null,null,"v"]
[null,null,null,null,null,null,null,"e"]
[null,null,null,null,null,null,null,"u"]
[null,null,null,null,null,null,null,"i"]
[null,null,null,null,null,null,null,"o"]
[null,null,null,null,null,null,null,"a"]
[null,null,null,null,null,null,null,"y"]
[null,null,null,null,null,null,null,"q"]
[null,null,null,null,null,null,null,"w"]
[null,null,null,null,null,null,null,"r"]
[null,null,null,null,null,null,null,"t"]
[null,null,null,null,null,null,null,"y"]
[null,null,null,null,null,null,null,"u"]
[null,null,null,null,null,null,null,"p"]
[null,null,null,null,null,null,null,"a"]
[null,null,null,null,null,null,null,"s"]
[null,null,null,null,null,null,null,"d"]
[null,null,null,null,null,null,null,"f"]
[null,null,null,null,null,null,null,"g"]
[null,null,null,null,null,null,null,"h"]
[null,null,null,null,null,null,null,"j"]
[null,null,null,null,null,null,null,"k"]
[null,null,null,null,null,null,null,"z"]
[null,null,null,null,null,null,null,"x"]
[null,null,null,null,null,null,null,"c"]
[null,null,null,null,null,null,null,"b"]
[null,null,null,null,null,null,null,"n"]
[null,null,null,null,null,null,null,"m"]
[null,null,null,null,null,null,null,"v"]
[null,null,null,null,null,null,null,"e"]
[null,null,null,null,null,null,null,"u"]
[null,null,null,null,null,null,null,"i"]
[null,null,null,null,null,null,null,"o"]
[null,null,null,null,null,null,null,"a"]
[null,null,null,null,null,null,null,"y"]
[null,null,null,null,null,null,null,"q"]
[null,null,null,null,null,null,null,"w"]
[null,null,null,null,null,null,null,"r"]
[null,null,null,null,null,null,null,"t"]
[null,null,null,null,null,null,null,"y"]
[null,null,null,null,null,null,null,"u"]
[null,null,null,null,null,null,null,"p"]
[null,null,null,null,null,null,null,"a"]
[null,null,null,null,null,null,null,"s"]
[null,null,null,null,null,null,null,"d"]
[null,null,null,null,null,null,null,"f"]
[null,null,null,null,null,null,null,"g"]
[null,null,null,null,null,null,null,"h"]
[null,null,null,null,null,null,null,"j"]
[null,null,null,null,null,null,null,"k"]
[null,null,null,null,null,null,null,"z"]
[null,null,null,null,null,null,null,"x"]
[null,null,null,null,null,null,null,"c"]
[null,null,null,null,null,null,null,"b"]
[null,null,null,null,null,null,null,"n"]
[null,null,null,null,null,null,null,"m"]
[null,null,null,null,null,null,null,"v"]
[null,null,null,null,null,null,null,"e"]
[null,null,null,null,null,null,null,"u"]
[null,null,null,null,null,null,null,"i"]
[null,null,null,null,null,null,null,"o"]
[null,null,null,null,null,null,null,"a"]
[null,null,null,null,null,null,null,"y"]
[null,null,null,null,null,null,null,"q"]
[null,null,null,null,null,null,null,"w"]
[null,null,null,null,null,null,null,"r"]
[null,null,null,null,null,null,null,"t"]
[null,null,null,null,null,null,null,"y"]
[null,null,null,null,null,null,null,"u"]
[null,null,null,null,null,null,null,"p"]
[null,null,null,null,null,null,null,"a"]
[null,null,null,null,null,null,null,"s"]
[null,null,null,null,null,null,null,"d"]
[null,null,null,null,null,null,null,"f"]
[null,null,null,null,null,null,null,"g"]
[null,null,null,null,null,null,null,"h"]
[null,null,null,null,null,null,null,"j"]
[null,null,null,null,null,null,null,"k"]
[null,null,null,null,null,null,null,"z"]
[null,null,null,null,null,null,null,"x"]
[null,null,null,null,null,null,null,"c"]
[null,null,null,null,null,null,null,"b"]
[null,null,null,null,null,null,null,"n"]
[null,null,null,null,null,null,null,"m"]
[null,null,null,null,null,null,null,"v"]
[null,null,null,null,null,null,null,"e"]
[null,null,null,null,null,null,null,"u"]
[null,null,null,null,null,null,null,"i"]
[null,null,null,null,null,null,null,"o"]
[null,null,null,null,null,null,null,"a"]
[null,null,null,null,null,null,null,"y"]
[null,null,null,null,null,null,null,"q"]
[null,null,null,null,null,null,null,"w"]
[null,null,null,null,null,null,null,"r"]
[null,null,null,null,null,null,null,"t"]
[null,null,null,null,null,null,null,"y"]
[null,null,null,null,null,null,null,"u"]
[null,null,null,null,null,null,null,"p"]
[null,null,null,null,null,null,null,"a"]
[null,null,null,null,null,null,null,"s"]
[null,null,null,null,null,null,null,"d"]
[null,null,null,null,null,null,null,"f"]
[null,null,null,null,null,null,null,"g"]
[null,null,null,null,null,null,null,"h"]
[null,null,null,null,null,null,null,"j"]
[null,null,null,null,null,null,null,"k"]
[null,null,null,null,null,null,null,"z"]
[null,null,null,null,null,null,null,"x"]
[null,null,null,null,null,null,null,"c"]
[null,null,null,null,null,null,null,"b"]
[null,null,null,null,null,null,null,"n"]
[null,null,null,null,null,null,null,"m"]
[null,null,null,null,null,null,null,"v"]
[null,null,null,null,null,null,null,"e"]
[null,null,null,null,null,null,null,"u"]
[null,null,null,null,null,null,null,"i"]
[null,null,null,null,null,null,null,"o"]
[null,null,null,null,null,null,null,"a"]
[null,null,null,null,null,null,null,"y"]
[null,null,null,null,null,null,null,"q"]
[null,null,null,null,null,null,null,"w"]
[null,null,null,null,null,null,null,"r"]
[null,null,null,null,null,null,null,"t"]
[null,null,null,null,null,null,null,"y"]
[null,null,null,null,null,null,null,"u"]
[null,null,null,null,null,null,null,"p"]
[null,null,null,null,null,null,null,"a"]
[null,null,null,null,null,null,null,"s"]
[null,null,null,null,null,null,null,"d"]
[null,null,null,null,null,null,null,"f"]
[null,null,null,null,null,null,null,"g"]
[null,null,null,null,null,null,null,"h"]
[null,null,null,null,null,null,null,"j"]
[null,null,null,null,null,null,null,"k"]
[null,null,null,null,null,null,null,"z"]
[null,null,null,null,null,null,null,"x"]
[null,null,null,null,null,null,null,"c"]
[null,null,null,null,null,null,null,"b"]
[null,null,null,null,null,null,null,"n"]
[null,null,null,null,null,null,null,"m"]
[null,null,null,null,null,null,null,"v"]
[null,null,null,null,null,null,null,"e"]
[null,null,null,null,null,null,null,"u"]
[null,null,null,null,null,null,null,"i"]
[null,null,null,null,null,null,null,"o"]
[null,null,null,null,null,null,null,"a"]
[null,null,null,null,null,null,null,"y"]
[null,null,null,null,null,null,null,"q"]
[null,null,null,null,null,null,null,"w"]
[null,null,null,null,null,null,null,"r"]
[null,null,null,null,null,null,null,"t"]
[null,null,null,null,null,null,null,"y"]
[null,null,null,null,null,null,null,"u"]
[null,null,null,null,null,null,null,"p"]
[null,null,null,null,null,null,null,"a"]
[null,null,null,null,null,null,null,"s"]
[null,null,null,null,null,null,null,"d"]
[null,null,null,null,null,null,null,"f"]
[null,null,null,null,null,null,null,"g"]
[null,null,null,null,null,null,null,"h"]
[null,null,null,null,null,null,null,"j"]
[null,null,null,null,null,null,null,"k"]
[null,null,null,null,null,null,null,"z"]
[null,null,null,null,null,null,null,"x"]
[null,null,null,null,null,null,null,"c"]
[null,null,null,null,null,null,null,"b"]
[null,null,null,null,null,null,null,"n"]
[null,null,null,null,null,null,null,"m"]
[null,null,null,null,null,null,null,"v"]
[null,null,null,null,null,null,null,"e"]
[null,null,null,null,null,null,null,"u"]
[null,null,null,null,null,null,null,"i"]
[null,null,null,null,null,null,null,"o"]
[null,null,null,null,null,null,null,"a"]
[null,null,null,null,null,null,null,"y"]
[null,null,null,null,null,null,null,"q"]
[null,null,null,null,null,null,null,"w"]
[null,null,null,null,null,null,null,"r"]
[null,null,null,null,null,null,null,"t"]
[null,null,null,null,null,null,null,"y"]
[null,null,null,null,null,null,null,"u"]
[null,null,null,null,null,null,null,"p"]
[null,null,null,null,null,null,null,"a"]
[null,null,null,null,null,null,null,"s"]
[null,null,null,null,null,null,null,"d"]
[null,null,null,null,null,null,null,"f"]
[null,null,null,null,null,null,null,"g"]
[null,null,null,null,null,null,null,"h"]
[null,null,null,null,null,null,null,"j"]
[null,null,null,null,null,null,null,"k"]
[null,null,null,null,null,null,null,"z"]
[null,null,null,null,null,null,null,"x"]
[null,null,null,null,null,null,null,"c"]
[null,null,null,null,null,null,null,"b"]
[null,null,null,null,null,null,null,"n"]
[null,null,null,null,null,null,null,"m"]
[null,null,null,null,null,null,null,"v"]
[null,null,null,null,null,null,null,"e"]
[null,null,null,null,null,null,null,"u"]
[null,null,null,null,null,null,null,"i"]
[null,null,null,null,null,null,null,"o"]
[null,null,null,null,null,null,null,"a"]
[null,null,null,null,null,null,null,"y"]
[null,null,null,null,null,null,null,"q"]
[null,null,null,null,null,null,null,"w"]
[null,null,null,null,null,null,null,"r"]
[null,null,null,null,null,null,null,"t"]
[null,null,null,null,null,null,null,"y"]
[null,null,null,null,null,null,null,"u"]
[null,null,null,null,null,null,null,"p"]
[null,null,null,null,null,null,null,"a"]
[null,null,null,null,null,null,null,"s"]
[null,null,null,null,null,null,null,"d"]
[null,null,null,null,null,null,null,"f"]
[null,null,null,null,null,null,null,"g"]
[null,null,null,null,null,null,null,"h"]
[null,null,null,null,null,null,null,"j"]
[null,null,null,null,null,null,null,"k"]
[null,null,null,null,null,null,null,"z"]
[null,null,null,null,null,null,null,"x"]
[null,null,null,null,null,null,null,"c"]
[null,null,null,null,null,null,null,"b"]
[null,null,null,null,null,null,null,"n"]
[null,null,null,null,null,null,null,"m"]
[null,null,null,null,null,null,null,"v"]

{"sheet":"Save","index":3,"n_rows":0,"n_cols":0,"rows_kept":0,"cut":false,"hidden":true,"merged":[]}

{"sheet":"Город","index":4,"n_rows":37,"n_cols":1,"rows_kept":37,"cut":false,"hidden":true,"merged":[]}
["Город"]
["Баганский район"]
["Барабинский район"]
["Болотнинский район"]
["Венгеровский район"]
["Вне проекта"]
["город Бердск"]
["город Искитим"]
["город Новосибирск"]
["Город Обь"]
["Доволенский район"]
["Здвинский район"]
["Инженерные классы"]
["Искитимский район"]
["Каргатский район"]
["Колыванский район"]
["Кольцово"]
["Коченевский район"]
["Кочковский район"]
["Краснозерский район"]
["Куйбышевский район"]
["Купинский район"]
["Кыштовский район"]
["Маслянинский район"]
["Мошковский район"]
["Новосибирский район"]
["Ордынский район"]
["Повышение квалификации"]
["Северный район"]
["Сузунский район"]
["Тогучинский район"]
["Убинский район"]
["Усть-Таркский район"]
["Чановский район"]
["Черепановский район"]
["Чистоозерный район"]
["Чулымский район"]